{"text_format":"1","workbook":"xlsx","n_sheets":7,"sheets":["Program Summary","Annual Data Tracking","Service Provision","Staff Metrics","Employer Relations","Closed Case Archive","v1.4 Update Notes"],"not_rendered":{"charts":26,"images":5,"macros":1,"external_links":0,"defined_names":4,"comments":0,"pivot_tables":0},"unopened":[],"bounds":{"document_bytes":16777216,"sheet_cells":100000,"rows_first":2000,"rows_last":500,"rows_between":2000,"halvings":0,"cell_chars":16384,"cell_head_chars":4096},"cells_cut":0,"cells_raw":0,"read":"whole","date_system":"1900"}

{"sheet":"Program Summary","index":0,"n_rows":36,"n_cols":11,"rows_kept":36,"cut":false,"hidden":false,"merged":[]}
[null,null,null,null,null,null,null,null,null,"Program Summary"]
[]
["SERVICE PROVISION","CURRENT","BENCHMARK"]
["Total Consumers",{"$f":"'Service Provision'!B504","v":0}]
["Active Consumer Cases",{"$f":"'Service Provision'!E504","v":""},0.9]
["Employment Rate",{"$f":"'Service Provision'!M504","v":""},0.9]
["Average Unemployment",{"$f":"'Service Provision'!H504","v":""},"< 3 months"]
["Average Job Stabilization",{"$f":"'Service Provision'!J504","v":""},"< 3 months"]
["Average Retention",{"$f":"'Service Provision'!N504","v":""},"12+ months"]
[]
["STAFF MANAGEMENT"]
["Total Staff",{"$f":"'Staff Metrics'!B54","v":0}]
["Average Staff Caseload",{"$f":"IFERROR(ROUNDDOWN('Staff Metrics'!N54/'Staff Metrics'!B54, 2),\"\")","v":""}]
["Average Staff Retention",{"$f":"'Staff Metrics'!E55","v":""}]
[]
["EMPLOYER RELATIONS"]
["Total # of Organizations",{"$f":"'Employer Relations'!B54","v":0}]
["% Satisfied with Service",{"$f":"'Employer Relations'!I54","v":""},0.9]
["% Satisfied with Job Coach",{"$f":"'Employer Relations'!J54","v":""},0.9]
["% Satisfied with Employee",{"$f":"'Employer Relations'!K54","v":""},0.9]
["Overall Satisfaction",{"$f":"IFERROR(AVERAGE(B18:B20),\"\")","v":""},0.9]
[]
["% Willing to be a Future Reference",{"$f":"'Employer Relations'!L54","v":""},1]
[]
["CLOSED CASE STATISTICS"]
["Total Closed Cases",{"$f":"'Closed Case Archive'!B504","v":0}]
["Graduated From Service With Job",{"$f":"'Closed Case Archive'!M504","v":""},0.9]
["Average Unemployment",{"$f":"'Closed Case Archive'!G504","v":""},"< 3 months"]
["Average Job Stabilization",{"$f":"'Closed Case Archive'!I504","v":""},"< 3 months"]
["Average Retention",{"$f":"'Closed Case Archive'!N504","v":""},"12+ months"]
[]
[]
[]
[]
[null,null,null,null,null,null,null,null,null,null,"CASES v1.4 - 7/2024"]
[null,null,null,null,null,null,null,null,null," Comprehensive Assessment of Supported Employment Service (CASES) companion guide","AVAILABLE HERE"]

{"sheet":"Annual Data Tracking","index":1,"n_rows":139,"n_cols":14,"rows_kept":139,"cut":false,"hidden":false,"merged":[]}
[null,null,null,null,null,null,null,null,null,null,null,null,"Annual Data Tracking"]
["FY 2024"]
["SERVICE PROVISION","Jan","Feb","Mar","Apr","May","Jun","Jul","Aug","Sept","Oct","Nov","Dec","CURRENT"]
["Total Consumers",null,null,null,null,null,null,null,null,null,null,null,null,{"$f":"'Service Provision'!B504","v":0}]
["Active Consumer Cases",null,null,null,null,null,null,null,null,null,null,null,null,{"$f":"'Service Provision'!E504","v":""}]
["Employment Rate",null,null,null,null,null,null,null,null,null,null,null,null,{"$f":"'Service Provision'!M504","v":""}]
["Average Unemployment",null,null,null,null,null,null,null,null,null,null,null,null,{"$f":"'Service Provision'!H509","v":""}]
["Average Job Stabilization",null,null,null,null,null,null,null,null,null,null,null,null,{"$f":"'Service Provision'!J509","v":""}]
["Average Retention",null,null,null,null,null,null,null,null,null,null,null,null,{"$f":"'Service Provision'!N509","v":""}]
[]
["STAFF MANAGEMENT","Jan","Feb","Mar","Apr","May","Jun","Jul","Aug","Sept","Oct","Nov","Dec"]
["Total Staff",null,null,null,null,null,null,null,null,null,null,null,null,{"$f":"'Staff Metrics'!B54","v":0}]
["Average Staff Caseload",null,null,null,null,null,null,null,null,null,null,null,null,{"$f":"IFERROR(ROUNDDOWN('Staff Metrics'!N54/'Staff Metrics'!B54, 2),\"\")","v":""}]
["Average Staff Retention",null,null,null,null,null,null,null,null,null,null,null,null,{"$f":"'Staff Metrics'!E56","v":""}]
[]
["EMPLOYER RELATIONS","Jan","Feb","Mar","Apr","May","Jun","Jul","Aug","Sept","Oct","Nov","Dec"]
["Total # of Organizations",null,null,null,null,null,null,null,null,null,null,null,null,{"$f":"'Employer Relations'!B54","v":0}]
["% Satisfied with Service",null,null,null,null,null,null,null,null,null,null,null,null,{"$f":"'Employer Relations'!I54","v":""}]
["% Satisfied with Job Coach",null,null,null,null,null,null,null,null,null,null,null,null,{"$f":"'Employer Relations'!J54","v":""}]
["% Satisfied with Employee",null,null,null,null,null,null,null,null,null,null,null,null,{"$f":"'Employer Relations'!K54","v":""}]
["Overall Satisfaction",null,null,null,null,null,null,null,null,null,null,null,null,{"$f":"IFERROR(AVERAGE(N18:N20),\"\")","v":""}]
[]
["% Willing to be a Future Reference",null,null,null,null,null,null,null,null,null,null,null,null,{"$f":"'Employer Relations'!L54","v":""}]
[]
["CLOSED CASE STATISTICS","Jan","Feb","Mar","Apr","May","Jun","Jul","Aug","Sept","Oct","Nov","Dec"]
["Total Closed Cases",null,null,null,null,null,null,null,null,null,null,null,null,{"$f":"'Closed Case Archive'!B504","v":0}]
["Graduated From Service With Job",null,null,null,null,null,null,null,null,null,null,null,null,{"$f":"'Closed Case Archive'!M504","v":""}]
["Average Unemployment",null,null,null,null,null,null,null,null,null,null,null,null,{"$f":"'Closed Case Archive'!G509","v":""}]
["Average Job Stabilization",null,null,null,null,null,null,null,null,null,null,null,null,{"$f":"'Closed Case Archive'!I509","v":""}]
["Average Retention",null,null,null,null,null,null,null,null,null,null,null,null,{"$f":"'Closed Case Archive'!N509","v":""}]
[]
[]
[]
[]
[null,null,null,null,null,null,null,null,null,null,null,null,null,"CASES v1.4 - 7/2024"]
[null,null,null,null,null,null,null,null,null,null,null,null," Comprehensive Assessment of Supported Employment Service (CASES) companion guide","AVAILABLE HERE"]
[]
[]
[]
[]
[]
[]
[]
[]
[]
[]
[]
[]
[]
[]
[]
["SERVICE PROVISION"]
[]
[]
[]
[]
[]
[]
[]
[]
[]
[]
[]
[]
[]
[]
[]
[]
[]
[]
[]
[]
[]
[]
[]
[]
[]
[]
["STAFF METRICS"]
[]
[]
[]
[]
[]
[]
[]
[]
[]
[]
[]
[]
[]
[]
[]
[]
[]
[]
[]
[]
[]
[]
[]
[]
[]
["EMPLOYER RELATIONS"]
[]
[]
[]
[]
[]
[]
[]
[]
[]
[]
[]
[]
[]
[]
[]
[]
[]
[]
[]
[]
[]
[]
[]
[]
[]
[]
[]
[]
[]
[]
[]
[]
[]
["CLOSED CASE STATISTICS"]

{"sheet":"Service Provision","index":2,"n_rows":510,"n_cols":20,"rows_kept":510,"cut":false,"hidden":false,"merged":[]}
[null,null,null,null,null,null,null,null,null,null,null,null,null,null,null,"Service Provision"]
[null,null,null,null,null,null,null,null,null,null,null,null,null,null,null,null,null,null,"Y","N"]
[null,"Consumer","Assigned Staff","County","Active Case (Y/N)","Referral Date","Employment Start Date","Unemployed Period (Days)","Follow Along Transition Date","Job Stabilization Period (Days)","# of  Re-stabilization Attempts","Employment Terminated","Currently Employed","Retention Period (Days)","Funding Source","Units/Hours Allotted","Units/Hours Used","Units/Hours Remaining","% Complete","# of Vouchers Used"]
[null,null,null,null,null,null,null,{"$f":"IF(COUNTIF(E4,\"N\"),\"\",IF(ISBLANK(F4),\"\",IF(ISBLANK(G4),_xlfn.DAYS(TODAY(),F4),_xlfn.DAYS(G4,F4))))","v":""},null,{"$f":"IF(COUNTIF(E4,\"N\"),\"\",IF(ISBLANK(G4),\"\",IF(ISBLANK(I4),IF(ISBLANK(L4),_xlfn.DAYS(TODAY(),G4),_xlfn.DAYS(L4,G4)),_xlfn.DAYS(I4,G4))))","v":""},null,null,{"$f":"IF(COUNTIF(E4,\"N\"),\"ON HOLD\",IF(ISBLANK(L4),IF(ISBLANK(F4),\"\",IF(ISBLANK(G4),\"NO\",\"YES\")),\"NO\"))","v":""},{"$f":"IF(COUNTIF(E4,\"N\"),\"\",IF(ISBLANK(G4),\"\",IF(ISBLANK(L4),_xlfn.DAYS(TODAY(),G4),_xlfn.DAYS(L4,G4))))","v":""},null,null,null,{"$f":"IF(ISBLANK(P4), \"\", P4-Q4)","v":""},{"$f":"IF(ISBLANK(Q4), \"\", Q4/P4)","v":""}]
[null,null,null,null,null,null,null,{"$f":"IF(COUNTIF(E5,\"N\"),\"\",IF(ISBLANK(F5),\"\",IF(ISBLANK(G5),_xlfn.DAYS(TODAY(),F5),_xlfn.DAYS(G5,F5))))","v":""},null,{"$f":"IF(COUNTIF(E5,\"N\"),\"\",IF(ISBLANK(G5),\"\",IF(ISBLANK(I5),IF(ISBLANK(L5),_xlfn.DAYS(TODAY(),G5),_xlfn.DAYS(L5,G5)),_xlfn.DAYS(I5,G5))))","v":""},null,null,{"$f":"IF(COUNTIF(E5,\"N\"),\"ON HOLD\",IF(ISBLANK(L5),IF(ISBLANK(F5),\"\",IF(ISBLANK(G5),\"NO\",\"YES\")),\"NO\"))","v":""},{"$f":"IF(COUNTIF(E5,\"N\"),\"\",IF(ISBLANK(G5),\"\",IF(ISBLANK(L5),_xlfn.DAYS(TODAY(),G5),_xlfn.DAYS(L5,G5))))","v":""},null,null,null,{"$f":"IF(ISBLANK(P5), \"\", P5-Q5)","v":""},{"$f":"IF(ISBLANK(Q5), \"\", Q5/P5)","v":""}]
[null,null,null,null,null,null,null,{"$f":"IF(COUNTIF(E6,\"N\"),\"\",IF(ISBLANK(F6),\"\",IF(ISBLANK(G6),_xlfn.DAYS(TODAY(),F6),_xlfn.DAYS(G6,F6))))","v":""},null,{"$f":"IF(COUNTIF(E6,\"N\"),\"\",IF(ISBLANK(G6),\"\",IF(ISBLANK(I6),IF(ISBLANK(L6),_xlfn.DAYS(TODAY(),G6),_xlfn.DAYS(L6,G6)),_xlfn.DAYS(I6,G6))))","v":""},null,null,{"$f":"IF(COUNTIF(E6,\"N\"),\"ON HOLD\",IF(ISBLANK(L6),IF(ISBLANK(F6),\"\",IF(ISBLANK(G6),\"NO\",\"YES\")),\"NO\"))","v":""},{"$f":"IF(COUNTIF(E6,\"N\"),\"\",IF(ISBLANK(G6),\"\",IF(ISBLANK(L6),_xlfn.DAYS(TODAY(),G6),_xlfn.DAYS(L6,G6))))","v":""},null,null,null,{"$f":"IF(ISBLANK(P6), \"\", P6-Q6)","v":""},{"$f":"IF(ISBLANK(Q6), \"\", Q6/P6)","v":""}]
[null,null,null,null,null,null,null,{"$f":"IF(COUNTIF(E7,\"N\"),\"\",IF(ISBLANK(F7),\"\",IF(ISBLANK(G7),_xlfn.DAYS(TODAY(),F7),_xlfn.DAYS(G7,F7))))","v":""},null,{"$f":"IF(COUNTIF(E7,\"N\"),\"\",IF(ISBLANK(G7),\"\",IF(ISBLANK(I7),IF(ISBLANK(L7),_xlfn.DAYS(TODAY(),G7),_xlfn.DAYS(L7,G7)),_xlfn.DAYS(I7,G7))))","v":""},null,null,{"$f":"IF(COUNTIF(E7,\"N\"),\"ON HOLD\",IF(ISBLANK(L7),IF(ISBLANK(F7),\"\",IF(ISBLANK(G7),\"NO\",\"YES\")),\"NO\"))","v":""},{"$f":"IF(COUNTIF(E7,\"N\"),\"\",IF(ISBLANK(G7),\"\",IF(ISBLANK(L7),_xlfn.DAYS(TODAY(),G7),_xlfn.DAYS(L7,G7))))","v":""},null,null,null,{"$f":"IF(ISBLANK(P7), \"\", P7-Q7)","v":""},{"$f":"IF(ISBLANK(Q7), \"\", Q7/P7)","v":""}]
[null,null,null,null,null,null,null,{"$f":"IF(COUNTIF(E8,\"N\"),\"\",IF(ISBLANK(F8),\"\",IF(ISBLANK(G8),_xlfn.DAYS(TODAY(),F8),_xlfn.DAYS(G8,F8))))","v":""},null,{"$f":"IF(COUNTIF(E8,\"N\"),\"\",IF(ISBLANK(G8),\"\",IF(ISBLANK(I8),IF(ISBLANK(L8),_xlfn.DAYS(TODAY(),G8),_xlfn.DAYS(L8,G8)),_xlfn.DAYS(I8,G8))))","v":""},null,null,{"$f":"IF(COUNTIF(E8,\"N\"),\"ON HOLD\",IF(ISBLANK(L8),IF(ISBLANK(F8),\"\",IF(ISBLANK(G8),\"NO\",\"YES\")),\"NO\"))","v":""},{"$f":"IF(COUNTIF(E8,\"N\"),\"\",IF(ISBLANK(G8),\"\",IF(ISBLANK(L8),_xlfn.DAYS(TODAY(),G8),_xlfn.DAYS(L8,G8))))","v":""},null,null,null,{"$f":"IF(ISBLANK(P8), \"\", P8-Q8)","v":""},{"$f":"IF(ISBLANK(Q8), \"\", Q8/P8)","v":""}]
[null,null,null,null,null,null,null,{"$f":"IF(COUNTIF(E9,\"N\"),\"\",IF(ISBLANK(F9),\"\",IF(ISBLANK(G9),_xlfn.DAYS(TODAY(),F9),_xlfn.DAYS(G9,F9))))","v":""},null,{"$f":"IF(COUNTIF(E9,\"N\"),\"\",IF(ISBLANK(G9),\"\",IF(ISBLANK(I9),IF(ISBLANK(L9),_xlfn.DAYS(TODAY(),G9),_xlfn.DAYS(L9,G9)),_xlfn.DAYS(I9,G9))))","v":""},null,null,{"$f":"IF(COUNTIF(E9,\"N\"),\"ON HOLD\",IF(ISBLANK(L9),IF(ISBLANK(F9),\"\",IF(ISBLANK(G9),\"NO\",\"YES\")),\"NO\"))","v":""},{"$f":"IF(COUNTIF(E9,\"N\"),\"\",IF(ISBLANK(G9),\"\",IF(ISBLANK(L9),_xlfn.DAYS(TODAY(),G9),_xlfn.DAYS(L9,G9))))","v":""},null,null,null,{"$f":"IF(ISBLANK(P9), \"\", P9-Q9)","v":""},{"$f":"IF(ISBLANK(Q9), \"\", Q9/P9)","v":""}]
[null,null,null,null,null,null,null,{"$f":"IF(COUNTIF(E10,\"N\"),\"\",IF(ISBLANK(F10),\"\",IF(ISBLANK(G10),_xlfn.DAYS(TODAY(),F10),_xlfn.DAYS(G10,F10))))","v":""},null,{"$f":"IF(COUNTIF(E10,\"N\"),\"\",IF(ISBLANK(G10),\"\",IF(ISBLANK(I10),IF(ISBLANK(L10),_xlfn.DAYS(TODAY(),G10),_xlfn.DAYS(L10,G10)),_xlfn.DAYS(I10,G10))))","v":""},null,null,{"$f":"IF(COUNTIF(E10,\"N\"),\"ON HOLD\",IF(ISBLANK(L10),IF(ISBLANK(F10),\"\",IF(ISBLANK(G10),\"NO\",\"YES\")),\"NO\"))","v":""},{"$f":"IF(COUNTIF(E10,\"N\"),\"\",IF(ISBLANK(G10),\"\",IF(ISBLANK(L10),_xlfn.DAYS(TODAY(),G10),_xlfn.DAYS(L10,G10))))","v":""},null,null,null,{"$f":"IF(ISBLANK(P10), \"\", P10-Q10)","v":""},{"$f":"IF(ISBLANK(Q10), \"\", Q10/P10)","v":""}]
[null,null,null,null,null,null,null,{"$f":"IF(COUNTIF(E11,\"N\"),\"\",IF(ISBLANK(F11),\"\",IF(ISBLANK(G11),_xlfn.DAYS(TODAY(),F11),_xlfn.DAYS(G11,F11))))","v":""},null,{"$f":"IF(COUNTIF(E11,\"N\"),\"\",IF(ISBLANK(G11),\"\",IF(ISBLANK(I11),IF(ISBLANK(L11),_xlfn.DAYS(TODAY(),G11),_xlfn.DAYS(L11,G11)),_xlfn.DAYS(I11,G11))))","v":""},null,null,{"$f":"IF(COUNTIF(E11,\"N\"),\"ON HOLD\",IF(ISBLANK(L11),IF(ISBLANK(F11),\"\",IF(ISBLANK(G11),\"NO\",\"YES\")),\"NO\"))","v":""},{"$f":"IF(COUNTIF(E11,\"N\"),\"\",IF(ISBLANK(G11),\"\",IF(ISBLANK(L11),_xlfn.DAYS(TODAY(),G11),_xlfn.DAYS(L11,G11))))","v":""},null,null,null,{"$f":"IF(ISBLANK(P11), \"\", P11-Q11)","v":""},{"$f":"IF(ISBLANK(Q11), \"\", Q11/P11)","v":""}]
[null,null,null,null,null,null,null,{"$f":"IF(COUNTIF(E12,\"N\"),\"\",IF(ISBLANK(F12),\"\",IF(ISBLANK(G12),_xlfn.DAYS(TODAY(),F12),_xlfn.DAYS(G12,F12))))","v":""},null,{"$f":"IF(COUNTIF(E12,\"N\"),\"\",IF(ISBLANK(G12),\"\",IF(ISBLANK(I12),IF(ISBLANK(L12),_xlfn.DAYS(TODAY(),G12),_xlfn.DAYS(L12,G12)),_xlfn.DAYS(I12,G12))))","v":""},null,null,{"$f":"IF(COUNTIF(E12,\"N\"),\"ON HOLD\",IF(ISBLANK(L12),IF(ISBLANK(F12),\"\",IF(ISBLANK(G12),\"NO\",\"YES\")),\"NO\"))","v":""},{"$f":"IF(COUNTIF(E12,\"N\"),\"\",IF(ISBLANK(G12),\"\",IF(ISBLANK(L12),_xlfn.DAYS(TODAY(),G12),_xlfn.DAYS(L12,G12))))","v":""},null,null,null,{"$f":"IF(ISBLANK(P12), \"\", P12-Q12)","v":""},{"$f":"IF(ISBLANK(Q12), \"\", Q12/P12)","v":""}]
[null,null,null,null,null,null,null,{"$f":"IF(COUNTIF(E13,\"N\"),\"\",IF(ISBLANK(F13),\"\",IF(ISBLANK(G13),_xlfn.DAYS(TODAY(),F13),_xlfn.DAYS(G13,F13))))","v":""},null,{"$f":"IF(COUNTIF(E13,\"N\"),\"\",IF(ISBLANK(G13),\"\",IF(ISBLANK(I13),IF(ISBLANK(L13),_xlfn.DAYS(TODAY(),G13),_xlfn.DAYS(L13,G13)),_xlfn.DAYS(I13,G13))))","v":""},null,null,{"$f":"IF(COUNTIF(E13,\"N\"),\"ON HOLD\",IF(ISBLANK(L13),IF(ISBLANK(F13),\"\",IF(ISBLANK(G13),\"NO\",\"YES\")),\"NO\"))","v":""},{"$f":"IF(COUNTIF(E13,\"N\"),\"\",IF(ISBLANK(G13),\"\",IF(ISBLANK(L13),_xlfn.DAYS(TODAY(),G13),_xlfn.DAYS(L13,G13))))","v":""},null,null,null,{"$f":"IF(ISBLANK(P13), \"\", P13-Q13)","v":""},{"$f":"IF(ISBLANK(Q13), \"\", Q13/P13)","v":""}]
[null,null,null,null,null,null,null,{"$f":"IF(COUNTIF(E14,\"N\"),\"\",IF(ISBLANK(F14),\"\",IF(ISBLANK(G14),_xlfn.DAYS(TODAY(),F14),_xlfn.DAYS(G14,F14))))","v":""},null,{"$f":"IF(COUNTIF(E14,\"N\"),\"\",IF(ISBLANK(G14),\"\",IF(ISBLANK(I14),IF(ISBLANK(L14),_xlfn.DAYS(TODAY(),G14),_xlfn.DAYS(L14,G14)),_xlfn.DAYS(I14,G14))))","v":""},null,null,{"$f":"IF(COUNTIF(E14,\"N\"),\"ON HOLD\",IF(ISBLANK(L14),IF(ISBLANK(F14),\"\",IF(ISBLANK(G14),\"NO\",\"YES\")),\"NO\"))","v":""},{"$f":"IF(COUNTIF(E14,\"N\"),\"\",IF(ISBLANK(G14),\"\",IF(ISBLANK(L14),_xlfn.DAYS(TODAY(),G14),_xlfn.DAYS(L14,G14))))","v":""},null,null,null,{"$f":"IF(ISBLANK(P14), \"\", P14-Q14)","v":""},{"$f":"IF(ISBLANK(Q14), \"\", Q14/P14)","v":""}]
[null,null,null,null,null,null,null,{"$f":"IF(COUNTIF(E15,\"N\"),\"\",IF(ISBLANK(F15),\"\",IF(ISBLANK(G15),_xlfn.DAYS(TODAY(),F15),_xlfn.DAYS(G15,F15))))","v":""},null,{"$f":"IF(COUNTIF(E15,\"N\"),\"\",IF(ISBLANK(G15),\"\",IF(ISBLANK(I15),IF(ISBLANK(L15),_xlfn.DAYS(TODAY(),G15),_xlfn.DAYS(L15,G15)),_xlfn.DAYS(I15,G15))))","v":""},null,null,{"$f":"IF(COUNTIF(E15,\"N\"),\"ON HOLD\",IF(ISBLANK(L15),IF(ISBLANK(F15),\"\",IF(ISBLANK(G15),\"NO\",\"YES\")),\"NO\"))","v":""},{"$f":"IF(COUNTIF(E15,\"N\"),\"\",IF(ISBLANK(G15),\"\",IF(ISBLANK(L15),_xlfn.DAYS(TODAY(),G15),_xlfn.DAYS(L15,G15))))","v":""},null,null,null,{"$f":"IF(ISBLANK(P15), \"\", P15-Q15)","v":""},{"$f":"IF(ISBLANK(Q15), \"\", Q15/P15)","v":""}]
[null,null,null,null,null,null,null,{"$f":"IF(COUNTIF(E16,\"N\"),\"\",IF(ISBLANK(F16),\"\",IF(ISBLANK(G16),_xlfn.DAYS(TODAY(),F16),_xlfn.DAYS(G16,F16))))","v":""},null,{"$f":"IF(COUNTIF(E16,\"N\"),\"\",IF(ISBLANK(G16),\"\",IF(ISBLANK(I16),IF(ISBLANK(L16),_xlfn.DAYS(TODAY(),G16),_xlfn.DAYS(L16,G16)),_xlfn.DAYS(I16,G16))))","v":""},null,null,{"$f":"IF(COUNTIF(E16,\"N\"),\"ON HOLD\",IF(ISBLANK(L16),IF(ISBLANK(F16),\"\",IF(ISBLANK(G16),\"NO\",\"YES\")),\"NO\"))","v":""},{"$f":"IF(COUNTIF(E16,\"N\"),\"\",IF(ISBLANK(G16),\"\",IF(ISBLANK(L16),_xlfn.DAYS(TODAY(),G16),_xlfn.DAYS(L16,G16))))","v":""},null,null,null,{"$f":"IF(ISBLANK(P16), \"\", P16-Q16)","v":""},{"$f":"IF(ISBLANK(Q16), \"\", Q16/P16)","v":""}]
[null,null,null,null,null,null,null,{"$f":"IF(COUNTIF(E17,\"N\"),\"\",IF(ISBLANK(F17),\"\",IF(ISBLANK(G17),_xlfn.DAYS(TODAY(),F17),_xlfn.DAYS(G17,F17))))","v":""},null,{"$f":"IF(COUNTIF(E17,\"N\"),\"\",IF(ISBLANK(G17),\"\",IF(ISBLANK(I17),IF(ISBLANK(L17),_xlfn.DAYS(TODAY(),G17),_xlfn.DAYS(L17,G17)),_xlfn.DAYS(I17,G17))))","v":""},null,null,{"$f":"IF(COUNTIF(E17,\"N\"),\"ON HOLD\",IF(ISBLANK(L17),IF(ISBLANK(F17),\"\",IF(ISBLANK(G17),\"NO\",\"YES\")),\"NO\"))","v":""},{"$f":"IF(COUNTIF(E17,\"N\"),\"\",IF(ISBLANK(G17),\"\",IF(ISBLANK(L17),_xlfn.DAYS(TODAY(),G17),_xlfn.DAYS(L17,G17))))","v":""},null,null,null,{"$f":"IF(ISBLANK(P17), \"\", P17-Q17)","v":""},{"$f":"IF(ISBLANK(Q17), \"\", Q17/P17)","v":""}]
[null,null,null,null,null,null,null,{"$f":"IF(COUNTIF(E18,\"N\"),\"\",IF(ISBLANK(F18),\"\",IF(ISBLANK(G18),_xlfn.DAYS(TODAY(),F18),_xlfn.DAYS(G18,F18))))","v":""},null,{"$f":"IF(COUNTIF(E18,\"N\"),\"\",IF(ISBLANK(G18),\"\",IF(ISBLANK(I18),IF(ISBLANK(L18),_xlfn.DAYS(TODAY(),G18),_xlfn.DAYS(L18,G18)),_xlfn.DAYS(I18,G18))))","v":""},null,null,{"$f":"IF(COUNTIF(E18,\"N\"),\"ON HOLD\",IF(ISBLANK(L18),IF(ISBLANK(F18),\"\",IF(ISBLANK(G18),\"NO\",\"YES\")),\"NO\"))","v":""},{"$f":"IF(COUNTIF(E18,\"N\"),\"\",IF(ISBLANK(G18),\"\",IF(ISBLANK(L18),_xlfn.DAYS(TODAY(),G18),_xlfn.DAYS(L18,G18))))","v":""},null,null,null,{"$f":"IF(ISBLANK(P18), \"\", P18-Q18)","v":""},{"$f":"IF(ISBLANK(Q18), \"\", Q18/P18)","v":""}]
[null,null,null,null,null,null,null,{"$f":"IF(COUNTIF(E19,\"N\"),\"\",IF(ISBLANK(F19),\"\",IF(ISBLANK(G19),_xlfn.DAYS(TODAY(),F19),_xlfn.DAYS(G19,F19))))","v":""},null,{"$f":"IF(COUNTIF(E19,\"N\"),\"\",IF(ISBLANK(G19),\"\",IF(ISBLANK(I19),IF(ISBLANK(L19),_xlfn.DAYS(TODAY(),G19),_xlfn.DAYS(L19,G19)),_xlfn.DAYS(I19,G19))))","v":""},null,null,{"$f":"IF(COUNTIF(E19,\"N\"),\"ON HOLD\",IF(ISBLANK(L19),IF(ISBLANK(F19),\"\",IF(ISBLANK(G19),\"NO\",\"YES\")),\"NO\"))","v":""},{"$f":"IF(COUNTIF(E19,\"N\"),\"\",IF(ISBLANK(G19),\"\",IF(ISBLANK(L19),_xlfn.DAYS(TODAY(),G19),_xlfn.DAYS(L19,G19))))","v":""},null,null,null,{"$f":"IF(ISBLANK(P19), \"\", P19-Q19)","v":""},{"$f":"IF(ISBLANK(Q19), \"\", Q19/P19)","v":""}]
[null,null,null,null,null,null,null,{"$f":"IF(COUNTIF(E20,\"N\"),\"\",IF(ISBLANK(F20),\"\",IF(ISBLANK(G20),_xlfn.DAYS(TODAY(),F20),_xlfn.DAYS(G20,F20))))","v":""},null,{"$f":"IF(COUNTIF(E20,\"N\"),\"\",IF(ISBLANK(G20),\"\",IF(ISBLANK(I20),IF(ISBLANK(L20),_xlfn.DAYS(TODAY(),G20),_xlfn.DAYS(L20,G20)),_xlfn.DAYS(I20,G20))))","v":""},null,null,{"$f":"IF(COUNTIF(E20,\"N\"),\"ON HOLD\",IF(ISBLANK(L20),IF(ISBLANK(F20),\"\",IF(ISBLANK(G20),\"NO\",\"YES\")),\"NO\"))","v":""},{"$f":"IF(COUNTIF(E20,\"N\"),\"\",IF(ISBLANK(G20),\"\",IF(ISBLANK(L20),_xlfn.DAYS(TODAY(),G20),_xlfn.DAYS(L20,G20))))","v":""},null,null,null,{"$f":"IF(ISBLANK(P20), \"\", P20-Q20)","v":""},{"$f":"IF(ISBLANK(Q20), \"\", Q20/P20)","v":""}]
[null,null,null,null,null,null,null,{"$f":"IF(COUNTIF(E21,\"N\"),\"\",IF(ISBLANK(F21),\"\",IF(ISBLANK(G21),_xlfn.DAYS(TODAY(),F21),_xlfn.DAYS(G21,F21))))","v":""},null,{"$f":"IF(COUNTIF(E21,\"N\"),\"\",IF(ISBLANK(G21),\"\",IF(ISBLANK(I21),IF(ISBLANK(L21),_xlfn.DAYS(TODAY(),G21),_xlfn.DAYS(L21,G21)),_xlfn.DAYS(I21,G21))))","v":""},null,null,{"$f":"IF(COUNTIF(E21,\"N\"),\"ON HOLD\",IF(ISBLANK(L21),IF(ISBLANK(F21),\"\",IF(ISBLANK(G21),\"NO\",\"YES\")),\"NO\"))","v":""},{"$f":"IF(COUNTIF(E21,\"N\"),\"\",IF(ISBLANK(G21),\"\",IF(ISBLANK(L21),_xlfn.DAYS(TODAY(),G21),_xlfn.DAYS(L21,G21))))","v":""},null,null,null,{"$f":"IF(ISBLANK(P21), \"\", P21-Q21)","v":""},{"$f":"IF(ISBLANK(Q21), \"\", Q21/P21)","v":""}]
[null,null,null,null,null,null,null,{"$f":"IF(COUNTIF(E22,\"N\"),\"\",IF(ISBLANK(F22),\"\",IF(ISBLANK(G22),_xlfn.DAYS(TODAY(),F22),_xlfn.DAYS(G22,F22))))","v":""},null,{"$f":"IF(COUNTIF(E22,\"N\"),\"\",IF(ISBLANK(G22),\"\",IF(ISBLANK(I22),IF(ISBLANK(L22),_xlfn.DAYS(TODAY(),G22),_xlfn.DAYS(L22,G22)),_xlfn.DAYS(I22,G22))))","v":""},null,null,{"$f":"IF(COUNTIF(E22,\"N\"),\"ON HOLD\",IF(ISBLANK(L22),IF(ISBLANK(F22),\"\",IF(ISBLANK(G22),\"NO\",\"YES\")),\"NO\"))","v":""},{"$f":"IF(COUNTIF(E22,\"N\"),\"\",IF(ISBLANK(G22),\"\",IF(ISBLANK(L22),_xlfn.DAYS(TODAY(),G22),_xlfn.DAYS(L22,G22))))","v":""},null,null,null,{"$f":"IF(ISBLANK(P22), \"\", P22-Q22)","v":""},{"$f":"IF(ISBLANK(Q22), \"\", Q22/P22)","v":""}]
[null,null,null,null,null,null,null,{"$f":"IF(COUNTIF(E23,\"N\"),\"\",IF(ISBLANK(F23),\"\",IF(ISBLANK(G23),_xlfn.DAYS(TODAY(),F23),_xlfn.DAYS(G23,F23))))","v":""},null,{"$f":"IF(COUNTIF(E23,\"N\"),\"\",IF(ISBLANK(G23),\"\",IF(ISBLANK(I23),IF(ISBLANK(L23),_xlfn.DAYS(TODAY(),G23),_xlfn.DAYS(L23,G23)),_xlfn.DAYS(I23,G23))))","v":""},null,null,{"$f":"IF(COUNTIF(E23,\"N\"),\"ON HOLD\",IF(ISBLANK(L23),IF(ISBLANK(F23),\"\",IF(ISBLANK(G23),\"NO\",\"YES\")),\"NO\"))","v":""},{"$f":"IF(COUNTIF(E23,\"N\"),\"\",IF(ISBLANK(G23),\"\",IF(ISBLANK(L23),_xlfn.DAYS(TODAY(),G23),_xlfn.DAYS(L23,G23))))","v":""},null,null,null,{"$f":"IF(ISBLANK(P23), \"\", P23-Q23)","v":""},{"$f":"IF(ISBLANK(Q23), \"\", Q23/P23)","v":""}]
[null,null,null,null,null,null,null,{"$f":"IF(COUNTIF(E24,\"N\"),\"\",IF(ISBLANK(F24),\"\",IF(ISBLANK(G24),_xlfn.DAYS(TODAY(),F24),_xlfn.DAYS(G24,F24))))","v":""},null,{"$f":"IF(COUNTIF(E24,\"N\"),\"\",IF(ISBLANK(G24),\"\",IF(ISBLANK(I24),IF(ISBLANK(L24),_xlfn.DAYS(TODAY(),G24),_xlfn.DAYS(L24,G24)),_xlfn.DAYS(I24,G24))))","v":""},null,null,{"$f":"IF(COUNTIF(E24,\"N\"),\"ON HOLD\",IF(ISBLANK(L24),IF(ISBLANK(F24),\"\",IF(ISBLANK(G24),\"NO\",\"YES\")),\"NO\"))","v":""},{"$f":"IF(COUNTIF(E24,\"N\"),\"\",IF(ISBLANK(G24),\"\",IF(ISBLANK(L24),_xlfn.DAYS(TODAY(),G24),_xlfn.DAYS(L24,G24))))","v":""},null,null,null,{"$f":"IF(ISBLANK(P24), \"\", P24-Q24)","v":""},{"$f":"IF(ISBLANK(Q24), \"\", Q24/P24)","v":""}]
[null,null,null,null,null,null,null,{"$f":"IF(COUNTIF(E25,\"N\"),\"\",IF(ISBLANK(F25),\"\",IF(ISBLANK(G25),_xlfn.DAYS(TODAY(),F25),_xlfn.DAYS(G25,F25))))","v":""},null,{"$f":"IF(COUNTIF(E25,\"N\"),\"\",IF(ISBLANK(G25),\"\",IF(ISBLANK(I25),IF(ISBLANK(L25),_xlfn.DAYS(TODAY(),G25),_xlfn.DAYS(L25,G25)),_xlfn.DAYS(I25,G25))))","v":""},null,null,{"$f":"IF(COUNTIF(E25,\"N\"),\"ON HOLD\",IF(ISBLANK(L25),IF(ISBLANK(F25),\"\",IF(ISBLANK(G25),\"NO\",\"YES\")),\"NO\"))","v":""},{"$f":"IF(COUNTIF(E25,\"N\"),\"\",IF(ISBLANK(G25),\"\",IF(ISBLANK(L25),_xlfn.DAYS(TODAY(),G25),_xlfn.DAYS(L25,G25))))","v":""},null,null,null,{"$f":"IF(ISBLANK(P25), \"\", P25-Q25)","v":""},{"$f":"IF(ISBLANK(Q25), \"\", Q25/P25)","v":""}]
[null,null,null,null,null,null,null,{"$f":"IF(COUNTIF(E26,\"N\"),\"\",IF(ISBLANK(F26),\"\",IF(ISBLANK(G26),_xlfn.DAYS(TODAY(),F26),_xlfn.DAYS(G26,F26))))","v":""},null,{"$f":"IF(COUNTIF(E26,\"N\"),\"\",IF(ISBLANK(G26),\"\",IF(ISBLANK(I26),IF(ISBLANK(L26),_xlfn.DAYS(TODAY(),G26),_xlfn.DAYS(L26,G26)),_xlfn.DAYS(I26,G26))))","v":""},null,null,{"$f":"IF(COUNTIF(E26,\"N\"),\"ON HOLD\",IF(ISBLANK(L26),IF(ISBLANK(F26),\"\",IF(ISBLANK(G26),\"NO\",\"YES\")),\"NO\"))","v":""},{"$f":"IF(COUNTIF(E26,\"N\"),\"\",IF(ISBLANK(G26),\"\",IF(ISBLANK(L26),_xlfn.DAYS(TODAY(),G26),_xlfn.DAYS(L26,G26))))","v":""},null,null,null,{"$f":"IF(ISBLANK(P26), \"\", P26-Q26)","v":""},{"$f":"IF(ISBLANK(Q26), \"\", Q26/P26)","v":""}]
[null,null,null,null,null,null,null,{"$f":"IF(COUNTIF(E27,\"N\"),\"\",IF(ISBLANK(F27),\"\",IF(ISBLANK(G27),_xlfn.DAYS(TODAY(),F27),_xlfn.DAYS(G27,F27))))","v":""},null,{"$f":"IF(COUNTIF(E27,\"N\"),\"\",IF(ISBLANK(G27),\"\",IF(ISBLANK(I27),IF(ISBLANK(L27),_xlfn.DAYS(TODAY(),G27),_xlfn.DAYS(L27,G27)),_xlfn.DAYS(I27,G27))))","v":""},null,null,{"$f":"IF(COUNTIF(E27,\"N\"),\"ON HOLD\",IF(ISBLANK(L27),IF(ISBLANK(F27),\"\",IF(ISBLANK(G27),\"NO\",\"YES\")),\"NO\"))","v":""},{"$f":"IF(COUNTIF(E27,\"N\"),\"\",IF(ISBLANK(G27),\"\",IF(ISBLANK(L27),_xlfn.DAYS(TODAY(),G27),_xlfn.DAYS(L27,G27))))","v":""},null,null,null,{"$f":"IF(ISBLANK(P27), \"\", P27-Q27)","v":""},{"$f":"IF(ISBLANK(Q27), \"\", Q27/P27)","v":""}]
[null,null,null,null,null,null,null,{"$f":"IF(COUNTIF(E28,\"N\"),\"\",IF(ISBLANK(F28),\"\",IF(ISBLANK(G28),_xlfn.DAYS(TODAY(),F28),_xlfn.DAYS(G28,F28))))","v":""},null,{"$f":"IF(COUNTIF(E28,\"N\"),\"\",IF(ISBLANK(G28),\"\",IF(ISBLANK(I28),IF(ISBLANK(L28),_xlfn.DAYS(TODAY(),G28),_xlfn.DAYS(L28,G28)),_xlfn.DAYS(I28,G28))))","v":""},null,null,{"$f":"IF(COUNTIF(E28,\"N\"),\"ON HOLD\",IF(ISBLANK(L28),IF(ISBLANK(F28),\"\",IF(ISBLANK(G28),\"NO\",\"YES\")),\"NO\"))","v":""},{"$f":"IF(COUNTIF(E28,\"N\"),\"\",IF(ISBLANK(G28),\"\",IF(ISBLANK(L28),_xlfn.DAYS(TODAY(),G28),_xlfn.DAYS(L28,G28))))","v":""},null,null,null,{"$f":"IF(ISBLANK(P28), \"\", P28-Q28)","v":""},{"$f":"IF(ISBLANK(Q28), \"\", Q28/P28)","v":""}]
[null,null,null,null,null,null,null,{"$f":"IF(COUNTIF(E29,\"N\"),\"\",IF(ISBLANK(F29),\"\",IF(ISBLANK(G29),_xlfn.DAYS(TODAY(),F29),_xlfn.DAYS(G29,F29))))","v":""},null,{"$f":"IF(COUNTIF(E29,\"N\"),\"\",IF(ISBLANK(G29),\"\",IF(ISBLANK(I29),IF(ISBLANK(L29),_xlfn.DAYS(TODAY(),G29),_xlfn.DAYS(L29,G29)),_xlfn.DAYS(I29,G29))))","v":""},null,null,{"$f":"IF(COUNTIF(E29,\"N\"),\"ON HOLD\",IF(ISBLANK(L29),IF(ISBLANK(F29),\"\",IF(ISBLANK(G29),\"NO\",\"YES\")),\"NO\"))","v":""},{"$f":"IF(COUNTIF(E29,\"N\"),\"\",IF(ISBLANK(G29),\"\",IF(ISBLANK(L29),_xlfn.DAYS(TODAY(),G29),_xlfn.DAYS(L29,G29))))","v":""},null,null,null,{"$f":"IF(ISBLANK(P29), \"\", P29-Q29)","v":""},{"$f":"IF(ISBLANK(Q29), \"\", Q29/P29)","v":""}]
[null,null,null,null,null,null,null,{"$f":"IF(COUNTIF(E30,\"N\"),\"\",IF(ISBLANK(F30),\"\",IF(ISBLANK(G30),_xlfn.DAYS(TODAY(),F30),_xlfn.DAYS(G30,F30))))","v":""},null,{"$f":"IF(COUNTIF(E30,\"N\"),\"\",IF(ISBLANK(G30),\"\",IF(ISBLANK(I30),IF(ISBLANK(L30),_xlfn.DAYS(TODAY(),G30),_xlfn.DAYS(L30,G30)),_xlfn.DAYS(I30,G30))))","v":""},null,null,{"$f":"IF(COUNTIF(E30,\"N\"),\"ON HOLD\",IF(ISBLANK(L30),IF(ISBLANK(F30),\"\",IF(ISBLANK(G30),\"NO\",\"YES\")),\"NO\"))","v":""},{"$f":"IF(COUNTIF(E30,\"N\"),\"\",IF(ISBLANK(G30),\"\",IF(ISBLANK(L30),_xlfn.DAYS(TODAY(),G30),_xlfn.DAYS(L30,G30))))","v":""},null,null,null,{"$f":"IF(ISBLANK(P30), \"\", P30-Q30)","v":""},{"$f":"IF(ISBLANK(Q30), \"\", Q30/P30)","v":""}]
[null,null,null,null,null,null,null,{"$f":"IF(COUNTIF(E31,\"N\"),\"\",IF(ISBLANK(F31),\"\",IF(ISBLANK(G31),_xlfn.DAYS(TODAY(),F31),_xlfn.DAYS(G31,F31))))","v":""},null,{"$f":"IF(COUNTIF(E31,\"N\"),\"\",IF(ISBLANK(G31),\"\",IF(ISBLANK(I31),IF(ISBLANK(L31),_xlfn.DAYS(TODAY(),G31),_xlfn.DAYS(L31,G31)),_xlfn.DAYS(I31,G31))))","v":""},null,null,{"$f":"IF(COUNTIF(E31,\"N\"),\"ON HOLD\",IF(ISBLANK(L31),IF(ISBLANK(F31),\"\",IF(ISBLANK(G31),\"NO\",\"YES\")),\"NO\"))","v":""},{"$f":"IF(COUNTIF(E31,\"N\"),\"\",IF(ISBLANK(G31),\"\",IF(ISBLANK(L31),_xlfn.DAYS(TODAY(),G31),_xlfn.DAYS(L31,G31))))","v":""},null,null,null,{"$f":"IF(ISBLANK(P31), \"\", P31-Q31)","v":""},{"$f":"IF(ISBLANK(Q31), \"\", Q31/P31)","v":""}]
[null,null,null,null,null,null,null,{"$f":"IF(COUNTIF(E32,\"N\"),\"\",IF(ISBLANK(F32),\"\",IF(ISBLANK(G32),_xlfn.DAYS(TODAY(),F32),_xlfn.DAYS(G32,F32))))","v":""},null,{"$f":"IF(COUNTIF(E32,\"N\"),\"\",IF(ISBLANK(G32),\"\",IF(ISBLANK(I32),IF(ISBLANK(L32),_xlfn.DAYS(TODAY(),G32),_xlfn.DAYS(L32,G32)),_xlfn.DAYS(I32,G32))))","v":""},null,null,{"$f":"IF(COUNTIF(E32,\"N\"),\"ON HOLD\",IF(ISBLANK(L32),IF(ISBLANK(F32),\"\",IF(ISBLANK(G32),\"NO\",\"YES\")),\"NO\"))","v":""},{"$f":"IF(COUNTIF(E32,\"N\"),\"\",IF(ISBLANK(G32),\"\",IF(ISBLANK(L32),_xlfn.DAYS(TODAY(),G32),_xlfn.DAYS(L32,G32))))","v":""},null,null,null,{"$f":"IF(ISBLANK(P32), \"\", P32-Q32)","v":""},{"$f":"IF(ISBLANK(Q32), \"\", Q32/P32)","v":""}]
[null,null,null,null,null,null,null,{"$f":"IF(COUNTIF(E33,\"N\"),\"\",IF(ISBLANK(F33),\"\",IF(ISBLANK(G33),_xlfn.DAYS(TODAY(),F33),_xlfn.DAYS(G33,F33))))","v":""},null,{"$f":"IF(COUNTIF(E33,\"N\"),\"\",IF(ISBLANK(G33),\"\",IF(ISBLANK(I33),IF(ISBLANK(L33),_xlfn.DAYS(TODAY(),G33),_xlfn.DAYS(L33,G33)),_xlfn.DAYS(I33,G33))))","v":""},null,null,{"$f":"IF(COUNTIF(E33,\"N\"),\"ON HOLD\",IF(ISBLANK(L33),IF(ISBLANK(F33),\"\",IF(ISBLANK(G33),\"NO\",\"YES\")),\"NO\"))","v":""},{"$f":"IF(COUNTIF(E33,\"N\"),\"\",IF(ISBLANK(G33),\"\",IF(ISBLANK(L33),_xlfn.DAYS(TODAY(),G33),_xlfn.DAYS(L33,G33))))","v":""},null,null,null,{"$f":"IF(ISBLANK(P33), \"\", P33-Q33)","v":""},{"$f":"IF(ISBLANK(Q33), \"\", Q33/P33)","v":""}]
[null,null,null,null,null,null,null,{"$f":"IF(COUNTIF(E34,\"N\"),\"\",IF(ISBLANK(F34),\"\",IF(ISBLANK(G34),_xlfn.DAYS(TODAY(),F34),_xlfn.DAYS(G34,F34))))","v":""},null,{"$f":"IF(COUNTIF(E34,\"N\"),\"\",IF(ISBLANK(G34),\"\",IF(ISBLANK(I34),IF(ISBLANK(L34),_xlfn.DAYS(TODAY(),G34),_xlfn.DAYS(L34,G34)),_xlfn.DAYS(I34,G34))))","v":""},null,null,{"$f":"IF(COUNTIF(E34,\"N\"),\"ON HOLD\",IF(ISBLANK(L34),IF(ISBLANK(F34),\"\",IF(ISBLANK(G34),\"NO\",\"YES\")),\"NO\"))","v":""},{"$f":"IF(COUNTIF(E34,\"N\"),\"\",IF(ISBLANK(G34),\"\",IF(ISBLANK(L34),_xlfn.DAYS(TODAY(),G34),_xlfn.DAYS(L34,G34))))","v":""},null,null,null,{"$f":"IF(ISBLANK(P34), \"\", P34-Q34)","v":""},{"$f":"IF(ISBLANK(Q34), \"\", Q34/P34)","v":""}]
[null,null,null,null,null,null,null,{"$f":"IF(COUNTIF(E35,\"N\"),\"\",IF(ISBLANK(F35),\"\",IF(ISBLANK(G35),_xlfn.DAYS(TODAY(),F35),_xlfn.DAYS(G35,F35))))","v":""},null,{"$f":"IF(COUNTIF(E35,\"N\"),\"\",IF(ISBLANK(G35),\"\",IF(ISBLANK(I35),IF(ISBLANK(L35),_xlfn.DAYS(TODAY(),G35),_xlfn.DAYS(L35,G35)),_xlfn.DAYS(I35,G35))))","v":""},null,null,{"$f":"IF(COUNTIF(E35,\"N\"),\"ON HOLD\",IF(ISBLANK(L35),IF(ISBLANK(F35),\"\",IF(ISBLANK(G35),\"NO\",\"YES\")),\"NO\"))","v":""},{"$f":"IF(COUNTIF(E35,\"N\"),\"\",IF(ISBLANK(G35),\"\",IF(ISBLANK(L35),_xlfn.DAYS(TODAY(),G35),_xlfn.DAYS(L35,G35))))","v":""},null,null,null,{"$f":"IF(ISBLANK(P35), \"\", P35-Q35)","v":""},{"$f":"IF(ISBLANK(Q35), \"\", Q35/P35)","v":""}]
[null,null,null,null,null,null,null,{"$f":"IF(COUNTIF(E36,\"N\"),\"\",IF(ISBLANK(F36),\"\",IF(ISBLANK(G36),_xlfn.DAYS(TODAY(),F36),_xlfn.DAYS(G36,F36))))","v":""},null,{"$f":"IF(COUNTIF(E36,\"N\"),\"\",IF(ISBLANK(G36),\"\",IF(ISBLANK(I36),IF(ISBLANK(L36),_xlfn.DAYS(TODAY(),G36),_xlfn.DAYS(L36,G36)),_xlfn.DAYS(I36,G36))))","v":""},null,null,{"$f":"IF(COUNTIF(E36,\"N\"),\"ON HOLD\",IF(ISBLANK(L36),IF(ISBLANK(F36),\"\",IF(ISBLANK(G36),\"NO\",\"YES\")),\"NO\"))","v":""},{"$f":"IF(COUNTIF(E36,\"N\"),\"\",IF(ISBLANK(G36),\"\",IF(ISBLANK(L36),_xlfn.DAYS(TODAY(),G36),_xlfn.DAYS(L36,G36))))","v":""},null,null,null,{"$f":"IF(ISBLANK(P36), \"\", P36-Q36)","v":""},{"$f":"IF(ISBLANK(Q36), \"\", Q36/P36)","v":""}]
[null,null,null,null,null,null,null,{"$f":"IF(COUNTIF(E37,\"N\"),\"\",IF(ISBLANK(F37),\"\",IF(ISBLANK(G37),_xlfn.DAYS(TODAY(),F37),_xlfn.DAYS(G37,F37))))","v":""},null,{"$f":"IF(COUNTIF(E37,\"N\"),\"\",IF(ISBLANK(G37),\"\",IF(ISBLANK(I37),IF(ISBLANK(L37),_xlfn.DAYS(TODAY(),G37),_xlfn.DAYS(L37,G37)),_xlfn.DAYS(I37,G37))))","v":""},null,null,{"$f":"IF(COUNTIF(E37,\"N\"),\"ON HOLD\",IF(ISBLANK(L37),IF(ISBLANK(F37),\"\",IF(ISBLANK(G37),\"NO\",\"YES\")),\"NO\"))","v":""},{"$f":"IF(COUNTIF(E37,\"N\"),\"\",IF(ISBLANK(G37),\"\",IF(ISBLANK(L37),_xlfn.DAYS(TODAY(),G37),_xlfn.DAYS(L37,G37))))","v":""},null,null,null,{"$f":"IF(ISBLANK(P37), \"\", P37-Q37)","v":""},{"$f":"IF(ISBLANK(Q37), \"\", Q37/P37)","v":""}]
[null,null,null,null,null,null,null,{"$f":"IF(COUNTIF(E38,\"N\"),\"\",IF(ISBLANK(F38),\"\",IF(ISBLANK(G38),_xlfn.DAYS(TODAY(),F38),_xlfn.DAYS(G38,F38))))","v":""},null,{"$f":"IF(COUNTIF(E38,\"N\"),\"\",IF(ISBLANK(G38),\"\",IF(ISBLANK(I38),IF(ISBLANK(L38),_xlfn.DAYS(TODAY(),G38),_xlfn.DAYS(L38,G38)),_xlfn.DAYS(I38,G38))))","v":""},null,null,{"$f":"IF(COUNTIF(E38,\"N\"),\"ON HOLD\",IF(ISBLANK(L38),IF(ISBLANK(F38),\"\",IF(ISBLANK(G38),\"NO\",\"YES\")),\"NO\"))","v":""},{"$f":"IF(COUNTIF(E38,\"N\"),\"\",IF(ISBLANK(G38),\"\",IF(ISBLANK(L38),_xlfn.DAYS(TODAY(),G38),_xlfn.DAYS(L38,G38))))","v":""},null,null,null,{"$f":"IF(ISBLANK(P38), \"\", P38-Q38)","v":""},{"$f":"IF(ISBLANK(Q38), \"\", Q38/P38)","v":""}]
[null,null,null,null,null,null,null,{"$f":"IF(COUNTIF(E39,\"N\"),\"\",IF(ISBLANK(F39),\"\",IF(ISBLANK(G39),_xlfn.DAYS(TODAY(),F39),_xlfn.DAYS(G39,F39))))","v":""},null,{"$f":"IF(COUNTIF(E39,\"N\"),\"\",IF(ISBLANK(G39),\"\",IF(ISBLANK(I39),IF(ISBLANK(L39),_xlfn.DAYS(TODAY(),G39),_xlfn.DAYS(L39,G39)),_xlfn.DAYS(I39,G39))))","v":""},null,null,{"$f":"IF(COUNTIF(E39,\"N\"),\"ON HOLD\",IF(ISBLANK(L39),IF(ISBLANK(F39),\"\",IF(ISBLANK(G39),\"NO\",\"YES\")),\"NO\"))","v":""},{"$f":"IF(COUNTIF(E39,\"N\"),\"\",IF(ISBLANK(G39),\"\",IF(ISBLANK(L39),_xlfn.DAYS(TODAY(),G39),_xlfn.DAYS(L39,G39))))","v":""},null,null,null,{"$f":"IF(ISBLANK(P39), \"\", P39-Q39)","v":""},{"$f":"IF(ISBLANK(Q39), \"\", Q39/P39)","v":""}]
[null,null,null,null,null,null,null,{"$f":"IF(COUNTIF(E40,\"N\"),\"\",IF(ISBLANK(F40),\"\",IF(ISBLANK(G40),_xlfn.DAYS(TODAY(),F40),_xlfn.DAYS(G40,F40))))","v":""},null,{"$f":"IF(COUNTIF(E40,\"N\"),\"\",IF(ISBLANK(G40),\"\",IF(ISBLANK(I40),IF(ISBLANK(L40),_xlfn.DAYS(TODAY(),G40),_xlfn.DAYS(L40,G40)),_xlfn.DAYS(I40,G40))))","v":""},null,null,{"$f":"IF(COUNTIF(E40,\"N\"),\"ON HOLD\",IF(ISBLANK(L40),IF(ISBLANK(F40),\"\",IF(ISBLANK(G40),\"NO\",\"YES\")),\"NO\"))","v":""},{"$f":"IF(COUNTIF(E40,\"N\"),\"\",IF(ISBLANK(G40),\"\",IF(ISBLANK(L40),_xlfn.DAYS(TODAY(),G40),_xlfn.DAYS(L40,G40))))","v":""},null,null,null,{"$f":"IF(ISBLANK(P40), \"\", P40-Q40)","v":""},{"$f":"IF(ISBLANK(Q40), \"\", Q40/P40)","v":""}]
[null,null,null,null,null,null,null,{"$f":"IF(COUNTIF(E41,\"N\"),\"\",IF(ISBLANK(F41),\"\",IF(ISBLANK(G41),_xlfn.DAYS(TODAY(),F41),_xlfn.DAYS(G41,F41))))","v":""},null,{"$f":"IF(COUNTIF(E41,\"N\"),\"\",IF(ISBLANK(G41),\"\",IF(ISBLANK(I41),IF(ISBLANK(L41),_xlfn.DAYS(TODAY(),G41),_xlfn.DAYS(L41,G41)),_xlfn.DAYS(I41,G41))))","v":""},null,null,{"$f":"IF(COUNTIF(E41,\"N\"),\"ON HOLD\",IF(ISBLANK(L41),IF(ISBLANK(F41),\"\",IF(ISBLANK(G41),\"NO\",\"YES\")),\"NO\"))","v":""},{"$f":"IF(COUNTIF(E41,\"N\"),\"\",IF(ISBLANK(G41),\"\",IF(ISBLANK(L41),_xlfn.DAYS(TODAY(),G41),_xlfn.DAYS(L41,G41))))","v":""},null,null,null,{"$f":"IF(ISBLANK(P41), \"\", P41-Q41)","v":""},{"$f":"IF(ISBLANK(Q41), \"\", Q41/P41)","v":""}]
[null,null,null,null,null,null,null,{"$f":"IF(COUNTIF(E42,\"N\"),\"\",IF(ISBLANK(F42),\"\",IF(ISBLANK(G42),_xlfn.DAYS(TODAY(),F42),_xlfn.DAYS(G42,F42))))","v":""},null,{"$f":"IF(COUNTIF(E42,\"N\"),\"\",IF(ISBLANK(G42),\"\",IF(ISBLANK(I42),IF(ISBLANK(L42),_xlfn.DAYS(TODAY(),G42),_xlfn.DAYS(L42,G42)),_xlfn.DAYS(I42,G42))))","v":""},null,null,{"$f":"IF(COUNTIF(E42,\"N\"),\"ON HOLD\",IF(ISBLANK(L42),IF(ISBLANK(F42),\"\",IF(ISBLANK(G42),\"NO\",\"YES\")),\"NO\"))","v":""},{"$f":"IF(COUNTIF(E42,\"N\"),\"\",IF(ISBLANK(G42),\"\",IF(ISBLANK(L42),_xlfn.DAYS(TODAY(),G42),_xlfn.DAYS(L42,G42))))","v":""},null,null,null,{"$f":"IF(ISBLANK(P42), \"\", P42-Q42)","v":""},{"$f":"IF(ISBLANK(Q42), \"\", Q42/P42)","v":""}]
[null,null,null,null,null,null,null,{"$f":"IF(COUNTIF(E43,\"N\"),\"\",IF(ISBLANK(F43),\"\",IF(ISBLANK(G43),_xlfn.DAYS(TODAY(),F43),_xlfn.DAYS(G43,F43))))","v":""},null,{"$f":"IF(COUNTIF(E43,\"N\"),\"\",IF(ISBLANK(G43),\"\",IF(ISBLANK(I43),IF(ISBLANK(L43),_xlfn.DAYS(TODAY(),G43),_xlfn.DAYS(L43,G43)),_xlfn.DAYS(I43,G43))))","v":""},null,null,{"$f":"IF(COUNTIF(E43,\"N\"),\"ON HOLD\",IF(ISBLANK(L43),IF(ISBLANK(F43),\"\",IF(ISBLANK(G43),\"NO\",\"YES\")),\"NO\"))","v":""},{"$f":"IF(COUNTIF(E43,\"N\"),\"\",IF(ISBLANK(G43),\"\",IF(ISBLANK(L43),_xlfn.DAYS(TODAY(),G43),_xlfn.DAYS(L43,G43))))","v":""},null,null,null,{"$f":"IF(ISBLANK(P43), \"\", P43-Q43)","v":""},{"$f":"IF(ISBLANK(Q43), \"\", Q43/P43)","v":""}]
[null,null,null,null,null,null,null,{"$f":"IF(COUNTIF(E44,\"N\"),\"\",IF(ISBLANK(F44),\"\",IF(ISBLANK(G44),_xlfn.DAYS(TODAY(),F44),_xlfn.DAYS(G44,F44))))","v":""},null,{"$f":"IF(COUNTIF(E44,\"N\"),\"\",IF(ISBLANK(G44),\"\",IF(ISBLANK(I44),IF(ISBLANK(L44),_xlfn.DAYS(TODAY(),G44),_xlfn.DAYS(L44,G44)),_xlfn.DAYS(I44,G44))))","v":""},null,null,{"$f":"IF(COUNTIF(E44,\"N\"),\"ON HOLD\",IF(ISBLANK(L44),IF(ISBLANK(F44),\"\",IF(ISBLANK(G44),\"NO\",\"YES\")),\"NO\"))","v":""},{"$f":"IF(COUNTIF(E44,\"N\"),\"\",IF(ISBLANK(G44),\"\",IF(ISBLANK(L44),_xlfn.DAYS(TODAY(),G44),_xlfn.DAYS(L44,G44))))","v":""},null,null,null,{"$f":"IF(ISBLANK(P44), \"\", P44-Q44)","v":""},{"$f":"IF(ISBLANK(Q44), \"\", Q44/P44)","v":""}]
[null,null,null,null,null,null,null,{"$f":"IF(COUNTIF(E45,\"N\"),\"\",IF(ISBLANK(F45),\"\",IF(ISBLANK(G45),_xlfn.DAYS(TODAY(),F45),_xlfn.DAYS(G45,F45))))","v":""},null,{"$f":"IF(COUNTIF(E45,\"N\"),\"\",IF(ISBLANK(G45),\"\",IF(ISBLANK(I45),IF(ISBLANK(L45),_xlfn.DAYS(TODAY(),G45),_xlfn.DAYS(L45,G45)),_xlfn.DAYS(I45,G45))))","v":""},null,null,{"$f":"IF(COUNTIF(E45,\"N\"),\"ON HOLD\",IF(ISBLANK(L45),IF(ISBLANK(F45),\"\",IF(ISBLANK(G45),\"NO\",\"YES\")),\"NO\"))","v":""},{"$f":"IF(COUNTIF(E45,\"N\"),\"\",IF(ISBLANK(G45),\"\",IF(ISBLANK(L45),_xlfn.DAYS(TODAY(),G45),_xlfn.DAYS(L45,G45))))","v":""},null,null,null,{"$f":"IF(ISBLANK(P45), \"\", P45-Q45)","v":""},{"$f":"IF(ISBLANK(Q45), \"\", Q45/P45)","v":""}]
[null,null,null,null,null,null,null,{"$f":"IF(COUNTIF(E46,\"N\"),\"\",IF(ISBLANK(F46),\"\",IF(ISBLANK(G46),_xlfn.DAYS(TODAY(),F46),_xlfn.DAYS(G46,F46))))","v":""},null,{"$f":"IF(COUNTIF(E46,\"N\"),\"\",IF(ISBLANK(G46),\"\",IF(ISBLANK(I46),IF(ISBLANK(L46),_xlfn.DAYS(TODAY(),G46),_xlfn.DAYS(L46,G46)),_xlfn.DAYS(I46,G46))))","v":""},null,null,{"$f":"IF(COUNTIF(E46,\"N\"),\"ON HOLD\",IF(ISBLANK(L46),IF(ISBLANK(F46),\"\",IF(ISBLANK(G46),\"NO\",\"YES\")),\"NO\"))","v":""},{"$f":"IF(COUNTIF(E46,\"N\"),\"\",IF(ISBLANK(G46),\"\",IF(ISBLANK(L46),_xlfn.DAYS(TODAY(),G46),_xlfn.DAYS(L46,G46))))","v":""},null,null,null,{"$f":"IF(ISBLANK(P46), \"\", P46-Q46)","v":""},{"$f":"IF(ISBLANK(Q46), \"\", Q46/P46)","v":""}]
[null,null,null,null,null,null,null,{"$f":"IF(COUNTIF(E47,\"N\"),\"\",IF(ISBLANK(F47),\"\",IF(ISBLANK(G47),_xlfn.DAYS(TODAY(),F47),_xlfn.DAYS(G47,F47))))","v":""},null,{"$f":"IF(COUNTIF(E47,\"N\"),\"\",IF(ISBLANK(G47),\"\",IF(ISBLANK(I47),IF(ISBLANK(L47),_xlfn.DAYS(TODAY(),G47),_xlfn.DAYS(L47,G47)),_xlfn.DAYS(I47,G47))))","v":""},null,null,{"$f":"IF(COUNTIF(E47,\"N\"),\"ON HOLD\",IF(ISBLANK(L47),IF(ISBLANK(F47),\"\",IF(ISBLANK(G47),\"NO\",\"YES\")),\"NO\"))","v":""},{"$f":"IF(COUNTIF(E47,\"N\"),\"\",IF(ISBLANK(G47),\"\",IF(ISBLANK(L47),_xlfn.DAYS(TODAY(),G47),_xlfn.DAYS(L47,G47))))","v":""},null,null,null,{"$f":"IF(ISBLANK(P47), \"\", P47-Q47)","v":""},{"$f":"IF(ISBLANK(Q47), \"\", Q47/P47)","v":""}]
[null,null,null,null,null,null,null,{"$f":"IF(COUNTIF(E48,\"N\"),\"\",IF(ISBLANK(F48),\"\",IF(ISBLANK(G48),_xlfn.DAYS(TODAY(),F48),_xlfn.DAYS(G48,F48))))","v":""},null,{"$f":"IF(COUNTIF(E48,\"N\"),\"\",IF(ISBLANK(G48),\"\",IF(ISBLANK(I48),IF(ISBLANK(L48),_xlfn.DAYS(TODAY(),G48),_xlfn.DAYS(L48,G48)),_xlfn.DAYS(I48,G48))))","v":""},null,null,{"$f":"IF(COUNTIF(E48,\"N\"),\"ON HOLD\",IF(ISBLANK(L48),IF(ISBLANK(F48),\"\",IF(ISBLANK(G48),\"NO\",\"YES\")),\"NO\"))","v":""},{"$f":"IF(COUNTIF(E48,\"N\"),\"\",IF(ISBLANK(G48),\"\",IF(ISBLANK(L48),_xlfn.DAYS(TODAY(),G48),_xlfn.DAYS(L48,G48))))","v":""},null,null,null,{"$f":"IF(ISBLANK(P48), \"\", P48-Q48)","v":""},{"$f":"IF(ISBLANK(Q48), \"\", Q48/P48)","v":""}]
[null,null,null,null,null,null,null,{"$f":"IF(COUNTIF(E49,\"N\"),\"\",IF(ISBLANK(F49),\"\",IF(ISBLANK(G49),_xlfn.DAYS(TODAY(),F49),_xlfn.DAYS(G49,F49))))","v":""},null,{"$f":"IF(COUNTIF(E49,\"N\"),\"\",IF(ISBLANK(G49),\"\",IF(ISBLANK(I49),IF(ISBLANK(L49),_xlfn.DAYS(TODAY(),G49),_xlfn.DAYS(L49,G49)),_xlfn.DAYS(I49,G49))))","v":""},null,null,{"$f":"IF(COUNTIF(E49,\"N\"),\"ON HOLD\",IF(ISBLANK(L49),IF(ISBLANK(F49),\"\",IF(ISBLANK(G49),\"NO\",\"YES\")),\"NO\"))","v":""},{"$f":"IF(COUNTIF(E49,\"N\"),\"\",IF(ISBLANK(G49),\"\",IF(ISBLANK(L49),_xlfn.DAYS(TODAY(),G49),_xlfn.DAYS(L49,G49))))","v":""},null,null,null,{"$f":"IF(ISBLANK(P49), \"\", P49-Q49)","v":""},{"$f":"IF(ISBLANK(Q49), \"\", Q49/P49)","v":""}]
[null,null,null,null,null,null,null,{"$f":"IF(COUNTIF(E50,\"N\"),\"\",IF(ISBLANK(F50),\"\",IF(ISBLANK(G50),_xlfn.DAYS(TODAY(),F50),_xlfn.DAYS(G50,F50))))","v":""},null,{"$f":"IF(COUNTIF(E50,\"N\"),\"\",IF(ISBLANK(G50),\"\",IF(ISBLANK(I50),IF(ISBLANK(L50),_xlfn.DAYS(TODAY(),G50),_xlfn.DAYS(L50,G50)),_xlfn.DAYS(I50,G50))))","v":""},null,null,{"$f":"IF(COUNTIF(E50,\"N\"),\"ON HOLD\",IF(ISBLANK(L50),IF(ISBLANK(F50),\"\",IF(ISBLANK(G50),\"NO\",\"YES\")),\"NO\"))","v":""},{"$f":"IF(COUNTIF(E50,\"N\"),\"\",IF(ISBLANK(G50),\"\",IF(ISBLANK(L50),_xlfn.DAYS(TODAY(),G50),_xlfn.DAYS(L50,G50))))","v":""},null,null,null,{"$f":"IF(ISBLANK(P50), \"\", P50-Q50)","v":""},{"$f":"IF(ISBLANK(Q50), \"\", Q50/P50)","v":""}]
[null,null,null,null,null,null,null,{"$f":"IF(COUNTIF(E51,\"N\"),\"\",IF(ISBLANK(F51),\"\",IF(ISBLANK(G51),_xlfn.DAYS(TODAY(),F51),_xlfn.DAYS(G51,F51))))","v":""},null,{"$f":"IF(COUNTIF(E51,\"N\"),\"\",IF(ISBLANK(G51),\"\",IF(ISBLANK(I51),IF(ISBLANK(L51),_xlfn.DAYS(TODAY(),G51),_xlfn.DAYS(L51,G51)),_xlfn.DAYS(I51,G51))))","v":""},null,null,{"$f":"IF(COUNTIF(E51,\"N\"),\"ON HOLD\",IF(ISBLANK(L51),IF(ISBLANK(F51),\"\",IF(ISBLANK(G51),\"NO\",\"YES\")),\"NO\"))","v":""},{"$f":"IF(COUNTIF(E51,\"N\"),\"\",IF(ISBLANK(G51),\"\",IF(ISBLANK(L51),_xlfn.DAYS(TODAY(),G51),_xlfn.DAYS(L51,G51))))","v":""},null,null,null,{"$f":"IF(ISBLANK(P51), \"\", P51-Q51)","v":""},{"$f":"IF(ISBLANK(Q51), \"\", Q51/P51)","v":""}]
[null,null,null,null,null,null,null,{"$f":"IF(COUNTIF(E52,\"N\"),\"\",IF(ISBLANK(F52),\"\",IF(ISBLANK(G52),_xlfn.DAYS(TODAY(),F52),_xlfn.DAYS(G52,F52))))","v":""},null,{"$f":"IF(COUNTIF(E52,\"N\"),\"\",IF(ISBLANK(G52),\"\",IF(ISBLANK(I52),IF(ISBLANK(L52),_xlfn.DAYS(TODAY(),G52),_xlfn.DAYS(L52,G52)),_xlfn.DAYS(I52,G52))))","v":""},null,null,{"$f":"IF(COUNTIF(E52,\"N\"),\"ON HOLD\",IF(ISBLANK(L52),IF(ISBLANK(F52),\"\",IF(ISBLANK(G52),\"NO\",\"YES\")),\"NO\"))","v":""},{"$f":"IF(COUNTIF(E52,\"N\"),\"\",IF(ISBLANK(G52),\"\",IF(ISBLANK(L52),_xlfn.DAYS(TODAY(),G52),_xlfn.DAYS(L52,G52))))","v":""},null,null,null,{"$f":"IF(ISBLANK(P52), \"\", P52-Q52)","v":""},{"$f":"IF(ISBLANK(Q52), \"\", Q52/P52)","v":""}]
[null,null,null,null,null,null,null,{"$f":"IF(COUNTIF(E53,\"N\"),\"\",IF(ISBLANK(F53),\"\",IF(ISBLANK(G53),_xlfn.DAYS(TODAY(),F53),_xlfn.DAYS(G53,F53))))","v":""},null,{"$f":"IF(COUNTIF(E53,\"N\"),\"\",IF(ISBLANK(G53),\"\",IF(ISBLANK(I53),IF(ISBLANK(L53),_xlfn.DAYS(TODAY(),G53),_xlfn.DAYS(L53,G53)),_xlfn.DAYS(I53,G53))))","v":""},null,null,{"$f":"IF(COUNTIF(E53,\"N\"),\"ON HOLD\",IF(ISBLANK(L53),IF(ISBLANK(F53),\"\",IF(ISBLANK(G53),\"NO\",\"YES\")),\"NO\"))","v":""},{"$f":"IF(COUNTIF(E53,\"N\"),\"\",IF(ISBLANK(G53),\"\",IF(ISBLANK(L53),_xlfn.DAYS(TODAY(),G53),_xlfn.DAYS(L53,G53))))","v":""},null,null,null,{"$f":"IF(ISBLANK(P53), \"\", P53-Q53)","v":""},{"$f":"IF(ISBLANK(Q53), \"\", Q53/P53)","v":""}]
[null,null,null,null,null,null,null,{"$f":"IF(COUNTIF(E54,\"N\"),\"\",IF(ISBLANK(F54),\"\",IF(ISBLANK(G54),_xlfn.DAYS(TODAY(),F54),_xlfn.DAYS(G54,F54))))","v":""},null,{"$f":"IF(COUNTIF(E54,\"N\"),\"\",IF(ISBLANK(G54),\"\",IF(ISBLANK(I54),IF(ISBLANK(L54),_xlfn.DAYS(TODAY(),G54),_xlfn.DAYS(L54,G54)),_xlfn.DAYS(I54,G54))))","v":""},null,null,{"$f":"IF(COUNTIF(E54,\"N\"),\"ON HOLD\",IF(ISBLANK(L54),IF(ISBLANK(F54),\"\",IF(ISBLANK(G54),\"NO\",\"YES\")),\"NO\"))","v":""},{"$f":"IF(COUNTIF(E54,\"N\"),\"\",IF(ISBLANK(G54),\"\",IF(ISBLANK(L54),_xlfn.DAYS(TODAY(),G54),_xlfn.DAYS(L54,G54))))","v":""},null,null,null,{"$f":"IF(ISBLANK(P54), \"\", P54-Q54)","v":""},{"$f":"IF(ISBLANK(Q54), \"\", Q54/P54)","v":""}]
[null,null,null,null,null,null,null,{"$f":"IF(COUNTIF(E55,\"N\"),\"\",IF(ISBLANK(F55),\"\",IF(ISBLANK(G55),_xlfn.DAYS(TODAY(),F55),_xlfn.DAYS(G55,F55))))","v":""},null,{"$f":"IF(COUNTIF(E55,\"N\"),\"\",IF(ISBLANK(G55),\"\",IF(ISBLANK(I55),IF(ISBLANK(L55),_xlfn.DAYS(TODAY(),G55),_xlfn.DAYS(L55,G55)),_xlfn.DAYS(I55,G55))))","v":""},null,null,{"$f":"IF(COUNTIF(E55,\"N\"),\"ON HOLD\",IF(ISBLANK(L55),IF(ISBLANK(F55),\"\",IF(ISBLANK(G55),\"NO\",\"YES\")),\"NO\"))","v":""},{"$f":"IF(COUNTIF(E55,\"N\"),\"\",IF(ISBLANK(G55),\"\",IF(ISBLANK(L55),_xlfn.DAYS(TODAY(),G55),_xlfn.DAYS(L55,G55))))","v":""},null,null,null,{"$f":"IF(ISBLANK(P55), \"\", P55-Q55)","v":""},{"$f":"IF(ISBLANK(Q55), \"\", Q55/P55)","v":""}]
[null,null,null,null,null,null,null,{"$f":"IF(COUNTIF(E56,\"N\"),\"\",IF(ISBLANK(F56),\"\",IF(ISBLANK(G56),_xlfn.DAYS(TODAY(),F56),_xlfn.DAYS(G56,F56))))","v":""},null,{"$f":"IF(COUNTIF(E56,\"N\"),\"\",IF(ISBLANK(G56),\"\",IF(ISBLANK(I56),IF(ISBLANK(L56),_xlfn.DAYS(TODAY(),G56),_xlfn.DAYS(L56,G56)),_xlfn.DAYS(I56,G56))))","v":""},null,null,{"$f":"IF(COUNTIF(E56,\"N\"),\"ON HOLD\",IF(ISBLANK(L56),IF(ISBLANK(F56),\"\",IF(ISBLANK(G56),\"NO\",\"YES\")),\"NO\"))","v":""},{"$f":"IF(COUNTIF(E56,\"N\"),\"\",IF(ISBLANK(G56),\"\",IF(ISBLANK(L56),_xlfn.DAYS(TODAY(),G56),_xlfn.DAYS(L56,G56))))","v":""},null,null,null,{"$f":"IF(ISBLANK(P56), \"\", P56-Q56)","v":""},{"$f":"IF(ISBLANK(Q56), \"\", Q56/P56)","v":""}]
[null,null,null,null,null,null,null,{"$f":"IF(COUNTIF(E57,\"N\"),\"\",IF(ISBLANK(F57),\"\",IF(ISBLANK(G57),_xlfn.DAYS(TODAY(),F57),_xlfn.DAYS(G57,F57))))","v":""},null,{"$f":"IF(COUNTIF(E57,\"N\"),\"\",IF(ISBLANK(G57),\"\",IF(ISBLANK(I57),IF(ISBLANK(L57),_xlfn.DAYS(TODAY(),G57),_xlfn.DAYS(L57,G57)),_xlfn.DAYS(I57,G57))))","v":""},null,null,{"$f":"IF(COUNTIF(E57,\"N\"),\"ON HOLD\",IF(ISBLANK(L57),IF(ISBLANK(F57),\"\",IF(ISBLANK(G57),\"NO\",\"YES\")),\"NO\"))","v":""},{"$f":"IF(COUNTIF(E57,\"N\"),\"\",IF(ISBLANK(G57),\"\",IF(ISBLANK(L57),_xlfn.DAYS(TODAY(),G57),_xlfn.DAYS(L57,G57))))","v":""},null,null,null,{"$f":"IF(ISBLANK(P57), \"\", P57-Q57)","v":""},{"$f":"IF(ISBLANK(Q57), \"\", Q57/P57)","v":""}]
[null,null,null,null,null,null,null,{"$f":"IF(COUNTIF(E58,\"N\"),\"\",IF(ISBLANK(F58),\"\",IF(ISBLANK(G58),_xlfn.DAYS(TODAY(),F58),_xlfn.DAYS(G58,F58))))","v":""},null,{"$f":"IF(COUNTIF(E58,\"N\"),\"\",IF(ISBLANK(G58),\"\",IF(ISBLANK(I58),IF(ISBLANK(L58),_xlfn.DAYS(TODAY(),G58),_xlfn.DAYS(L58,G58)),_xlfn.DAYS(I58,G58))))","v":""},null,null,{"$f":"IF(COUNTIF(E58,\"N\"),\"ON HOLD\",IF(ISBLANK(L58),IF(ISBLANK(F58),\"\",IF(ISBLANK(G58),\"NO\",\"YES\")),\"NO\"))","v":""},{"$f":"IF(COUNTIF(E58,\"N\"),\"\",IF(ISBLANK(G58),\"\",IF(ISBLANK(L58),_xlfn.DAYS(TODAY(),G58),_xlfn.DAYS(L58,G58))))","v":""},null,null,null,{"$f":"IF(ISBLANK(P58), \"\", P58-Q58)","v":""},{"$f":"IF(ISBLANK(Q58), \"\", Q58/P58)","v":""}]
[null,null,null,null,null,null,null,{"$f":"IF(COUNTIF(E59,\"N\"),\"\",IF(ISBLANK(F59),\"\",IF(ISBLANK(G59),_xlfn.DAYS(TODAY(),F59),_xlfn.DAYS(G59,F59))))","v":""},null,{"$f":"IF(COUNTIF(E59,\"N\"),\"\",IF(ISBLANK(G59),\"\",IF(ISBLANK(I59),IF(ISBLANK(L59),_xlfn.DAYS(TODAY(),G59),_xlfn.DAYS(L59,G59)),_xlfn.DAYS(I59,G59))))","v":""},null,null,{"$f":"IF(COUNTIF(E59,\"N\"),\"ON HOLD\",IF(ISBLANK(L59),IF(ISBLANK(F59),\"\",IF(ISBLANK(G59),\"NO\",\"YES\")),\"NO\"))","v":""},{"$f":"IF(COUNTIF(E59,\"N\"),\"\",IF(ISBLANK(G59),\"\",IF(ISBLANK(L59),_xlfn.DAYS(TODAY(),G59),_xlfn.DAYS(L59,G59))))","v":""},null,null,null,{"$f":"IF(ISBLANK(P59), \"\", P59-Q59)","v":""},{"$f":"IF(ISBLANK(Q59), \"\", Q59/P59)","v":""}]
[null,null,null,null,null,null,null,{"$f":"IF(COUNTIF(E60,\"N\"),\"\",IF(ISBLANK(F60),\"\",IF(ISBLANK(G60),_xlfn.DAYS(TODAY(),F60),_xlfn.DAYS(G60,F60))))","v":""},null,{"$f":"IF(COUNTIF(E60,\"N\"),\"\",IF(ISBLANK(G60),\"\",IF(ISBLANK(I60),IF(ISBLANK(L60),_xlfn.DAYS(TODAY(),G60),_xlfn.DAYS(L60,G60)),_xlfn.DAYS(I60,G60))))","v":""},null,null,{"$f":"IF(COUNTIF(E60,\"N\"),\"ON HOLD\",IF(ISBLANK(L60),IF(ISBLANK(F60),\"\",IF(ISBLANK(G60),\"NO\",\"YES\")),\"NO\"))","v":""},{"$f":"IF(COUNTIF(E60,\"N\"),\"\",IF(ISBLANK(G60),\"\",IF(ISBLANK(L60),_xlfn.DAYS(TODAY(),G60),_xlfn.DAYS(L60,G60))))","v":""},null,null,null,{"$f":"IF(ISBLANK(P60), \"\", P60-Q60)","v":""},{"$f":"IF(ISBLANK(Q60), \"\", Q60/P60)","v":""}]
[null,null,null,null,null,null,null,{"$f":"IF(COUNTIF(E61,\"N\"),\"\",IF(ISBLANK(F61),\"\",IF(ISBLANK(G61),_xlfn.DAYS(TODAY(),F61),_xlfn.DAYS(G61,F61))))","v":""},null,{"$f":"IF(COUNTIF(E61,\"N\"),\"\",IF(ISBLANK(G61),\"\",IF(ISBLANK(I61),IF(ISBLANK(L61),_xlfn.DAYS(TODAY(),G61),_xlfn.DAYS(L61,G61)),_xlfn.DAYS(I61,G61))))","v":""},null,null,{"$f":"IF(COUNTIF(E61,\"N\"),\"ON HOLD\",IF(ISBLANK(L61),IF(ISBLANK(F61),\"\",IF(ISBLANK(G61),\"NO\",\"YES\")),\"NO\"))","v":""},{"$f":"IF(COUNTIF(E61,\"N\"),\"\",IF(ISBLANK(G61),\"\",IF(ISBLANK(L61),_xlfn.DAYS(TODAY(),G61),_xlfn.DAYS(L61,G61))))","v":""},null,null,null,{"$f":"IF(ISBLANK(P61), \"\", P61-Q61)","v":""},{"$f":"IF(ISBLANK(Q61), \"\", Q61/P61)","v":""}]
[null,null,null,null,null,null,null,{"$f":"IF(COUNTIF(E62,\"N\"),\"\",IF(ISBLANK(F62),\"\",IF(ISBLANK(G62),_xlfn.DAYS(TODAY(),F62),_xlfn.DAYS(G62,F62))))","v":""},null,{"$f":"IF(COUNTIF(E62,\"N\"),\"\",IF(ISBLANK(G62),\"\",IF(ISBLANK(I62),IF(ISBLANK(L62),_xlfn.DAYS(TODAY(),G62),_xlfn.DAYS(L62,G62)),_xlfn.DAYS(I62,G62))))","v":""},null,null,{"$f":"IF(COUNTIF(E62,\"N\"),\"ON HOLD\",IF(ISBLANK(L62),IF(ISBLANK(F62),\"\",IF(ISBLANK(G62),\"NO\",\"YES\")),\"NO\"))","v":""},{"$f":"IF(COUNTIF(E62,\"N\"),\"\",IF(ISBLANK(G62),\"\",IF(ISBLANK(L62),_xlfn.DAYS(TODAY(),G62),_xlfn.DAYS(L62,G62))))","v":""},null,null,null,{"$f":"IF(ISBLANK(P62), \"\", P62-Q62)","v":""},{"$f":"IF(ISBLANK(Q62), \"\", Q62/P62)","v":""}]
[null,null,null,null,null,null,null,{"$f":"IF(COUNTIF(E63,\"N\"),\"\",IF(ISBLANK(F63),\"\",IF(ISBLANK(G63),_xlfn.DAYS(TODAY(),F63),_xlfn.DAYS(G63,F63))))","v":""},null,{"$f":"IF(COUNTIF(E63,\"N\"),\"\",IF(ISBLANK(G63),\"\",IF(ISBLANK(I63),IF(ISBLANK(L63),_xlfn.DAYS(TODAY(),G63),_xlfn.DAYS(L63,G63)),_xlfn.DAYS(I63,G63))))","v":""},null,null,{"$f":"IF(COUNTIF(E63,\"N\"),\"ON HOLD\",IF(ISBLANK(L63),IF(ISBLANK(F63),\"\",IF(ISBLANK(G63),\"NO\",\"YES\")),\"NO\"))","v":""},{"$f":"IF(COUNTIF(E63,\"N\"),\"\",IF(ISBLANK(G63),\"\",IF(ISBLANK(L63),_xlfn.DAYS(TODAY(),G63),_xlfn.DAYS(L63,G63))))","v":""},null,null,null,{"$f":"IF(ISBLANK(P63), \"\", P63-Q63)","v":""},{"$f":"IF(ISBLANK(Q63), \"\", Q63/P63)","v":""}]
[null,null,null,null,null,null,null,{"$f":"IF(COUNTIF(E64,\"N\"),\"\",IF(ISBLANK(F64),\"\",IF(ISBLANK(G64),_xlfn.DAYS(TODAY(),F64),_xlfn.DAYS(G64,F64))))","v":""},null,{"$f":"IF(COUNTIF(E64,\"N\"),\"\",IF(ISBLANK(G64),\"\",IF(ISBLANK(I64),IF(ISBLANK(L64),_xlfn.DAYS(TODAY(),G64),_xlfn.DAYS(L64,G64)),_xlfn.DAYS(I64,G64))))","v":""},null,null,{"$f":"IF(COUNTIF(E64,\"N\"),\"ON HOLD\",IF(ISBLANK(L64),IF(ISBLANK(F64),\"\",IF(ISBLANK(G64),\"NO\",\"YES\")),\"NO\"))","v":""},{"$f":"IF(COUNTIF(E64,\"N\"),\"\",IF(ISBLANK(G64),\"\",IF(ISBLANK(L64),_xlfn.DAYS(TODAY(),G64),_xlfn.DAYS(L64,G64))))","v":""},null,null,null,{"$f":"IF(ISBLANK(P64), \"\", P64-Q64)","v":""},{"$f":"IF(ISBLANK(Q64), \"\", Q64/P64)","v":""}]
[null,null,null,null,null,null,null,{"$f":"IF(COUNTIF(E65,\"N\"),\"\",IF(ISBLANK(F65),\"\",IF(ISBLANK(G65),_xlfn.DAYS(TODAY(),F65),_xlfn.DAYS(G65,F65))))","v":""},null,{"$f":"IF(COUNTIF(E65,\"N\"),\"\",IF(ISBLANK(G65),\"\",IF(ISBLANK(I65),IF(ISBLANK(L65),_xlfn.DAYS(TODAY(),G65),_xlfn.DAYS(L65,G65)),_xlfn.DAYS(I65,G65))))","v":""},null,null,{"$f":"IF(COUNTIF(E65,\"N\"),\"ON HOLD\",IF(ISBLANK(L65),IF(ISBLANK(F65),\"\",IF(ISBLANK(G65),\"NO\",\"YES\")),\"NO\"))","v":""},{"$f":"IF(COUNTIF(E65,\"N\"),\"\",IF(ISBLANK(G65),\"\",IF(ISBLANK(L65),_xlfn.DAYS(TODAY(),G65),_xlfn.DAYS(L65,G65))))","v":""},null,null,null,{"$f":"IF(ISBLANK(P65), \"\", P65-Q65)","v":""},{"$f":"IF(ISBLANK(Q65), \"\", Q65/P65)","v":""}]
[null,null,null,null,null,null,null,{"$f":"IF(COUNTIF(E66,\"N\"),\"\",IF(ISBLANK(F66),\"\",IF(ISBLANK(G66),_xlfn.DAYS(TODAY(),F66),_xlfn.DAYS(G66,F66))))","v":""},null,{"$f":"IF(COUNTIF(E66,\"N\"),\"\",IF(ISBLANK(G66),\"\",IF(ISBLANK(I66),IF(ISBLANK(L66),_xlfn.DAYS(TODAY(),G66),_xlfn.DAYS(L66,G66)),_xlfn.DAYS(I66,G66))))","v":""},null,null,{"$f":"IF(COUNTIF(E66,\"N\"),\"ON HOLD\",IF(ISBLANK(L66),IF(ISBLANK(F66),\"\",IF(ISBLANK(G66),\"NO\",\"YES\")),\"NO\"))","v":""},{"$f":"IF(COUNTIF(E66,\"N\"),\"\",IF(ISBLANK(G66),\"\",IF(ISBLANK(L66),_xlfn.DAYS(TODAY(),G66),_xlfn.DAYS(L66,G66))))","v":""},null,null,null,{"$f":"IF(ISBLANK(P66), \"\", P66-Q66)","v":""},{"$f":"IF(ISBLANK(Q66), \"\", Q66/P66)","v":""}]
[null,null,null,null,null,null,null,{"$f":"IF(COUNTIF(E67,\"N\"),\"\",IF(ISBLANK(F67),\"\",IF(ISBLANK(G67),_xlfn.DAYS(TODAY(),F67),_xlfn.DAYS(G67,F67))))","v":""},null,{"$f":"IF(COUNTIF(E67,\"N\"),\"\",IF(ISBLANK(G67),\"\",IF(ISBLANK(I67),IF(ISBLANK(L67),_xlfn.DAYS(TODAY(),G67),_xlfn.DAYS(L67,G67)),_xlfn.DAYS(I67,G67))))","v":""},null,null,{"$f":"IF(COUNTIF(E67,\"N\"),\"ON HOLD\",IF(ISBLANK(L67),IF(ISBLANK(F67),\"\",IF(ISBLANK(G67),\"NO\",\"YES\")),\"NO\"))","v":""},{"$f":"IF(COUNTIF(E67,\"N\"),\"\",IF(ISBLANK(G67),\"\",IF(ISBLANK(L67),_xlfn.DAYS(TODAY(),G67),_xlfn.DAYS(L67,G67))))","v":""},null,null,null,{"$f":"IF(ISBLANK(P67), \"\", P67-Q67)","v":""},{"$f":"IF(ISBLANK(Q67), \"\", Q67/P67)","v":""}]
[null,null,null,null,null,null,null,{"$f":"IF(COUNTIF(E68,\"N\"),\"\",IF(ISBLANK(F68),\"\",IF(ISBLANK(G68),_xlfn.DAYS(TODAY(),F68),_xlfn.DAYS(G68,F68))))","v":""},null,{"$f":"IF(COUNTIF(E68,\"N\"),\"\",IF(ISBLANK(G68),\"\",IF(ISBLANK(I68),IF(ISBLANK(L68),_xlfn.DAYS(TODAY(),G68),_xlfn.DAYS(L68,G68)),_xlfn.DAYS(I68,G68))))","v":""},null,null,{"$f":"IF(COUNTIF(E68,\"N\"),\"ON HOLD\",IF(ISBLANK(L68),IF(ISBLANK(F68),\"\",IF(ISBLANK(G68),\"NO\",\"YES\")),\"NO\"))","v":""},{"$f":"IF(COUNTIF(E68,\"N\"),\"\",IF(ISBLANK(G68),\"\",IF(ISBLANK(L68),_xlfn.DAYS(TODAY(),G68),_xlfn.DAYS(L68,G68))))","v":""},null,null,null,{"$f":"IF(ISBLANK(P68), \"\", P68-Q68)","v":""},{"$f":"IF(ISBLANK(Q68), \"\", Q68/P68)","v":""}]
[null,null,null,null,null,null,null,{"$f":"IF(COUNTIF(E69,\"N\"),\"\",IF(ISBLANK(F69),\"\",IF(ISBLANK(G69),_xlfn.DAYS(TODAY(),F69),_xlfn.DAYS(G69,F69))))","v":""},null,{"$f":"IF(COUNTIF(E69,\"N\"),\"\",IF(ISBLANK(G69),\"\",IF(ISBLANK(I69),IF(ISBLANK(L69),_xlfn.DAYS(TODAY(),G69),_xlfn.DAYS(L69,G69)),_xlfn.DAYS(I69,G69))))","v":""},null,null,{"$f":"IF(COUNTIF(E69,\"N\"),\"ON HOLD\",IF(ISBLANK(L69),IF(ISBLANK(F69),\"\",IF(ISBLANK(G69),\"NO\",\"YES\")),\"NO\"))","v":""},{"$f":"IF(COUNTIF(E69,\"N\"),\"\",IF(ISBLANK(G69),\"\",IF(ISBLANK(L69),_xlfn.DAYS(TODAY(),G69),_xlfn.DAYS(L69,G69))))","v":""},null,null,null,{"$f":"IF(ISBLANK(P69), \"\", P69-Q69)","v":""},{"$f":"IF(ISBLANK(Q69), \"\", Q69/P69)","v":""}]
[null,null,null,null,null,null,null,{"$f":"IF(COUNTIF(E70,\"N\"),\"\",IF(ISBLANK(F70),\"\",IF(ISBLANK(G70),_xlfn.DAYS(TODAY(),F70),_xlfn.DAYS(G70,F70))))","v":""},null,{"$f":"IF(COUNTIF(E70,\"N\"),\"\",IF(ISBLANK(G70),\"\",IF(ISBLANK(I70),IF(ISBLANK(L70),_xlfn.DAYS(TODAY(),G70),_xlfn.DAYS(L70,G70)),_xlfn.DAYS(I70,G70))))","v":""},null,null,{"$f":"IF(COUNTIF(E70,\"N\"),\"ON HOLD\",IF(ISBLANK(L70),IF(ISBLANK(F70),\"\",IF(ISBLANK(G70),\"NO\",\"YES\")),\"NO\"))","v":""},{"$f":"IF(COUNTIF(E70,\"N\"),\"\",IF(ISBLANK(G70),\"\",IF(ISBLANK(L70),_xlfn.DAYS(TODAY(),G70),_xlfn.DAYS(L70,G70))))","v":""},null,null,null,{"$f":"IF(ISBLANK(P70), \"\", P70-Q70)","v":""},{"$f":"IF(ISBLANK(Q70), \"\", Q70/P70)","v":""}]
[null,null,null,null,null,null,null,{"$f":"IF(COUNTIF(E71,\"N\"),\"\",IF(ISBLANK(F71),\"\",IF(ISBLANK(G71),_xlfn.DAYS(TODAY(),F71),_xlfn.DAYS(G71,F71))))","v":""},null,{"$f":"IF(COUNTIF(E71,\"N\"),\"\",IF(ISBLANK(G71),\"\",IF(ISBLANK(I71),IF(ISBLANK(L71),_xlfn.DAYS(TODAY(),G71),_xlfn.DAYS(L71,G71)),_xlfn.DAYS(I71,G71))))","v":""},null,null,{"$f":"IF(COUNTIF(E71,\"N\"),\"ON HOLD\",IF(ISBLANK(L71),IF(ISBLANK(F71),\"\",IF(ISBLANK(G71),\"NO\",\"YES\")),\"NO\"))","v":""},{"$f":"IF(COUNTIF(E71,\"N\"),\"\",IF(ISBLANK(G71),\"\",IF(ISBLANK(L71),_xlfn.DAYS(TODAY(),G71),_xlfn.DAYS(L71,G71))))","v":""},null,null,null,{"$f":"IF(ISBLANK(P71), \"\", P71-Q71)","v":""},{"$f":"IF(ISBLANK(Q71), \"\", Q71/P71)","v":""}]
[null,null,null,null,null,null,null,{"$f":"IF(COUNTIF(E72,\"N\"),\"\",IF(ISBLANK(F72),\"\",IF(ISBLANK(G72),_xlfn.DAYS(TODAY(),F72),_xlfn.DAYS(G72,F72))))","v":""},null,{"$f":"IF(COUNTIF(E72,\"N\"),\"\",IF(ISBLANK(G72),\"\",IF(ISBLANK(I72),IF(ISBLANK(L72),_xlfn.DAYS(TODAY(),G72),_xlfn.DAYS(L72,G72)),_xlfn.DAYS(I72,G72))))","v":""},null,null,{"$f":"IF(COUNTIF(E72,\"N\"),\"ON HOLD\",IF(ISBLANK(L72),IF(ISBLANK(F72),\"\",IF(ISBLANK(G72),\"NO\",\"YES\")),\"NO\"))","v":""},{"$f":"IF(COUNTIF(E72,\"N\"),\"\",IF(ISBLANK(G72),\"\",IF(ISBLANK(L72),_xlfn.DAYS(TODAY(),G72),_xlfn.DAYS(L72,G72))))","v":""},null,null,null,{"$f":"IF(ISBLANK(P72), \"\", P72-Q72)","v":""},{"$f":"IF(ISBLANK(Q72), \"\", Q72/P72)","v":""}]
[null,null,null,null,null,null,null,{"$f":"IF(COUNTIF(E73,\"N\"),\"\",IF(ISBLANK(F73),\"\",IF(ISBLANK(G73),_xlfn.DAYS(TODAY(),F73),_xlfn.DAYS(G73,F73))))","v":""},null,{"$f":"IF(COUNTIF(E73,\"N\"),\"\",IF(ISBLANK(G73),\"\",IF(ISBLANK(I73),IF(ISBLANK(L73),_xlfn.DAYS(TODAY(),G73),_xlfn.DAYS(L73,G73)),_xlfn.DAYS(I73,G73))))","v":""},null,null,{"$f":"IF(COUNTIF(E73,\"N\"),\"ON HOLD\",IF(ISBLANK(L73),IF(ISBLANK(F73),\"\",IF(ISBLANK(G73),\"NO\",\"YES\")),\"NO\"))","v":""},{"$f":"IF(COUNTIF(E73,\"N\"),\"\",IF(ISBLANK(G73),\"\",IF(ISBLANK(L73),_xlfn.DAYS(TODAY(),G73),_xlfn.DAYS(L73,G73))))","v":""},null,null,null,{"$f":"IF(ISBLANK(P73), \"\", P73-Q73)","v":""},{"$f":"IF(ISBLANK(Q73), \"\", Q73/P73)","v":""}]
[null,null,null,null,null,null,null,{"$f":"IF(COUNTIF(E74,\"N\"),\"\",IF(ISBLANK(F74),\"\",IF(ISBLANK(G74),_xlfn.DAYS(TODAY(),F74),_xlfn.DAYS(G74,F74))))","v":""},null,{"$f":"IF(COUNTIF(E74,\"N\"),\"\",IF(ISBLANK(G74),\"\",IF(ISBLANK(I74),IF(ISBLANK(L74),_xlfn.DAYS(TODAY(),G74),_xlfn.DAYS(L74,G74)),_xlfn.DAYS(I74,G74))))","v":""},null,null,{"$f":"IF(COUNTIF(E74,\"N\"),\"ON HOLD\",IF(ISBLANK(L74),IF(ISBLANK(F74),\"\",IF(ISBLANK(G74),\"NO\",\"YES\")),\"NO\"))","v":""},{"$f":"IF(COUNTIF(E74,\"N\"),\"\",IF(ISBLANK(G74),\"\",IF(ISBLANK(L74),_xlfn.DAYS(TODAY(),G74),_xlfn.DAYS(L74,G74))))","v":""},null,null,null,{"$f":"IF(ISBLANK(P74), \"\", P74-Q74)","v":""},{"$f":"IF(ISBLANK(Q74), \"\", Q74/P74)","v":""}]
[null,null,null,null,null,null,null,{"$f":"IF(COUNTIF(E75,\"N\"),\"\",IF(ISBLANK(F75),\"\",IF(ISBLANK(G75),_xlfn.DAYS(TODAY(),F75),_xlfn.DAYS(G75,F75))))","v":""},null,{"$f":"IF(COUNTIF(E75,\"N\"),\"\",IF(ISBLANK(G75),\"\",IF(ISBLANK(I75),IF(ISBLANK(L75),_xlfn.DAYS(TODAY(),G75),_xlfn.DAYS(L75,G75)),_xlfn.DAYS(I75,G75))))","v":""},null,null,{"$f":"IF(COUNTIF(E75,\"N\"),\"ON HOLD\",IF(ISBLANK(L75),IF(ISBLANK(F75),\"\",IF(ISBLANK(G75),\"NO\",\"YES\")),\"NO\"))","v":""},{"$f":"IF(COUNTIF(E75,\"N\"),\"\",IF(ISBLANK(G75),\"\",IF(ISBLANK(L75),_xlfn.DAYS(TODAY(),G75),_xlfn.DAYS(L75,G75))))","v":""},null,null,null,{"$f":"IF(ISBLANK(P75), \"\", P75-Q75)","v":""},{"$f":"IF(ISBLANK(Q75), \"\", Q75/P75)","v":""}]
[null,null,null,null,null,null,null,{"$f":"IF(COUNTIF(E76,\"N\"),\"\",IF(ISBLANK(F76),\"\",IF(ISBLANK(G76),_xlfn.DAYS(TODAY(),F76),_xlfn.DAYS(G76,F76))))","v":""},null,{"$f":"IF(COUNTIF(E76,\"N\"),\"\",IF(ISBLANK(G76),\"\",IF(ISBLANK(I76),IF(ISBLANK(L76),_xlfn.DAYS(TODAY(),G76),_xlfn.DAYS(L76,G76)),_xlfn.DAYS(I76,G76))))","v":""},null,null,{"$f":"IF(COUNTIF(E76,\"N\"),\"ON HOLD\",IF(ISBLANK(L76),IF(ISBLANK(F76),\"\",IF(ISBLANK(G76),\"NO\",\"YES\")),\"NO\"))","v":""},{"$f":"IF(COUNTIF(E76,\"N\"),\"\",IF(ISBLANK(G76),\"\",IF(ISBLANK(L76),_xlfn.DAYS(TODAY(),G76),_xlfn.DAYS(L76,G76))))","v":""},null,null,null,{"$f":"IF(ISBLANK(P76), \"\", P76-Q76)","v":""},{"$f":"IF(ISBLANK(Q76), \"\", Q76/P76)","v":""}]
[null,null,null,null,null,null,null,{"$f":"IF(COUNTIF(E77,\"N\"),\"\",IF(ISBLANK(F77),\"\",IF(ISBLANK(G77),_xlfn.DAYS(TODAY(),F77),_xlfn.DAYS(G77,F77))))","v":""},null,{"$f":"IF(COUNTIF(E77,\"N\"),\"\",IF(ISBLANK(G77),\"\",IF(ISBLANK(I77),IF(ISBLANK(L77),_xlfn.DAYS(TODAY(),G77),_xlfn.DAYS(L77,G77)),_xlfn.DAYS(I77,G77))))","v":""},null,null,{"$f":"IF(COUNTIF(E77,\"N\"),\"ON HOLD\",IF(ISBLANK(L77),IF(ISBLANK(F77),\"\",IF(ISBLANK(G77),\"NO\",\"YES\")),\"NO\"))","v":""},{"$f":"IF(COUNTIF(E77,\"N\"),\"\",IF(ISBLANK(G77),\"\",IF(ISBLANK(L77),_xlfn.DAYS(TODAY(),G77),_xlfn.DAYS(L77,G77))))","v":""},null,null,null,{"$f":"IF(ISBLANK(P77), \"\", P77-Q77)","v":""},{"$f":"IF(ISBLANK(Q77), \"\", Q77/P77)","v":""}]
[null,null,null,null,null,null,null,{"$f":"IF(COUNTIF(E78,\"N\"),\"\",IF(ISBLANK(F78),\"\",IF(ISBLANK(G78),_xlfn.DAYS(TODAY(),F78),_xlfn.DAYS(G78,F78))))","v":""},null,{"$f":"IF(COUNTIF(E78,\"N\"),\"\",IF(ISBLANK(G78),\"\",IF(ISBLANK(I78),IF(ISBLANK(L78),_xlfn.DAYS(TODAY(),G78),_xlfn.DAYS(L78,G78)),_xlfn.DAYS(I78,G78))))","v":""},null,null,{"$f":"IF(COUNTIF(E78,\"N\"),\"ON HOLD\",IF(ISBLANK(L78),IF(ISBLANK(F78),\"\",IF(ISBLANK(G78),\"NO\",\"YES\")),\"NO\"))","v":""},{"$f":"IF(COUNTIF(E78,\"N\"),\"\",IF(ISBLANK(G78),\"\",IF(ISBLANK(L78),_xlfn.DAYS(TODAY(),G78),_xlfn.DAYS(L78,G78))))","v":""},null,null,null,{"$f":"IF(ISBLANK(P78), \"\", P78-Q78)","v":""},{"$f":"IF(ISBLANK(Q78), \"\", Q78/P78)","v":""}]
[null,null,null,null,null,null,null,{"$f":"IF(COUNTIF(E79,\"N\"),\"\",IF(ISBLANK(F79),\"\",IF(ISBLANK(G79),_xlfn.DAYS(TODAY(),F79),_xlfn.DAYS(G79,F79))))","v":""},null,{"$f":"IF(COUNTIF(E79,\"N\"),\"\",IF(ISBLANK(G79),\"\",IF(ISBLANK(I79),IF(ISBLANK(L79),_xlfn.DAYS(TODAY(),G79),_xlfn.DAYS(L79,G79)),_xlfn.DAYS(I79,G79))))","v":""},null,null,{"$f":"IF(COUNTIF(E79,\"N\"),\"ON HOLD\",IF(ISBLANK(L79),IF(ISBLANK(F79),\"\",IF(ISBLANK(G79),\"NO\",\"YES\")),\"NO\"))","v":""},{"$f":"IF(COUNTIF(E79,\"N\"),\"\",IF(ISBLANK(G79),\"\",IF(ISBLANK(L79),_xlfn.DAYS(TODAY(),G79),_xlfn.DAYS(L79,G79))))","v":""},null,null,null,{"$f":"IF(ISBLANK(P79), \"\", P79-Q79)","v":""},{"$f":"IF(ISBLANK(Q79), \"\", Q79/P79)","v":""}]
[null,null,null,null,null,null,null,{"$f":"IF(COUNTIF(E80,\"N\"),\"\",IF(ISBLANK(F80),\"\",IF(ISBLANK(G80),_xlfn.DAYS(TODAY(),F80),_xlfn.DAYS(G80,F80))))","v":""},null,{"$f":"IF(COUNTIF(E80,\"N\"),\"\",IF(ISBLANK(G80),\"\",IF(ISBLANK(I80),IF(ISBLANK(L80),_xlfn.DAYS(TODAY(),G80),_xlfn.DAYS(L80,G80)),_xlfn.DAYS(I80,G80))))","v":""},null,null,{"$f":"IF(COUNTIF(E80,\"N\"),\"ON HOLD\",IF(ISBLANK(L80),IF(ISBLANK(F80),\"\",IF(ISBLANK(G80),\"NO\",\"YES\")),\"NO\"))","v":""},{"$f":"IF(COUNTIF(E80,\"N\"),\"\",IF(ISBLANK(G80),\"\",IF(ISBLANK(L80),_xlfn.DAYS(TODAY(),G80),_xlfn.DAYS(L80,G80))))","v":""},null,null,null,{"$f":"IF(ISBLANK(P80), \"\", P80-Q80)","v":""},{"$f":"IF(ISBLANK(Q80), \"\", Q80/P80)","v":""}]
[null,null,null,null,null,null,null,{"$f":"IF(COUNTIF(E81,\"N\"),\"\",IF(ISBLANK(F81),\"\",IF(ISBLANK(G81),_xlfn.DAYS(TODAY(),F81),_xlfn.DAYS(G81,F81))))","v":""},null,{"$f":"IF(COUNTIF(E81,\"N\"),\"\",IF(ISBLANK(G81),\"\",IF(ISBLANK(I81),IF(ISBLANK(L81),_xlfn.DAYS(TODAY(),G81),_xlfn.DAYS(L81,G81)),_xlfn.DAYS(I81,G81))))","v":""},null,null,{"$f":"IF(COUNTIF(E81,\"N\"),\"ON HOLD\",IF(ISBLANK(L81),IF(ISBLANK(F81),\"\",IF(ISBLANK(G81),\"NO\",\"YES\")),\"NO\"))","v":""},{"$f":"IF(COUNTIF(E81,\"N\"),\"\",IF(ISBLANK(G81),\"\",IF(ISBLANK(L81),_xlfn.DAYS(TODAY(),G81),_xlfn.DAYS(L81,G81))))","v":""},null,null,null,{"$f":"IF(ISBLANK(P81), \"\", P81-Q81)","v":""},{"$f":"IF(ISBLANK(Q81), \"\", Q81/P81)","v":""}]
[null,null,null,null,null,null,null,{"$f":"IF(COUNTIF(E82,\"N\"),\"\",IF(ISBLANK(F82),\"\",IF(ISBLANK(G82),_xlfn.DAYS(TODAY(),F82),_xlfn.DAYS(G82,F82))))","v":""},null,{"$f":"IF(COUNTIF(E82,\"N\"),\"\",IF(ISBLANK(G82),\"\",IF(ISBLANK(I82),IF(ISBLANK(L82),_xlfn.DAYS(TODAY(),G82),_xlfn.DAYS(L82,G82)),_xlfn.DAYS(I82,G82))))","v":""},null,null,{"$f":"IF(COUNTIF(E82,\"N\"),\"ON HOLD\",IF(ISBLANK(L82),IF(ISBLANK(F82),\"\",IF(ISBLANK(G82),\"NO\",\"YES\")),\"NO\"))","v":""},{"$f":"IF(COUNTIF(E82,\"N\"),\"\",IF(ISBLANK(G82),\"\",IF(ISBLANK(L82),_xlfn.DAYS(TODAY(),G82),_xlfn.DAYS(L82,G82))))","v":""},null,null,null,{"$f":"IF(ISBLANK(P82), \"\", P82-Q82)","v":""},{"$f":"IF(ISBLANK(Q82), \"\", Q82/P82)","v":""}]
[null,null,null,null,null,null,null,{"$f":"IF(COUNTIF(E83,\"N\"),\"\",IF(ISBLANK(F83),\"\",IF(ISBLANK(G83),_xlfn.DAYS(TODAY(),F83),_xlfn.DAYS(G83,F83))))","v":""},null,{"$f":"IF(COUNTIF(E83,\"N\"),\"\",IF(ISBLANK(G83),\"\",IF(ISBLANK(I83),IF(ISBLANK(L83),_xlfn.DAYS(TODAY(),G83),_xlfn.DAYS(L83,G83)),_xlfn.DAYS(I83,G83))))","v":""},null,null,{"$f":"IF(COUNTIF(E83,\"N\"),\"ON HOLD\",IF(ISBLANK(L83),IF(ISBLANK(F83),\"\",IF(ISBLANK(G83),\"NO\",\"YES\")),\"NO\"))","v":""},{"$f":"IF(COUNTIF(E83,\"N\"),\"\",IF(ISBLANK(G83),\"\",IF(ISBLANK(L83),_xlfn.DAYS(TODAY(),G83),_xlfn.DAYS(L83,G83))))","v":""},null,null,null,{"$f":"IF(ISBLANK(P83), \"\", P83-Q83)","v":""},{"$f":"IF(ISBLANK(Q83), \"\", Q83/P83)","v":""}]
[null,null,null,null,null,null,null,{"$f":"IF(COUNTIF(E84,\"N\"),\"\",IF(ISBLANK(F84),\"\",IF(ISBLANK(G84),_xlfn.DAYS(TODAY(),F84),_xlfn.DAYS(G84,F84))))","v":""},null,{"$f":"IF(COUNTIF(E84,\"N\"),\"\",IF(ISBLANK(G84),\"\",IF(ISBLANK(I84),IF(ISBLANK(L84),_xlfn.DAYS(TODAY(),G84),_xlfn.DAYS(L84,G84)),_xlfn.DAYS(I84,G84))))","v":""},null,null,{"$f":"IF(COUNTIF(E84,\"N\"),\"ON HOLD\",IF(ISBLANK(L84),IF(ISBLANK(F84),\"\",IF(ISBLANK(G84),\"NO\",\"YES\")),\"NO\"))","v":""},{"$f":"IF(COUNTIF(E84,\"N\"),\"\",IF(ISBLANK(G84),\"\",IF(ISBLANK(L84),_xlfn.DAYS(TODAY(),G84),_xlfn.DAYS(L84,G84))))","v":""},null,null,null,{"$f":"IF(ISBLANK(P84), \"\", P84-Q84)","v":""},{"$f":"IF(ISBLANK(Q84), \"\", Q84/P84)","v":""}]
[null,null,null,null,null,null,null,{"$f":"IF(COUNTIF(E85,\"N\"),\"\",IF(ISBLANK(F85),\"\",IF(ISBLANK(G85),_xlfn.DAYS(TODAY(),F85),_xlfn.DAYS(G85,F85))))","v":""},null,{"$f":"IF(COUNTIF(E85,\"N\"),\"\",IF(ISBLANK(G85),\"\",IF(ISBLANK(I85),IF(ISBLANK(L85),_xlfn.DAYS(TODAY(),G85),_xlfn.DAYS(L85,G85)),_xlfn.DAYS(I85,G85))))","v":""},null,null,{"$f":"IF(COUNTIF(E85,\"N\"),\"ON HOLD\",IF(ISBLANK(L85),IF(ISBLANK(F85),\"\",IF(ISBLANK(G85),\"NO\",\"YES\")),\"NO\"))","v":""},{"$f":"IF(COUNTIF(E85,\"N\"),\"\",IF(ISBLANK(G85),\"\",IF(ISBLANK(L85),_xlfn.DAYS(TODAY(),G85),_xlfn.DAYS(L85,G85))))","v":""},null,null,null,{"$f":"IF(ISBLANK(P85), \"\", P85-Q85)","v":""},{"$f":"IF(ISBLANK(Q85), \"\", Q85/P85)","v":""}]
[null,null,null,null,null,null,null,{"$f":"IF(COUNTIF(E86,\"N\"),\"\",IF(ISBLANK(F86),\"\",IF(ISBLANK(G86),_xlfn.DAYS(TODAY(),F86),_xlfn.DAYS(G86,F86))))","v":""},null,{"$f":"IF(COUNTIF(E86,\"N\"),\"\",IF(ISBLANK(G86),\"\",IF(ISBLANK(I86),IF(ISBLANK(L86),_xlfn.DAYS(TODAY(),G86),_xlfn.DAYS(L86,G86)),_xlfn.DAYS(I86,G86))))","v":""},null,null,{"$f":"IF(COUNTIF(E86,\"N\"),\"ON HOLD\",IF(ISBLANK(L86),IF(ISBLANK(F86),\"\",IF(ISBLANK(G86),\"NO\",\"YES\")),\"NO\"))","v":""},{"$f":"IF(COUNTIF(E86,\"N\"),\"\",IF(ISBLANK(G86),\"\",IF(ISBLANK(L86),_xlfn.DAYS(TODAY(),G86),_xlfn.DAYS(L86,G86))))","v":""},null,null,null,{"$f":"IF(ISBLANK(P86), \"\", P86-Q86)","v":""},{"$f":"IF(ISBLANK(Q86), \"\", Q86/P86)","v":""}]
[null,null,null,null,null,null,null,{"$f":"IF(COUNTIF(E87,\"N\"),\"\",IF(ISBLANK(F87),\"\",IF(ISBLANK(G87),_xlfn.DAYS(TODAY(),F87),_xlfn.DAYS(G87,F87))))","v":""},null,{"$f":"IF(COUNTIF(E87,\"N\"),\"\",IF(ISBLANK(G87),\"\",IF(ISBLANK(I87),IF(ISBLANK(L87),_xlfn.DAYS(TODAY(),G87),_xlfn.DAYS(L87,G87)),_xlfn.DAYS(I87,G87))))","v":""},null,null,{"$f":"IF(COUNTIF(E87,\"N\"),\"ON HOLD\",IF(ISBLANK(L87),IF(ISBLANK(F87),\"\",IF(ISBLANK(G87),\"NO\",\"YES\")),\"NO\"))","v":""},{"$f":"IF(COUNTIF(E87,\"N\"),\"\",IF(ISBLANK(G87),\"\",IF(ISBLANK(L87),_xlfn.DAYS(TODAY(),G87),_xlfn.DAYS(L87,G87))))","v":""},null,null,null,{"$f":"IF(ISBLANK(P87), \"\", P87-Q87)","v":""},{"$f":"IF(ISBLANK(Q87), \"\", Q87/P87)","v":""}]
[null,null,null,null,null,null,null,{"$f":"IF(COUNTIF(E88,\"N\"),\"\",IF(ISBLANK(F88),\"\",IF(ISBLANK(G88),_xlfn.DAYS(TODAY(),F88),_xlfn.DAYS(G88,F88))))","v":""},null,{"$f":"IF(COUNTIF(E88,\"N\"),\"\",IF(ISBLANK(G88),\"\",IF(ISBLANK(I88),IF(ISBLANK(L88),_xlfn.DAYS(TODAY(),G88),_xlfn.DAYS(L88,G88)),_xlfn.DAYS(I88,G88))))","v":""},null,null,{"$f":"IF(COUNTIF(E88,\"N\"),\"ON HOLD\",IF(ISBLANK(L88),IF(ISBLANK(F88),\"\",IF(ISBLANK(G88),\"NO\",\"YES\")),\"NO\"))","v":""},{"$f":"IF(COUNTIF(E88,\"N\"),\"\",IF(ISBLANK(G88),\"\",IF(ISBLANK(L88),_xlfn.DAYS(TODAY(),G88),_xlfn.DAYS(L88,G88))))","v":""},null,null,null,{"$f":"IF(ISBLANK(P88), \"\", P88-Q88)","v":""},{"$f":"IF(ISBLANK(Q88), \"\", Q88/P88)","v":""}]
[null,null,null,null,null,null,null,{"$f":"IF(COUNTIF(E89,\"N\"),\"\",IF(ISBLANK(F89),\"\",IF(ISBLANK(G89),_xlfn.DAYS(TODAY(),F89),_xlfn.DAYS(G89,F89))))","v":""},null,{"$f":"IF(COUNTIF(E89,\"N\"),\"\",IF(ISBLANK(G89),\"\",IF(ISBLANK(I89),IF(ISBLANK(L89),_xlfn.DAYS(TODAY(),G89),_xlfn.DAYS(L89,G89)),_xlfn.DAYS(I89,G89))))","v":""},null,null,{"$f":"IF(COUNTIF(E89,\"N\"),\"ON HOLD\",IF(ISBLANK(L89),IF(ISBLANK(F89),\"\",IF(ISBLANK(G89),\"NO\",\"YES\")),\"NO\"))","v":""},{"$f":"IF(COUNTIF(E89,\"N\"),\"\",IF(ISBLANK(G89),\"\",IF(ISBLANK(L89),_xlfn.DAYS(TODAY(),G89),_xlfn.DAYS(L89,G89))))","v":""},null,null,null,{"$f":"IF(ISBLANK(P89), \"\", P89-Q89)","v":""},{"$f":"IF(ISBLANK(Q89), \"\", Q89/P89)","v":""}]
[null,null,null,null,null,null,null,{"$f":"IF(COUNTIF(E90,\"N\"),\"\",IF(ISBLANK(F90),\"\",IF(ISBLANK(G90),_xlfn.DAYS(TODAY(),F90),_xlfn.DAYS(G90,F90))))","v":""},null,{"$f":"IF(COUNTIF(E90,\"N\"),\"\",IF(ISBLANK(G90),\"\",IF(ISBLANK(I90),IF(ISBLANK(L90),_xlfn.DAYS(TODAY(),G90),_xlfn.DAYS(L90,G90)),_xlfn.DAYS(I90,G90))))","v":""},null,null,{"$f":"IF(COUNTIF(E90,\"N\"),\"ON HOLD\",IF(ISBLANK(L90),IF(ISBLANK(F90),\"\",IF(ISBLANK(G90),\"NO\",\"YES\")),\"NO\"))","v":""},{"$f":"IF(COUNTIF(E90,\"N\"),\"\",IF(ISBLANK(G90),\"\",IF(ISBLANK(L90),_xlfn.DAYS(TODAY(),G90),_xlfn.DAYS(L90,G90))))","v":""},null,null,null,{"$f":"IF(ISBLANK(P90), \"\", P90-Q90)","v":""},{"$f":"IF(ISBLANK(Q90), \"\", Q90/P90)","v":""}]
[null,null,null,null,null,null,null,{"$f":"IF(COUNTIF(E91,\"N\"),\"\",IF(ISBLANK(F91),\"\",IF(ISBLANK(G91),_xlfn.DAYS(TODAY(),F91),_xlfn.DAYS(G91,F91))))","v":""},null,{"$f":"IF(COUNTIF(E91,\"N\"),\"\",IF(ISBLANK(G91),\"\",IF(ISBLANK(I91),IF(ISBLANK(L91),_xlfn.DAYS(TODAY(),G91),_xlfn.DAYS(L91,G91)),_xlfn.DAYS(I91,G91))))","v":""},null,null,{"$f":"IF(COUNTIF(E91,\"N\"),\"ON HOLD\",IF(ISBLANK(L91),IF(ISBLANK(F91),\"\",IF(ISBLANK(G91),\"NO\",\"YES\")),\"NO\"))","v":""},{"$f":"IF(COUNTIF(E91,\"N\"),\"\",IF(ISBLANK(G91),\"\",IF(ISBLANK(L91),_xlfn.DAYS(TODAY(),G91),_xlfn.DAYS(L91,G91))))","v":""},null,null,null,{"$f":"IF(ISBLANK(P91), \"\", P91-Q91)","v":""},{"$f":"IF(ISBLANK(Q91), \"\", Q91/P91)","v":""}]
[null,null,null,null,null,null,null,{"$f":"IF(COUNTIF(E92,\"N\"),\"\",IF(ISBLANK(F92),\"\",IF(ISBLANK(G92),_xlfn.DAYS(TODAY(),F92),_xlfn.DAYS(G92,F92))))","v":""},null,{"$f":"IF(COUNTIF(E92,\"N\"),\"\",IF(ISBLANK(G92),\"\",IF(ISBLANK(I92),IF(ISBLANK(L92),_xlfn.DAYS(TODAY(),G92),_xlfn.DAYS(L92,G92)),_xlfn.DAYS(I92,G92))))","v":""},null,null,{"$f":"IF(COUNTIF(E92,\"N\"),\"ON HOLD\",IF(ISBLANK(L92),IF(ISBLANK(F92),\"\",IF(ISBLANK(G92),\"NO\",\"YES\")),\"NO\"))","v":""},{"$f":"IF(COUNTIF(E92,\"N\"),\"\",IF(ISBLANK(G92),\"\",IF(ISBLANK(L92),_xlfn.DAYS(TODAY(),G92),_xlfn.DAYS(L92,G92))))","v":""},null,null,null,{"$f":"IF(ISBLANK(P92), \"\", P92-Q92)","v":""},{"$f":"IF(ISBLANK(Q92), \"\", Q92/P92)","v":""}]
[null,null,null,null,null,null,null,{"$f":"IF(COUNTIF(E93,\"N\"),\"\",IF(ISBLANK(F93),\"\",IF(ISBLANK(G93),_xlfn.DAYS(TODAY(),F93),_xlfn.DAYS(G93,F93))))","v":""},null,{"$f":"IF(COUNTIF(E93,\"N\"),\"\",IF(ISBLANK(G93),\"\",IF(ISBLANK(I93),IF(ISBLANK(L93),_xlfn.DAYS(TODAY(),G93),_xlfn.DAYS(L93,G93)),_xlfn.DAYS(I93,G93))))","v":""},null,null,{"$f":"IF(COUNTIF(E93,\"N\"),\"ON HOLD\",IF(ISBLANK(L93),IF(ISBLANK(F93),\"\",IF(ISBLANK(G93),\"NO\",\"YES\")),\"NO\"))","v":""},{"$f":"IF(COUNTIF(E93,\"N\"),\"\",IF(ISBLANK(G93),\"\",IF(ISBLANK(L93),_xlfn.DAYS(TODAY(),G93),_xlfn.DAYS(L93,G93))))","v":""},null,null,null,{"$f":"IF(ISBLANK(P93), \"\", P93-Q93)","v":""},{"$f":"IF(ISBLANK(Q93), \"\", Q93/P93)","v":""}]
[null,null,null,null,null,null,null,{"$f":"IF(COUNTIF(E94,\"N\"),\"\",IF(ISBLANK(F94),\"\",IF(ISBLANK(G94),_xlfn.DAYS(TODAY(),F94),_xlfn.DAYS(G94,F94))))","v":""},null,{"$f":"IF(COUNTIF(E94,\"N\"),\"\",IF(ISBLANK(G94),\"\",IF(ISBLANK(I94),IF(ISBLANK(L94),_xlfn.DAYS(TODAY(),G94),_xlfn.DAYS(L94,G94)),_xlfn.DAYS(I94,G94))))","v":""},null,null,{"$f":"IF(COUNTIF(E94,\"N\"),\"ON HOLD\",IF(ISBLANK(L94),IF(ISBLANK(F94),\"\",IF(ISBLANK(G94),\"NO\",\"YES\")),\"NO\"))","v":""},{"$f":"IF(COUNTIF(E94,\"N\"),\"\",IF(ISBLANK(G94),\"\",IF(ISBLANK(L94),_xlfn.DAYS(TODAY(),G94),_xlfn.DAYS(L94,G94))))","v":""},null,null,null,{"$f":"IF(ISBLANK(P94), \"\", P94-Q94)","v":""},{"$f":"IF(ISBLANK(Q94), \"\", Q94/P94)","v":""}]
[null,null,null,null,null,null,null,{"$f":"IF(COUNTIF(E95,\"N\"),\"\",IF(ISBLANK(F95),\"\",IF(ISBLANK(G95),_xlfn.DAYS(TODAY(),F95),_xlfn.DAYS(G95,F95))))","v":""},null,{"$f":"IF(COUNTIF(E95,\"N\"),\"\",IF(ISBLANK(G95),\"\",IF(ISBLANK(I95),IF(ISBLANK(L95),_xlfn.DAYS(TODAY(),G95),_xlfn.DAYS(L95,G95)),_xlfn.DAYS(I95,G95))))","v":""},null,null,{"$f":"IF(COUNTIF(E95,\"N\"),\"ON HOLD\",IF(ISBLANK(L95),IF(ISBLANK(F95),\"\",IF(ISBLANK(G95),\"NO\",\"YES\")),\"NO\"))","v":""},{"$f":"IF(COUNTIF(E95,\"N\"),\"\",IF(ISBLANK(G95),\"\",IF(ISBLANK(L95),_xlfn.DAYS(TODAY(),G95),_xlfn.DAYS(L95,G95))))","v":""},null,null,null,{"$f":"IF(ISBLANK(P95), \"\", P95-Q95)","v":""},{"$f":"IF(ISBLANK(Q95), \"\", Q95/P95)","v":""}]
[null,null,null,null,null,null,null,{"$f":"IF(COUNTIF(E96,\"N\"),\"\",IF(ISBLANK(F96),\"\",IF(ISBLANK(G96),_xlfn.DAYS(TODAY(),F96),_xlfn.DAYS(G96,F96))))","v":""},null,{"$f":"IF(COUNTIF(E96,\"N\"),\"\",IF(ISBLANK(G96),\"\",IF(ISBLANK(I96),IF(ISBLANK(L96),_xlfn.DAYS(TODAY(),G96),_xlfn.DAYS(L96,G96)),_xlfn.DAYS(I96,G96))))","v":""},null,null,{"$f":"IF(COUNTIF(E96,\"N\"),\"ON HOLD\",IF(ISBLANK(L96),IF(ISBLANK(F96),\"\",IF(ISBLANK(G96),\"NO\",\"YES\")),\"NO\"))","v":""},{"$f":"IF(COUNTIF(E96,\"N\"),\"\",IF(ISBLANK(G96),\"\",IF(ISBLANK(L96),_xlfn.DAYS(TODAY(),G96),_xlfn.DAYS(L96,G96))))","v":""},null,null,null,{"$f":"IF(ISBLANK(P96), \"\", P96-Q96)","v":""},{"$f":"IF(ISBLANK(Q96), \"\", Q96/P96)","v":""}]
[null,null,null,null,null,null,null,{"$f":"IF(COUNTIF(E97,\"N\"),\"\",IF(ISBLANK(F97),\"\",IF(ISBLANK(G97),_xlfn.DAYS(TODAY(),F97),_xlfn.DAYS(G97,F97))))","v":""},null,{"$f":"IF(COUNTIF(E97,\"N\"),\"\",IF(ISBLANK(G97),\"\",IF(ISBLANK(I97),IF(ISBLANK(L97),_xlfn.DAYS(TODAY(),G97),_xlfn.DAYS(L97,G97)),_xlfn.DAYS(I97,G97))))","v":""},null,null,{"$f":"IF(COUNTIF(E97,\"N\"),\"ON HOLD\",IF(ISBLANK(L97),IF(ISBLANK(F97),\"\",IF(ISBLANK(G97),\"NO\",\"YES\")),\"NO\"))","v":""},{"$f":"IF(COUNTIF(E97,\"N\"),\"\",IF(ISBLANK(G97),\"\",IF(ISBLANK(L97),_xlfn.DAYS(TODAY(),G97),_xlfn.DAYS(L97,G97))))","v":""},null,null,null,{"$f":"IF(ISBLANK(P97), \"\", P97-Q97)","v":""},{"$f":"IF(ISBLANK(Q97), \"\", Q97/P97)","v":""}]
[null,null,null,null,null,null,null,{"$f":"IF(COUNTIF(E98,\"N\"),\"\",IF(ISBLANK(F98),\"\",IF(ISBLANK(G98),_xlfn.DAYS(TODAY(),F98),_xlfn.DAYS(G98,F98))))","v":""},null,{"$f":"IF(COUNTIF(E98,\"N\"),\"\",IF(ISBLANK(G98),\"\",IF(ISBLANK(I98),IF(ISBLANK(L98),_xlfn.DAYS(TODAY(),G98),_xlfn.DAYS(L98,G98)),_xlfn.DAYS(I98,G98))))","v":""},null,null,{"$f":"IF(COUNTIF(E98,\"N\"),\"ON HOLD\",IF(ISBLANK(L98),IF(ISBLANK(F98),\"\",IF(ISBLANK(G98),\"NO\",\"YES\")),\"NO\"))","v":""},{"$f":"IF(COUNTIF(E98,\"N\"),\"\",IF(ISBLANK(G98),\"\",IF(ISBLANK(L98),_xlfn.DAYS(TODAY(),G98),_xlfn.DAYS(L98,G98))))","v":""},null,null,null,{"$f":"IF(ISBLANK(P98), \"\", P98-Q98)","v":""},{"$f":"IF(ISBLANK(Q98), \"\", Q98/P98)","v":""}]
[null,null,null,null,null,null,null,{"$f":"IF(COUNTIF(E99,\"N\"),\"\",IF(ISBLANK(F99),\"\",IF(ISBLANK(G99),_xlfn.DAYS(TODAY(),F99),_xlfn.DAYS(G99,F99))))","v":""},null,{"$f":"IF(COUNTIF(E99,\"N\"),\"\",IF(ISBLANK(G99),\"\",IF(ISBLANK(I99),IF(ISBLANK(L99),_xlfn.DAYS(TODAY(),G99),_xlfn.DAYS(L99,G99)),_xlfn.DAYS(I99,G99))))","v":""},null,null,{"$f":"IF(COUNTIF(E99,\"N\"),\"ON HOLD\",IF(ISBLANK(L99),IF(ISBLANK(F99),\"\",IF(ISBLANK(G99),\"NO\",\"YES\")),\"NO\"))","v":""},{"$f":"IF(COUNTIF(E99,\"N\"),\"\",IF(ISBLANK(G99),\"\",IF(ISBLANK(L99),_xlfn.DAYS(TODAY(),G99),_xlfn.DAYS(L99,G99))))","v":""},null,null,null,{"$f":"IF(ISBLANK(P99), \"\", P99-Q99)","v":""},{"$f":"IF(ISBLANK(Q99), \"\", Q99/P99)","v":""}]
[null,null,null,null,null,null,null,{"$f":"IF(COUNTIF(E100,\"N\"),\"\",IF(ISBLANK(F100),\"\",IF(ISBLANK(G100),_xlfn.DAYS(TODAY(),F100),_xlfn.DAYS(G100,F100))))","v":""},null,{"$f":"IF(COUNTIF(E100,\"N\"),\"\",IF(ISBLANK(G100),\"\",IF(ISBLANK(I100),IF(ISBLANK(L100),_xlfn.DAYS(TODAY(),G100),_xlfn.DAYS(L100,G100)),_xlfn.DAYS(I100,G100))))","v":""},null,null,{"$f":"IF(COUNTIF(E100,\"N\"),\"ON HOLD\",IF(ISBLANK(L100),IF(ISBLANK(F100),\"\",IF(ISBLANK(G100),\"NO\",\"YES\")),\"NO\"))","v":""},{"$f":"IF(COUNTIF(E100,\"N\"),\"\",IF(ISBLANK(G100),\"\",IF(ISBLANK(L100),_xlfn.DAYS(TODAY(),G100),_xlfn.DAYS(L100,G100))))","v":""},null,null,null,{"$f":"IF(ISBLANK(P100), \"\", P100-Q100)","v":""},{"$f":"IF(ISBLANK(Q100), \"\", Q100/P100)","v":""}]
[null,null,null,null,null,null,null,{"$f":"IF(COUNTIF(E101,\"N\"),\"\",IF(ISBLANK(F101),\"\",IF(ISBLANK(G101),_xlfn.DAYS(TODAY(),F101),_xlfn.DAYS(G101,F101))))","v":""},null,{"$f":"IF(COUNTIF(E101,\"N\"),\"\",IF(ISBLANK(G101),\"\",IF(ISBLANK(I101),IF(ISBLANK(L101),_xlfn.DAYS(TODAY(),G101),_xlfn.DAYS(L101,G101)),_xlfn.DAYS(I101,G101))))","v":""},null,null,{"$f":"IF(COUNTIF(E101,\"N\"),\"ON HOLD\",IF(ISBLANK(L101),IF(ISBLANK(F101),\"\",IF(ISBLANK(G101),\"NO\",\"YES\")),\"NO\"))","v":""},{"$f":"IF(COUNTIF(E101,\"N\"),\"\",IF(ISBLANK(G101),\"\",IF(ISBLANK(L101),_xlfn.DAYS(TODAY(),G101),_xlfn.DAYS(L101,G101))))","v":""},null,null,null,{"$f":"IF(ISBLANK(P101), \"\", P101-Q101)","v":""},{"$f":"IF(ISBLANK(Q101), \"\", Q101/P101)","v":""}]
[null,null,null,null,null,null,null,{"$f":"IF(COUNTIF(E102,\"N\"),\"\",IF(ISBLANK(F102),\"\",IF(ISBLANK(G102),_xlfn.DAYS(TODAY(),F102),_xlfn.DAYS(G102,F102))))","v":""},null,{"$f":"IF(COUNTIF(E102,\"N\"),\"\",IF(ISBLANK(G102),\"\",IF(ISBLANK(I102),IF(ISBLANK(L102),_xlfn.DAYS(TODAY(),G102),_xlfn.DAYS(L102,G102)),_xlfn.DAYS(I102,G102))))","v":""},null,null,{"$f":"IF(COUNTIF(E102,\"N\"),\"ON HOLD\",IF(ISBLANK(L102),IF(ISBLANK(F102),\"\",IF(ISBLANK(G102),\"NO\",\"YES\")),\"NO\"))","v":""},{"$f":"IF(COUNTIF(E102,\"N\"),\"\",IF(ISBLANK(G102),\"\",IF(ISBLANK(L102),_xlfn.DAYS(TODAY(),G102),_xlfn.DAYS(L102,G102))))","v":""},null,null,null,{"$f":"IF(ISBLANK(P102), \"\", P102-Q102)","v":""},{"$f":"IF(ISBLANK(Q102), \"\", Q102/P102)","v":""}]
[null,null,null,null,null,null,null,{"$f":"IF(COUNTIF(E103,\"N\"),\"\",IF(ISBLANK(F103),\"\",IF(ISBLANK(G103),_xlfn.DAYS(TODAY(),F103),_xlfn.DAYS(G103,F103))))","v":""},null,{"$f":"IF(COUNTIF(E103,\"N\"),\"\",IF(ISBLANK(G103),\"\",IF(ISBLANK(I103),IF(ISBLANK(L103),_xlfn.DAYS(TODAY(),G103),_xlfn.DAYS(L103,G103)),_xlfn.DAYS(I103,G103))))","v":""},null,null,{"$f":"IF(COUNTIF(E103,\"N\"),\"ON HOLD\",IF(ISBLANK(L103),IF(ISBLANK(F103),\"\",IF(ISBLANK(G103),\"NO\",\"YES\")),\"NO\"))","v":""},{"$f":"IF(COUNTIF(E103,\"N\"),\"\",IF(ISBLANK(G103),\"\",IF(ISBLANK(L103),_xlfn.DAYS(TODAY(),G103),_xlfn.DAYS(L103,G103))))","v":""},null,null,null,{"$f":"IF(ISBLANK(P103), \"\", P103-Q103)","v":""},{"$f":"IF(ISBLANK(Q103), \"\", Q103/P103)","v":""}]
[null,null,null,null,null,null,null,{"$f":"IF(COUNTIF(E104,\"N\"),\"\",IF(ISBLANK(F104),\"\",IF(ISBLANK(G104),_xlfn.DAYS(TODAY(),F104),_xlfn.DAYS(G104,F104))))","v":""},null,{"$f":"IF(COUNTIF(E104,\"N\"),\"\",IF(ISBLANK(G104),\"\",IF(ISBLANK(I104),IF(ISBLANK(L104),_xlfn.DAYS(TODAY(),G104),_xlfn.DAYS(L104,G104)),_xlfn.DAYS(I104,G104))))","v":""},null,null,{"$f":"IF(COUNTIF(E104,\"N\"),\"ON HOLD\",IF(ISBLANK(L104),IF(ISBLANK(F104),\"\",IF(ISBLANK(G104),\"NO\",\"YES\")),\"NO\"))","v":""},{"$f":"IF(COUNTIF(E104,\"N\"),\"\",IF(ISBLANK(G104),\"\",IF(ISBLANK(L104),_xlfn.DAYS(TODAY(),G104),_xlfn.DAYS(L104,G104))))","v":""},null,null,null,{"$f":"IF(ISBLANK(P104), \"\", P104-Q104)","v":""},{"$f":"IF(ISBLANK(Q104), \"\", Q104/P104)","v":""}]
[null,null,null,null,null,null,null,{"$f":"IF(COUNTIF(E105,\"N\"),\"\",IF(ISBLANK(F105),\"\",IF(ISBLANK(G105),_xlfn.DAYS(TODAY(),F105),_xlfn.DAYS(G105,F105))))","v":""},null,{"$f":"IF(COUNTIF(E105,\"N\"),\"\",IF(ISBLANK(G105),\"\",IF(ISBLANK(I105),IF(ISBLANK(L105),_xlfn.DAYS(TODAY(),G105),_xlfn.DAYS(L105,G105)),_xlfn.DAYS(I105,G105))))","v":""},null,null,{"$f":"IF(COUNTIF(E105,\"N\"),\"ON HOLD\",IF(ISBLANK(L105),IF(ISBLANK(F105),\"\",IF(ISBLANK(G105),\"NO\",\"YES\")),\"NO\"))","v":""},{"$f":"IF(COUNTIF(E105,\"N\"),\"\",IF(ISBLANK(G105),\"\",IF(ISBLANK(L105),_xlfn.DAYS(TODAY(),G105),_xlfn.DAYS(L105,G105))))","v":""},null,null,null,{"$f":"IF(ISBLANK(P105), \"\", P105-Q105)","v":""},{"$f":"IF(ISBLANK(Q105), \"\", Q105/P105)","v":""}]
[null,null,null,null,null,null,null,{"$f":"IF(COUNTIF(E106,\"N\"),\"\",IF(ISBLANK(F106),\"\",IF(ISBLANK(G106),_xlfn.DAYS(TODAY(),F106),_xlfn.DAYS(G106,F106))))","v":""},null,{"$f":"IF(COUNTIF(E106,\"N\"),\"\",IF(ISBLANK(G106),\"\",IF(ISBLANK(I106),IF(ISBLANK(L106),_xlfn.DAYS(TODAY(),G106),_xlfn.DAYS(L106,G106)),_xlfn.DAYS(I106,G106))))","v":""},null,null,{"$f":"IF(COUNTIF(E106,\"N\"),\"ON HOLD\",IF(ISBLANK(L106),IF(ISBLANK(F106),\"\",IF(ISBLANK(G106),\"NO\",\"YES\")),\"NO\"))","v":""},{"$f":"IF(COUNTIF(E106,\"N\"),\"\",IF(ISBLANK(G106),\"\",IF(ISBLANK(L106),_xlfn.DAYS(TODAY(),G106),_xlfn.DAYS(L106,G106))))","v":""},null,null,null,{"$f":"IF(ISBLANK(P106), \"\", P106-Q106)","v":""},{"$f":"IF(ISBLANK(Q106), \"\", Q106/P106)","v":""}]
[null,null,null,null,null,null,null,{"$f":"IF(COUNTIF(E107,\"N\"),\"\",IF(ISBLANK(F107),\"\",IF(ISBLANK(G107),_xlfn.DAYS(TODAY(),F107),_xlfn.DAYS(G107,F107))))","v":""},null,{"$f":"IF(COUNTIF(E107,\"N\"),\"\",IF(ISBLANK(G107),\"\",IF(ISBLANK(I107),IF(ISBLANK(L107),_xlfn.DAYS(TODAY(),G107),_xlfn.DAYS(L107,G107)),_xlfn.DAYS(I107,G107))))","v":""},null,null,{"$f":"IF(COUNTIF(E107,\"N\"),\"ON HOLD\",IF(ISBLANK(L107),IF(ISBLANK(F107),\"\",IF(ISBLANK(G107),\"NO\",\"YES\")),\"NO\"))","v":""},{"$f":"IF(COUNTIF(E107,\"N\"),\"\",IF(ISBLANK(G107),\"\",IF(ISBLANK(L107),_xlfn.DAYS(TODAY(),G107),_xlfn.DAYS(L107,G107))))","v":""},null,null,null,{"$f":"IF(ISBLANK(P107), \"\", P107-Q107)","v":""},{"$f":"IF(ISBLANK(Q107), \"\", Q107/P107)","v":""}]
[null,null,null,null,null,null,null,{"$f":"IF(COUNTIF(E108,\"N\"),\"\",IF(ISBLANK(F108),\"\",IF(ISBLANK(G108),_xlfn.DAYS(TODAY(),F108),_xlfn.DAYS(G108,F108))))","v":""},null,{"$f":"IF(COUNTIF(E108,\"N\"),\"\",IF(ISBLANK(G108),\"\",IF(ISBLANK(I108),IF(ISBLANK(L108),_xlfn.DAYS(TODAY(),G108),_xlfn.DAYS(L108,G108)),_xlfn.DAYS(I108,G108))))","v":""},null,null,{"$f":"IF(COUNTIF(E108,\"N\"),\"ON HOLD\",IF(ISBLANK(L108),IF(ISBLANK(F108),\"\",IF(ISBLANK(G108),\"NO\",\"YES\")),\"NO\"))","v":""},{"$f":"IF(COUNTIF(E108,\"N\"),\"\",IF(ISBLANK(G108),\"\",IF(ISBLANK(L108),_xlfn.DAYS(TODAY(),G108),_xlfn.DAYS(L108,G108))))","v":""},null,null,null,{"$f":"IF(ISBLANK(P108), \"\", P108-Q108)","v":""},{"$f":"IF(ISBLANK(Q108), \"\", Q108/P108)","v":""}]
[null,null,null,null,null,null,null,{"$f":"IF(COUNTIF(E109,\"N\"),\"\",IF(ISBLANK(F109),\"\",IF(ISBLANK(G109),_xlfn.DAYS(TODAY(),F109),_xlfn.DAYS(G109,F109))))","v":""},null,{"$f":"IF(COUNTIF(E109,\"N\"),\"\",IF(ISBLANK(G109),\"\",IF(ISBLANK(I109),IF(ISBLANK(L109),_xlfn.DAYS(TODAY(),G109),_xlfn.DAYS(L109,G109)),_xlfn.DAYS(I109,G109))))","v":""},null,null,{"$f":"IF(COUNTIF(E109,\"N\"),\"ON HOLD\",IF(ISBLANK(L109),IF(ISBLANK(F109),\"\",IF(ISBLANK(G109),\"NO\",\"YES\")),\"NO\"))","v":""},{"$f":"IF(COUNTIF(E109,\"N\"),\"\",IF(ISBLANK(G109),\"\",IF(ISBLANK(L109),_xlfn.DAYS(TODAY(),G109),_xlfn.DAYS(L109,G109))))","v":""},null,null,null,{"$f":"IF(ISBLANK(P109), \"\", P109-Q109)","v":""},{"$f":"IF(ISBLANK(Q109), \"\", Q109/P109)","v":""}]
[null,null,null,null,null,null,null,{"$f":"IF(COUNTIF(E110,\"N\"),\"\",IF(ISBLANK(F110),\"\",IF(ISBLANK(G110),_xlfn.DAYS(TODAY(),F110),_xlfn.DAYS(G110,F110))))","v":""},null,{"$f":"IF(COUNTIF(E110,\"N\"),\"\",IF(ISBLANK(G110),\"\",IF(ISBLANK(I110),IF(ISBLANK(L110),_xlfn.DAYS(TODAY(),G110),_xlfn.DAYS(L110,G110)),_xlfn.DAYS(I110,G110))))","v":""},null,null,{"$f":"IF(COUNTIF(E110,\"N\"),\"ON HOLD\",IF(ISBLANK(L110),IF(ISBLANK(F110),\"\",IF(ISBLANK(G110),\"NO\",\"YES\")),\"NO\"))","v":""},{"$f":"IF(COUNTIF(E110,\"N\"),\"\",IF(ISBLANK(G110),\"\",IF(ISBLANK(L110),_xlfn.DAYS(TODAY(),G110),_xlfn.DAYS(L110,G110))))","v":""},null,null,null,{"$f":"IF(ISBLANK(P110), \"\", P110-Q110)","v":""},{"$f":"IF(ISBLANK(Q110), \"\", Q110/P110)","v":""}]
[null,null,null,null,null,null,null,{"$f":"IF(COUNTIF(E111,\"N\"),\"\",IF(ISBLANK(F111),\"\",IF(ISBLANK(G111),_xlfn.DAYS(TODAY(),F111),_xlfn.DAYS(G111,F111))))","v":""},null,{"$f":"IF(COUNTIF(E111,\"N\"),\"\",IF(ISBLANK(G111),\"\",IF(ISBLANK(I111),IF(ISBLANK(L111),_xlfn.DAYS(TODAY(),G111),_xlfn.DAYS(L111,G111)),_xlfn.DAYS(I111,G111))))","v":""},null,null,{"$f":"IF(COUNTIF(E111,\"N\"),\"ON HOLD\",IF(ISBLANK(L111),IF(ISBLANK(F111),\"\",IF(ISBLANK(G111),\"NO\",\"YES\")),\"NO\"))","v":""},{"$f":"IF(COUNTIF(E111,\"N\"),\"\",IF(ISBLANK(G111),\"\",IF(ISBLANK(L111),_xlfn.DAYS(TODAY(),G111),_xlfn.DAYS(L111,G111))))","v":""},null,null,null,{"$f":"IF(ISBLANK(P111), \"\", P111-Q111)","v":""},{"$f":"IF(ISBLANK(Q111), \"\", Q111/P111)","v":""}]
[null,null,null,null,null,null,null,{"$f":"IF(COUNTIF(E112,\"N\"),\"\",IF(ISBLANK(F112),\"\",IF(ISBLANK(G112),_xlfn.DAYS(TODAY(),F112),_xlfn.DAYS(G112,F112))))","v":""},null,{"$f":"IF(COUNTIF(E112,\"N\"),\"\",IF(ISBLANK(G112),\"\",IF(ISBLANK(I112),IF(ISBLANK(L112),_xlfn.DAYS(TODAY(),G112),_xlfn.DAYS(L112,G112)),_xlfn.DAYS(I112,G112))))","v":""},null,null,{"$f":"IF(COUNTIF(E112,\"N\"),\"ON HOLD\",IF(ISBLANK(L112),IF(ISBLANK(F112),\"\",IF(ISBLANK(G112),\"NO\",\"YES\")),\"NO\"))","v":""},{"$f":"IF(COUNTIF(E112,\"N\"),\"\",IF(ISBLANK(G112),\"\",IF(ISBLANK(L112),_xlfn.DAYS(TODAY(),G112),_xlfn.DAYS(L112,G112))))","v":""},null,null,null,{"$f":"IF(ISBLANK(P112), \"\", P112-Q112)","v":""},{"$f":"IF(ISBLANK(Q112), \"\", Q112/P112)","v":""}]
[null,null,null,null,null,null,null,{"$f":"IF(COUNTIF(E113,\"N\"),\"\",IF(ISBLANK(F113),\"\",IF(ISBLANK(G113),_xlfn.DAYS(TODAY(),F113),_xlfn.DAYS(G113,F113))))","v":""},null,{"$f":"IF(COUNTIF(E113,\"N\"),\"\",IF(ISBLANK(G113),\"\",IF(ISBLANK(I113),IF(ISBLANK(L113),_xlfn.DAYS(TODAY(),G113),_xlfn.DAYS(L113,G113)),_xlfn.DAYS(I113,G113))))","v":""},null,null,{"$f":"IF(COUNTIF(E113,\"N\"),\"ON HOLD\",IF(ISBLANK(L113),IF(ISBLANK(F113),\"\",IF(ISBLANK(G113),\"NO\",\"YES\")),\"NO\"))","v":""},{"$f":"IF(COUNTIF(E113,\"N\"),\"\",IF(ISBLANK(G113),\"\",IF(ISBLANK(L113),_xlfn.DAYS(TODAY(),G113),_xlfn.DAYS(L113,G113))))","v":""},null,null,null,{"$f":"IF(ISBLANK(P113), \"\", P113-Q113)","v":""},{"$f":"IF(ISBLANK(Q113), \"\", Q113/P113)","v":""}]
[null,null,null,null,null,null,null,{"$f":"IF(COUNTIF(E114,\"N\"),\"\",IF(ISBLANK(F114),\"\",IF(ISBLANK(G114),_xlfn.DAYS(TODAY(),F114),_xlfn.DAYS(G114,F114))))","v":""},null,{"$f":"IF(COUNTIF(E114,\"N\"),\"\",IF(ISBLANK(G114),\"\",IF(ISBLANK(I114),IF(ISBLANK(L114),_xlfn.DAYS(TODAY(),G114),_xlfn.DAYS(L114,G114)),_xlfn.DAYS(I114,G114))))","v":""},null,null,{"$f":"IF(COUNTIF(E114,\"N\"),\"ON HOLD\",IF(ISBLANK(L114),IF(ISBLANK(F114),\"\",IF(ISBLANK(G114),\"NO\",\"YES\")),\"NO\"))","v":""},{"$f":"IF(COUNTIF(E114,\"N\"),\"\",IF(ISBLANK(G114),\"\",IF(ISBLANK(L114),_xlfn.DAYS(TODAY(),G114),_xlfn.DAYS(L114,G114))))","v":""},null,null,null,{"$f":"IF(ISBLANK(P114), \"\", P114-Q114)","v":""},{"$f":"IF(ISBLANK(Q114), \"\", Q114/P114)","v":""}]
[null,null,null,null,null,null,null,{"$f":"IF(COUNTIF(E115,\"N\"),\"\",IF(ISBLANK(F115),\"\",IF(ISBLANK(G115),_xlfn.DAYS(TODAY(),F115),_xlfn.DAYS(G115,F115))))","v":""},null,{"$f":"IF(COUNTIF(E115,\"N\"),\"\",IF(ISBLANK(G115),\"\",IF(ISBLANK(I115),IF(ISBLANK(L115),_xlfn.DAYS(TODAY(),G115),_xlfn.DAYS(L115,G115)),_xlfn.DAYS(I115,G115))))","v":""},null,null,{"$f":"IF(COUNTIF(E115,\"N\"),\"ON HOLD\",IF(ISBLANK(L115),IF(ISBLANK(F115),\"\",IF(ISBLANK(G115),\"NO\",\"YES\")),\"NO\"))","v":""},{"$f":"IF(COUNTIF(E115,\"N\"),\"\",IF(ISBLANK(G115),\"\",IF(ISBLANK(L115),_xlfn.DAYS(TODAY(),G115),_xlfn.DAYS(L115,G115))))","v":""},null,null,null,{"$f":"IF(ISBLANK(P115), \"\", P115-Q115)","v":""},{"$f":"IF(ISBLANK(Q115), \"\", Q115/P115)","v":""}]
[null,null,null,null,null,null,null,{"$f":"IF(COUNTIF(E116,\"N\"),\"\",IF(ISBLANK(F116),\"\",IF(ISBLANK(G116),_xlfn.DAYS(TODAY(),F116),_xlfn.DAYS(G116,F116))))","v":""},null,{"$f":"IF(COUNTIF(E116,\"N\"),\"\",IF(ISBLANK(G116),\"\",IF(ISBLANK(I116),IF(ISBLANK(L116),_xlfn.DAYS(TODAY(),G116),_xlfn.DAYS(L116,G116)),_xlfn.DAYS(I116,G116))))","v":""},null,null,{"$f":"IF(COUNTIF(E116,\"N\"),\"ON HOLD\",IF(ISBLANK(L116),IF(ISBLANK(F116),\"\",IF(ISBLANK(G116),\"NO\",\"YES\")),\"NO\"))","v":""},{"$f":"IF(COUNTIF(E116,\"N\"),\"\",IF(ISBLANK(G116),\"\",IF(ISBLANK(L116),_xlfn.DAYS(TODAY(),G116),_xlfn.DAYS(L116,G116))))","v":""},null,null,null,{"$f":"IF(ISBLANK(P116), \"\", P116-Q116)","v":""},{"$f":"IF(ISBLANK(Q116), \"\", Q116/P116)","v":""}]
[null,null,null,null,null,null,null,{"$f":"IF(COUNTIF(E117,\"N\"),\"\",IF(ISBLANK(F117),\"\",IF(ISBLANK(G117),_xlfn.DAYS(TODAY(),F117),_xlfn.DAYS(G117,F117))))","v":""},null,{"$f":"IF(COUNTIF(E117,\"N\"),\"\",IF(ISBLANK(G117),\"\",IF(ISBLANK(I117),IF(ISBLANK(L117),_xlfn.DAYS(TODAY(),G117),_xlfn.DAYS(L117,G117)),_xlfn.DAYS(I117,G117))))","v":""},null,null,{"$f":"IF(COUNTIF(E117,\"N\"),\"ON HOLD\",IF(ISBLANK(L117),IF(ISBLANK(F117),\"\",IF(ISBLANK(G117),\"NO\",\"YES\")),\"NO\"))","v":""},{"$f":"IF(COUNTIF(E117,\"N\"),\"\",IF(ISBLANK(G117),\"\",IF(ISBLANK(L117),_xlfn.DAYS(TODAY(),G117),_xlfn.DAYS(L117,G117))))","v":""},null,null,null,{"$f":"IF(ISBLANK(P117), \"\", P117-Q117)","v":""},{"$f":"IF(ISBLANK(Q117), \"\", Q117/P117)","v":""}]
[null,null,null,null,null,null,null,{"$f":"IF(COUNTIF(E118,\"N\"),\"\",IF(ISBLANK(F118),\"\",IF(ISBLANK(G118),_xlfn.DAYS(TODAY(),F118),_xlfn.DAYS(G118,F118))))","v":""},null,{"$f":"IF(COUNTIF(E118,\"N\"),\"\",IF(ISBLANK(G118),\"\",IF(ISBLANK(I118),IF(ISBLANK(L118),_xlfn.DAYS(TODAY(),G118),_xlfn.DAYS(L118,G118)),_xlfn.DAYS(I118,G118))))","v":""},null,null,{"$f":"IF(COUNTIF(E118,\"N\"),\"ON HOLD\",IF(ISBLANK(L118),IF(ISBLANK(F118),\"\",IF(ISBLANK(G118),\"NO\",\"YES\")),\"NO\"))","v":""},{"$f":"IF(COUNTIF(E118,\"N\"),\"\",IF(ISBLANK(G118),\"\",IF(ISBLANK(L118),_xlfn.DAYS(TODAY(),G118),_xlfn.DAYS(L118,G118))))","v":""},null,null,null,{"$f":"IF(ISBLANK(P118), \"\", P118-Q118)","v":""},{"$f":"IF(ISBLANK(Q118), \"\", Q118/P118)","v":""}]
[null,null,null,null,null,null,null,{"$f":"IF(COUNTIF(E119,\"N\"),\"\",IF(ISBLANK(F119),\"\",IF(ISBLANK(G119),_xlfn.DAYS(TODAY(),F119),_xlfn.DAYS(G119,F119))))","v":""},null,{"$f":"IF(COUNTIF(E119,\"N\"),\"\",IF(ISBLANK(G119),\"\",IF(ISBLANK(I119),IF(ISBLANK(L119),_xlfn.DAYS(TODAY(),G119),_xlfn.DAYS(L119,G119)),_xlfn.DAYS(I119,G119))))","v":""},null,null,{"$f":"IF(COUNTIF(E119,\"N\"),\"ON HOLD\",IF(ISBLANK(L119),IF(ISBLANK(F119),\"\",IF(ISBLANK(G119),\"NO\",\"YES\")),\"NO\"))","v":""},{"$f":"IF(COUNTIF(E119,\"N\"),\"\",IF(ISBLANK(G119),\"\",IF(ISBLANK(L119),_xlfn.DAYS(TODAY(),G119),_xlfn.DAYS(L119,G119))))","v":""},null,null,null,{"$f":"IF(ISBLANK(P119), \"\", P119-Q119)","v":""},{"$f":"IF(ISBLANK(Q119), \"\", Q119/P119)","v":""}]
[null,null,null,null,null,null,null,{"$f":"IF(COUNTIF(E120,\"N\"),\"\",IF(ISBLANK(F120),\"\",IF(ISBLANK(G120),_xlfn.DAYS(TODAY(),F120),_xlfn.DAYS(G120,F120))))","v":""},null,{"$f":"IF(COUNTIF(E120,\"N\"),\"\",IF(ISBLANK(G120),\"\",IF(ISBLANK(I120),IF(ISBLANK(L120),_xlfn.DAYS(TODAY(),G120),_xlfn.DAYS(L120,G120)),_xlfn.DAYS(I120,G120))))","v":""},null,null,{"$f":"IF(COUNTIF(E120,\"N\"),\"ON HOLD\",IF(ISBLANK(L120),IF(ISBLANK(F120),\"\",IF(ISBLANK(G120),\"NO\",\"YES\")),\"NO\"))","v":""},{"$f":"IF(COUNTIF(E120,\"N\"),\"\",IF(ISBLANK(G120),\"\",IF(ISBLANK(L120),_xlfn.DAYS(TODAY(),G120),_xlfn.DAYS(L120,G120))))","v":""},null,null,null,{"$f":"IF(ISBLANK(P120), \"\", P120-Q120)","v":""},{"$f":"IF(ISBLANK(Q120), \"\", Q120/P120)","v":""}]
[null,null,null,null,null,null,null,{"$f":"IF(COUNTIF(E121,\"N\"),\"\",IF(ISBLANK(F121),\"\",IF(ISBLANK(G121),_xlfn.DAYS(TODAY(),F121),_xlfn.DAYS(G121,F121))))","v":""},null,{"$f":"IF(COUNTIF(E121,\"N\"),\"\",IF(ISBLANK(G121),\"\",IF(ISBLANK(I121),IF(ISBLANK(L121),_xlfn.DAYS(TODAY(),G121),_xlfn.DAYS(L121,G121)),_xlfn.DAYS(I121,G121))))","v":""},null,null,{"$f":"IF(COUNTIF(E121,\"N\"),\"ON HOLD\",IF(ISBLANK(L121),IF(ISBLANK(F121),\"\",IF(ISBLANK(G121),\"NO\",\"YES\")),\"NO\"))","v":""},{"$f":"IF(COUNTIF(E121,\"N\"),\"\",IF(ISBLANK(G121),\"\",IF(ISBLANK(L121),_xlfn.DAYS(TODAY(),G121),_xlfn.DAYS(L121,G121))))","v":""},null,null,null,{"$f":"IF(ISBLANK(P121), \"\", P121-Q121)","v":""},{"$f":"IF(ISBLANK(Q121), \"\", Q121/P121)","v":""}]
[null,null,null,null,null,null,null,{"$f":"IF(COUNTIF(E122,\"N\"),\"\",IF(ISBLANK(F122),\"\",IF(ISBLANK(G122),_xlfn.DAYS(TODAY(),F122),_xlfn.DAYS(G122,F122))))","v":""},null,{"$f":"IF(COUNTIF(E122,\"N\"),\"\",IF(ISBLANK(G122),\"\",IF(ISBLANK(I122),IF(ISBLANK(L122),_xlfn.DAYS(TODAY(),G122),_xlfn.DAYS(L122,G122)),_xlfn.DAYS(I122,G122))))","v":""},null,null,{"$f":"IF(COUNTIF(E122,\"N\"),\"ON HOLD\",IF(ISBLANK(L122),IF(ISBLANK(F122),\"\",IF(ISBLANK(G122),\"NO\",\"YES\")),\"NO\"))","v":""},{"$f":"IF(COUNTIF(E122,\"N\"),\"\",IF(ISBLANK(G122),\"\",IF(ISBLANK(L122),_xlfn.DAYS(TODAY(),G122),_xlfn.DAYS(L122,G122))))","v":""},null,null,null,{"$f":"IF(ISBLANK(P122), \"\", P122-Q122)","v":""},{"$f":"IF(ISBLANK(Q122), \"\", Q122/P122)","v":""}]
[null,null,null,null,null,null,null,{"$f":"IF(COUNTIF(E123,\"N\"),\"\",IF(ISBLANK(F123),\"\",IF(ISBLANK(G123),_xlfn.DAYS(TODAY(),F123),_xlfn.DAYS(G123,F123))))","v":""},null,{"$f":"IF(COUNTIF(E123,\"N\"),\"\",IF(ISBLANK(G123),\"\",IF(ISBLANK(I123),IF(ISBLANK(L123),_xlfn.DAYS(TODAY(),G123),_xlfn.DAYS(L123,G123)),_xlfn.DAYS(I123,G123))))","v":""},null,null,{"$f":"IF(COUNTIF(E123,\"N\"),\"ON HOLD\",IF(ISBLANK(L123),IF(ISBLANK(F123),\"\",IF(ISBLANK(G123),\"NO\",\"YES\")),\"NO\"))","v":""},{"$f":"IF(COUNTIF(E123,\"N\"),\"\",IF(ISBLANK(G123),\"\",IF(ISBLANK(L123),_xlfn.DAYS(TODAY(),G123),_xlfn.DAYS(L123,G123))))","v":""},null,null,null,{"$f":"IF(ISBLANK(P123), \"\", P123-Q123)","v":""},{"$f":"IF(ISBLANK(Q123), \"\", Q123/P123)","v":""}]
[null,null,null,null,null,null,null,{"$f":"IF(COUNTIF(E124,\"N\"),\"\",IF(ISBLANK(F124),\"\",IF(ISBLANK(G124),_xlfn.DAYS(TODAY(),F124),_xlfn.DAYS(G124,F124))))","v":""},null,{"$f":"IF(COUNTIF(E124,\"N\"),\"\",IF(ISBLANK(G124),\"\",IF(ISBLANK(I124),IF(ISBLANK(L124),_xlfn.DAYS(TODAY(),G124),_xlfn.DAYS(L124,G124)),_xlfn.DAYS(I124,G124))))","v":""},null,null,{"$f":"IF(COUNTIF(E124,\"N\"),\"ON HOLD\",IF(ISBLANK(L124),IF(ISBLANK(F124),\"\",IF(ISBLANK(G124),\"NO\",\"YES\")),\"NO\"))","v":""},{"$f":"IF(COUNTIF(E124,\"N\"),\"\",IF(ISBLANK(G124),\"\",IF(ISBLANK(L124),_xlfn.DAYS(TODAY(),G124),_xlfn.DAYS(L124,G124))))","v":""},null,null,null,{"$f":"IF(ISBLANK(P124), \"\", P124-Q124)","v":""},{"$f":"IF(ISBLANK(Q124), \"\", Q124/P124)","v":""}]
[null,null,null,null,null,null,null,{"$f":"IF(COUNTIF(E125,\"N\"),\"\",IF(ISBLANK(F125),\"\",IF(ISBLANK(G125),_xlfn.DAYS(TODAY(),F125),_xlfn.DAYS(G125,F125))))","v":""},null,{"$f":"IF(COUNTIF(E125,\"N\"),\"\",IF(ISBLANK(G125),\"\",IF(ISBLANK(I125),IF(ISBLANK(L125),_xlfn.DAYS(TODAY(),G125),_xlfn.DAYS(L125,G125)),_xlfn.DAYS(I125,G125))))","v":""},null,null,{"$f":"IF(COUNTIF(E125,\"N\"),\"ON HOLD\",IF(ISBLANK(L125),IF(ISBLANK(F125),\"\",IF(ISBLANK(G125),\"NO\",\"YES\")),\"NO\"))","v":""},{"$f":"IF(COUNTIF(E125,\"N\"),\"\",IF(ISBLANK(G125),\"\",IF(ISBLANK(L125),_xlfn.DAYS(TODAY(),G125),_xlfn.DAYS(L125,G125))))","v":""},null,null,null,{"$f":"IF(ISBLANK(P125), \"\", P125-Q125)","v":""},{"$f":"IF(ISBLANK(Q125), \"\", Q125/P125)","v":""}]
[null,null,null,null,null,null,null,{"$f":"IF(COUNTIF(E126,\"N\"),\"\",IF(ISBLANK(F126),\"\",IF(ISBLANK(G126),_xlfn.DAYS(TODAY(),F126),_xlfn.DAYS(G126,F126))))","v":""},null,{"$f":"IF(COUNTIF(E126,\"N\"),\"\",IF(ISBLANK(G126),\"\",IF(ISBLANK(I126),IF(ISBLANK(L126),_xlfn.DAYS(TODAY(),G126),_xlfn.DAYS(L126,G126)),_xlfn.DAYS(I126,G126))))","v":""},null,null,{"$f":"IF(COUNTIF(E126,\"N\"),\"ON HOLD\",IF(ISBLANK(L126),IF(ISBLANK(F126),\"\",IF(ISBLANK(G126),\"NO\",\"YES\")),\"NO\"))","v":""},{"$f":"IF(COUNTIF(E126,\"N\"),\"\",IF(ISBLANK(G126),\"\",IF(ISBLANK(L126),_xlfn.DAYS(TODAY(),G126),_xlfn.DAYS(L126,G126))))","v":""},null,null,null,{"$f":"IF(ISBLANK(P126), \"\", P126-Q126)","v":""},{"$f":"IF(ISBLANK(Q126), \"\", Q126/P126)","v":""}]
[null,null,null,null,null,null,null,{"$f":"IF(COUNTIF(E127,\"N\"),\"\",IF(ISBLANK(F127),\"\",IF(ISBLANK(G127),_xlfn.DAYS(TODAY(),F127),_xlfn.DAYS(G127,F127))))","v":""},null,{"$f":"IF(COUNTIF(E127,\"N\"),\"\",IF(ISBLANK(G127),\"\",IF(ISBLANK(I127),IF(ISBLANK(L127),_xlfn.DAYS(TODAY(),G127),_xlfn.DAYS(L127,G127)),_xlfn.DAYS(I127,G127))))","v":""},null,null,{"$f":"IF(COUNTIF(E127,\"N\"),\"ON HOLD\",IF(ISBLANK(L127),IF(ISBLANK(F127),\"\",IF(ISBLANK(G127),\"NO\",\"YES\")),\"NO\"))","v":""},{"$f":"IF(COUNTIF(E127,\"N\"),\"\",IF(ISBLANK(G127),\"\",IF(ISBLANK(L127),_xlfn.DAYS(TODAY(),G127),_xlfn.DAYS(L127,G127))))","v":""},null,null,null,{"$f":"IF(ISBLANK(P127), \"\", P127-Q127)","v":""},{"$f":"IF(ISBLANK(Q127), \"\", Q127/P127)","v":""}]
[null,null,null,null,null,null,null,{"$f":"IF(COUNTIF(E128,\"N\"),\"\",IF(ISBLANK(F128),\"\",IF(ISBLANK(G128),_xlfn.DAYS(TODAY(),F128),_xlfn.DAYS(G128,F128))))","v":""},null,{"$f":"IF(COUNTIF(E128,\"N\"),\"\",IF(ISBLANK(G128),\"\",IF(ISBLANK(I128),IF(ISBLANK(L128),_xlfn.DAYS(TODAY(),G128),_xlfn.DAYS(L128,G128)),_xlfn.DAYS(I128,G128))))","v":""},null,null,{"$f":"IF(COUNTIF(E128,\"N\"),\"ON HOLD\",IF(ISBLANK(L128),IF(ISBLANK(F128),\"\",IF(ISBLANK(G128),\"NO\",\"YES\")),\"NO\"))","v":""},{"$f":"IF(COUNTIF(E128,\"N\"),\"\",IF(ISBLANK(G128),\"\",IF(ISBLANK(L128),_xlfn.DAYS(TODAY(),G128),_xlfn.DAYS(L128,G128))))","v":""},null,null,null,{"$f":"IF(ISBLANK(P128), \"\", P128-Q128)","v":""},{"$f":"IF(ISBLANK(Q128), \"\", Q128/P128)","v":""}]
[null,null,null,null,null,null,null,{"$f":"IF(COUNTIF(E129,\"N\"),\"\",IF(ISBLANK(F129),\"\",IF(ISBLANK(G129),_xlfn.DAYS(TODAY(),F129),_xlfn.DAYS(G129,F129))))","v":""},null,{"$f":"IF(COUNTIF(E129,\"N\"),\"\",IF(ISBLANK(G129),\"\",IF(ISBLANK(I129),IF(ISBLANK(L129),_xlfn.DAYS(TODAY(),G129),_xlfn.DAYS(L129,G129)),_xlfn.DAYS(I129,G129))))","v":""},null,null,{"$f":"IF(COUNTIF(E129,\"N\"),\"ON HOLD\",IF(ISBLANK(L129),IF(ISBLANK(F129),\"\",IF(ISBLANK(G129),\"NO\",\"YES\")),\"NO\"))","v":""},{"$f":"IF(COUNTIF(E129,\"N\"),\"\",IF(ISBLANK(G129),\"\",IF(ISBLANK(L129),_xlfn.DAYS(TODAY(),G129),_xlfn.DAYS(L129,G129))))","v":""},null,null,null,{"$f":"IF(ISBLANK(P129), \"\", P129-Q129)","v":""},{"$f":"IF(ISBLANK(Q129), \"\", Q129/P129)","v":""}]
[null,null,null,null,null,null,null,{"$f":"IF(COUNTIF(E130,\"N\"),\"\",IF(ISBLANK(F130),\"\",IF(ISBLANK(G130),_xlfn.DAYS(TODAY(),F130),_xlfn.DAYS(G130,F130))))","v":""},null,{"$f":"IF(COUNTIF(E130,\"N\"),\"\",IF(ISBLANK(G130),\"\",IF(ISBLANK(I130),IF(ISBLANK(L130),_xlfn.DAYS(TODAY(),G130),_xlfn.DAYS(L130,G130)),_xlfn.DAYS(I130,G130))))","v":""},null,null,{"$f":"IF(COUNTIF(E130,\"N\"),\"ON HOLD\",IF(ISBLANK(L130),IF(ISBLANK(F130),\"\",IF(ISBLANK(G130),\"NO\",\"YES\")),\"NO\"))","v":""},{"$f":"IF(COUNTIF(E130,\"N\"),\"\",IF(ISBLANK(G130),\"\",IF(ISBLANK(L130),_xlfn.DAYS(TODAY(),G130),_xlfn.DAYS(L130,G130))))","v":""},null,null,null,{"$f":"IF(ISBLANK(P130), \"\", P130-Q130)","v":""},{"$f":"IF(ISBLANK(Q130), \"\", Q130/P130)","v":""}]
[null,null,null,null,null,null,null,{"$f":"IF(COUNTIF(E131,\"N\"),\"\",IF(ISBLANK(F131),\"\",IF(ISBLANK(G131),_xlfn.DAYS(TODAY(),F131),_xlfn.DAYS(G131,F131))))","v":""},null,{"$f":"IF(COUNTIF(E131,\"N\"),\"\",IF(ISBLANK(G131),\"\",IF(ISBLANK(I131),IF(ISBLANK(L131),_xlfn.DAYS(TODAY(),G131),_xlfn.DAYS(L131,G131)),_xlfn.DAYS(I131,G131))))","v":""},null,null,{"$f":"IF(COUNTIF(E131,\"N\"),\"ON HOLD\",IF(ISBLANK(L131),IF(ISBLANK(F131),\"\",IF(ISBLANK(G131),\"NO\",\"YES\")),\"NO\"))","v":""},{"$f":"IF(COUNTIF(E131,\"N\"),\"\",IF(ISBLANK(G131),\"\",IF(ISBLANK(L131),_xlfn.DAYS(TODAY(),G131),_xlfn.DAYS(L131,G131))))","v":""},null,null,null,{"$f":"IF(ISBLANK(P131), \"\", P131-Q131)","v":""},{"$f":"IF(ISBLANK(Q131), \"\", Q131/P131)","v":""}]
[null,null,null,null,null,null,null,{"$f":"IF(COUNTIF(E132,\"N\"),\"\",IF(ISBLANK(F132),\"\",IF(ISBLANK(G132),_xlfn.DAYS(TODAY(),F132),_xlfn.DAYS(G132,F132))))","v":""},null,{"$f":"IF(COUNTIF(E132,\"N\"),\"\",IF(ISBLANK(G132),\"\",IF(ISBLANK(I132),IF(ISBLANK(L132),_xlfn.DAYS(TODAY(),G132),_xlfn.DAYS(L132,G132)),_xlfn.DAYS(I132,G132))))","v":""},null,null,{"$f":"IF(COUNTIF(E132,\"N\"),\"ON HOLD\",IF(ISBLANK(L132),IF(ISBLANK(F132),\"\",IF(ISBLANK(G132),\"NO\",\"YES\")),\"NO\"))","v":""},{"$f":"IF(COUNTIF(E132,\"N\"),\"\",IF(ISBLANK(G132),\"\",IF(ISBLANK(L132),_xlfn.DAYS(TODAY(),G132),_xlfn.DAYS(L132,G132))))","v":""},null,null,null,{"$f":"IF(ISBLANK(P132), \"\", P132-Q132)","v":""},{"$f":"IF(ISBLANK(Q132), \"\", Q132/P132)","v":""}]
[null,null,null,null,null,null,null,{"$f":"IF(COUNTIF(E133,\"N\"),\"\",IF(ISBLANK(F133),\"\",IF(ISBLANK(G133),_xlfn.DAYS(TODAY(),F133),_xlfn.DAYS(G133,F133))))","v":""},null,{"$f":"IF(COUNTIF(E133,\"N\"),\"\",IF(ISBLANK(G133),\"\",IF(ISBLANK(I133),IF(ISBLANK(L133),_xlfn.DAYS(TODAY(),G133),_xlfn.DAYS(L133,G133)),_xlfn.DAYS(I133,G133))))","v":""},null,null,{"$f":"IF(COUNTIF(E133,\"N\"),\"ON HOLD\",IF(ISBLANK(L133),IF(ISBLANK(F133),\"\",IF(ISBLANK(G133),\"NO\",\"YES\")),\"NO\"))","v":""},{"$f":"IF(COUNTIF(E133,\"N\"),\"\",IF(ISBLANK(G133),\"\",IF(ISBLANK(L133),_xlfn.DAYS(TODAY(),G133),_xlfn.DAYS(L133,G133))))","v":""},null,null,null,{"$f":"IF(ISBLANK(P133), \"\", P133-Q133)","v":""},{"$f":"IF(ISBLANK(Q133), \"\", Q133/P133)","v":""}]
[null,null,null,null,null,null,null,{"$f":"IF(COUNTIF(E134,\"N\"),\"\",IF(ISBLANK(F134),\"\",IF(ISBLANK(G134),_xlfn.DAYS(TODAY(),F134),_xlfn.DAYS(G134,F134))))","v":""},null,{"$f":"IF(COUNTIF(E134,\"N\"),\"\",IF(ISBLANK(G134),\"\",IF(ISBLANK(I134),IF(ISBLANK(L134),_xlfn.DAYS(TODAY(),G134),_xlfn.DAYS(L134,G134)),_xlfn.DAYS(I134,G134))))","v":""},null,null,{"$f":"IF(COUNTIF(E134,\"N\"),\"ON HOLD\",IF(ISBLANK(L134),IF(ISBLANK(F134),\"\",IF(ISBLANK(G134),\"NO\",\"YES\")),\"NO\"))","v":""},{"$f":"IF(COUNTIF(E134,\"N\"),\"\",IF(ISBLANK(G134),\"\",IF(ISBLANK(L134),_xlfn.DAYS(TODAY(),G134),_xlfn.DAYS(L134,G134))))","v":""},null,null,null,{"$f":"IF(ISBLANK(P134), \"\", P134-Q134)","v":""},{"$f":"IF(ISBLANK(Q134), \"\", Q134/P134)","v":""}]
[null,null,null,null,null,null,null,{"$f":"IF(COUNTIF(E135,\"N\"),\"\",IF(ISBLANK(F135),\"\",IF(ISBLANK(G135),_xlfn.DAYS(TODAY(),F135),_xlfn.DAYS(G135,F135))))","v":""},null,{"$f":"IF(COUNTIF(E135,\"N\"),\"\",IF(ISBLANK(G135),\"\",IF(ISBLANK(I135),IF(ISBLANK(L135),_xlfn.DAYS(TODAY(),G135),_xlfn.DAYS(L135,G135)),_xlfn.DAYS(I135,G135))))","v":""},null,null,{"$f":"IF(COUNTIF(E135,\"N\"),\"ON HOLD\",IF(ISBLANK(L135),IF(ISBLANK(F135),\"\",IF(ISBLANK(G135),\"NO\",\"YES\")),\"NO\"))","v":""},{"$f":"IF(COUNTIF(E135,\"N\"),\"\",IF(ISBLANK(G135),\"\",IF(ISBLANK(L135),_xlfn.DAYS(TODAY(),G135),_xlfn.DAYS(L135,G135))))","v":""},null,null,null,{"$f":"IF(ISBLANK(P135), \"\", P135-Q135)","v":""},{"$f":"IF(ISBLANK(Q135), \"\", Q135/P135)","v":""}]
[null,null,null,null,null,null,null,{"$f":"IF(COUNTIF(E136,\"N\"),\"\",IF(ISBLANK(F136),\"\",IF(ISBLANK(G136),_xlfn.DAYS(TODAY(),F136),_xlfn.DAYS(G136,F136))))","v":""},null,{"$f":"IF(COUNTIF(E136,\"N\"),\"\",IF(ISBLANK(G136),\"\",IF(ISBLANK(I136),IF(ISBLANK(L136),_xlfn.DAYS(TODAY(),G136),_xlfn.DAYS(L136,G136)),_xlfn.DAYS(I136,G136))))","v":""},null,null,{"$f":"IF(COUNTIF(E136,\"N\"),\"ON HOLD\",IF(ISBLANK(L136),IF(ISBLANK(F136),\"\",IF(ISBLANK(G136),\"NO\",\"YES\")),\"NO\"))","v":""},{"$f":"IF(COUNTIF(E136,\"N\"),\"\",IF(ISBLANK(G136),\"\",IF(ISBLANK(L136),_xlfn.DAYS(TODAY(),G136),_xlfn.DAYS(L136,G136))))","v":""},null,null,null,{"$f":"IF(ISBLANK(P136), \"\", P136-Q136)","v":""},{"$f":"IF(ISBLANK(Q136), \"\", Q136/P136)","v":""}]
[null,null,null,null,null,null,null,{"$f":"IF(COUNTIF(E137,\"N\"),\"\",IF(ISBLANK(F137),\"\",IF(ISBLANK(G137),_xlfn.DAYS(TODAY(),F137),_xlfn.DAYS(G137,F137))))","v":""},null,{"$f":"IF(COUNTIF(E137,\"N\"),\"\",IF(ISBLANK(G137),\"\",IF(ISBLANK(I137),IF(ISBLANK(L137),_xlfn.DAYS(TODAY(),G137),_xlfn.DAYS(L137,G137)),_xlfn.DAYS(I137,G137))))","v":""},null,null,{"$f":"IF(COUNTIF(E137,\"N\"),\"ON HOLD\",IF(ISBLANK(L137),IF(ISBLANK(F137),\"\",IF(ISBLANK(G137),\"NO\",\"YES\")),\"NO\"))","v":""},{"$f":"IF(COUNTIF(E137,\"N\"),\"\",IF(ISBLANK(G137),\"\",IF(ISBLANK(L137),_xlfn.DAYS(TODAY(),G137),_xlfn.DAYS(L137,G137))))","v":""},null,null,null,{"$f":"IF(ISBLANK(P137), \"\", P137-Q137)","v":""},{"$f":"IF(ISBLANK(Q137), \"\", Q137/P137)","v":""}]
[null,null,null,null,null,null,null,{"$f":"IF(COUNTIF(E138,\"N\"),\"\",IF(ISBLANK(F138),\"\",IF(ISBLANK(G138),_xlfn.DAYS(TODAY(),F138),_xlfn.DAYS(G138,F138))))","v":""},null,{"$f":"IF(COUNTIF(E138,\"N\"),\"\",IF(ISBLANK(G138),\"\",IF(ISBLANK(I138),IF(ISBLANK(L138),_xlfn.DAYS(TODAY(),G138),_xlfn.DAYS(L138,G138)),_xlfn.DAYS(I138,G138))))","v":""},null,null,{"$f":"IF(COUNTIF(E138,\"N\"),\"ON HOLD\",IF(ISBLANK(L138),IF(ISBLANK(F138),\"\",IF(ISBLANK(G138),\"NO\",\"YES\")),\"NO\"))","v":""},{"$f":"IF(COUNTIF(E138,\"N\"),\"\",IF(ISBLANK(G138),\"\",IF(ISBLANK(L138),_xlfn.DAYS(TODAY(),G138),_xlfn.DAYS(L138,G138))))","v":""},null,null,null,{"$f":"IF(ISBLANK(P138), \"\", P138-Q138)","v":""},{"$f":"IF(ISBLANK(Q138), \"\", Q138/P138)","v":""}]
[null,null,null,null,null,null,null,{"$f":"IF(COUNTIF(E139,\"N\"),\"\",IF(ISBLANK(F139),\"\",IF(ISBLANK(G139),_xlfn.DAYS(TODAY(),F139),_xlfn.DAYS(G139,F139))))","v":""},null,{"$f":"IF(COUNTIF(E139,\"N\"),\"\",IF(ISBLANK(G139),\"\",IF(ISBLANK(I139),IF(ISBLANK(L139),_xlfn.DAYS(TODAY(),G139),_xlfn.DAYS(L139,G139)),_xlfn.DAYS(I139,G139))))","v":""},null,null,{"$f":"IF(COUNTIF(E139,\"N\"),\"ON HOLD\",IF(ISBLANK(L139),IF(ISBLANK(F139),\"\",IF(ISBLANK(G139),\"NO\",\"YES\")),\"NO\"))","v":""},{"$f":"IF(COUNTIF(E139,\"N\"),\"\",IF(ISBLANK(G139),\"\",IF(ISBLANK(L139),_xlfn.DAYS(TODAY(),G139),_xlfn.DAYS(L139,G139))))","v":""},null,null,null,{"$f":"IF(ISBLANK(P139), \"\", P139-Q139)","v":""},{"$f":"IF(ISBLANK(Q139), \"\", Q139/P139)","v":""}]
[null,null,null,null,null,null,null,{"$f":"IF(COUNTIF(E140,\"N\"),\"\",IF(ISBLANK(F140),\"\",IF(ISBLANK(G140),_xlfn.DAYS(TODAY(),F140),_xlfn.DAYS(G140,F140))))","v":""},null,{"$f":"IF(COUNTIF(E140,\"N\"),\"\",IF(ISBLANK(G140),\"\",IF(ISBLANK(I140),IF(ISBLANK(L140),_xlfn.DAYS(TODAY(),G140),_xlfn.DAYS(L140,G140)),_xlfn.DAYS(I140,G140))))","v":""},null,null,{"$f":"IF(COUNTIF(E140,\"N\"),\"ON HOLD\",IF(ISBLANK(L140),IF(ISBLANK(F140),\"\",IF(ISBLANK(G140),\"NO\",\"YES\")),\"NO\"))","v":""},{"$f":"IF(COUNTIF(E140,\"N\"),\"\",IF(ISBLANK(G140),\"\",IF(ISBLANK(L140),_xlfn.DAYS(TODAY(),G140),_xlfn.DAYS(L140,G140))))","v":""},null,null,null,{"$f":"IF(ISBLANK(P140), \"\", P140-Q140)","v":""},{"$f":"IF(ISBLANK(Q140), \"\", Q140/P140)","v":""}]
[null,null,null,null,null,null,null,{"$f":"IF(COUNTIF(E141,\"N\"),\"\",IF(ISBLANK(F141),\"\",IF(ISBLANK(G141),_xlfn.DAYS(TODAY(),F141),_xlfn.DAYS(G141,F141))))","v":""},null,{"$f":"IF(COUNTIF(E141,\"N\"),\"\",IF(ISBLANK(G141),\"\",IF(ISBLANK(I141),IF(ISBLANK(L141),_xlfn.DAYS(TODAY(),G141),_xlfn.DAYS(L141,G141)),_xlfn.DAYS(I141,G141))))","v":""},null,null,{"$f":"IF(COUNTIF(E141,\"N\"),\"ON HOLD\",IF(ISBLANK(L141),IF(ISBLANK(F141),\"\",IF(ISBLANK(G141),\"NO\",\"YES\")),\"NO\"))","v":""},{"$f":"IF(COUNTIF(E141,\"N\"),\"\",IF(ISBLANK(G141),\"\",IF(ISBLANK(L141),_xlfn.DAYS(TODAY(),G141),_xlfn.DAYS(L141,G141))))","v":""},null,null,null,{"$f":"IF(ISBLANK(P141), \"\", P141-Q141)","v":""},{"$f":"IF(ISBLANK(Q141), \"\", Q141/P141)","v":""}]
[null,null,null,null,null,null,null,{"$f":"IF(COUNTIF(E142,\"N\"),\"\",IF(ISBLANK(F142),\"\",IF(ISBLANK(G142),_xlfn.DAYS(TODAY(),F142),_xlfn.DAYS(G142,F142))))","v":""},null,{"$f":"IF(COUNTIF(E142,\"N\"),\"\",IF(ISBLANK(G142),\"\",IF(ISBLANK(I142),IF(ISBLANK(L142),_xlfn.DAYS(TODAY(),G142),_xlfn.DAYS(L142,G142)),_xlfn.DAYS(I142,G142))))","v":""},null,null,{"$f":"IF(COUNTIF(E142,\"N\"),\"ON HOLD\",IF(ISBLANK(L142),IF(ISBLANK(F142),\"\",IF(ISBLANK(G142),\"NO\",\"YES\")),\"NO\"))","v":""},{"$f":"IF(COUNTIF(E142,\"N\"),\"\",IF(ISBLANK(G142),\"\",IF(ISBLANK(L142),_xlfn.DAYS(TODAY(),G142),_xlfn.DAYS(L142,G142))))","v":""},null,null,null,{"$f":"IF(ISBLANK(P142), \"\", P142-Q142)","v":""},{"$f":"IF(ISBLANK(Q142), \"\", Q142/P142)","v":""}]
[null,null,null,null,null,null,null,{"$f":"IF(COUNTIF(E143,\"N\"),\"\",IF(ISBLANK(F143),\"\",IF(ISBLANK(G143),_xlfn.DAYS(TODAY(),F143),_xlfn.DAYS(G143,F143))))","v":""},null,{"$f":"IF(COUNTIF(E143,\"N\"),\"\",IF(ISBLANK(G143),\"\",IF(ISBLANK(I143),IF(ISBLANK(L143),_xlfn.DAYS(TODAY(),G143),_xlfn.DAYS(L143,G143)),_xlfn.DAYS(I143,G143))))","v":""},null,null,{"$f":"IF(COUNTIF(E143,\"N\"),\"ON HOLD\",IF(ISBLANK(L143),IF(ISBLANK(F143),\"\",IF(ISBLANK(G143),\"NO\",\"YES\")),\"NO\"))","v":""},{"$f":"IF(COUNTIF(E143,\"N\"),\"\",IF(ISBLANK(G143),\"\",IF(ISBLANK(L143),_xlfn.DAYS(TODAY(),G143),_xlfn.DAYS(L143,G143))))","v":""},null,null,null,{"$f":"IF(ISBLANK(P143), \"\", P143-Q143)","v":""},{"$f":"IF(ISBLANK(Q143), \"\", Q143/P143)","v":""}]
[null,null,null,null,null,null,null,{"$f":"IF(COUNTIF(E144,\"N\"),\"\",IF(ISBLANK(F144),\"\",IF(ISBLANK(G144),_xlfn.DAYS(TODAY(),F144),_xlfn.DAYS(G144,F144))))","v":""},null,{"$f":"IF(COUNTIF(E144,\"N\"),\"\",IF(ISBLANK(G144),\"\",IF(ISBLANK(I144),IF(ISBLANK(L144),_xlfn.DAYS(TODAY(),G144),_xlfn.DAYS(L144,G144)),_xlfn.DAYS(I144,G144))))","v":""},null,null,{"$f":"IF(COUNTIF(E144,\"N\"),\"ON HOLD\",IF(ISBLANK(L144),IF(ISBLANK(F144),\"\",IF(ISBLANK(G144),\"NO\",\"YES\")),\"NO\"))","v":""},{"$f":"IF(COUNTIF(E144,\"N\"),\"\",IF(ISBLANK(G144),\"\",IF(ISBLANK(L144),_xlfn.DAYS(TODAY(),G144),_xlfn.DAYS(L144,G144))))","v":""},null,null,null,{"$f":"IF(ISBLANK(P144), \"\", P144-Q144)","v":""},{"$f":"IF(ISBLANK(Q144), \"\", Q144/P144)","v":""}]
[null,null,null,null,null,null,null,{"$f":"IF(COUNTIF(E145,\"N\"),\"\",IF(ISBLANK(F145),\"\",IF(ISBLANK(G145),_xlfn.DAYS(TODAY(),F145),_xlfn.DAYS(G145,F145))))","v":""},null,{"$f":"IF(COUNTIF(E145,\"N\"),\"\",IF(ISBLANK(G145),\"\",IF(ISBLANK(I145),IF(ISBLANK(L145),_xlfn.DAYS(TODAY(),G145),_xlfn.DAYS(L145,G145)),_xlfn.DAYS(I145,G145))))","v":""},null,null,{"$f":"IF(COUNTIF(E145,\"N\"),\"ON HOLD\",IF(ISBLANK(L145),IF(ISBLANK(F145),\"\",IF(ISBLANK(G145),\"NO\",\"YES\")),\"NO\"))","v":""},{"$f":"IF(COUNTIF(E145,\"N\"),\"\",IF(ISBLANK(G145),\"\",IF(ISBLANK(L145),_xlfn.DAYS(TODAY(),G145),_xlfn.DAYS(L145,G145))))","v":""},null,null,null,{"$f":"IF(ISBLANK(P145), \"\", P145-Q145)","v":""},{"$f":"IF(ISBLANK(Q145), \"\", Q145/P145)","v":""}]
[null,null,null,null,null,null,null,{"$f":"IF(COUNTIF(E146,\"N\"),\"\",IF(ISBLANK(F146),\"\",IF(ISBLANK(G146),_xlfn.DAYS(TODAY(),F146),_xlfn.DAYS(G146,F146))))","v":""},null,{"$f":"IF(COUNTIF(E146,\"N\"),\"\",IF(ISBLANK(G146),\"\",IF(ISBLANK(I146),IF(ISBLANK(L146),_xlfn.DAYS(TODAY(),G146),_xlfn.DAYS(L146,G146)),_xlfn.DAYS(I146,G146))))","v":""},null,null,{"$f":"IF(COUNTIF(E146,\"N\"),\"ON HOLD\",IF(ISBLANK(L146),IF(ISBLANK(F146),\"\",IF(ISBLANK(G146),\"NO\",\"YES\")),\"NO\"))","v":""},{"$f":"IF(COUNTIF(E146,\"N\"),\"\",IF(ISBLANK(G146),\"\",IF(ISBLANK(L146),_xlfn.DAYS(TODAY(),G146),_xlfn.DAYS(L146,G146))))","v":""},null,null,null,{"$f":"IF(ISBLANK(P146), \"\", P146-Q146)","v":""},{"$f":"IF(ISBLANK(Q146), \"\", Q146/P146)","v":""}]
[null,null,null,null,null,null,null,{"$f":"IF(COUNTIF(E147,\"N\"),\"\",IF(ISBLANK(F147),\"\",IF(ISBLANK(G147),_xlfn.DAYS(TODAY(),F147),_xlfn.DAYS(G147,F147))))","v":""},null,{"$f":"IF(COUNTIF(E147,\"N\"),\"\",IF(ISBLANK(G147),\"\",IF(ISBLANK(I147),IF(ISBLANK(L147),_xlfn.DAYS(TODAY(),G147),_xlfn.DAYS(L147,G147)),_xlfn.DAYS(I147,G147))))","v":""},null,null,{"$f":"IF(COUNTIF(E147,\"N\"),\"ON HOLD\",IF(ISBLANK(L147),IF(ISBLANK(F147),\"\",IF(ISBLANK(G147),\"NO\",\"YES\")),\"NO\"))","v":""},{"$f":"IF(COUNTIF(E147,\"N\"),\"\",IF(ISBLANK(G147),\"\",IF(ISBLANK(L147),_xlfn.DAYS(TODAY(),G147),_xlfn.DAYS(L147,G147))))","v":""},null,null,null,{"$f":"IF(ISBLANK(P147), \"\", P147-Q147)","v":""},{"$f":"IF(ISBLANK(Q147), \"\", Q147/P147)","v":""}]
[null,null,null,null,null,null,null,{"$f":"IF(COUNTIF(E148,\"N\"),\"\",IF(ISBLANK(F148),\"\",IF(ISBLANK(G148),_xlfn.DAYS(TODAY(),F148),_xlfn.DAYS(G148,F148))))","v":""},null,{"$f":"IF(COUNTIF(E148,\"N\"),\"\",IF(ISBLANK(G148),\"\",IF(ISBLANK(I148),IF(ISBLANK(L148),_xlfn.DAYS(TODAY(),G148),_xlfn.DAYS(L148,G148)),_xlfn.DAYS(I148,G148))))","v":""},null,null,{"$f":"IF(COUNTIF(E148,\"N\"),\"ON HOLD\",IF(ISBLANK(L148),IF(ISBLANK(F148),\"\",IF(ISBLANK(G148),\"NO\",\"YES\")),\"NO\"))","v":""},{"$f":"IF(COUNTIF(E148,\"N\"),\"\",IF(ISBLANK(G148),\"\",IF(ISBLANK(L148),_xlfn.DAYS(TODAY(),G148),_xlfn.DAYS(L148,G148))))","v":""},null,null,null,{"$f":"IF(ISBLANK(P148), \"\", P148-Q148)","v":""},{"$f":"IF(ISBLANK(Q148), \"\", Q148/P148)","v":""}]
[null,null,null,null,null,null,null,{"$f":"IF(COUNTIF(E149,\"N\"),\"\",IF(ISBLANK(F149),\"\",IF(ISBLANK(G149),_xlfn.DAYS(TODAY(),F149),_xlfn.DAYS(G149,F149))))","v":""},null,{"$f":"IF(COUNTIF(E149,\"N\"),\"\",IF(ISBLANK(G149),\"\",IF(ISBLANK(I149),IF(ISBLANK(L149),_xlfn.DAYS(TODAY(),G149),_xlfn.DAYS(L149,G149)),_xlfn.DAYS(I149,G149))))","v":""},null,null,{"$f":"IF(COUNTIF(E149,\"N\"),\"ON HOLD\",IF(ISBLANK(L149),IF(ISBLANK(F149),\"\",IF(ISBLANK(G149),\"NO\",\"YES\")),\"NO\"))","v":""},{"$f":"IF(COUNTIF(E149,\"N\"),\"\",IF(ISBLANK(G149),\"\",IF(ISBLANK(L149),_xlfn.DAYS(TODAY(),G149),_xlfn.DAYS(L149,G149))))","v":""},null,null,null,{"$f":"IF(ISBLANK(P149), \"\", P149-Q149)","v":""},{"$f":"IF(ISBLANK(Q149), \"\", Q149/P149)","v":""}]
[null,null,null,null,null,null,null,{"$f":"IF(COUNTIF(E150,\"N\"),\"\",IF(ISBLANK(F150),\"\",IF(ISBLANK(G150),_xlfn.DAYS(TODAY(),F150),_xlfn.DAYS(G150,F150))))","v":""},null,{"$f":"IF(COUNTIF(E150,\"N\"),\"\",IF(ISBLANK(G150),\"\",IF(ISBLANK(I150),IF(ISBLANK(L150),_xlfn.DAYS(TODAY(),G150),_xlfn.DAYS(L150,G150)),_xlfn.DAYS(I150,G150))))","v":""},null,null,{"$f":"IF(COUNTIF(E150,\"N\"),\"ON HOLD\",IF(ISBLANK(L150),IF(ISBLANK(F150),\"\",IF(ISBLANK(G150),\"NO\",\"YES\")),\"NO\"))","v":""},{"$f":"IF(COUNTIF(E150,\"N\"),\"\",IF(ISBLANK(G150),\"\",IF(ISBLANK(L150),_xlfn.DAYS(TODAY(),G150),_xlfn.DAYS(L150,G150))))","v":""},null,null,null,{"$f":"IF(ISBLANK(P150), \"\", P150-Q150)","v":""},{"$f":"IF(ISBLANK(Q150), \"\", Q150/P150)","v":""}]
[null,null,null,null,null,null,null,{"$f":"IF(COUNTIF(E151,\"N\"),\"\",IF(ISBLANK(F151),\"\",IF(ISBLANK(G151),_xlfn.DAYS(TODAY(),F151),_xlfn.DAYS(G151,F151))))","v":""},null,{"$f":"IF(COUNTIF(E151,\"N\"),\"\",IF(ISBLANK(G151),\"\",IF(ISBLANK(I151),IF(ISBLANK(L151),_xlfn.DAYS(TODAY(),G151),_xlfn.DAYS(L151,G151)),_xlfn.DAYS(I151,G151))))","v":""},null,null,{"$f":"IF(COUNTIF(E151,\"N\"),\"ON HOLD\",IF(ISBLANK(L151),IF(ISBLANK(F151),\"\",IF(ISBLANK(G151),\"NO\",\"YES\")),\"NO\"))","v":""},{"$f":"IF(COUNTIF(E151,\"N\"),\"\",IF(ISBLANK(G151),\"\",IF(ISBLANK(L151),_xlfn.DAYS(TODAY(),G151),_xlfn.DAYS(L151,G151))))","v":""},null,null,null,{"$f":"IF(ISBLANK(P151), \"\", P151-Q151)","v":""},{"$f":"IF(ISBLANK(Q151), \"\", Q151/P151)","v":""}]
[null,null,null,null,null,null,null,{"$f":"IF(COUNTIF(E152,\"N\"),\"\",IF(ISBLANK(F152),\"\",IF(ISBLANK(G152),_xlfn.DAYS(TODAY(),F152),_xlfn.DAYS(G152,F152))))","v":""},null,{"$f":"IF(COUNTIF(E152,\"N\"),\"\",IF(ISBLANK(G152),\"\",IF(ISBLANK(I152),IF(ISBLANK(L152),_xlfn.DAYS(TODAY(),G152),_xlfn.DAYS(L152,G152)),_xlfn.DAYS(I152,G152))))","v":""},null,null,{"$f":"IF(COUNTIF(E152,\"N\"),\"ON HOLD\",IF(ISBLANK(L152),IF(ISBLANK(F152),\"\",IF(ISBLANK(G152),\"NO\",\"YES\")),\"NO\"))","v":""},{"$f":"IF(COUNTIF(E152,\"N\"),\"\",IF(ISBLANK(G152),\"\",IF(ISBLANK(L152),_xlfn.DAYS(TODAY(),G152),_xlfn.DAYS(L152,G152))))","v":""},null,null,null,{"$f":"IF(ISBLANK(P152), \"\", P152-Q152)","v":""},{"$f":"IF(ISBLANK(Q152), \"\", Q152/P152)","v":""}]
[null,null,null,null,null,null,null,{"$f":"IF(COUNTIF(E153,\"N\"),\"\",IF(ISBLANK(F153),\"\",IF(ISBLANK(G153),_xlfn.DAYS(TODAY(),F153),_xlfn.DAYS(G153,F153))))","v":""},null,{"$f":"IF(COUNTIF(E153,\"N\"),\"\",IF(ISBLANK(G153),\"\",IF(ISBLANK(I153),IF(ISBLANK(L153),_xlfn.DAYS(TODAY(),G153),_xlfn.DAYS(L153,G153)),_xlfn.DAYS(I153,G153))))","v":""},null,null,{"$f":"IF(COUNTIF(E153,\"N\"),\"ON HOLD\",IF(ISBLANK(L153),IF(ISBLANK(F153),\"\",IF(ISBLANK(G153),\"NO\",\"YES\")),\"NO\"))","v":""},{"$f":"IF(COUNTIF(E153,\"N\"),\"\",IF(ISBLANK(G153),\"\",IF(ISBLANK(L153),_xlfn.DAYS(TODAY(),G153),_xlfn.DAYS(L153,G153))))","v":""},null,null,null,{"$f":"IF(ISBLANK(P153), \"\", P153-Q153)","v":""},{"$f":"IF(ISBLANK(Q153), \"\", Q153/P153)","v":""}]
[null,null,null,null,null,null,null,{"$f":"IF(COUNTIF(E154,\"N\"),\"\",IF(ISBLANK(F154),\"\",IF(ISBLANK(G154),_xlfn.DAYS(TODAY(),F154),_xlfn.DAYS(G154,F154))))","v":""},null,{"$f":"IF(COUNTIF(E154,\"N\"),\"\",IF(ISBLANK(G154),\"\",IF(ISBLANK(I154),IF(ISBLANK(L154),_xlfn.DAYS(TODAY(),G154),_xlfn.DAYS(L154,G154)),_xlfn.DAYS(I154,G154))))","v":""},null,null,{"$f":"IF(COUNTIF(E154,\"N\"),\"ON HOLD\",IF(ISBLANK(L154),IF(ISBLANK(F154),\"\",IF(ISBLANK(G154),\"NO\",\"YES\")),\"NO\"))","v":""},{"$f":"IF(COUNTIF(E154,\"N\"),\"\",IF(ISBLANK(G154),\"\",IF(ISBLANK(L154),_xlfn.DAYS(TODAY(),G154),_xlfn.DAYS(L154,G154))))","v":""},null,null,null,{"$f":"IF(ISBLANK(P154), \"\", P154-Q154)","v":""},{"$f":"IF(ISBLANK(Q154), \"\", Q154/P154)","v":""}]
[null,null,null,null,null,null,null,{"$f":"IF(COUNTIF(E155,\"N\"),\"\",IF(ISBLANK(F155),\"\",IF(ISBLANK(G155),_xlfn.DAYS(TODAY(),F155),_xlfn.DAYS(G155,F155))))","v":""},null,{"$f":"IF(COUNTIF(E155,\"N\"),\"\",IF(ISBLANK(G155),\"\",IF(ISBLANK(I155),IF(ISBLANK(L155),_xlfn.DAYS(TODAY(),G155),_xlfn.DAYS(L155,G155)),_xlfn.DAYS(I155,G155))))","v":""},null,null,{"$f":"IF(COUNTIF(E155,\"N\"),\"ON HOLD\",IF(ISBLANK(L155),IF(ISBLANK(F155),\"\",IF(ISBLANK(G155),\"NO\",\"YES\")),\"NO\"))","v":""},{"$f":"IF(COUNTIF(E155,\"N\"),\"\",IF(ISBLANK(G155),\"\",IF(ISBLANK(L155),_xlfn.DAYS(TODAY(),G155),_xlfn.DAYS(L155,G155))))","v":""},null,null,null,{"$f":"IF(ISBLANK(P155), \"\", P155-Q155)","v":""},{"$f":"IF(ISBLANK(Q155), \"\", Q155/P155)","v":""}]
[null,null,null,null,null,null,null,{"$f":"IF(COUNTIF(E156,\"N\"),\"\",IF(ISBLANK(F156),\"\",IF(ISBLANK(G156),_xlfn.DAYS(TODAY(),F156),_xlfn.DAYS(G156,F156))))","v":""},null,{"$f":"IF(COUNTIF(E156,\"N\"),\"\",IF(ISBLANK(G156),\"\",IF(ISBLANK(I156),IF(ISBLANK(L156),_xlfn.DAYS(TODAY(),G156),_xlfn.DAYS(L156,G156)),_xlfn.DAYS(I156,G156))))","v":""},null,null,{"$f":"IF(COUNTIF(E156,\"N\"),\"ON HOLD\",IF(ISBLANK(L156),IF(ISBLANK(F156),\"\",IF(ISBLANK(G156),\"NO\",\"YES\")),\"NO\"))","v":""},{"$f":"IF(COUNTIF(E156,\"N\"),\"\",IF(ISBLANK(G156),\"\",IF(ISBLANK(L156),_xlfn.DAYS(TODAY(),G156),_xlfn.DAYS(L156,G156))))","v":""},null,null,null,{"$f":"IF(ISBLANK(P156), \"\", P156-Q156)","v":""},{"$f":"IF(ISBLANK(Q156), \"\", Q156/P156)","v":""}]
[null,null,null,null,null,null,null,{"$f":"IF(COUNTIF(E157,\"N\"),\"\",IF(ISBLANK(F157),\"\",IF(ISBLANK(G157),_xlfn.DAYS(TODAY(),F157),_xlfn.DAYS(G157,F157))))","v":""},null,{"$f":"IF(COUNTIF(E157,\"N\"),\"\",IF(ISBLANK(G157),\"\",IF(ISBLANK(I157),IF(ISBLANK(L157),_xlfn.DAYS(TODAY(),G157),_xlfn.DAYS(L157,G157)),_xlfn.DAYS(I157,G157))))","v":""},null,null,{"$f":"IF(COUNTIF(E157,\"N\"),\"ON HOLD\",IF(ISBLANK(L157),IF(ISBLANK(F157),\"\",IF(ISBLANK(G157),\"NO\",\"YES\")),\"NO\"))","v":""},{"$f":"IF(COUNTIF(E157,\"N\"),\"\",IF(ISBLANK(G157),\"\",IF(ISBLANK(L157),_xlfn.DAYS(TODAY(),G157),_xlfn.DAYS(L157,G157))))","v":""},null,null,null,{"$f":"IF(ISBLANK(P157), \"\", P157-Q157)","v":""},{"$f":"IF(ISBLANK(Q157), \"\", Q157/P157)","v":""}]
[null,null,null,null,null,null,null,{"$f":"IF(COUNTIF(E158,\"N\"),\"\",IF(ISBLANK(F158),\"\",IF(ISBLANK(G158),_xlfn.DAYS(TODAY(),F158),_xlfn.DAYS(G158,F158))))","v":""},null,{"$f":"IF(COUNTIF(E158,\"N\"),\"\",IF(ISBLANK(G158),\"\",IF(ISBLANK(I158),IF(ISBLANK(L158),_xlfn.DAYS(TODAY(),G158),_xlfn.DAYS(L158,G158)),_xlfn.DAYS(I158,G158))))","v":""},null,null,{"$f":"IF(COUNTIF(E158,\"N\"),\"ON HOLD\",IF(ISBLANK(L158),IF(ISBLANK(F158),\"\",IF(ISBLANK(G158),\"NO\",\"YES\")),\"NO\"))","v":""},{"$f":"IF(COUNTIF(E158,\"N\"),\"\",IF(ISBLANK(G158),\"\",IF(ISBLANK(L158),_xlfn.DAYS(TODAY(),G158),_xlfn.DAYS(L158,G158))))","v":""},null,null,null,{"$f":"IF(ISBLANK(P158), \"\", P158-Q158)","v":""},{"$f":"IF(ISBLANK(Q158), \"\", Q158/P158)","v":""}]
[null,null,null,null,null,null,null,{"$f":"IF(COUNTIF(E159,\"N\"),\"\",IF(ISBLANK(F159),\"\",IF(ISBLANK(G159),_xlfn.DAYS(TODAY(),F159),_xlfn.DAYS(G159,F159))))","v":""},null,{"$f":"IF(COUNTIF(E159,\"N\"),\"\",IF(ISBLANK(G159),\"\",IF(ISBLANK(I159),IF(ISBLANK(L159),_xlfn.DAYS(TODAY(),G159),_xlfn.DAYS(L159,G159)),_xlfn.DAYS(I159,G159))))","v":""},null,null,{"$f":"IF(COUNTIF(E159,\"N\"),\"ON HOLD\",IF(ISBLANK(L159),IF(ISBLANK(F159),\"\",IF(ISBLANK(G159),\"NO\",\"YES\")),\"NO\"))","v":""},{"$f":"IF(COUNTIF(E159,\"N\"),\"\",IF(ISBLANK(G159),\"\",IF(ISBLANK(L159),_xlfn.DAYS(TODAY(),G159),_xlfn.DAYS(L159,G159))))","v":""},null,null,null,{"$f":"IF(ISBLANK(P159), \"\", P159-Q159)","v":""},{"$f":"IF(ISBLANK(Q159), \"\", Q159/P159)","v":""}]
[null,null,null,null,null,null,null,{"$f":"IF(COUNTIF(E160,\"N\"),\"\",IF(ISBLANK(F160),\"\",IF(ISBLANK(G160),_xlfn.DAYS(TODAY(),F160),_xlfn.DAYS(G160,F160))))","v":""},null,{"$f":"IF(COUNTIF(E160,\"N\"),\"\",IF(ISBLANK(G160),\"\",IF(ISBLANK(I160),IF(ISBLANK(L160),_xlfn.DAYS(TODAY(),G160),_xlfn.DAYS(L160,G160)),_xlfn.DAYS(I160,G160))))","v":""},null,null,{"$f":"IF(COUNTIF(E160,\"N\"),\"ON HOLD\",IF(ISBLANK(L160),IF(ISBLANK(F160),\"\",IF(ISBLANK(G160),\"NO\",\"YES\")),\"NO\"))","v":""},{"$f":"IF(COUNTIF(E160,\"N\"),\"\",IF(ISBLANK(G160),\"\",IF(ISBLANK(L160),_xlfn.DAYS(TODAY(),G160),_xlfn.DAYS(L160,G160))))","v":""},null,null,null,{"$f":"IF(ISBLANK(P160), \"\", P160-Q160)","v":""},{"$f":"IF(ISBLANK(Q160), \"\", Q160/P160)","v":""}]
[null,null,null,null,null,null,null,{"$f":"IF(COUNTIF(E161,\"N\"),\"\",IF(ISBLANK(F161),\"\",IF(ISBLANK(G161),_xlfn.DAYS(TODAY(),F161),_xlfn.DAYS(G161,F161))))","v":""},null,{"$f":"IF(COUNTIF(E161,\"N\"),\"\",IF(ISBLANK(G161),\"\",IF(ISBLANK(I161),IF(ISBLANK(L161),_xlfn.DAYS(TODAY(),G161),_xlfn.DAYS(L161,G161)),_xlfn.DAYS(I161,G161))))","v":""},null,null,{"$f":"IF(COUNTIF(E161,\"N\"),\"ON HOLD\",IF(ISBLANK(L161),IF(ISBLANK(F161),\"\",IF(ISBLANK(G161),\"NO\",\"YES\")),\"NO\"))","v":""},{"$f":"IF(COUNTIF(E161,\"N\"),\"\",IF(ISBLANK(G161),\"\",IF(ISBLANK(L161),_xlfn.DAYS(TODAY(),G161),_xlfn.DAYS(L161,G161))))","v":""},null,null,null,{"$f":"IF(ISBLANK(P161), \"\", P161-Q161)","v":""},{"$f":"IF(ISBLANK(Q161), \"\", Q161/P161)","v":""}]
[null,null,null,null,null,null,null,{"$f":"IF(COUNTIF(E162,\"N\"),\"\",IF(ISBLANK(F162),\"\",IF(ISBLANK(G162),_xlfn.DAYS(TODAY(),F162),_xlfn.DAYS(G162,F162))))","v":""},null,{"$f":"IF(COUNTIF(E162,\"N\"),\"\",IF(ISBLANK(G162),\"\",IF(ISBLANK(I162),IF(ISBLANK(L162),_xlfn.DAYS(TODAY(),G162),_xlfn.DAYS(L162,G162)),_xlfn.DAYS(I162,G162))))","v":""},null,null,{"$f":"IF(COUNTIF(E162,\"N\"),\"ON HOLD\",IF(ISBLANK(L162),IF(ISBLANK(F162),\"\",IF(ISBLANK(G162),\"NO\",\"YES\")),\"NO\"))","v":""},{"$f":"IF(COUNTIF(E162,\"N\"),\"\",IF(ISBLANK(G162),\"\",IF(ISBLANK(L162),_xlfn.DAYS(TODAY(),G162),_xlfn.DAYS(L162,G162))))","v":""},null,null,null,{"$f":"IF(ISBLANK(P162), \"\", P162-Q162)","v":""},{"$f":"IF(ISBLANK(Q162), \"\", Q162/P162)","v":""}]
[null,null,null,null,null,null,null,{"$f":"IF(COUNTIF(E163,\"N\"),\"\",IF(ISBLANK(F163),\"\",IF(ISBLANK(G163),_xlfn.DAYS(TODAY(),F163),_xlfn.DAYS(G163,F163))))","v":""},null,{"$f":"IF(COUNTIF(E163,\"N\"),\"\",IF(ISBLANK(G163),\"\",IF(ISBLANK(I163),IF(ISBLANK(L163),_xlfn.DAYS(TODAY(),G163),_xlfn.DAYS(L163,G163)),_xlfn.DAYS(I163,G163))))","v":""},null,null,{"$f":"IF(COUNTIF(E163,\"N\"),\"ON HOLD\",IF(ISBLANK(L163),IF(ISBLANK(F163),\"\",IF(ISBLANK(G163),\"NO\",\"YES\")),\"NO\"))","v":""},{"$f":"IF(COUNTIF(E163,\"N\"),\"\",IF(ISBLANK(G163),\"\",IF(ISBLANK(L163),_xlfn.DAYS(TODAY(),G163),_xlfn.DAYS(L163,G163))))","v":""},null,null,null,{"$f":"IF(ISBLANK(P163), \"\", P163-Q163)","v":""},{"$f":"IF(ISBLANK(Q163), \"\", Q163/P163)","v":""}]
[null,null,null,null,null,null,null,{"$f":"IF(COUNTIF(E164,\"N\"),\"\",IF(ISBLANK(F164),\"\",IF(ISBLANK(G164),_xlfn.DAYS(TODAY(),F164),_xlfn.DAYS(G164,F164))))","v":""},null,{"$f":"IF(COUNTIF(E164,\"N\"),\"\",IF(ISBLANK(G164),\"\",IF(ISBLANK(I164),IF(ISBLANK(L164),_xlfn.DAYS(TODAY(),G164),_xlfn.DAYS(L164,G164)),_xlfn.DAYS(I164,G164))))","v":""},null,null,{"$f":"IF(COUNTIF(E164,\"N\"),\"ON HOLD\",IF(ISBLANK(L164),IF(ISBLANK(F164),\"\",IF(ISBLANK(G164),\"NO\",\"YES\")),\"NO\"))","v":""},{"$f":"IF(COUNTIF(E164,\"N\"),\"\",IF(ISBLANK(G164),\"\",IF(ISBLANK(L164),_xlfn.DAYS(TODAY(),G164),_xlfn.DAYS(L164,G164))))","v":""},null,null,null,{"$f":"IF(ISBLANK(P164), \"\", P164-Q164)","v":""},{"$f":"IF(ISBLANK(Q164), \"\", Q164/P164)","v":""}]
[null,null,null,null,null,null,null,{"$f":"IF(COUNTIF(E165,\"N\"),\"\",IF(ISBLANK(F165),\"\",IF(ISBLANK(G165),_xlfn.DAYS(TODAY(),F165),_xlfn.DAYS(G165,F165))))","v":""},null,{"$f":"IF(COUNTIF(E165,\"N\"),\"\",IF(ISBLANK(G165),\"\",IF(ISBLANK(I165),IF(ISBLANK(L165),_xlfn.DAYS(TODAY(),G165),_xlfn.DAYS(L165,G165)),_xlfn.DAYS(I165,G165))))","v":""},null,null,{"$f":"IF(COUNTIF(E165,\"N\"),\"ON HOLD\",IF(ISBLANK(L165),IF(ISBLANK(F165),\"\",IF(ISBLANK(G165),\"NO\",\"YES\")),\"NO\"))","v":""},{"$f":"IF(COUNTIF(E165,\"N\"),\"\",IF(ISBLANK(G165),\"\",IF(ISBLANK(L165),_xlfn.DAYS(TODAY(),G165),_xlfn.DAYS(L165,G165))))","v":""},null,null,null,{"$f":"IF(ISBLANK(P165), \"\", P165-Q165)","v":""},{"$f":"IF(ISBLANK(Q165), \"\", Q165/P165)","v":""}]
[null,null,null,null,null,null,null,{"$f":"IF(COUNTIF(E166,\"N\"),\"\",IF(ISBLANK(F166),\"\",IF(ISBLANK(G166),_xlfn.DAYS(TODAY(),F166),_xlfn.DAYS(G166,F166))))","v":""},null,{"$f":"IF(COUNTIF(E166,\"N\"),\"\",IF(ISBLANK(G166),\"\",IF(ISBLANK(I166),IF(ISBLANK(L166),_xlfn.DAYS(TODAY(),G166),_xlfn.DAYS(L166,G166)),_xlfn.DAYS(I166,G166))))","v":""},null,null,{"$f":"IF(COUNTIF(E166,\"N\"),\"ON HOLD\",IF(ISBLANK(L166),IF(ISBLANK(F166),\"\",IF(ISBLANK(G166),\"NO\",\"YES\")),\"NO\"))","v":""},{"$f":"IF(COUNTIF(E166,\"N\"),\"\",IF(ISBLANK(G166),\"\",IF(ISBLANK(L166),_xlfn.DAYS(TODAY(),G166),_xlfn.DAYS(L166,G166))))","v":""},null,null,null,{"$f":"IF(ISBLANK(P166), \"\", P166-Q166)","v":""},{"$f":"IF(ISBLANK(Q166), \"\", Q166/P166)","v":""}]
[null,null,null,null,null,null,null,{"$f":"IF(COUNTIF(E167,\"N\"),\"\",IF(ISBLANK(F167),\"\",IF(ISBLANK(G167),_xlfn.DAYS(TODAY(),F167),_xlfn.DAYS(G167,F167))))","v":""},null,{"$f":"IF(COUNTIF(E167,\"N\"),\"\",IF(ISBLANK(G167),\"\",IF(ISBLANK(I167),IF(ISBLANK(L167),_xlfn.DAYS(TODAY(),G167),_xlfn.DAYS(L167,G167)),_xlfn.DAYS(I167,G167))))","v":""},null,null,{"$f":"IF(COUNTIF(E167,\"N\"),\"ON HOLD\",IF(ISBLANK(L167),IF(ISBLANK(F167),\"\",IF(ISBLANK(G167),\"NO\",\"YES\")),\"NO\"))","v":""},{"$f":"IF(COUNTIF(E167,\"N\"),\"\",IF(ISBLANK(G167),\"\",IF(ISBLANK(L167),_xlfn.DAYS(TODAY(),G167),_xlfn.DAYS(L167,G167))))","v":""},null,null,null,{"$f":"IF(ISBLANK(P167), \"\", P167-Q167)","v":""},{"$f":"IF(ISBLANK(Q167), \"\", Q167/P167)","v":""}]
[null,null,null,null,null,null,null,{"$f":"IF(COUNTIF(E168,\"N\"),\"\",IF(ISBLANK(F168),\"\",IF(ISBLANK(G168),_xlfn.DAYS(TODAY(),F168),_xlfn.DAYS(G168,F168))))","v":""},null,{"$f":"IF(COUNTIF(E168,\"N\"),\"\",IF(ISBLANK(G168),\"\",IF(ISBLANK(I168),IF(ISBLANK(L168),_xlfn.DAYS(TODAY(),G168),_xlfn.DAYS(L168,G168)),_xlfn.DAYS(I168,G168))))","v":""},null,null,{"$f":"IF(COUNTIF(E168,\"N\"),\"ON HOLD\",IF(ISBLANK(L168),IF(ISBLANK(F168),\"\",IF(ISBLANK(G168),\"NO\",\"YES\")),\"NO\"))","v":""},{"$f":"IF(COUNTIF(E168,\"N\"),\"\",IF(ISBLANK(G168),\"\",IF(ISBLANK(L168),_xlfn.DAYS(TODAY(),G168),_xlfn.DAYS(L168,G168))))","v":""},null,null,null,{"$f":"IF(ISBLANK(P168), \"\", P168-Q168)","v":""},{"$f":"IF(ISBLANK(Q168), \"\", Q168/P168)","v":""}]
[null,null,null,null,null,null,null,{"$f":"IF(COUNTIF(E169,\"N\"),\"\",IF(ISBLANK(F169),\"\",IF(ISBLANK(G169),_xlfn.DAYS(TODAY(),F169),_xlfn.DAYS(G169,F169))))","v":""},null,{"$f":"IF(COUNTIF(E169,\"N\"),\"\",IF(ISBLANK(G169),\"\",IF(ISBLANK(I169),IF(ISBLANK(L169),_xlfn.DAYS(TODAY(),G169),_xlfn.DAYS(L169,G169)),_xlfn.DAYS(I169,G169))))","v":""},null,null,{"$f":"IF(COUNTIF(E169,\"N\"),\"ON HOLD\",IF(ISBLANK(L169),IF(ISBLANK(F169),\"\",IF(ISBLANK(G169),\"NO\",\"YES\")),\"NO\"))","v":""},{"$f":"IF(COUNTIF(E169,\"N\"),\"\",IF(ISBLANK(G169),\"\",IF(ISBLANK(L169),_xlfn.DAYS(TODAY(),G169),_xlfn.DAYS(L169,G169))))","v":""},null,null,null,{"$f":"IF(ISBLANK(P169), \"\", P169-Q169)","v":""},{"$f":"IF(ISBLANK(Q169), \"\", Q169/P169)","v":""}]
[null,null,null,null,null,null,null,{"$f":"IF(COUNTIF(E170,\"N\"),\"\",IF(ISBLANK(F170),\"\",IF(ISBLANK(G170),_xlfn.DAYS(TODAY(),F170),_xlfn.DAYS(G170,F170))))","v":""},null,{"$f":"IF(COUNTIF(E170,\"N\"),\"\",IF(ISBLANK(G170),\"\",IF(ISBLANK(I170),IF(ISBLANK(L170),_xlfn.DAYS(TODAY(),G170),_xlfn.DAYS(L170,G170)),_xlfn.DAYS(I170,G170))))","v":""},null,null,{"$f":"IF(COUNTIF(E170,\"N\"),\"ON HOLD\",IF(ISBLANK(L170),IF(ISBLANK(F170),\"\",IF(ISBLANK(G170),\"NO\",\"YES\")),\"NO\"))","v":""},{"$f":"IF(COUNTIF(E170,\"N\"),\"\",IF(ISBLANK(G170),\"\",IF(ISBLANK(L170),_xlfn.DAYS(TODAY(),G170),_xlfn.DAYS(L170,G170))))","v":""},null,null,null,{"$f":"IF(ISBLANK(P170), \"\", P170-Q170)","v":""},{"$f":"IF(ISBLANK(Q170), \"\", Q170/P170)","v":""}]
[null,null,null,null,null,null,null,{"$f":"IF(COUNTIF(E171,\"N\"),\"\",IF(ISBLANK(F171),\"\",IF(ISBLANK(G171),_xlfn.DAYS(TODAY(),F171),_xlfn.DAYS(G171,F171))))","v":""},null,{"$f":"IF(COUNTIF(E171,\"N\"),\"\",IF(ISBLANK(G171),\"\",IF(ISBLANK(I171),IF(ISBLANK(L171),_xlfn.DAYS(TODAY(),G171),_xlfn.DAYS(L171,G171)),_xlfn.DAYS(I171,G171))))","v":""},null,null,{"$f":"IF(COUNTIF(E171,\"N\"),\"ON HOLD\",IF(ISBLANK(L171),IF(ISBLANK(F171),\"\",IF(ISBLANK(G171),\"NO\",\"YES\")),\"NO\"))","v":""},{"$f":"IF(COUNTIF(E171,\"N\"),\"\",IF(ISBLANK(G171),\"\",IF(ISBLANK(L171),_xlfn.DAYS(TODAY(),G171),_xlfn.DAYS(L171,G171))))","v":""},null,null,null,{"$f":"IF(ISBLANK(P171), \"\", P171-Q171)","v":""},{"$f":"IF(ISBLANK(Q171), \"\", Q171/P171)","v":""}]
[null,null,null,null,null,null,null,{"$f":"IF(COUNTIF(E172,\"N\"),\"\",IF(ISBLANK(F172),\"\",IF(ISBLANK(G172),_xlfn.DAYS(TODAY(),F172),_xlfn.DAYS(G172,F172))))","v":""},null,{"$f":"IF(COUNTIF(E172,\"N\"),\"\",IF(ISBLANK(G172),\"\",IF(ISBLANK(I172),IF(ISBLANK(L172),_xlfn.DAYS(TODAY(),G172),_xlfn.DAYS(L172,G172)),_xlfn.DAYS(I172,G172))))","v":""},null,null,{"$f":"IF(COUNTIF(E172,\"N\"),\"ON HOLD\",IF(ISBLANK(L172),IF(ISBLANK(F172),\"\",IF(ISBLANK(G172),\"NO\",\"YES\")),\"NO\"))","v":""},{"$f":"IF(COUNTIF(E172,\"N\"),\"\",IF(ISBLANK(G172),\"\",IF(ISBLANK(L172),_xlfn.DAYS(TODAY(),G172),_xlfn.DAYS(L172,G172))))","v":""},null,null,null,{"$f":"IF(ISBLANK(P172), \"\", P172-Q172)","v":""},{"$f":"IF(ISBLANK(Q172), \"\", Q172/P172)","v":""}]
[null,null,null,null,null,null,null,{"$f":"IF(COUNTIF(E173,\"N\"),\"\",IF(ISBLANK(F173),\"\",IF(ISBLANK(G173),_xlfn.DAYS(TODAY(),F173),_xlfn.DAYS(G173,F173))))","v":""},null,{"$f":"IF(COUNTIF(E173,\"N\"),\"\",IF(ISBLANK(G173),\"\",IF(ISBLANK(I173),IF(ISBLANK(L173),_xlfn.DAYS(TODAY(),G173),_xlfn.DAYS(L173,G173)),_xlfn.DAYS(I173,G173))))","v":""},null,null,{"$f":"IF(COUNTIF(E173,\"N\"),\"ON HOLD\",IF(ISBLANK(L173),IF(ISBLANK(F173),\"\",IF(ISBLANK(G173),\"NO\",\"YES\")),\"NO\"))","v":""},{"$f":"IF(COUNTIF(E173,\"N\"),\"\",IF(ISBLANK(G173),\"\",IF(ISBLANK(L173),_xlfn.DAYS(TODAY(),G173),_xlfn.DAYS(L173,G173))))","v":""},null,null,null,{"$f":"IF(ISBLANK(P173), \"\", P173-Q173)","v":""},{"$f":"IF(ISBLANK(Q173), \"\", Q173/P173)","v":""}]
[null,null,null,null,null,null,null,{"$f":"IF(COUNTIF(E174,\"N\"),\"\",IF(ISBLANK(F174),\"\",IF(ISBLANK(G174),_xlfn.DAYS(TODAY(),F174),_xlfn.DAYS(G174,F174))))","v":""},null,{"$f":"IF(COUNTIF(E174,\"N\"),\"\",IF(ISBLANK(G174),\"\",IF(ISBLANK(I174),IF(ISBLANK(L174),_xlfn.DAYS(TODAY(),G174),_xlfn.DAYS(L174,G174)),_xlfn.DAYS(I174,G174))))","v":""},null,null,{"$f":"IF(COUNTIF(E174,\"N\"),\"ON HOLD\",IF(ISBLANK(L174),IF(ISBLANK(F174),\"\",IF(ISBLANK(G174),\"NO\",\"YES\")),\"NO\"))","v":""},{"$f":"IF(COUNTIF(E174,\"N\"),\"\",IF(ISBLANK(G174),\"\",IF(ISBLANK(L174),_xlfn.DAYS(TODAY(),G174),_xlfn.DAYS(L174,G174))))","v":""},null,null,null,{"$f":"IF(ISBLANK(P174), \"\", P174-Q174)","v":""},{"$f":"IF(ISBLANK(Q174), \"\", Q174/P174)","v":""}]
[null,null,null,null,null,null,null,{"$f":"IF(COUNTIF(E175,\"N\"),\"\",IF(ISBLANK(F175),\"\",IF(ISBLANK(G175),_xlfn.DAYS(TODAY(),F175),_xlfn.DAYS(G175,F175))))","v":""},null,{"$f":"IF(COUNTIF(E175,\"N\"),\"\",IF(ISBLANK(G175),\"\",IF(ISBLANK(I175),IF(ISBLANK(L175),_xlfn.DAYS(TODAY(),G175),_xlfn.DAYS(L175,G175)),_xlfn.DAYS(I175,G175))))","v":""},null,null,{"$f":"IF(COUNTIF(E175,\"N\"),\"ON HOLD\",IF(ISBLANK(L175),IF(ISBLANK(F175),\"\",IF(ISBLANK(G175),\"NO\",\"YES\")),\"NO\"))","v":""},{"$f":"IF(COUNTIF(E175,\"N\"),\"\",IF(ISBLANK(G175),\"\",IF(ISBLANK(L175),_xlfn.DAYS(TODAY(),G175),_xlfn.DAYS(L175,G175))))","v":""},null,null,null,{"$f":"IF(ISBLANK(P175), \"\", P175-Q175)","v":""},{"$f":"IF(ISBLANK(Q175), \"\", Q175/P175)","v":""}]
[null,null,null,null,null,null,null,{"$f":"IF(COUNTIF(E176,\"N\"),\"\",IF(ISBLANK(F176),\"\",IF(ISBLANK(G176),_xlfn.DAYS(TODAY(),F176),_xlfn.DAYS(G176,F176))))","v":""},null,{"$f":"IF(COUNTIF(E176,\"N\"),\"\",IF(ISBLANK(G176),\"\",IF(ISBLANK(I176),IF(ISBLANK(L176),_xlfn.DAYS(TODAY(),G176),_xlfn.DAYS(L176,G176)),_xlfn.DAYS(I176,G176))))","v":""},null,null,{"$f":"IF(COUNTIF(E176,\"N\"),\"ON HOLD\",IF(ISBLANK(L176),IF(ISBLANK(F176),\"\",IF(ISBLANK(G176),\"NO\",\"YES\")),\"NO\"))","v":""},{"$f":"IF(COUNTIF(E176,\"N\"),\"\",IF(ISBLANK(G176),\"\",IF(ISBLANK(L176),_xlfn.DAYS(TODAY(),G176),_xlfn.DAYS(L176,G176))))","v":""},null,null,null,{"$f":"IF(ISBLANK(P176), \"\", P176-Q176)","v":""},{"$f":"IF(ISBLANK(Q176), \"\", Q176/P176)","v":""}]
[null,null,null,null,null,null,null,{"$f":"IF(COUNTIF(E177,\"N\"),\"\",IF(ISBLANK(F177),\"\",IF(ISBLANK(G177),_xlfn.DAYS(TODAY(),F177),_xlfn.DAYS(G177,F177))))","v":""},null,{"$f":"IF(COUNTIF(E177,\"N\"),\"\",IF(ISBLANK(G177),\"\",IF(ISBLANK(I177),IF(ISBLANK(L177),_xlfn.DAYS(TODAY(),G177),_xlfn.DAYS(L177,G177)),_xlfn.DAYS(I177,G177))))","v":""},null,null,{"$f":"IF(COUNTIF(E177,\"N\"),\"ON HOLD\",IF(ISBLANK(L177),IF(ISBLANK(F177),\"\",IF(ISBLANK(G177),\"NO\",\"YES\")),\"NO\"))","v":""},{"$f":"IF(COUNTIF(E177,\"N\"),\"\",IF(ISBLANK(G177),\"\",IF(ISBLANK(L177),_xlfn.DAYS(TODAY(),G177),_xlfn.DAYS(L177,G177))))","v":""},null,null,null,{"$f":"IF(ISBLANK(P177), \"\", P177-Q177)","v":""},{"$f":"IF(ISBLANK(Q177), \"\", Q177/P177)","v":""}]
[null,null,null,null,null,null,null,{"$f":"IF(COUNTIF(E178,\"N\"),\"\",IF(ISBLANK(F178),\"\",IF(ISBLANK(G178),_xlfn.DAYS(TODAY(),F178),_xlfn.DAYS(G178,F178))))","v":""},null,{"$f":"IF(COUNTIF(E178,\"N\"),\"\",IF(ISBLANK(G178),\"\",IF(ISBLANK(I178),IF(ISBLANK(L178),_xlfn.DAYS(TODAY(),G178),_xlfn.DAYS(L178,G178)),_xlfn.DAYS(I178,G178))))","v":""},null,null,{"$f":"IF(COUNTIF(E178,\"N\"),\"ON HOLD\",IF(ISBLANK(L178),IF(ISBLANK(F178),\"\",IF(ISBLANK(G178),\"NO\",\"YES\")),\"NO\"))","v":""},{"$f":"IF(COUNTIF(E178,\"N\"),\"\",IF(ISBLANK(G178),\"\",IF(ISBLANK(L178),_xlfn.DAYS(TODAY(),G178),_xlfn.DAYS(L178,G178))))","v":""},null,null,null,{"$f":"IF(ISBLANK(P178), \"\", P178-Q178)","v":""},{"$f":"IF(ISBLANK(Q178), \"\", Q178/P178)","v":""}]
[null,null,null,null,null,null,null,{"$f":"IF(COUNTIF(E179,\"N\"),\"\",IF(ISBLANK(F179),\"\",IF(ISBLANK(G179),_xlfn.DAYS(TODAY(),F179),_xlfn.DAYS(G179,F179))))","v":""},null,{"$f":"IF(COUNTIF(E179,\"N\"),\"\",IF(ISBLANK(G179),\"\",IF(ISBLANK(I179),IF(ISBLANK(L179),_xlfn.DAYS(TODAY(),G179),_xlfn.DAYS(L179,G179)),_xlfn.DAYS(I179,G179))))","v":""},null,null,{"$f":"IF(COUNTIF(E179,\"N\"),\"ON HOLD\",IF(ISBLANK(L179),IF(ISBLANK(F179),\"\",IF(ISBLANK(G179),\"NO\",\"YES\")),\"NO\"))","v":""},{"$f":"IF(COUNTIF(E179,\"N\"),\"\",IF(ISBLANK(G179),\"\",IF(ISBLANK(L179),_xlfn.DAYS(TODAY(),G179),_xlfn.DAYS(L179,G179))))","v":""},null,null,null,{"$f":"IF(ISBLANK(P179), \"\", P179-Q179)","v":""},{"$f":"IF(ISBLANK(Q179), \"\", Q179/P179)","v":""}]
[null,null,null,null,null,null,null,{"$f":"IF(COUNTIF(E180,\"N\"),\"\",IF(ISBLANK(F180),\"\",IF(ISBLANK(G180),_xlfn.DAYS(TODAY(),F180),_xlfn.DAYS(G180,F180))))","v":""},null,{"$f":"IF(COUNTIF(E180,\"N\"),\"\",IF(ISBLANK(G180),\"\",IF(ISBLANK(I180),IF(ISBLANK(L180),_xlfn.DAYS(TODAY(),G180),_xlfn.DAYS(L180,G180)),_xlfn.DAYS(I180,G180))))","v":""},null,null,{"$f":"IF(COUNTIF(E180,\"N\"),\"ON HOLD\",IF(ISBLANK(L180),IF(ISBLANK(F180),\"\",IF(ISBLANK(G180),\"NO\",\"YES\")),\"NO\"))","v":""},{"$f":"IF(COUNTIF(E180,\"N\"),\"\",IF(ISBLANK(G180),\"\",IF(ISBLANK(L180),_xlfn.DAYS(TODAY(),G180),_xlfn.DAYS(L180,G180))))","v":""},null,null,null,{"$f":"IF(ISBLANK(P180), \"\", P180-Q180)","v":""},{"$f":"IF(ISBLANK(Q180), \"\", Q180/P180)","v":""}]
[null,null,null,null,null,null,null,{"$f":"IF(COUNTIF(E181,\"N\"),\"\",IF(ISBLANK(F181),\"\",IF(ISBLANK(G181),_xlfn.DAYS(TODAY(),F181),_xlfn.DAYS(G181,F181))))","v":""},null,{"$f":"IF(COUNTIF(E181,\"N\"),\"\",IF(ISBLANK(G181),\"\",IF(ISBLANK(I181),IF(ISBLANK(L181),_xlfn.DAYS(TODAY(),G181),_xlfn.DAYS(L181,G181)),_xlfn.DAYS(I181,G181))))","v":""},null,null,{"$f":"IF(COUNTIF(E181,\"N\"),\"ON HOLD\",IF(ISBLANK(L181),IF(ISBLANK(F181),\"\",IF(ISBLANK(G181),\"NO\",\"YES\")),\"NO\"))","v":""},{"$f":"IF(COUNTIF(E181,\"N\"),\"\",IF(ISBLANK(G181),\"\",IF(ISBLANK(L181),_xlfn.DAYS(TODAY(),G181),_xlfn.DAYS(L181,G181))))","v":""},null,null,null,{"$f":"IF(ISBLANK(P181), \"\", P181-Q181)","v":""},{"$f":"IF(ISBLANK(Q181), \"\", Q181/P181)","v":""}]
[null,null,null,null,null,null,null,{"$f":"IF(COUNTIF(E182,\"N\"),\"\",IF(ISBLANK(F182),\"\",IF(ISBLANK(G182),_xlfn.DAYS(TODAY(),F182),_xlfn.DAYS(G182,F182))))","v":""},null,{"$f":"IF(COUNTIF(E182,\"N\"),\"\",IF(ISBLANK(G182),\"\",IF(ISBLANK(I182),IF(ISBLANK(L182),_xlfn.DAYS(TODAY(),G182),_xlfn.DAYS(L182,G182)),_xlfn.DAYS(I182,G182))))","v":""},null,null,{"$f":"IF(COUNTIF(E182,\"N\"),\"ON HOLD\",IF(ISBLANK(L182),IF(ISBLANK(F182),\"\",IF(ISBLANK(G182),\"NO\",\"YES\")),\"NO\"))","v":""},{"$f":"IF(COUNTIF(E182,\"N\"),\"\",IF(ISBLANK(G182),\"\",IF(ISBLANK(L182),_xlfn.DAYS(TODAY(),G182),_xlfn.DAYS(L182,G182))))","v":""},null,null,null,{"$f":"IF(ISBLANK(P182), \"\", P182-Q182)","v":""},{"$f":"IF(ISBLANK(Q182), \"\", Q182/P182)","v":""}]
[null,null,null,null,null,null,null,{"$f":"IF(COUNTIF(E183,\"N\"),\"\",IF(ISBLANK(F183),\"\",IF(ISBLANK(G183),_xlfn.DAYS(TODAY(),F183),_xlfn.DAYS(G183,F183))))","v":""},null,{"$f":"IF(COUNTIF(E183,\"N\"),\"\",IF(ISBLANK(G183),\"\",IF(ISBLANK(I183),IF(ISBLANK(L183),_xlfn.DAYS(TODAY(),G183),_xlfn.DAYS(L183,G183)),_xlfn.DAYS(I183,G183))))","v":""},null,null,{"$f":"IF(COUNTIF(E183,\"N\"),\"ON HOLD\",IF(ISBLANK(L183),IF(ISBLANK(F183),\"\",IF(ISBLANK(G183),\"NO\",\"YES\")),\"NO\"))","v":""},{"$f":"IF(COUNTIF(E183,\"N\"),\"\",IF(ISBLANK(G183),\"\",IF(ISBLANK(L183),_xlfn.DAYS(TODAY(),G183),_xlfn.DAYS(L183,G183))))","v":""},null,null,null,{"$f":"IF(ISBLANK(P183), \"\", P183-Q183)","v":""},{"$f":"IF(ISBLANK(Q183), \"\", Q183/P183)","v":""}]
[null,null,null,null,null,null,null,{"$f":"IF(COUNTIF(E184,\"N\"),\"\",IF(ISBLANK(F184),\"\",IF(ISBLANK(G184),_xlfn.DAYS(TODAY(),F184),_xlfn.DAYS(G184,F184))))","v":""},null,{"$f":"IF(COUNTIF(E184,\"N\"),\"\",IF(ISBLANK(G184),\"\",IF(ISBLANK(I184),IF(ISBLANK(L184),_xlfn.DAYS(TODAY(),G184),_xlfn.DAYS(L184,G184)),_xlfn.DAYS(I184,G184))))","v":""},null,null,{"$f":"IF(COUNTIF(E184,\"N\"),\"ON HOLD\",IF(ISBLANK(L184),IF(ISBLANK(F184),\"\",IF(ISBLANK(G184),\"NO\",\"YES\")),\"NO\"))","v":""},{"$f":"IF(COUNTIF(E184,\"N\"),\"\",IF(ISBLANK(G184),\"\",IF(ISBLANK(L184),_xlfn.DAYS(TODAY(),G184),_xlfn.DAYS(L184,G184))))","v":""},null,null,null,{"$f":"IF(ISBLANK(P184), \"\", P184-Q184)","v":""},{"$f":"IF(ISBLANK(Q184), \"\", Q184/P184)","v":""}]
[null,null,null,null,null,null,null,{"$f":"IF(COUNTIF(E185,\"N\"),\"\",IF(ISBLANK(F185),\"\",IF(ISBLANK(G185),_xlfn.DAYS(TODAY(),F185),_xlfn.DAYS(G185,F185))))","v":""},null,{"$f":"IF(COUNTIF(E185,\"N\"),\"\",IF(ISBLANK(G185),\"\",IF(ISBLANK(I185),IF(ISBLANK(L185),_xlfn.DAYS(TODAY(),G185),_xlfn.DAYS(L185,G185)),_xlfn.DAYS(I185,G185))))","v":""},null,null,{"$f":"IF(COUNTIF(E185,\"N\"),\"ON HOLD\",IF(ISBLANK(L185),IF(ISBLANK(F185),\"\",IF(ISBLANK(G185),\"NO\",\"YES\")),\"NO\"))","v":""},{"$f":"IF(COUNTIF(E185,\"N\"),\"\",IF(ISBLANK(G185),\"\",IF(ISBLANK(L185),_xlfn.DAYS(TODAY(),G185),_xlfn.DAYS(L185,G185))))","v":""},null,null,null,{"$f":"IF(ISBLANK(P185), \"\", P185-Q185)","v":""},{"$f":"IF(ISBLANK(Q185), \"\", Q185/P185)","v":""}]
[null,null,null,null,null,null,null,{"$f":"IF(COUNTIF(E186,\"N\"),\"\",IF(ISBLANK(F186),\"\",IF(ISBLANK(G186),_xlfn.DAYS(TODAY(),F186),_xlfn.DAYS(G186,F186))))","v":""},null,{"$f":"IF(COUNTIF(E186,\"N\"),\"\",IF(ISBLANK(G186),\"\",IF(ISBLANK(I186),IF(ISBLANK(L186),_xlfn.DAYS(TODAY(),G186),_xlfn.DAYS(L186,G186)),_xlfn.DAYS(I186,G186))))","v":""},null,null,{"$f":"IF(COUNTIF(E186,\"N\"),\"ON HOLD\",IF(ISBLANK(L186),IF(ISBLANK(F186),\"\",IF(ISBLANK(G186),\"NO\",\"YES\")),\"NO\"))","v":""},{"$f":"IF(COUNTIF(E186,\"N\"),\"\",IF(ISBLANK(G186),\"\",IF(ISBLANK(L186),_xlfn.DAYS(TODAY(),G186),_xlfn.DAYS(L186,G186))))","v":""},null,null,null,{"$f":"IF(ISBLANK(P186), \"\", P186-Q186)","v":""},{"$f":"IF(ISBLANK(Q186), \"\", Q186/P186)","v":""}]
[null,null,null,null,null,null,null,{"$f":"IF(COUNTIF(E187,\"N\"),\"\",IF(ISBLANK(F187),\"\",IF(ISBLANK(G187),_xlfn.DAYS(TODAY(),F187),_xlfn.DAYS(G187,F187))))","v":""},null,{"$f":"IF(COUNTIF(E187,\"N\"),\"\",IF(ISBLANK(G187),\"\",IF(ISBLANK(I187),IF(ISBLANK(L187),_xlfn.DAYS(TODAY(),G187),_xlfn.DAYS(L187,G187)),_xlfn.DAYS(I187,G187))))","v":""},null,null,{"$f":"IF(COUNTIF(E187,\"N\"),\"ON HOLD\",IF(ISBLANK(L187),IF(ISBLANK(F187),\"\",IF(ISBLANK(G187),\"NO\",\"YES\")),\"NO\"))","v":""},{"$f":"IF(COUNTIF(E187,\"N\"),\"\",IF(ISBLANK(G187),\"\",IF(ISBLANK(L187),_xlfn.DAYS(TODAY(),G187),_xlfn.DAYS(L187,G187))))","v":""},null,null,null,{"$f":"IF(ISBLANK(P187), \"\", P187-Q187)","v":""},{"$f":"IF(ISBLANK(Q187), \"\", Q187/P187)","v":""}]
[null,null,null,null,null,null,null,{"$f":"IF(COUNTIF(E188,\"N\"),\"\",IF(ISBLANK(F188),\"\",IF(ISBLANK(G188),_xlfn.DAYS(TODAY(),F188),_xlfn.DAYS(G188,F188))))","v":""},null,{"$f":"IF(COUNTIF(E188,\"N\"),\"\",IF(ISBLANK(G188),\"\",IF(ISBLANK(I188),IF(ISBLANK(L188),_xlfn.DAYS(TODAY(),G188),_xlfn.DAYS(L188,G188)),_xlfn.DAYS(I188,G188))))","v":""},null,null,{"$f":"IF(COUNTIF(E188,\"N\"),\"ON HOLD\",IF(ISBLANK(L188),IF(ISBLANK(F188),\"\",IF(ISBLANK(G188),\"NO\",\"YES\")),\"NO\"))","v":""},{"$f":"IF(COUNTIF(E188,\"N\"),\"\",IF(ISBLANK(G188),\"\",IF(ISBLANK(L188),_xlfn.DAYS(TODAY(),G188),_xlfn.DAYS(L188,G188))))","v":""},null,null,null,{"$f":"IF(ISBLANK(P188), \"\", P188-Q188)","v":""},{"$f":"IF(ISBLANK(Q188), \"\", Q188/P188)","v":""}]
[null,null,null,null,null,null,null,{"$f":"IF(COUNTIF(E189,\"N\"),\"\",IF(ISBLANK(F189),\"\",IF(ISBLANK(G189),_xlfn.DAYS(TODAY(),F189),_xlfn.DAYS(G189,F189))))","v":""},null,{"$f":"IF(COUNTIF(E189,\"N\"),\"\",IF(ISBLANK(G189),\"\",IF(ISBLANK(I189),IF(ISBLANK(L189),_xlfn.DAYS(TODAY(),G189),_xlfn.DAYS(L189,G189)),_xlfn.DAYS(I189,G189))))","v":""},null,null,{"$f":"IF(COUNTIF(E189,\"N\"),\"ON HOLD\",IF(ISBLANK(L189),IF(ISBLANK(F189),\"\",IF(ISBLANK(G189),\"NO\",\"YES\")),\"NO\"))","v":""},{"$f":"IF(COUNTIF(E189,\"N\"),\"\",IF(ISBLANK(G189),\"\",IF(ISBLANK(L189),_xlfn.DAYS(TODAY(),G189),_xlfn.DAYS(L189,G189))))","v":""},null,null,null,{"$f":"IF(ISBLANK(P189), \"\", P189-Q189)","v":""},{"$f":"IF(ISBLANK(Q189), \"\", Q189/P189)","v":""}]
[null,null,null,null,null,null,null,{"$f":"IF(COUNTIF(E190,\"N\"),\"\",IF(ISBLANK(F190),\"\",IF(ISBLANK(G190),_xlfn.DAYS(TODAY(),F190),_xlfn.DAYS(G190,F190))))","v":""},null,{"$f":"IF(COUNTIF(E190,\"N\"),\"\",IF(ISBLANK(G190),\"\",IF(ISBLANK(I190),IF(ISBLANK(L190),_xlfn.DAYS(TODAY(),G190),_xlfn.DAYS(L190,G190)),_xlfn.DAYS(I190,G190))))","v":""},null,null,{"$f":"IF(COUNTIF(E190,\"N\"),\"ON HOLD\",IF(ISBLANK(L190),IF(ISBLANK(F190),\"\",IF(ISBLANK(G190),\"NO\",\"YES\")),\"NO\"))","v":""},{"$f":"IF(COUNTIF(E190,\"N\"),\"\",IF(ISBLANK(G190),\"\",IF(ISBLANK(L190),_xlfn.DAYS(TODAY(),G190),_xlfn.DAYS(L190,G190))))","v":""},null,null,null,{"$f":"IF(ISBLANK(P190), \"\", P190-Q190)","v":""},{"$f":"IF(ISBLANK(Q190), \"\", Q190/P190)","v":""}]
[null,null,null,null,null,null,null,{"$f":"IF(COUNTIF(E191,\"N\"),\"\",IF(ISBLANK(F191),\"\",IF(ISBLANK(G191),_xlfn.DAYS(TODAY(),F191),_xlfn.DAYS(G191,F191))))","v":""},null,{"$f":"IF(COUNTIF(E191,\"N\"),\"\",IF(ISBLANK(G191),\"\",IF(ISBLANK(I191),IF(ISBLANK(L191),_xlfn.DAYS(TODAY(),G191),_xlfn.DAYS(L191,G191)),_xlfn.DAYS(I191,G191))))","v":""},null,null,{"$f":"IF(COUNTIF(E191,\"N\"),\"ON HOLD\",IF(ISBLANK(L191),IF(ISBLANK(F191),\"\",IF(ISBLANK(G191),\"NO\",\"YES\")),\"NO\"))","v":""},{"$f":"IF(COUNTIF(E191,\"N\"),\"\",IF(ISBLANK(G191),\"\",IF(ISBLANK(L191),_xlfn.DAYS(TODAY(),G191),_xlfn.DAYS(L191,G191))))","v":""},null,null,null,{"$f":"IF(ISBLANK(P191), \"\", P191-Q191)","v":""},{"$f":"IF(ISBLANK(Q191), \"\", Q191/P191)","v":""}]
[null,null,null,null,null,null,null,{"$f":"IF(COUNTIF(E192,\"N\"),\"\",IF(ISBLANK(F192),\"\",IF(ISBLANK(G192),_xlfn.DAYS(TODAY(),F192),_xlfn.DAYS(G192,F192))))","v":""},null,{"$f":"IF(COUNTIF(E192,\"N\"),\"\",IF(ISBLANK(G192),\"\",IF(ISBLANK(I192),IF(ISBLANK(L192),_xlfn.DAYS(TODAY(),G192),_xlfn.DAYS(L192,G192)),_xlfn.DAYS(I192,G192))))","v":""},null,null,{"$f":"IF(COUNTIF(E192,\"N\"),\"ON HOLD\",IF(ISBLANK(L192),IF(ISBLANK(F192),\"\",IF(ISBLANK(G192),\"NO\",\"YES\")),\"NO\"))","v":""},{"$f":"IF(COUNTIF(E192,\"N\"),\"\",IF(ISBLANK(G192),\"\",IF(ISBLANK(L192),_xlfn.DAYS(TODAY(),G192),_xlfn.DAYS(L192,G192))))","v":""},null,null,null,{"$f":"IF(ISBLANK(P192), \"\", P192-Q192)","v":""},{"$f":"IF(ISBLANK(Q192), \"\", Q192/P192)","v":""}]
[null,null,null,null,null,null,null,{"$f":"IF(COUNTIF(E193,\"N\"),\"\",IF(ISBLANK(F193),\"\",IF(ISBLANK(G193),_xlfn.DAYS(TODAY(),F193),_xlfn.DAYS(G193,F193))))","v":""},null,{"$f":"IF(COUNTIF(E193,\"N\"),\"\",IF(ISBLANK(G193),\"\",IF(ISBLANK(I193),IF(ISBLANK(L193),_xlfn.DAYS(TODAY(),G193),_xlfn.DAYS(L193,G193)),_xlfn.DAYS(I193,G193))))","v":""},null,null,{"$f":"IF(COUNTIF(E193,\"N\"),\"ON HOLD\",IF(ISBLANK(L193),IF(ISBLANK(F193),\"\",IF(ISBLANK(G193),\"NO\",\"YES\")),\"NO\"))","v":""},{"$f":"IF(COUNTIF(E193,\"N\"),\"\",IF(ISBLANK(G193),\"\",IF(ISBLANK(L193),_xlfn.DAYS(TODAY(),G193),_xlfn.DAYS(L193,G193))))","v":""},null,null,null,{"$f":"IF(ISBLANK(P193), \"\", P193-Q193)","v":""},{"$f":"IF(ISBLANK(Q193), \"\", Q193/P193)","v":""}]
[null,null,null,null,null,null,null,{"$f":"IF(COUNTIF(E194,\"N\"),\"\",IF(ISBLANK(F194),\"\",IF(ISBLANK(G194),_xlfn.DAYS(TODAY(),F194),_xlfn.DAYS(G194,F194))))","v":""},null,{"$f":"IF(COUNTIF(E194,\"N\"),\"\",IF(ISBLANK(G194),\"\",IF(ISBLANK(I194),IF(ISBLANK(L194),_xlfn.DAYS(TODAY(),G194),_xlfn.DAYS(L194,G194)),_xlfn.DAYS(I194,G194))))","v":""},null,null,{"$f":"IF(COUNTIF(E194,\"N\"),\"ON HOLD\",IF(ISBLANK(L194),IF(ISBLANK(F194),\"\",IF(ISBLANK(G194),\"NO\",\"YES\")),\"NO\"))","v":""},{"$f":"IF(COUNTIF(E194,\"N\"),\"\",IF(ISBLANK(G194),\"\",IF(ISBLANK(L194),_xlfn.DAYS(TODAY(),G194),_xlfn.DAYS(L194,G194))))","v":""},null,null,null,{"$f":"IF(ISBLANK(P194), \"\", P194-Q194)","v":""},{"$f":"IF(ISBLANK(Q194), \"\", Q194/P194)","v":""}]
[null,null,null,null,null,null,null,{"$f":"IF(COUNTIF(E195,\"N\"),\"\",IF(ISBLANK(F195),\"\",IF(ISBLANK(G195),_xlfn.DAYS(TODAY(),F195),_xlfn.DAYS(G195,F195))))","v":""},null,{"$f":"IF(COUNTIF(E195,\"N\"),\"\",IF(ISBLANK(G195),\"\",IF(ISBLANK(I195),IF(ISBLANK(L195),_xlfn.DAYS(TODAY(),G195),_xlfn.DAYS(L195,G195)),_xlfn.DAYS(I195,G195))))","v":""},null,null,{"$f":"IF(COUNTIF(E195,\"N\"),\"ON HOLD\",IF(ISBLANK(L195),IF(ISBLANK(F195),\"\",IF(ISBLANK(G195),\"NO\",\"YES\")),\"NO\"))","v":""},{"$f":"IF(COUNTIF(E195,\"N\"),\"\",IF(ISBLANK(G195),\"\",IF(ISBLANK(L195),_xlfn.DAYS(TODAY(),G195),_xlfn.DAYS(L195,G195))))","v":""},null,null,null,{"$f":"IF(ISBLANK(P195), \"\", P195-Q195)","v":""},{"$f":"IF(ISBLANK(Q195), \"\", Q195/P195)","v":""}]
[null,null,null,null,null,null,null,{"$f":"IF(COUNTIF(E196,\"N\"),\"\",IF(ISBLANK(F196),\"\",IF(ISBLANK(G196),_xlfn.DAYS(TODAY(),F196),_xlfn.DAYS(G196,F196))))","v":""},null,{"$f":"IF(COUNTIF(E196,\"N\"),\"\",IF(ISBLANK(G196),\"\",IF(ISBLANK(I196),IF(ISBLANK(L196),_xlfn.DAYS(TODAY(),G196),_xlfn.DAYS(L196,G196)),_xlfn.DAYS(I196,G196))))","v":""},null,null,{"$f":"IF(COUNTIF(E196,\"N\"),\"ON HOLD\",IF(ISBLANK(L196),IF(ISBLANK(F196),\"\",IF(ISBLANK(G196),\"NO\",\"YES\")),\"NO\"))","v":""},{"$f":"IF(COUNTIF(E196,\"N\"),\"\",IF(ISBLANK(G196),\"\",IF(ISBLANK(L196),_xlfn.DAYS(TODAY(),G196),_xlfn.DAYS(L196,G196))))","v":""},null,null,null,{"$f":"IF(ISBLANK(P196), \"\", P196-Q196)","v":""},{"$f":"IF(ISBLANK(Q196), \"\", Q196/P196)","v":""}]
[null,null,null,null,null,null,null,{"$f":"IF(COUNTIF(E197,\"N\"),\"\",IF(ISBLANK(F197),\"\",IF(ISBLANK(G197),_xlfn.DAYS(TODAY(),F197),_xlfn.DAYS(G197,F197))))","v":""},null,{"$f":"IF(COUNTIF(E197,\"N\"),\"\",IF(ISBLANK(G197),\"\",IF(ISBLANK(I197),IF(ISBLANK(L197),_xlfn.DAYS(TODAY(),G197),_xlfn.DAYS(L197,G197)),_xlfn.DAYS(I197,G197))))","v":""},null,null,{"$f":"IF(COUNTIF(E197,\"N\"),\"ON HOLD\",IF(ISBLANK(L197),IF(ISBLANK(F197),\"\",IF(ISBLANK(G197),\"NO\",\"YES\")),\"NO\"))","v":""},{"$f":"IF(COUNTIF(E197,\"N\"),\"\",IF(ISBLANK(G197),\"\",IF(ISBLANK(L197),_xlfn.DAYS(TODAY(),G197),_xlfn.DAYS(L197,G197))))","v":""},null,null,null,{"$f":"IF(ISBLANK(P197), \"\", P197-Q197)","v":""},{"$f":"IF(ISBLANK(Q197), \"\", Q197/P197)","v":""}]
[null,null,null,null,null,null,null,{"$f":"IF(COUNTIF(E198,\"N\"),\"\",IF(ISBLANK(F198),\"\",IF(ISBLANK(G198),_xlfn.DAYS(TODAY(),F198),_xlfn.DAYS(G198,F198))))","v":""},null,{"$f":"IF(COUNTIF(E198,\"N\"),\"\",IF(ISBLANK(G198),\"\",IF(ISBLANK(I198),IF(ISBLANK(L198),_xlfn.DAYS(TODAY(),G198),_xlfn.DAYS(L198,G198)),_xlfn.DAYS(I198,G198))))","v":""},null,null,{"$f":"IF(COUNTIF(E198,\"N\"),\"ON HOLD\",IF(ISBLANK(L198),IF(ISBLANK(F198),\"\",IF(ISBLANK(G198),\"NO\",\"YES\")),\"NO\"))","v":""},{"$f":"IF(COUNTIF(E198,\"N\"),\"\",IF(ISBLANK(G198),\"\",IF(ISBLANK(L198),_xlfn.DAYS(TODAY(),G198),_xlfn.DAYS(L198,G198))))","v":""},null,null,null,{"$f":"IF(ISBLANK(P198), \"\", P198-Q198)","v":""},{"$f":"IF(ISBLANK(Q198), \"\", Q198/P198)","v":""}]
[null,null,null,null,null,null,null,{"$f":"IF(COUNTIF(E199,\"N\"),\"\",IF(ISBLANK(F199),\"\",IF(ISBLANK(G199),_xlfn.DAYS(TODAY(),F199),_xlfn.DAYS(G199,F199))))","v":""},null,{"$f":"IF(COUNTIF(E199,\"N\"),\"\",IF(ISBLANK(G199),\"\",IF(ISBLANK(I199),IF(ISBLANK(L199),_xlfn.DAYS(TODAY(),G199),_xlfn.DAYS(L199,G199)),_xlfn.DAYS(I199,G199))))","v":""},null,null,{"$f":"IF(COUNTIF(E199,\"N\"),\"ON HOLD\",IF(ISBLANK(L199),IF(ISBLANK(F199),\"\",IF(ISBLANK(G199),\"NO\",\"YES\")),\"NO\"))","v":""},{"$f":"IF(COUNTIF(E199,\"N\"),\"\",IF(ISBLANK(G199),\"\",IF(ISBLANK(L199),_xlfn.DAYS(TODAY(),G199),_xlfn.DAYS(L199,G199))))","v":""},null,null,null,{"$f":"IF(ISBLANK(P199), \"\", P199-Q199)","v":""},{"$f":"IF(ISBLANK(Q199), \"\", Q199/P199)","v":""}]
[null,null,null,null,null,null,null,{"$f":"IF(COUNTIF(E200,\"N\"),\"\",IF(ISBLANK(F200),\"\",IF(ISBLANK(G200),_xlfn.DAYS(TODAY(),F200),_xlfn.DAYS(G200,F200))))","v":""},null,{"$f":"IF(COUNTIF(E200,\"N\"),\"\",IF(ISBLANK(G200),\"\",IF(ISBLANK(I200),IF(ISBLANK(L200),_xlfn.DAYS(TODAY(),G200),_xlfn.DAYS(L200,G200)),_xlfn.DAYS(I200,G200))))","v":""},null,null,{"$f":"IF(COUNTIF(E200,\"N\"),\"ON HOLD\",IF(ISBLANK(L200),IF(ISBLANK(F200),\"\",IF(ISBLANK(G200),\"NO\",\"YES\")),\"NO\"))","v":""},{"$f":"IF(COUNTIF(E200,\"N\"),\"\",IF(ISBLANK(G200),\"\",IF(ISBLANK(L200),_xlfn.DAYS(TODAY(),G200),_xlfn.DAYS(L200,G200))))","v":""},null,null,null,{"$f":"IF(ISBLANK(P200), \"\", P200-Q200)","v":""},{"$f":"IF(ISBLANK(Q200), \"\", Q200/P200)","v":""}]
[null,null,null,null,null,null,null,{"$f":"IF(COUNTIF(E201,\"N\"),\"\",IF(ISBLANK(F201),\"\",IF(ISBLANK(G201),_xlfn.DAYS(TODAY(),F201),_xlfn.DAYS(G201,F201))))","v":""},null,{"$f":"IF(COUNTIF(E201,\"N\"),\"\",IF(ISBLANK(G201),\"\",IF(ISBLANK(I201),IF(ISBLANK(L201),_xlfn.DAYS(TODAY(),G201),_xlfn.DAYS(L201,G201)),_xlfn.DAYS(I201,G201))))","v":""},null,null,{"$f":"IF(COUNTIF(E201,\"N\"),\"ON HOLD\",IF(ISBLANK(L201),IF(ISBLANK(F201),\"\",IF(ISBLANK(G201),\"NO\",\"YES\")),\"NO\"))","v":""},{"$f":"IF(COUNTIF(E201,\"N\"),\"\",IF(ISBLANK(G201),\"\",IF(ISBLANK(L201),_xlfn.DAYS(TODAY(),G201),_xlfn.DAYS(L201,G201))))","v":""},null,null,null,{"$f":"IF(ISBLANK(P201), \"\", P201-Q201)","v":""},{"$f":"IF(ISBLANK(Q201), \"\", Q201/P201)","v":""}]
[null,null,null,null,null,null,null,{"$f":"IF(COUNTIF(E202,\"N\"),\"\",IF(ISBLANK(F202),\"\",IF(ISBLANK(G202),_xlfn.DAYS(TODAY(),F202),_xlfn.DAYS(G202,F202))))","v":""},null,{"$f":"IF(COUNTIF(E202,\"N\"),\"\",IF(ISBLANK(G202),\"\",IF(ISBLANK(I202),IF(ISBLANK(L202),_xlfn.DAYS(TODAY(),G202),_xlfn.DAYS(L202,G202)),_xlfn.DAYS(I202,G202))))","v":""},null,null,{"$f":"IF(COUNTIF(E202,\"N\"),\"ON HOLD\",IF(ISBLANK(L202),IF(ISBLANK(F202),\"\",IF(ISBLANK(G202),\"NO\",\"YES\")),\"NO\"))","v":""},{"$f":"IF(COUNTIF(E202,\"N\"),\"\",IF(ISBLANK(G202),\"\",IF(ISBLANK(L202),_xlfn.DAYS(TODAY(),G202),_xlfn.DAYS(L202,G202))))","v":""},null,null,null,{"$f":"IF(ISBLANK(P202), \"\", P202-Q202)","v":""},{"$f":"IF(ISBLANK(Q202), \"\", Q202/P202)","v":""}]
[null,null,null,null,null,null,null,{"$f":"IF(COUNTIF(E203,\"N\"),\"\",IF(ISBLANK(F203),\"\",IF(ISBLANK(G203),_xlfn.DAYS(TODAY(),F203),_xlfn.DAYS(G203,F203))))","v":""},null,{"$f":"IF(COUNTIF(E203,\"N\"),\"\",IF(ISBLANK(G203),\"\",IF(ISBLANK(I203),IF(ISBLANK(L203),_xlfn.DAYS(TODAY(),G203),_xlfn.DAYS(L203,G203)),_xlfn.DAYS(I203,G203))))","v":""},null,null,{"$f":"IF(COUNTIF(E203,\"N\"),\"ON HOLD\",IF(ISBLANK(L203),IF(ISBLANK(F203),\"\",IF(ISBLANK(G203),\"NO\",\"YES\")),\"NO\"))","v":""},{"$f":"IF(COUNTIF(E203,\"N\"),\"\",IF(ISBLANK(G203),\"\",IF(ISBLANK(L203),_xlfn.DAYS(TODAY(),G203),_xlfn.DAYS(L203,G203))))","v":""},null,null,null,{"$f":"IF(ISBLANK(P203), \"\", P203-Q203)","v":""},{"$f":"IF(ISBLANK(Q203), \"\", Q203/P203)","v":""}]
[null,null,null,null,null,null,null,{"$f":"IF(COUNTIF(E204,\"N\"),\"\",IF(ISBLANK(F204),\"\",IF(ISBLANK(G204),_xlfn.DAYS(TODAY(),F204),_xlfn.DAYS(G204,F204))))","v":""},null,{"$f":"IF(COUNTIF(E204,\"N\"),\"\",IF(ISBLANK(G204),\"\",IF(ISBLANK(I204),IF(ISBLANK(L204),_xlfn.DAYS(TODAY(),G204),_xlfn.DAYS(L204,G204)),_xlfn.DAYS(I204,G204))))","v":""},null,null,{"$f":"IF(COUNTIF(E204,\"N\"),\"ON HOLD\",IF(ISBLANK(L204),IF(ISBLANK(F204),\"\",IF(ISBLANK(G204),\"NO\",\"YES\")),\"NO\"))","v":""},{"$f":"IF(COUNTIF(E204,\"N\"),\"\",IF(ISBLANK(G204),\"\",IF(ISBLANK(L204),_xlfn.DAYS(TODAY(),G204),_xlfn.DAYS(L204,G204))))","v":""},null,null,null,{"$f":"IF(ISBLANK(P204), \"\", P204-Q204)","v":""},{"$f":"IF(ISBLANK(Q204), \"\", Q204/P204)","v":""}]
[null,null,null,null,null,null,null,{"$f":"IF(COUNTIF(E205,\"N\"),\"\",IF(ISBLANK(F205),\"\",IF(ISBLANK(G205),_xlfn.DAYS(TODAY(),F205),_xlfn.DAYS(G205,F205))))","v":""},null,{"$f":"IF(COUNTIF(E205,\"N\"),\"\",IF(ISBLANK(G205),\"\",IF(ISBLANK(I205),IF(ISBLANK(L205),_xlfn.DAYS(TODAY(),G205),_xlfn.DAYS(L205,G205)),_xlfn.DAYS(I205,G205))))","v":""},null,null,{"$f":"IF(COUNTIF(E205,\"N\"),\"ON HOLD\",IF(ISBLANK(L205),IF(ISBLANK(F205),\"\",IF(ISBLANK(G205),\"NO\",\"YES\")),\"NO\"))","v":""},{"$f":"IF(COUNTIF(E205,\"N\"),\"\",IF(ISBLANK(G205),\"\",IF(ISBLANK(L205),_xlfn.DAYS(TODAY(),G205),_xlfn.DAYS(L205,G205))))","v":""},null,null,null,{"$f":"IF(ISBLANK(P205), \"\", P205-Q205)","v":""},{"$f":"IF(ISBLANK(Q205), \"\", Q205/P205)","v":""}]
[null,null,null,null,null,null,null,{"$f":"IF(COUNTIF(E206,\"N\"),\"\",IF(ISBLANK(F206),\"\",IF(ISBLANK(G206),_xlfn.DAYS(TODAY(),F206),_xlfn.DAYS(G206,F206))))","v":""},null,{"$f":"IF(COUNTIF(E206,\"N\"),\"\",IF(ISBLANK(G206),\"\",IF(ISBLANK(I206),IF(ISBLANK(L206),_xlfn.DAYS(TODAY(),G206),_xlfn.DAYS(L206,G206)),_xlfn.DAYS(I206,G206))))","v":""},null,null,{"$f":"IF(COUNTIF(E206,\"N\"),\"ON HOLD\",IF(ISBLANK(L206),IF(ISBLANK(F206),\"\",IF(ISBLANK(G206),\"NO\",\"YES\")),\"NO\"))","v":""},{"$f":"IF(COUNTIF(E206,\"N\"),\"\",IF(ISBLANK(G206),\"\",IF(ISBLANK(L206),_xlfn.DAYS(TODAY(),G206),_xlfn.DAYS(L206,G206))))","v":""},null,null,null,{"$f":"IF(ISBLANK(P206), \"\", P206-Q206)","v":""},{"$f":"IF(ISBLANK(Q206), \"\", Q206/P206)","v":""}]
[null,null,null,null,null,null,null,{"$f":"IF(COUNTIF(E207,\"N\"),\"\",IF(ISBLANK(F207),\"\",IF(ISBLANK(G207),_xlfn.DAYS(TODAY(),F207),_xlfn.DAYS(G207,F207))))","v":""},null,{"$f":"IF(COUNTIF(E207,\"N\"),\"\",IF(ISBLANK(G207),\"\",IF(ISBLANK(I207),IF(ISBLANK(L207),_xlfn.DAYS(TODAY(),G207),_xlfn.DAYS(L207,G207)),_xlfn.DAYS(I207,G207))))","v":""},null,null,{"$f":"IF(COUNTIF(E207,\"N\"),\"ON HOLD\",IF(ISBLANK(L207),IF(ISBLANK(F207),\"\",IF(ISBLANK(G207),\"NO\",\"YES\")),\"NO\"))","v":""},{"$f":"IF(COUNTIF(E207,\"N\"),\"\",IF(ISBLANK(G207),\"\",IF(ISBLANK(L207),_xlfn.DAYS(TODAY(),G207),_xlfn.DAYS(L207,G207))))","v":""},null,null,null,{"$f":"IF(ISBLANK(P207), \"\", P207-Q207)","v":""},{"$f":"IF(ISBLANK(Q207), \"\", Q207/P207)","v":""}]
[null,null,null,null,null,null,null,{"$f":"IF(COUNTIF(E208,\"N\"),\"\",IF(ISBLANK(F208),\"\",IF(ISBLANK(G208),_xlfn.DAYS(TODAY(),F208),_xlfn.DAYS(G208,F208))))","v":""},null,{"$f":"IF(COUNTIF(E208,\"N\"),\"\",IF(ISBLANK(G208),\"\",IF(ISBLANK(I208),IF(ISBLANK(L208),_xlfn.DAYS(TODAY(),G208),_xlfn.DAYS(L208,G208)),_xlfn.DAYS(I208,G208))))","v":""},null,null,{"$f":"IF(COUNTIF(E208,\"N\"),\"ON HOLD\",IF(ISBLANK(L208),IF(ISBLANK(F208),\"\",IF(ISBLANK(G208),\"NO\",\"YES\")),\"NO\"))","v":""},{"$f":"IF(COUNTIF(E208,\"N\"),\"\",IF(ISBLANK(G208),\"\",IF(ISBLANK(L208),_xlfn.DAYS(TODAY(),G208),_xlfn.DAYS(L208,G208))))","v":""},null,null,null,{"$f":"IF(ISBLANK(P208), \"\", P208-Q208)","v":""},{"$f":"IF(ISBLANK(Q208), \"\", Q208/P208)","v":""}]
[null,null,null,null,null,null,null,{"$f":"IF(COUNTIF(E209,\"N\"),\"\",IF(ISBLANK(F209),\"\",IF(ISBLANK(G209),_xlfn.DAYS(TODAY(),F209),_xlfn.DAYS(G209,F209))))","v":""},null,{"$f":"IF(COUNTIF(E209,\"N\"),\"\",IF(ISBLANK(G209),\"\",IF(ISBLANK(I209),IF(ISBLANK(L209),_xlfn.DAYS(TODAY(),G209),_xlfn.DAYS(L209,G209)),_xlfn.DAYS(I209,G209))))","v":""},null,null,{"$f":"IF(COUNTIF(E209,\"N\"),\"ON HOLD\",IF(ISBLANK(L209),IF(ISBLANK(F209),\"\",IF(ISBLANK(G209),\"NO\",\"YES\")),\"NO\"))","v":""},{"$f":"IF(COUNTIF(E209,\"N\"),\"\",IF(ISBLANK(G209),\"\",IF(ISBLANK(L209),_xlfn.DAYS(TODAY(),G209),_xlfn.DAYS(L209,G209))))","v":""},null,null,null,{"$f":"IF(ISBLANK(P209), \"\", P209-Q209)","v":""},{"$f":"IF(ISBLANK(Q209), \"\", Q209/P209)","v":""}]
[null,null,null,null,null,null,null,{"$f":"IF(COUNTIF(E210,\"N\"),\"\",IF(ISBLANK(F210),\"\",IF(ISBLANK(G210),_xlfn.DAYS(TODAY(),F210),_xlfn.DAYS(G210,F210))))","v":""},null,{"$f":"IF(COUNTIF(E210,\"N\"),\"\",IF(ISBLANK(G210),\"\",IF(ISBLANK(I210),IF(ISBLANK(L210),_xlfn.DAYS(TODAY(),G210),_xlfn.DAYS(L210,G210)),_xlfn.DAYS(I210,G210))))","v":""},null,null,{"$f":"IF(COUNTIF(E210,\"N\"),\"ON HOLD\",IF(ISBLANK(L210),IF(ISBLANK(F210),\"\",IF(ISBLANK(G210),\"NO\",\"YES\")),\"NO\"))","v":""},{"$f":"IF(COUNTIF(E210,\"N\"),\"\",IF(ISBLANK(G210),\"\",IF(ISBLANK(L210),_xlfn.DAYS(TODAY(),G210),_xlfn.DAYS(L210,G210))))","v":""},null,null,null,{"$f":"IF(ISBLANK(P210), \"\", P210-Q210)","v":""},{"$f":"IF(ISBLANK(Q210), \"\", Q210/P210)","v":""}]
[null,null,null,null,null,null,null,{"$f":"IF(COUNTIF(E211,\"N\"),\"\",IF(ISBLANK(F211),\"\",IF(ISBLANK(G211),_xlfn.DAYS(TODAY(),F211),_xlfn.DAYS(G211,F211))))","v":""},null,{"$f":"IF(COUNTIF(E211,\"N\"),\"\",IF(ISBLANK(G211),\"\",IF(ISBLANK(I211),IF(ISBLANK(L211),_xlfn.DAYS(TODAY(),G211),_xlfn.DAYS(L211,G211)),_xlfn.DAYS(I211,G211))))","v":""},null,null,{"$f":"IF(COUNTIF(E211,\"N\"),\"ON HOLD\",IF(ISBLANK(L211),IF(ISBLANK(F211),\"\",IF(ISBLANK(G211),\"NO\",\"YES\")),\"NO\"))","v":""},{"$f":"IF(COUNTIF(E211,\"N\"),\"\",IF(ISBLANK(G211),\"\",IF(ISBLANK(L211),_xlfn.DAYS(TODAY(),G211),_xlfn.DAYS(L211,G211))))","v":""},null,null,null,{"$f":"IF(ISBLANK(P211), \"\", P211-Q211)","v":""},{"$f":"IF(ISBLANK(Q211), \"\", Q211/P211)","v":""}]
[null,null,null,null,null,null,null,{"$f":"IF(COUNTIF(E212,\"N\"),\"\",IF(ISBLANK(F212),\"\",IF(ISBLANK(G212),_xlfn.DAYS(TODAY(),F212),_xlfn.DAYS(G212,F212))))","v":""},null,{"$f":"IF(COUNTIF(E212,\"N\"),\"\",IF(ISBLANK(G212),\"\",IF(ISBLANK(I212),IF(ISBLANK(L212),_xlfn.DAYS(TODAY(),G212),_xlfn.DAYS(L212,G212)),_xlfn.DAYS(I212,G212))))","v":""},null,null,{"$f":"IF(COUNTIF(E212,\"N\"),\"ON HOLD\",IF(ISBLANK(L212),IF(ISBLANK(F212),\"\",IF(ISBLANK(G212),\"NO\",\"YES\")),\"NO\"))","v":""},{"$f":"IF(COUNTIF(E212,\"N\"),\"\",IF(ISBLANK(G212),\"\",IF(ISBLANK(L212),_xlfn.DAYS(TODAY(),G212),_xlfn.DAYS(L212,G212))))","v":""},null,null,null,{"$f":"IF(ISBLANK(P212), \"\", P212-Q212)","v":""},{"$f":"IF(ISBLANK(Q212), \"\", Q212/P212)","v":""}]
[null,null,null,null,null,null,null,{"$f":"IF(COUNTIF(E213,\"N\"),\"\",IF(ISBLANK(F213),\"\",IF(ISBLANK(G213),_xlfn.DAYS(TODAY(),F213),_xlfn.DAYS(G213,F213))))","v":""},null,{"$f":"IF(COUNTIF(E213,\"N\"),\"\",IF(ISBLANK(G213),\"\",IF(ISBLANK(I213),IF(ISBLANK(L213),_xlfn.DAYS(TODAY(),G213),_xlfn.DAYS(L213,G213)),_xlfn.DAYS(I213,G213))))","v":""},null,null,{"$f":"IF(COUNTIF(E213,\"N\"),\"ON HOLD\",IF(ISBLANK(L213),IF(ISBLANK(F213),\"\",IF(ISBLANK(G213),\"NO\",\"YES\")),\"NO\"))","v":""},{"$f":"IF(COUNTIF(E213,\"N\"),\"\",IF(ISBLANK(G213),\"\",IF(ISBLANK(L213),_xlfn.DAYS(TODAY(),G213),_xlfn.DAYS(L213,G213))))","v":""},null,null,null,{"$f":"IF(ISBLANK(P213), \"\", P213-Q213)","v":""},{"$f":"IF(ISBLANK(Q213), \"\", Q213/P213)","v":""}]
[null,null,null,null,null,null,null,{"$f":"IF(COUNTIF(E214,\"N\"),\"\",IF(ISBLANK(F214),\"\",IF(ISBLANK(G214),_xlfn.DAYS(TODAY(),F214),_xlfn.DAYS(G214,F214))))","v":""},null,{"$f":"IF(COUNTIF(E214,\"N\"),\"\",IF(ISBLANK(G214),\"\",IF(ISBLANK(I214),IF(ISBLANK(L214),_xlfn.DAYS(TODAY(),G214),_xlfn.DAYS(L214,G214)),_xlfn.DAYS(I214,G214))))","v":""},null,null,{"$f":"IF(COUNTIF(E214,\"N\"),\"ON HOLD\",IF(ISBLANK(L214),IF(ISBLANK(F214),\"\",IF(ISBLANK(G214),\"NO\",\"YES\")),\"NO\"))","v":""},{"$f":"IF(COUNTIF(E214,\"N\"),\"\",IF(ISBLANK(G214),\"\",IF(ISBLANK(L214),_xlfn.DAYS(TODAY(),G214),_xlfn.DAYS(L214,G214))))","v":""},null,null,null,{"$f":"IF(ISBLANK(P214), \"\", P214-Q214)","v":""},{"$f":"IF(ISBLANK(Q214), \"\", Q214/P214)","v":""}]
[null,null,null,null,null,null,null,{"$f":"IF(COUNTIF(E215,\"N\"),\"\",IF(ISBLANK(F215),\"\",IF(ISBLANK(G215),_xlfn.DAYS(TODAY(),F215),_xlfn.DAYS(G215,F215))))","v":""},null,{"$f":"IF(COUNTIF(E215,\"N\"),\"\",IF(ISBLANK(G215),\"\",IF(ISBLANK(I215),IF(ISBLANK(L215),_xlfn.DAYS(TODAY(),G215),_xlfn.DAYS(L215,G215)),_xlfn.DAYS(I215,G215))))","v":""},null,null,{"$f":"IF(COUNTIF(E215,\"N\"),\"ON HOLD\",IF(ISBLANK(L215),IF(ISBLANK(F215),\"\",IF(ISBLANK(G215),\"NO\",\"YES\")),\"NO\"))","v":""},{"$f":"IF(COUNTIF(E215,\"N\"),\"\",IF(ISBLANK(G215),\"\",IF(ISBLANK(L215),_xlfn.DAYS(TODAY(),G215),_xlfn.DAYS(L215,G215))))","v":""},null,null,null,{"$f":"IF(ISBLANK(P215), \"\", P215-Q215)","v":""},{"$f":"IF(ISBLANK(Q215), \"\", Q215/P215)","v":""}]
[null,null,null,null,null,null,null,{"$f":"IF(COUNTIF(E216,\"N\"),\"\",IF(ISBLANK(F216),\"\",IF(ISBLANK(G216),_xlfn.DAYS(TODAY(),F216),_xlfn.DAYS(G216,F216))))","v":""},null,{"$f":"IF(COUNTIF(E216,\"N\"),\"\",IF(ISBLANK(G216),\"\",IF(ISBLANK(I216),IF(ISBLANK(L216),_xlfn.DAYS(TODAY(),G216),_xlfn.DAYS(L216,G216)),_xlfn.DAYS(I216,G216))))","v":""},null,null,{"$f":"IF(COUNTIF(E216,\"N\"),\"ON HOLD\",IF(ISBLANK(L216),IF(ISBLANK(F216),\"\",IF(ISBLANK(G216),\"NO\",\"YES\")),\"NO\"))","v":""},{"$f":"IF(COUNTIF(E216,\"N\"),\"\",IF(ISBLANK(G216),\"\",IF(ISBLANK(L216),_xlfn.DAYS(TODAY(),G216),_xlfn.DAYS(L216,G216))))","v":""},null,null,null,{"$f":"IF(ISBLANK(P216), \"\", P216-Q216)","v":""},{"$f":"IF(ISBLANK(Q216), \"\", Q216/P216)","v":""}]
[null,null,null,null,null,null,null,{"$f":"IF(COUNTIF(E217,\"N\"),\"\",IF(ISBLANK(F217),\"\",IF(ISBLANK(G217),_xlfn.DAYS(TODAY(),F217),_xlfn.DAYS(G217,F217))))","v":""},null,{"$f":"IF(COUNTIF(E217,\"N\"),\"\",IF(ISBLANK(G217),\"\",IF(ISBLANK(I217),IF(ISBLANK(L217),_xlfn.DAYS(TODAY(),G217),_xlfn.DAYS(L217,G217)),_xlfn.DAYS(I217,G217))))","v":""},null,null,{"$f":"IF(COUNTIF(E217,\"N\"),\"ON HOLD\",IF(ISBLANK(L217),IF(ISBLANK(F217),\"\",IF(ISBLANK(G217),\"NO\",\"YES\")),\"NO\"))","v":""},{"$f":"IF(COUNTIF(E217,\"N\"),\"\",IF(ISBLANK(G217),\"\",IF(ISBLANK(L217),_xlfn.DAYS(TODAY(),G217),_xlfn.DAYS(L217,G217))))","v":""},null,null,null,{"$f":"IF(ISBLANK(P217), \"\", P217-Q217)","v":""},{"$f":"IF(ISBLANK(Q217), \"\", Q217/P217)","v":""}]
[null,null,null,null,null,null,null,{"$f":"IF(COUNTIF(E218,\"N\"),\"\",IF(ISBLANK(F218),\"\",IF(ISBLANK(G218),_xlfn.DAYS(TODAY(),F218),_xlfn.DAYS(G218,F218))))","v":""},null,{"$f":"IF(COUNTIF(E218,\"N\"),\"\",IF(ISBLANK(G218),\"\",IF(ISBLANK(I218),IF(ISBLANK(L218),_xlfn.DAYS(TODAY(),G218),_xlfn.DAYS(L218,G218)),_xlfn.DAYS(I218,G218))))","v":""},null,null,{"$f":"IF(COUNTIF(E218,\"N\"),\"ON HOLD\",IF(ISBLANK(L218),IF(ISBLANK(F218),\"\",IF(ISBLANK(G218),\"NO\",\"YES\")),\"NO\"))","v":""},{"$f":"IF(COUNTIF(E218,\"N\"),\"\",IF(ISBLANK(G218),\"\",IF(ISBLANK(L218),_xlfn.DAYS(TODAY(),G218),_xlfn.DAYS(L218,G218))))","v":""},null,null,null,{"$f":"IF(ISBLANK(P218), \"\", P218-Q218)","v":""},{"$f":"IF(ISBLANK(Q218), \"\", Q218/P218)","v":""}]
[null,null,null,null,null,null,null,{"$f":"IF(COUNTIF(E219,\"N\"),\"\",IF(ISBLANK(F219),\"\",IF(ISBLANK(G219),_xlfn.DAYS(TODAY(),F219),_xlfn.DAYS(G219,F219))))","v":""},null,{"$f":"IF(COUNTIF(E219,\"N\"),\"\",IF(ISBLANK(G219),\"\",IF(ISBLANK(I219),IF(ISBLANK(L219),_xlfn.DAYS(TODAY(),G219),_xlfn.DAYS(L219,G219)),_xlfn.DAYS(I219,G219))))","v":""},null,null,{"$f":"IF(COUNTIF(E219,\"N\"),\"ON HOLD\",IF(ISBLANK(L219),IF(ISBLANK(F219),\"\",IF(ISBLANK(G219),\"NO\",\"YES\")),\"NO\"))","v":""},{"$f":"IF(COUNTIF(E219,\"N\"),\"\",IF(ISBLANK(G219),\"\",IF(ISBLANK(L219),_xlfn.DAYS(TODAY(),G219),_xlfn.DAYS(L219,G219))))","v":""},null,null,null,{"$f":"IF(ISBLANK(P219), \"\", P219-Q219)","v":""},{"$f":"IF(ISBLANK(Q219), \"\", Q219/P219)","v":""}]
[null,null,null,null,null,null,null,{"$f":"IF(COUNTIF(E220,\"N\"),\"\",IF(ISBLANK(F220),\"\",IF(ISBLANK(G220),_xlfn.DAYS(TODAY(),F220),_xlfn.DAYS(G220,F220))))","v":""},null,{"$f":"IF(COUNTIF(E220,\"N\"),\"\",IF(ISBLANK(G220),\"\",IF(ISBLANK(I220),IF(ISBLANK(L220),_xlfn.DAYS(TODAY(),G220),_xlfn.DAYS(L220,G220)),_xlfn.DAYS(I220,G220))))","v":""},null,null,{"$f":"IF(COUNTIF(E220,\"N\"),\"ON HOLD\",IF(ISBLANK(L220),IF(ISBLANK(F220),\"\",IF(ISBLANK(G220),\"NO\",\"YES\")),\"NO\"))","v":""},{"$f":"IF(COUNTIF(E220,\"N\"),\"\",IF(ISBLANK(G220),\"\",IF(ISBLANK(L220),_xlfn.DAYS(TODAY(),G220),_xlfn.DAYS(L220,G220))))","v":""},null,null,null,{"$f":"IF(ISBLANK(P220), \"\", P220-Q220)","v":""},{"$f":"IF(ISBLANK(Q220), \"\", Q220/P220)","v":""}]
[null,null,null,null,null,null,null,{"$f":"IF(COUNTIF(E221,\"N\"),\"\",IF(ISBLANK(F221),\"\",IF(ISBLANK(G221),_xlfn.DAYS(TODAY(),F221),_xlfn.DAYS(G221,F221))))","v":""},null,{"$f":"IF(COUNTIF(E221,\"N\"),\"\",IF(ISBLANK(G221),\"\",IF(ISBLANK(I221),IF(ISBLANK(L221),_xlfn.DAYS(TODAY(),G221),_xlfn.DAYS(L221,G221)),_xlfn.DAYS(I221,G221))))","v":""},null,null,{"$f":"IF(COUNTIF(E221,\"N\"),\"ON HOLD\",IF(ISBLANK(L221),IF(ISBLANK(F221),\"\",IF(ISBLANK(G221),\"NO\",\"YES\")),\"NO\"))","v":""},{"$f":"IF(COUNTIF(E221,\"N\"),\"\",IF(ISBLANK(G221),\"\",IF(ISBLANK(L221),_xlfn.DAYS(TODAY(),G221),_xlfn.DAYS(L221,G221))))","v":""},null,null,null,{"$f":"IF(ISBLANK(P221), \"\", P221-Q221)","v":""},{"$f":"IF(ISBLANK(Q221), \"\", Q221/P221)","v":""}]
[null,null,null,null,null,null,null,{"$f":"IF(COUNTIF(E222,\"N\"),\"\",IF(ISBLANK(F222),\"\",IF(ISBLANK(G222),_xlfn.DAYS(TODAY(),F222),_xlfn.DAYS(G222,F222))))","v":""},null,{"$f":"IF(COUNTIF(E222,\"N\"),\"\",IF(ISBLANK(G222),\"\",IF(ISBLANK(I222),IF(ISBLANK(L222),_xlfn.DAYS(TODAY(),G222),_xlfn.DAYS(L222,G222)),_xlfn.DAYS(I222,G222))))","v":""},null,null,{"$f":"IF(COUNTIF(E222,\"N\"),\"ON HOLD\",IF(ISBLANK(L222),IF(ISBLANK(F222),\"\",IF(ISBLANK(G222),\"NO\",\"YES\")),\"NO\"))","v":""},{"$f":"IF(COUNTIF(E222,\"N\"),\"\",IF(ISBLANK(G222),\"\",IF(ISBLANK(L222),_xlfn.DAYS(TODAY(),G222),_xlfn.DAYS(L222,G222))))","v":""},null,null,null,{"$f":"IF(ISBLANK(P222), \"\", P222-Q222)","v":""},{"$f":"IF(ISBLANK(Q222), \"\", Q222/P222)","v":""}]
[null,null,null,null,null,null,null,{"$f":"IF(COUNTIF(E223,\"N\"),\"\",IF(ISBLANK(F223),\"\",IF(ISBLANK(G223),_xlfn.DAYS(TODAY(),F223),_xlfn.DAYS(G223,F223))))","v":""},null,{"$f":"IF(COUNTIF(E223,\"N\"),\"\",IF(ISBLANK(G223),\"\",IF(ISBLANK(I223),IF(ISBLANK(L223),_xlfn.DAYS(TODAY(),G223),_xlfn.DAYS(L223,G223)),_xlfn.DAYS(I223,G223))))","v":""},null,null,{"$f":"IF(COUNTIF(E223,\"N\"),\"ON HOLD\",IF(ISBLANK(L223),IF(ISBLANK(F223),\"\",IF(ISBLANK(G223),\"NO\",\"YES\")),\"NO\"))","v":""},{"$f":"IF(COUNTIF(E223,\"N\"),\"\",IF(ISBLANK(G223),\"\",IF(ISBLANK(L223),_xlfn.DAYS(TODAY(),G223),_xlfn.DAYS(L223,G223))))","v":""},null,null,null,{"$f":"IF(ISBLANK(P223), \"\", P223-Q223)","v":""},{"$f":"IF(ISBLANK(Q223), \"\", Q223/P223)","v":""}]
[null,null,null,null,null,null,null,{"$f":"IF(COUNTIF(E224,\"N\"),\"\",IF(ISBLANK(F224),\"\",IF(ISBLANK(G224),_xlfn.DAYS(TODAY(),F224),_xlfn.DAYS(G224,F224))))","v":""},null,{"$f":"IF(COUNTIF(E224,\"N\"),\"\",IF(ISBLANK(G224),\"\",IF(ISBLANK(I224),IF(ISBLANK(L224),_xlfn.DAYS(TODAY(),G224),_xlfn.DAYS(L224,G224)),_xlfn.DAYS(I224,G224))))","v":""},null,null,{"$f":"IF(COUNTIF(E224,\"N\"),\"ON HOLD\",IF(ISBLANK(L224),IF(ISBLANK(F224),\"\",IF(ISBLANK(G224),\"NO\",\"YES\")),\"NO\"))","v":""},{"$f":"IF(COUNTIF(E224,\"N\"),\"\",IF(ISBLANK(G224),\"\",IF(ISBLANK(L224),_xlfn.DAYS(TODAY(),G224),_xlfn.DAYS(L224,G224))))","v":""},null,null,null,{"$f":"IF(ISBLANK(P224), \"\", P224-Q224)","v":""},{"$f":"IF(ISBLANK(Q224), \"\", Q224/P224)","v":""}]
[null,null,null,null,null,null,null,{"$f":"IF(COUNTIF(E225,\"N\"),\"\",IF(ISBLANK(F225),\"\",IF(ISBLANK(G225),_xlfn.DAYS(TODAY(),F225),_xlfn.DAYS(G225,F225))))","v":""},null,{"$f":"IF(COUNTIF(E225,\"N\"),\"\",IF(ISBLANK(G225),\"\",IF(ISBLANK(I225),IF(ISBLANK(L225),_xlfn.DAYS(TODAY(),G225),_xlfn.DAYS(L225,G225)),_xlfn.DAYS(I225,G225))))","v":""},null,null,{"$f":"IF(COUNTIF(E225,\"N\"),\"ON HOLD\",IF(ISBLANK(L225),IF(ISBLANK(F225),\"\",IF(ISBLANK(G225),\"NO\",\"YES\")),\"NO\"))","v":""},{"$f":"IF(COUNTIF(E225,\"N\"),\"\",IF(ISBLANK(G225),\"\",IF(ISBLANK(L225),_xlfn.DAYS(TODAY(),G225),_xlfn.DAYS(L225,G225))))","v":""},null,null,null,{"$f":"IF(ISBLANK(P225), \"\", P225-Q225)","v":""},{"$f":"IF(ISBLANK(Q225), \"\", Q225/P225)","v":""}]
[null,null,null,null,null,null,null,{"$f":"IF(COUNTIF(E226,\"N\"),\"\",IF(ISBLANK(F226),\"\",IF(ISBLANK(G226),_xlfn.DAYS(TODAY(),F226),_xlfn.DAYS(G226,F226))))","v":""},null,{"$f":"IF(COUNTIF(E226,\"N\"),\"\",IF(ISBLANK(G226),\"\",IF(ISBLANK(I226),IF(ISBLANK(L226),_xlfn.DAYS(TODAY(),G226),_xlfn.DAYS(L226,G226)),_xlfn.DAYS(I226,G226))))","v":""},null,null,{"$f":"IF(COUNTIF(E226,\"N\"),\"ON HOLD\",IF(ISBLANK(L226),IF(ISBLANK(F226),\"\",IF(ISBLANK(G226),\"NO\",\"YES\")),\"NO\"))","v":""},{"$f":"IF(COUNTIF(E226,\"N\"),\"\",IF(ISBLANK(G226),\"\",IF(ISBLANK(L226),_xlfn.DAYS(TODAY(),G226),_xlfn.DAYS(L226,G226))))","v":""},null,null,null,{"$f":"IF(ISBLANK(P226), \"\", P226-Q226)","v":""},{"$f":"IF(ISBLANK(Q226), \"\", Q226/P226)","v":""}]
[null,null,null,null,null,null,null,{"$f":"IF(COUNTIF(E227,\"N\"),\"\",IF(ISBLANK(F227),\"\",IF(ISBLANK(G227),_xlfn.DAYS(TODAY(),F227),_xlfn.DAYS(G227,F227))))","v":""},null,{"$f":"IF(COUNTIF(E227,\"N\"),\"\",IF(ISBLANK(G227),\"\",IF(ISBLANK(I227),IF(ISBLANK(L227),_xlfn.DAYS(TODAY(),G227),_xlfn.DAYS(L227,G227)),_xlfn.DAYS(I227,G227))))","v":""},null,null,{"$f":"IF(COUNTIF(E227,\"N\"),\"ON HOLD\",IF(ISBLANK(L227),IF(ISBLANK(F227),\"\",IF(ISBLANK(G227),\"NO\",\"YES\")),\"NO\"))","v":""},{"$f":"IF(COUNTIF(E227,\"N\"),\"\",IF(ISBLANK(G227),\"\",IF(ISBLANK(L227),_xlfn.DAYS(TODAY(),G227),_xlfn.DAYS(L227,G227))))","v":""},null,null,null,{"$f":"IF(ISBLANK(P227), \"\", P227-Q227)","v":""},{"$f":"IF(ISBLANK(Q227), \"\", Q227/P227)","v":""}]
[null,null,null,null,null,null,null,{"$f":"IF(COUNTIF(E228,\"N\"),\"\",IF(ISBLANK(F228),\"\",IF(ISBLANK(G228),_xlfn.DAYS(TODAY(),F228),_xlfn.DAYS(G228,F228))))","v":""},null,{"$f":"IF(COUNTIF(E228,\"N\"),\"\",IF(ISBLANK(G228),\"\",IF(ISBLANK(I228),IF(ISBLANK(L228),_xlfn.DAYS(TODAY(),G228),_xlfn.DAYS(L228,G228)),_xlfn.DAYS(I228,G228))))","v":""},null,null,{"$f":"IF(COUNTIF(E228,\"N\"),\"ON HOLD\",IF(ISBLANK(L228),IF(ISBLANK(F228),\"\",IF(ISBLANK(G228),\"NO\",\"YES\")),\"NO\"))","v":""},{"$f":"IF(COUNTIF(E228,\"N\"),\"\",IF(ISBLANK(G228),\"\",IF(ISBLANK(L228),_xlfn.DAYS(TODAY(),G228),_xlfn.DAYS(L228,G228))))","v":""},null,null,null,{"$f":"IF(ISBLANK(P228), \"\", P228-Q228)","v":""},{"$f":"IF(ISBLANK(Q228), \"\", Q228/P228)","v":""}]
[null,null,null,null,null,null,null,{"$f":"IF(COUNTIF(E229,\"N\"),\"\",IF(ISBLANK(F229),\"\",IF(ISBLANK(G229),_xlfn.DAYS(TODAY(),F229),_xlfn.DAYS(G229,F229))))","v":""},null,{"$f":"IF(COUNTIF(E229,\"N\"),\"\",IF(ISBLANK(G229),\"\",IF(ISBLANK(I229),IF(ISBLANK(L229),_xlfn.DAYS(TODAY(),G229),_xlfn.DAYS(L229,G229)),_xlfn.DAYS(I229,G229))))","v":""},null,null,{"$f":"IF(COUNTIF(E229,\"N\"),\"ON HOLD\",IF(ISBLANK(L229),IF(ISBLANK(F229),\"\",IF(ISBLANK(G229),\"NO\",\"YES\")),\"NO\"))","v":""},{"$f":"IF(COUNTIF(E229,\"N\"),\"\",IF(ISBLANK(G229),\"\",IF(ISBLANK(L229),_xlfn.DAYS(TODAY(),G229),_xlfn.DAYS(L229,G229))))","v":""},null,null,null,{"$f":"IF(ISBLANK(P229), \"\", P229-Q229)","v":""},{"$f":"IF(ISBLANK(Q229), \"\", Q229/P229)","v":""}]
[null,null,null,null,null,null,null,{"$f":"IF(COUNTIF(E230,\"N\"),\"\",IF(ISBLANK(F230),\"\",IF(ISBLANK(G230),_xlfn.DAYS(TODAY(),F230),_xlfn.DAYS(G230,F230))))","v":""},null,{"$f":"IF(COUNTIF(E230,\"N\"),\"\",IF(ISBLANK(G230),\"\",IF(ISBLANK(I230),IF(ISBLANK(L230),_xlfn.DAYS(TODAY(),G230),_xlfn.DAYS(L230,G230)),_xlfn.DAYS(I230,G230))))","v":""},null,null,{"$f":"IF(COUNTIF(E230,\"N\"),\"ON HOLD\",IF(ISBLANK(L230),IF(ISBLANK(F230),\"\",IF(ISBLANK(G230),\"NO\",\"YES\")),\"NO\"))","v":""},{"$f":"IF(COUNTIF(E230,\"N\"),\"\",IF(ISBLANK(G230),\"\",IF(ISBLANK(L230),_xlfn.DAYS(TODAY(),G230),_xlfn.DAYS(L230,G230))))","v":""},null,null,null,{"$f":"IF(ISBLANK(P230), \"\", P230-Q230)","v":""},{"$f":"IF(ISBLANK(Q230), \"\", Q230/P230)","v":""}]
[null,null,null,null,null,null,null,{"$f":"IF(COUNTIF(E231,\"N\"),\"\",IF(ISBLANK(F231),\"\",IF(ISBLANK(G231),_xlfn.DAYS(TODAY(),F231),_xlfn.DAYS(G231,F231))))","v":""},null,{"$f":"IF(COUNTIF(E231,\"N\"),\"\",IF(ISBLANK(G231),\"\",IF(ISBLANK(I231),IF(ISBLANK(L231),_xlfn.DAYS(TODAY(),G231),_xlfn.DAYS(L231,G231)),_xlfn.DAYS(I231,G231))))","v":""},null,null,{"$f":"IF(COUNTIF(E231,\"N\"),\"ON HOLD\",IF(ISBLANK(L231),IF(ISBLANK(F231),\"\",IF(ISBLANK(G231),\"NO\",\"YES\")),\"NO\"))","v":""},{"$f":"IF(COUNTIF(E231,\"N\"),\"\",IF(ISBLANK(G231),\"\",IF(ISBLANK(L231),_xlfn.DAYS(TODAY(),G231),_xlfn.DAYS(L231,G231))))","v":""},null,null,null,{"$f":"IF(ISBLANK(P231), \"\", P231-Q231)","v":""},{"$f":"IF(ISBLANK(Q231), \"\", Q231/P231)","v":""}]
[null,null,null,null,null,null,null,{"$f":"IF(COUNTIF(E232,\"N\"),\"\",IF(ISBLANK(F232),\"\",IF(ISBLANK(G232),_xlfn.DAYS(TODAY(),F232),_xlfn.DAYS(G232,F232))))","v":""},null,{"$f":"IF(COUNTIF(E232,\"N\"),\"\",IF(ISBLANK(G232),\"\",IF(ISBLANK(I232),IF(ISBLANK(L232),_xlfn.DAYS(TODAY(),G232),_xlfn.DAYS(L232,G232)),_xlfn.DAYS(I232,G232))))","v":""},null,null,{"$f":"IF(COUNTIF(E232,\"N\"),\"ON HOLD\",IF(ISBLANK(L232),IF(ISBLANK(F232),\"\",IF(ISBLANK(G232),\"NO\",\"YES\")),\"NO\"))","v":""},{"$f":"IF(COUNTIF(E232,\"N\"),\"\",IF(ISBLANK(G232),\"\",IF(ISBLANK(L232),_xlfn.DAYS(TODAY(),G232),_xlfn.DAYS(L232,G232))))","v":""},null,null,null,{"$f":"IF(ISBLANK(P232), \"\", P232-Q232)","v":""},{"$f":"IF(ISBLANK(Q232), \"\", Q232/P232)","v":""}]
[null,null,null,null,null,null,null,{"$f":"IF(COUNTIF(E233,\"N\"),\"\",IF(ISBLANK(F233),\"\",IF(ISBLANK(G233),_xlfn.DAYS(TODAY(),F233),_xlfn.DAYS(G233,F233))))","v":""},null,{"$f":"IF(COUNTIF(E233,\"N\"),\"\",IF(ISBLANK(G233),\"\",IF(ISBLANK(I233),IF(ISBLANK(L233),_xlfn.DAYS(TODAY(),G233),_xlfn.DAYS(L233,G233)),_xlfn.DAYS(I233,G233))))","v":""},null,null,{"$f":"IF(COUNTIF(E233,\"N\"),\"ON HOLD\",IF(ISBLANK(L233),IF(ISBLANK(F233),\"\",IF(ISBLANK(G233),\"NO\",\"YES\")),\"NO\"))","v":""},{"$f":"IF(COUNTIF(E233,\"N\"),\"\",IF(ISBLANK(G233),\"\",IF(ISBLANK(L233),_xlfn.DAYS(TODAY(),G233),_xlfn.DAYS(L233,G233))))","v":""},null,null,null,{"$f":"IF(ISBLANK(P233), \"\", P233-Q233)","v":""},{"$f":"IF(ISBLANK(Q233), \"\", Q233/P233)","v":""}]
[null,null,null,null,null,null,null,{"$f":"IF(COUNTIF(E234,\"N\"),\"\",IF(ISBLANK(F234),\"\",IF(ISBLANK(G234),_xlfn.DAYS(TODAY(),F234),_xlfn.DAYS(G234,F234))))","v":""},null,{"$f":"IF(COUNTIF(E234,\"N\"),\"\",IF(ISBLANK(G234),\"\",IF(ISBLANK(I234),IF(ISBLANK(L234),_xlfn.DAYS(TODAY(),G234),_xlfn.DAYS(L234,G234)),_xlfn.DAYS(I234,G234))))","v":""},null,null,{"$f":"IF(COUNTIF(E234,\"N\"),\"ON HOLD\",IF(ISBLANK(L234),IF(ISBLANK(F234),\"\",IF(ISBLANK(G234),\"NO\",\"YES\")),\"NO\"))","v":""},{"$f":"IF(COUNTIF(E234,\"N\"),\"\",IF(ISBLANK(G234),\"\",IF(ISBLANK(L234),_xlfn.DAYS(TODAY(),G234),_xlfn.DAYS(L234,G234))))","v":""},null,null,null,{"$f":"IF(ISBLANK(P234), \"\", P234-Q234)","v":""},{"$f":"IF(ISBLANK(Q234), \"\", Q234/P234)","v":""}]
[null,null,null,null,null,null,null,{"$f":"IF(COUNTIF(E235,\"N\"),\"\",IF(ISBLANK(F235),\"\",IF(ISBLANK(G235),_xlfn.DAYS(TODAY(),F235),_xlfn.DAYS(G235,F235))))","v":""},null,{"$f":"IF(COUNTIF(E235,\"N\"),\"\",IF(ISBLANK(G235),\"\",IF(ISBLANK(I235),IF(ISBLANK(L235),_xlfn.DAYS(TODAY(),G235),_xlfn.DAYS(L235,G235)),_xlfn.DAYS(I235,G235))))","v":""},null,null,{"$f":"IF(COUNTIF(E235,\"N\"),\"ON HOLD\",IF(ISBLANK(L235),IF(ISBLANK(F235),\"\",IF(ISBLANK(G235),\"NO\",\"YES\")),\"NO\"))","v":""},{"$f":"IF(COUNTIF(E235,\"N\"),\"\",IF(ISBLANK(G235),\"\",IF(ISBLANK(L235),_xlfn.DAYS(TODAY(),G235),_xlfn.DAYS(L235,G235))))","v":""},null,null,null,{"$f":"IF(ISBLANK(P235), \"\", P235-Q235)","v":""},{"$f":"IF(ISBLANK(Q235), \"\", Q235/P235)","v":""}]
[null,null,null,null,null,null,null,{"$f":"IF(COUNTIF(E236,\"N\"),\"\",IF(ISBLANK(F236),\"\",IF(ISBLANK(G236),_xlfn.DAYS(TODAY(),F236),_xlfn.DAYS(G236,F236))))","v":""},null,{"$f":"IF(COUNTIF(E236,\"N\"),\"\",IF(ISBLANK(G236),\"\",IF(ISBLANK(I236),IF(ISBLANK(L236),_xlfn.DAYS(TODAY(),G236),_xlfn.DAYS(L236,G236)),_xlfn.DAYS(I236,G236))))","v":""},null,null,{"$f":"IF(COUNTIF(E236,\"N\"),\"ON HOLD\",IF(ISBLANK(L236),IF(ISBLANK(F236),\"\",IF(ISBLANK(G236),\"NO\",\"YES\")),\"NO\"))","v":""},{"$f":"IF(COUNTIF(E236,\"N\"),\"\",IF(ISBLANK(G236),\"\",IF(ISBLANK(L236),_xlfn.DAYS(TODAY(),G236),_xlfn.DAYS(L236,G236))))","v":""},null,null,null,{"$f":"IF(ISBLANK(P236), \"\", P236-Q236)","v":""},{"$f":"IF(ISBLANK(Q236), \"\", Q236/P236)","v":""}]
[null,null,null,null,null,null,null,{"$f":"IF(COUNTIF(E237,\"N\"),\"\",IF(ISBLANK(F237),\"\",IF(ISBLANK(G237),_xlfn.DAYS(TODAY(),F237),_xlfn.DAYS(G237,F237))))","v":""},null,{"$f":"IF(COUNTIF(E237,\"N\"),\"\",IF(ISBLANK(G237),\"\",IF(ISBLANK(I237),IF(ISBLANK(L237),_xlfn.DAYS(TODAY(),G237),_xlfn.DAYS(L237,G237)),_xlfn.DAYS(I237,G237))))","v":""},null,null,{"$f":"IF(COUNTIF(E237,\"N\"),\"ON HOLD\",IF(ISBLANK(L237),IF(ISBLANK(F237),\"\",IF(ISBLANK(G237),\"NO\",\"YES\")),\"NO\"))","v":""},{"$f":"IF(COUNTIF(E237,\"N\"),\"\",IF(ISBLANK(G237),\"\",IF(ISBLANK(L237),_xlfn.DAYS(TODAY(),G237),_xlfn.DAYS(L237,G237))))","v":""},null,null,null,{"$f":"IF(ISBLANK(P237), \"\", P237-Q237)","v":""},{"$f":"IF(ISBLANK(Q237), \"\", Q237/P237)","v":""}]
[null,null,null,null,null,null,null,{"$f":"IF(COUNTIF(E238,\"N\"),\"\",IF(ISBLANK(F238),\"\",IF(ISBLANK(G238),_xlfn.DAYS(TODAY(),F238),_xlfn.DAYS(G238,F238))))","v":""},null,{"$f":"IF(COUNTIF(E238,\"N\"),\"\",IF(ISBLANK(G238),\"\",IF(ISBLANK(I238),IF(ISBLANK(L238),_xlfn.DAYS(TODAY(),G238),_xlfn.DAYS(L238,G238)),_xlfn.DAYS(I238,G238))))","v":""},null,null,{"$f":"IF(COUNTIF(E238,\"N\"),\"ON HOLD\",IF(ISBLANK(L238),IF(ISBLANK(F238),\"\",IF(ISBLANK(G238),\"NO\",\"YES\")),\"NO\"))","v":""},{"$f":"IF(COUNTIF(E238,\"N\"),\"\",IF(ISBLANK(G238),\"\",IF(ISBLANK(L238),_xlfn.DAYS(TODAY(),G238),_xlfn.DAYS(L238,G238))))","v":""},null,null,null,{"$f":"IF(ISBLANK(P238), \"\", P238-Q238)","v":""},{"$f":"IF(ISBLANK(Q238), \"\", Q238/P238)","v":""}]
[null,null,null,null,null,null,null,{"$f":"IF(COUNTIF(E239,\"N\"),\"\",IF(ISBLANK(F239),\"\",IF(ISBLANK(G239),_xlfn.DAYS(TODAY(),F239),_xlfn.DAYS(G239,F239))))","v":""},null,{"$f":"IF(COUNTIF(E239,\"N\"),\"\",IF(ISBLANK(G239),\"\",IF(ISBLANK(I239),IF(ISBLANK(L239),_xlfn.DAYS(TODAY(),G239),_xlfn.DAYS(L239,G239)),_xlfn.DAYS(I239,G239))))","v":""},null,null,{"$f":"IF(COUNTIF(E239,\"N\"),\"ON HOLD\",IF(ISBLANK(L239),IF(ISBLANK(F239),\"\",IF(ISBLANK(G239),\"NO\",\"YES\")),\"NO\"))","v":""},{"$f":"IF(COUNTIF(E239,\"N\"),\"\",IF(ISBLANK(G239),\"\",IF(ISBLANK(L239),_xlfn.DAYS(TODAY(),G239),_xlfn.DAYS(L239,G239))))","v":""},null,null,null,{"$f":"IF(ISBLANK(P239), \"\", P239-Q239)","v":""},{"$f":"IF(ISBLANK(Q239), \"\", Q239/P239)","v":""}]
[null,null,null,null,null,null,null,{"$f":"IF(COUNTIF(E240,\"N\"),\"\",IF(ISBLANK(F240),\"\",IF(ISBLANK(G240),_xlfn.DAYS(TODAY(),F240),_xlfn.DAYS(G240,F240))))","v":""},null,{"$f":"IF(COUNTIF(E240,\"N\"),\"\",IF(ISBLANK(G240),\"\",IF(ISBLANK(I240),IF(ISBLANK(L240),_xlfn.DAYS(TODAY(),G240),_xlfn.DAYS(L240,G240)),_xlfn.DAYS(I240,G240))))","v":""},null,null,{"$f":"IF(COUNTIF(E240,\"N\"),\"ON HOLD\",IF(ISBLANK(L240),IF(ISBLANK(F240),\"\",IF(ISBLANK(G240),\"NO\",\"YES\")),\"NO\"))","v":""},{"$f":"IF(COUNTIF(E240,\"N\"),\"\",IF(ISBLANK(G240),\"\",IF(ISBLANK(L240),_xlfn.DAYS(TODAY(),G240),_xlfn.DAYS(L240,G240))))","v":""},null,null,null,{"$f":"IF(ISBLANK(P240), \"\", P240-Q240)","v":""},{"$f":"IF(ISBLANK(Q240), \"\", Q240/P240)","v":""}]
[null,null,null,null,null,null,null,{"$f":"IF(COUNTIF(E241,\"N\"),\"\",IF(ISBLANK(F241),\"\",IF(ISBLANK(G241),_xlfn.DAYS(TODAY(),F241),_xlfn.DAYS(G241,F241))))","v":""},null,{"$f":"IF(COUNTIF(E241,\"N\"),\"\",IF(ISBLANK(G241),\"\",IF(ISBLANK(I241),IF(ISBLANK(L241),_xlfn.DAYS(TODAY(),G241),_xlfn.DAYS(L241,G241)),_xlfn.DAYS(I241,G241))))","v":""},null,null,{"$f":"IF(COUNTIF(E241,\"N\"),\"ON HOLD\",IF(ISBLANK(L241),IF(ISBLANK(F241),\"\",IF(ISBLANK(G241),\"NO\",\"YES\")),\"NO\"))","v":""},{"$f":"IF(COUNTIF(E241,\"N\"),\"\",IF(ISBLANK(G241),\"\",IF(ISBLANK(L241),_xlfn.DAYS(TODAY(),G241),_xlfn.DAYS(L241,G241))))","v":""},null,null,null,{"$f":"IF(ISBLANK(P241), \"\", P241-Q241)","v":""},{"$f":"IF(ISBLANK(Q241), \"\", Q241/P241)","v":""}]
[null,null,null,null,null,null,null,{"$f":"IF(COUNTIF(E242,\"N\"),\"\",IF(ISBLANK(F242),\"\",IF(ISBLANK(G242),_xlfn.DAYS(TODAY(),F242),_xlfn.DAYS(G242,F242))))","v":""},null,{"$f":"IF(COUNTIF(E242,\"N\"),\"\",IF(ISBLANK(G242),\"\",IF(ISBLANK(I242),IF(ISBLANK(L242),_xlfn.DAYS(TODAY(),G242),_xlfn.DAYS(L242,G242)),_xlfn.DAYS(I242,G242))))","v":""},null,null,{"$f":"IF(COUNTIF(E242,\"N\"),\"ON HOLD\",IF(ISBLANK(L242),IF(ISBLANK(F242),\"\",IF(ISBLANK(G242),\"NO\",\"YES\")),\"NO\"))","v":""},{"$f":"IF(COUNTIF(E242,\"N\"),\"\",IF(ISBLANK(G242),\"\",IF(ISBLANK(L242),_xlfn.DAYS(TODAY(),G242),_xlfn.DAYS(L242,G242))))","v":""},null,null,null,{"$f":"IF(ISBLANK(P242), \"\", P242-Q242)","v":""},{"$f":"IF(ISBLANK(Q242), \"\", Q242/P242)","v":""}]
[null,null,null,null,null,null,null,{"$f":"IF(COUNTIF(E243,\"N\"),\"\",IF(ISBLANK(F243),\"\",IF(ISBLANK(G243),_xlfn.DAYS(TODAY(),F243),_xlfn.DAYS(G243,F243))))","v":""},null,{"$f":"IF(COUNTIF(E243,\"N\"),\"\",IF(ISBLANK(G243),\"\",IF(ISBLANK(I243),IF(ISBLANK(L243),_xlfn.DAYS(TODAY(),G243),_xlfn.DAYS(L243,G243)),_xlfn.DAYS(I243,G243))))","v":""},null,null,{"$f":"IF(COUNTIF(E243,\"N\"),\"ON HOLD\",IF(ISBLANK(L243),IF(ISBLANK(F243),\"\",IF(ISBLANK(G243),\"NO\",\"YES\")),\"NO\"))","v":""},{"$f":"IF(COUNTIF(E243,\"N\"),\"\",IF(ISBLANK(G243),\"\",IF(ISBLANK(L243),_xlfn.DAYS(TODAY(),G243),_xlfn.DAYS(L243,G243))))","v":""},null,null,null,{"$f":"IF(ISBLANK(P243), \"\", P243-Q243)","v":""},{"$f":"IF(ISBLANK(Q243), \"\", Q243/P243)","v":""}]
[null,null,null,null,null,null,null,{"$f":"IF(COUNTIF(E244,\"N\"),\"\",IF(ISBLANK(F244),\"\",IF(ISBLANK(G244),_xlfn.DAYS(TODAY(),F244),_xlfn.DAYS(G244,F244))))","v":""},null,{"$f":"IF(COUNTIF(E244,\"N\"),\"\",IF(ISBLANK(G244),\"\",IF(ISBLANK(I244),IF(ISBLANK(L244),_xlfn.DAYS(TODAY(),G244),_xlfn.DAYS(L244,G244)),_xlfn.DAYS(I244,G244))))","v":""},null,null,{"$f":"IF(COUNTIF(E244,\"N\"),\"ON HOLD\",IF(ISBLANK(L244),IF(ISBLANK(F244),\"\",IF(ISBLANK(G244),\"NO\",\"YES\")),\"NO\"))","v":""},{"$f":"IF(COUNTIF(E244,\"N\"),\"\",IF(ISBLANK(G244),\"\",IF(ISBLANK(L244),_xlfn.DAYS(TODAY(),G244),_xlfn.DAYS(L244,G244))))","v":""},null,null,null,{"$f":"IF(ISBLANK(P244), \"\", P244-Q244)","v":""},{"$f":"IF(ISBLANK(Q244), \"\", Q244/P244)","v":""}]
[null,null,null,null,null,null,null,{"$f":"IF(COUNTIF(E245,\"N\"),\"\",IF(ISBLANK(F245),\"\",IF(ISBLANK(G245),_xlfn.DAYS(TODAY(),F245),_xlfn.DAYS(G245,F245))))","v":""},null,{"$f":"IF(COUNTIF(E245,\"N\"),\"\",IF(ISBLANK(G245),\"\",IF(ISBLANK(I245),IF(ISBLANK(L245),_xlfn.DAYS(TODAY(),G245),_xlfn.DAYS(L245,G245)),_xlfn.DAYS(I245,G245))))","v":""},null,null,{"$f":"IF(COUNTIF(E245,\"N\"),\"ON HOLD\",IF(ISBLANK(L245),IF(ISBLANK(F245),\"\",IF(ISBLANK(G245),\"NO\",\"YES\")),\"NO\"))","v":""},{"$f":"IF(COUNTIF(E245,\"N\"),\"\",IF(ISBLANK(G245),\"\",IF(ISBLANK(L245),_xlfn.DAYS(TODAY(),G245),_xlfn.DAYS(L245,G245))))","v":""},null,null,null,{"$f":"IF(ISBLANK(P245), \"\", P245-Q245)","v":""},{"$f":"IF(ISBLANK(Q245), \"\", Q245/P245)","v":""}]
[null,null,null,null,null,null,null,{"$f":"IF(COUNTIF(E246,\"N\"),\"\",IF(ISBLANK(F246),\"\",IF(ISBLANK(G246),_xlfn.DAYS(TODAY(),F246),_xlfn.DAYS(G246,F246))))","v":""},null,{"$f":"IF(COUNTIF(E246,\"N\"),\"\",IF(ISBLANK(G246),\"\",IF(ISBLANK(I246),IF(ISBLANK(L246),_xlfn.DAYS(TODAY(),G246),_xlfn.DAYS(L246,G246)),_xlfn.DAYS(I246,G246))))","v":""},null,null,{"$f":"IF(COUNTIF(E246,\"N\"),\"ON HOLD\",IF(ISBLANK(L246),IF(ISBLANK(F246),\"\",IF(ISBLANK(G246),\"NO\",\"YES\")),\"NO\"))","v":""},{"$f":"IF(COUNTIF(E246,\"N\"),\"\",IF(ISBLANK(G246),\"\",IF(ISBLANK(L246),_xlfn.DAYS(TODAY(),G246),_xlfn.DAYS(L246,G246))))","v":""},null,null,null,{"$f":"IF(ISBLANK(P246), \"\", P246-Q246)","v":""},{"$f":"IF(ISBLANK(Q246), \"\", Q246/P246)","v":""}]
[null,null,null,null,null,null,null,{"$f":"IF(COUNTIF(E247,\"N\"),\"\",IF(ISBLANK(F247),\"\",IF(ISBLANK(G247),_xlfn.DAYS(TODAY(),F247),_xlfn.DAYS(G247,F247))))","v":""},null,{"$f":"IF(COUNTIF(E247,\"N\"),\"\",IF(ISBLANK(G247),\"\",IF(ISBLANK(I247),IF(ISBLANK(L247),_xlfn.DAYS(TODAY(),G247),_xlfn.DAYS(L247,G247)),_xlfn.DAYS(I247,G247))))","v":""},null,null,{"$f":"IF(COUNTIF(E247,\"N\"),\"ON HOLD\",IF(ISBLANK(L247),IF(ISBLANK(F247),\"\",IF(ISBLANK(G247),\"NO\",\"YES\")),\"NO\"))","v":""},{"$f":"IF(COUNTIF(E247,\"N\"),\"\",IF(ISBLANK(G247),\"\",IF(ISBLANK(L247),_xlfn.DAYS(TODAY(),G247),_xlfn.DAYS(L247,G247))))","v":""},null,null,null,{"$f":"IF(ISBLANK(P247), \"\", P247-Q247)","v":""},{"$f":"IF(ISBLANK(Q247), \"\", Q247/P247)","v":""}]
[null,null,null,null,null,null,null,{"$f":"IF(COUNTIF(E248,\"N\"),\"\",IF(ISBLANK(F248),\"\",IF(ISBLANK(G248),_xlfn.DAYS(TODAY(),F248),_xlfn.DAYS(G248,F248))))","v":""},null,{"$f":"IF(COUNTIF(E248,\"N\"),\"\",IF(ISBLANK(G248),\"\",IF(ISBLANK(I248),IF(ISBLANK(L248),_xlfn.DAYS(TODAY(),G248),_xlfn.DAYS(L248,G248)),_xlfn.DAYS(I248,G248))))","v":""},null,null,{"$f":"IF(COUNTIF(E248,\"N\"),\"ON HOLD\",IF(ISBLANK(L248),IF(ISBLANK(F248),\"\",IF(ISBLANK(G248),\"NO\",\"YES\")),\"NO\"))","v":""},{"$f":"IF(COUNTIF(E248,\"N\"),\"\",IF(ISBLANK(G248),\"\",IF(ISBLANK(L248),_xlfn.DAYS(TODAY(),G248),_xlfn.DAYS(L248,G248))))","v":""},null,null,null,{"$f":"IF(ISBLANK(P248), \"\", P248-Q248)","v":""},{"$f":"IF(ISBLANK(Q248), \"\", Q248/P248)","v":""}]
[null,null,null,null,null,null,null,{"$f":"IF(COUNTIF(E249,\"N\"),\"\",IF(ISBLANK(F249),\"\",IF(ISBLANK(G249),_xlfn.DAYS(TODAY(),F249),_xlfn.DAYS(G249,F249))))","v":""},null,{"$f":"IF(COUNTIF(E249,\"N\"),\"\",IF(ISBLANK(G249),\"\",IF(ISBLANK(I249),IF(ISBLANK(L249),_xlfn.DAYS(TODAY(),G249),_xlfn.DAYS(L249,G249)),_xlfn.DAYS(I249,G249))))","v":""},null,null,{"$f":"IF(COUNTIF(E249,\"N\"),\"ON HOLD\",IF(ISBLANK(L249),IF(ISBLANK(F249),\"\",IF(ISBLANK(G249),\"NO\",\"YES\")),\"NO\"))","v":""},{"$f":"IF(COUNTIF(E249,\"N\"),\"\",IF(ISBLANK(G249),\"\",IF(ISBLANK(L249),_xlfn.DAYS(TODAY(),G249),_xlfn.DAYS(L249,G249))))","v":""},null,null,null,{"$f":"IF(ISBLANK(P249), \"\", P249-Q249)","v":""},{"$f":"IF(ISBLANK(Q249), \"\", Q249/P249)","v":""}]
[null,null,null,null,null,null,null,{"$f":"IF(COUNTIF(E250,\"N\"),\"\",IF(ISBLANK(F250),\"\",IF(ISBLANK(G250),_xlfn.DAYS(TODAY(),F250),_xlfn.DAYS(G250,F250))))","v":""},null,{"$f":"IF(COUNTIF(E250,\"N\"),\"\",IF(ISBLANK(G250),\"\",IF(ISBLANK(I250),IF(ISBLANK(L250),_xlfn.DAYS(TODAY(),G250),_xlfn.DAYS(L250,G250)),_xlfn.DAYS(I250,G250))))","v":""},null,null,{"$f":"IF(COUNTIF(E250,\"N\"),\"ON HOLD\",IF(ISBLANK(L250),IF(ISBLANK(F250),\"\",IF(ISBLANK(G250),\"NO\",\"YES\")),\"NO\"))","v":""},{"$f":"IF(COUNTIF(E250,\"N\"),\"\",IF(ISBLANK(G250),\"\",IF(ISBLANK(L250),_xlfn.DAYS(TODAY(),G250),_xlfn.DAYS(L250,G250))))","v":""},null,null,null,{"$f":"IF(ISBLANK(P250), \"\", P250-Q250)","v":""},{"$f":"IF(ISBLANK(Q250), \"\", Q250/P250)","v":""}]
[null,null,null,null,null,null,null,{"$f":"IF(COUNTIF(E251,\"N\"),\"\",IF(ISBLANK(F251),\"\",IF(ISBLANK(G251),_xlfn.DAYS(TODAY(),F251),_xlfn.DAYS(G251,F251))))","v":""},null,{"$f":"IF(COUNTIF(E251,\"N\"),\"\",IF(ISBLANK(G251),\"\",IF(ISBLANK(I251),IF(ISBLANK(L251),_xlfn.DAYS(TODAY(),G251),_xlfn.DAYS(L251,G251)),_xlfn.DAYS(I251,G251))))","v":""},null,null,{"$f":"IF(COUNTIF(E251,\"N\"),\"ON HOLD\",IF(ISBLANK(L251),IF(ISBLANK(F251),\"\",IF(ISBLANK(G251),\"NO\",\"YES\")),\"NO\"))","v":""},{"$f":"IF(COUNTIF(E251,\"N\"),\"\",IF(ISBLANK(G251),\"\",IF(ISBLANK(L251),_xlfn.DAYS(TODAY(),G251),_xlfn.DAYS(L251,G251))))","v":""},null,null,null,{"$f":"IF(ISBLANK(P251), \"\", P251-Q251)","v":""},{"$f":"IF(ISBLANK(Q251), \"\", Q251/P251)","v":""}]
[null,null,null,null,null,null,null,{"$f":"IF(COUNTIF(E252,\"N\"),\"\",IF(ISBLANK(F252),\"\",IF(ISBLANK(G252),_xlfn.DAYS(TODAY(),F252),_xlfn.DAYS(G252,F252))))","v":""},null,{"$f":"IF(COUNTIF(E252,\"N\"),\"\",IF(ISBLANK(G252),\"\",IF(ISBLANK(I252),IF(ISBLANK(L252),_xlfn.DAYS(TODAY(),G252),_xlfn.DAYS(L252,G252)),_xlfn.DAYS(I252,G252))))","v":""},null,null,{"$f":"IF(COUNTIF(E252,\"N\"),\"ON HOLD\",IF(ISBLANK(L252),IF(ISBLANK(F252),\"\",IF(ISBLANK(G252),\"NO\",\"YES\")),\"NO\"))","v":""},{"$f":"IF(COUNTIF(E252,\"N\"),\"\",IF(ISBLANK(G252),\"\",IF(ISBLANK(L252),_xlfn.DAYS(TODAY(),G252),_xlfn.DAYS(L252,G252))))","v":""},null,null,null,{"$f":"IF(ISBLANK(P252), \"\", P252-Q252)","v":""},{"$f":"IF(ISBLANK(Q252), \"\", Q252/P252)","v":""}]
[null,null,null,null,null,null,null,{"$f":"IF(COUNTIF(E253,\"N\"),\"\",IF(ISBLANK(F253),\"\",IF(ISBLANK(G253),_xlfn.DAYS(TODAY(),F253),_xlfn.DAYS(G253,F253))))","v":""},null,{"$f":"IF(COUNTIF(E253,\"N\"),\"\",IF(ISBLANK(G253),\"\",IF(ISBLANK(I253),IF(ISBLANK(L253),_xlfn.DAYS(TODAY(),G253),_xlfn.DAYS(L253,G253)),_xlfn.DAYS(I253,G253))))","v":""},null,null,{"$f":"IF(COUNTIF(E253,\"N\"),\"ON HOLD\",IF(ISBLANK(L253),IF(ISBLANK(F253),\"\",IF(ISBLANK(G253),\"NO\",\"YES\")),\"NO\"))","v":""},{"$f":"IF(COUNTIF(E253,\"N\"),\"\",IF(ISBLANK(G253),\"\",IF(ISBLANK(L253),_xlfn.DAYS(TODAY(),G253),_xlfn.DAYS(L253,G253))))","v":""},null,null,null,{"$f":"IF(ISBLANK(P253), \"\", P253-Q253)","v":""},{"$f":"IF(ISBLANK(Q253), \"\", Q253/P253)","v":""}]
[null,null,null,null,null,null,null,{"$f":"IF(COUNTIF(E254,\"N\"),\"\",IF(ISBLANK(F254),\"\",IF(ISBLANK(G254),_xlfn.DAYS(TODAY(),F254),_xlfn.DAYS(G254,F254))))","v":""},null,{"$f":"IF(COUNTIF(E254,\"N\"),\"\",IF(ISBLANK(G254),\"\",IF(ISBLANK(I254),IF(ISBLANK(L254),_xlfn.DAYS(TODAY(),G254),_xlfn.DAYS(L254,G254)),_xlfn.DAYS(I254,G254))))","v":""},null,null,{"$f":"IF(COUNTIF(E254,\"N\"),\"ON HOLD\",IF(ISBLANK(L254),IF(ISBLANK(F254),\"\",IF(ISBLANK(G254),\"NO\",\"YES\")),\"NO\"))","v":""},{"$f":"IF(COUNTIF(E254,\"N\"),\"\",IF(ISBLANK(G254),\"\",IF(ISBLANK(L254),_xlfn.DAYS(TODAY(),G254),_xlfn.DAYS(L254,G254))))","v":""},null,null,null,{"$f":"IF(ISBLANK(P254), \"\", P254-Q254)","v":""},{"$f":"IF(ISBLANK(Q254), \"\", Q254/P254)","v":""}]
[null,null,null,null,null,null,null,{"$f":"IF(COUNTIF(E255,\"N\"),\"\",IF(ISBLANK(F255),\"\",IF(ISBLANK(G255),_xlfn.DAYS(TODAY(),F255),_xlfn.DAYS(G255,F255))))","v":""},null,{"$f":"IF(COUNTIF(E255,\"N\"),\"\",IF(ISBLANK(G255),\"\",IF(ISBLANK(I255),IF(ISBLANK(L255),_xlfn.DAYS(TODAY(),G255),_xlfn.DAYS(L255,G255)),_xlfn.DAYS(I255,G255))))","v":""},null,null,{"$f":"IF(COUNTIF(E255,\"N\"),\"ON HOLD\",IF(ISBLANK(L255),IF(ISBLANK(F255),\"\",IF(ISBLANK(G255),\"NO\",\"YES\")),\"NO\"))","v":""},{"$f":"IF(COUNTIF(E255,\"N\"),\"\",IF(ISBLANK(G255),\"\",IF(ISBLANK(L255),_xlfn.DAYS(TODAY(),G255),_xlfn.DAYS(L255,G255))))","v":""},null,null,null,{"$f":"IF(ISBLANK(P255), \"\", P255-Q255)","v":""},{"$f":"IF(ISBLANK(Q255), \"\", Q255/P255)","v":""}]
[null,null,null,null,null,null,null,{"$f":"IF(COUNTIF(E256,\"N\"),\"\",IF(ISBLANK(F256),\"\",IF(ISBLANK(G256),_xlfn.DAYS(TODAY(),F256),_xlfn.DAYS(G256,F256))))","v":""},null,{"$f":"IF(COUNTIF(E256,\"N\"),\"\",IF(ISBLANK(G256),\"\",IF(ISBLANK(I256),IF(ISBLANK(L256),_xlfn.DAYS(TODAY(),G256),_xlfn.DAYS(L256,G256)),_xlfn.DAYS(I256,G256))))","v":""},null,null,{"$f":"IF(COUNTIF(E256,\"N\"),\"ON HOLD\",IF(ISBLANK(L256),IF(ISBLANK(F256),\"\",IF(ISBLANK(G256),\"NO\",\"YES\")),\"NO\"))","v":""},{"$f":"IF(COUNTIF(E256,\"N\"),\"\",IF(ISBLANK(G256),\"\",IF(ISBLANK(L256),_xlfn.DAYS(TODAY(),G256),_xlfn.DAYS(L256,G256))))","v":""},null,null,null,{"$f":"IF(ISBLANK(P256), \"\", P256-Q256)","v":""},{"$f":"IF(ISBLANK(Q256), \"\", Q256/P256)","v":""}]
[null,null,null,null,null,null,null,{"$f":"IF(COUNTIF(E257,\"N\"),\"\",IF(ISBLANK(F257),\"\",IF(ISBLANK(G257),_xlfn.DAYS(TODAY(),F257),_xlfn.DAYS(G257,F257))))","v":""},null,{"$f":"IF(COUNTIF(E257,\"N\"),\"\",IF(ISBLANK(G257),\"\",IF(ISBLANK(I257),IF(ISBLANK(L257),_xlfn.DAYS(TODAY(),G257),_xlfn.DAYS(L257,G257)),_xlfn.DAYS(I257,G257))))","v":""},null,null,{"$f":"IF(COUNTIF(E257,\"N\"),\"ON HOLD\",IF(ISBLANK(L257),IF(ISBLANK(F257),\"\",IF(ISBLANK(G257),\"NO\",\"YES\")),\"NO\"))","v":""},{"$f":"IF(COUNTIF(E257,\"N\"),\"\",IF(ISBLANK(G257),\"\",IF(ISBLANK(L257),_xlfn.DAYS(TODAY(),G257),_xlfn.DAYS(L257,G257))))","v":""},null,null,null,{"$f":"IF(ISBLANK(P257), \"\", P257-Q257)","v":""},{"$f":"IF(ISBLANK(Q257), \"\", Q257/P257)","v":""}]
[null,null,null,null,null,null,null,{"$f":"IF(COUNTIF(E258,\"N\"),\"\",IF(ISBLANK(F258),\"\",IF(ISBLANK(G258),_xlfn.DAYS(TODAY(),F258),_xlfn.DAYS(G258,F258))))","v":""},null,{"$f":"IF(COUNTIF(E258,\"N\"),\"\",IF(ISBLANK(G258),\"\",IF(ISBLANK(I258),IF(ISBLANK(L258),_xlfn.DAYS(TODAY(),G258),_xlfn.DAYS(L258,G258)),_xlfn.DAYS(I258,G258))))","v":""},null,null,{"$f":"IF(COUNTIF(E258,\"N\"),\"ON HOLD\",IF(ISBLANK(L258),IF(ISBLANK(F258),\"\",IF(ISBLANK(G258),\"NO\",\"YES\")),\"NO\"))","v":""},{"$f":"IF(COUNTIF(E258,\"N\"),\"\",IF(ISBLANK(G258),\"\",IF(ISBLANK(L258),_xlfn.DAYS(TODAY(),G258),_xlfn.DAYS(L258,G258))))","v":""},null,null,null,{"$f":"IF(ISBLANK(P258), \"\", P258-Q258)","v":""},{"$f":"IF(ISBLANK(Q258), \"\", Q258/P258)","v":""}]
[null,null,null,null,null,null,null,{"$f":"IF(COUNTIF(E259,\"N\"),\"\",IF(ISBLANK(F259),\"\",IF(ISBLANK(G259),_xlfn.DAYS(TODAY(),F259),_xlfn.DAYS(G259,F259))))","v":""},null,{"$f":"IF(COUNTIF(E259,\"N\"),\"\",IF(ISBLANK(G259),\"\",IF(ISBLANK(I259),IF(ISBLANK(L259),_xlfn.DAYS(TODAY(),G259),_xlfn.DAYS(L259,G259)),_xlfn.DAYS(I259,G259))))","v":""},null,null,{"$f":"IF(COUNTIF(E259,\"N\"),\"ON HOLD\",IF(ISBLANK(L259),IF(ISBLANK(F259),\"\",IF(ISBLANK(G259),\"NO\",\"YES\")),\"NO\"))","v":""},{"$f":"IF(COUNTIF(E259,\"N\"),\"\",IF(ISBLANK(G259),\"\",IF(ISBLANK(L259),_xlfn.DAYS(TODAY(),G259),_xlfn.DAYS(L259,G259))))","v":""},null,null,null,{"$f":"IF(ISBLANK(P259), \"\", P259-Q259)","v":""},{"$f":"IF(ISBLANK(Q259), \"\", Q259/P259)","v":""}]
[null,null,null,null,null,null,null,{"$f":"IF(COUNTIF(E260,\"N\"),\"\",IF(ISBLANK(F260),\"\",IF(ISBLANK(G260),_xlfn.DAYS(TODAY(),F260),_xlfn.DAYS(G260,F260))))","v":""},null,{"$f":"IF(COUNTIF(E260,\"N\"),\"\",IF(ISBLANK(G260),\"\",IF(ISBLANK(I260),IF(ISBLANK(L260),_xlfn.DAYS(TODAY(),G260),_xlfn.DAYS(L260,G260)),_xlfn.DAYS(I260,G260))))","v":""},null,null,{"$f":"IF(COUNTIF(E260,\"N\"),\"ON HOLD\",IF(ISBLANK(L260),IF(ISBLANK(F260),\"\",IF(ISBLANK(G260),\"NO\",\"YES\")),\"NO\"))","v":""},{"$f":"IF(COUNTIF(E260,\"N\"),\"\",IF(ISBLANK(G260),\"\",IF(ISBLANK(L260),_xlfn.DAYS(TODAY(),G260),_xlfn.DAYS(L260,G260))))","v":""},null,null,null,{"$f":"IF(ISBLANK(P260), \"\", P260-Q260)","v":""},{"$f":"IF(ISBLANK(Q260), \"\", Q260/P260)","v":""}]
[null,null,null,null,null,null,null,{"$f":"IF(COUNTIF(E261,\"N\"),\"\",IF(ISBLANK(F261),\"\",IF(ISBLANK(G261),_xlfn.DAYS(TODAY(),F261),_xlfn.DAYS(G261,F261))))","v":""},null,{"$f":"IF(COUNTIF(E261,\"N\"),\"\",IF(ISBLANK(G261),\"\",IF(ISBLANK(I261),IF(ISBLANK(L261),_xlfn.DAYS(TODAY(),G261),_xlfn.DAYS(L261,G261)),_xlfn.DAYS(I261,G261))))","v":""},null,null,{"$f":"IF(COUNTIF(E261,\"N\"),\"ON HOLD\",IF(ISBLANK(L261),IF(ISBLANK(F261),\"\",IF(ISBLANK(G261),\"NO\",\"YES\")),\"NO\"))","v":""},{"$f":"IF(COUNTIF(E261,\"N\"),\"\",IF(ISBLANK(G261),\"\",IF(ISBLANK(L261),_xlfn.DAYS(TODAY(),G261),_xlfn.DAYS(L261,G261))))","v":""},null,null,null,{"$f":"IF(ISBLANK(P261), \"\", P261-Q261)","v":""},{"$f":"IF(ISBLANK(Q261), \"\", Q261/P261)","v":""}]
[null,null,null,null,null,null,null,{"$f":"IF(COUNTIF(E262,\"N\"),\"\",IF(ISBLANK(F262),\"\",IF(ISBLANK(G262),_xlfn.DAYS(TODAY(),F262),_xlfn.DAYS(G262,F262))))","v":""},null,{"$f":"IF(COUNTIF(E262,\"N\"),\"\",IF(ISBLANK(G262),\"\",IF(ISBLANK(I262),IF(ISBLANK(L262),_xlfn.DAYS(TODAY(),G262),_xlfn.DAYS(L262,G262)),_xlfn.DAYS(I262,G262))))","v":""},null,null,{"$f":"IF(COUNTIF(E262,\"N\"),\"ON HOLD\",IF(ISBLANK(L262),IF(ISBLANK(F262),\"\",IF(ISBLANK(G262),\"NO\",\"YES\")),\"NO\"))","v":""},{"$f":"IF(COUNTIF(E262,\"N\"),\"\",IF(ISBLANK(G262),\"\",IF(ISBLANK(L262),_xlfn.DAYS(TODAY(),G262),_xlfn.DAYS(L262,G262))))","v":""},null,null,null,{"$f":"IF(ISBLANK(P262), \"\", P262-Q262)","v":""},{"$f":"IF(ISBLANK(Q262), \"\", Q262/P262)","v":""}]
[null,null,null,null,null,null,null,{"$f":"IF(COUNTIF(E263,\"N\"),\"\",IF(ISBLANK(F263),\"\",IF(ISBLANK(G263),_xlfn.DAYS(TODAY(),F263),_xlfn.DAYS(G263,F263))))","v":""},null,{"$f":"IF(COUNTIF(E263,\"N\"),\"\",IF(ISBLANK(G263),\"\",IF(ISBLANK(I263),IF(ISBLANK(L263),_xlfn.DAYS(TODAY(),G263),_xlfn.DAYS(L263,G263)),_xlfn.DAYS(I263,G263))))","v":""},null,null,{"$f":"IF(COUNTIF(E263,\"N\"),\"ON HOLD\",IF(ISBLANK(L263),IF(ISBLANK(F263),\"\",IF(ISBLANK(G263),\"NO\",\"YES\")),\"NO\"))","v":""},{"$f":"IF(COUNTIF(E263,\"N\"),\"\",IF(ISBLANK(G263),\"\",IF(ISBLANK(L263),_xlfn.DAYS(TODAY(),G263),_xlfn.DAYS(L263,G263))))","v":""},null,null,null,{"$f":"IF(ISBLANK(P263), \"\", P263-Q263)","v":""},{"$f":"IF(ISBLANK(Q263), \"\", Q263/P263)","v":""}]
[null,null,null,null,null,null,null,{"$f":"IF(COUNTIF(E264,\"N\"),\"\",IF(ISBLANK(F264),\"\",IF(ISBLANK(G264),_xlfn.DAYS(TODAY(),F264),_xlfn.DAYS(G264,F264))))","v":""},null,{"$f":"IF(COUNTIF(E264,\"N\"),\"\",IF(ISBLANK(G264),\"\",IF(ISBLANK(I264),IF(ISBLANK(L264),_xlfn.DAYS(TODAY(),G264),_xlfn.DAYS(L264,G264)),_xlfn.DAYS(I264,G264))))","v":""},null,null,{"$f":"IF(COUNTIF(E264,\"N\"),\"ON HOLD\",IF(ISBLANK(L264),IF(ISBLANK(F264),\"\",IF(ISBLANK(G264),\"NO\",\"YES\")),\"NO\"))","v":""},{"$f":"IF(COUNTIF(E264,\"N\"),\"\",IF(ISBLANK(G264),\"\",IF(ISBLANK(L264),_xlfn.DAYS(TODAY(),G264),_xlfn.DAYS(L264,G264))))","v":""},null,null,null,{"$f":"IF(ISBLANK(P264), \"\", P264-Q264)","v":""},{"$f":"IF(ISBLANK(Q264), \"\", Q264/P264)","v":""}]
[null,null,null,null,null,null,null,{"$f":"IF(COUNTIF(E265,\"N\"),\"\",IF(ISBLANK(F265),\"\",IF(ISBLANK(G265),_xlfn.DAYS(TODAY(),F265),_xlfn.DAYS(G265,F265))))","v":""},null,{"$f":"IF(COUNTIF(E265,\"N\"),\"\",IF(ISBLANK(G265),\"\",IF(ISBLANK(I265),IF(ISBLANK(L265),_xlfn.DAYS(TODAY(),G265),_xlfn.DAYS(L265,G265)),_xlfn.DAYS(I265,G265))))","v":""},null,null,{"$f":"IF(COUNTIF(E265,\"N\"),\"ON HOLD\",IF(ISBLANK(L265),IF(ISBLANK(F265),\"\",IF(ISBLANK(G265),\"NO\",\"YES\")),\"NO\"))","v":""},{"$f":"IF(COUNTIF(E265,\"N\"),\"\",IF(ISBLANK(G265),\"\",IF(ISBLANK(L265),_xlfn.DAYS(TODAY(),G265),_xlfn.DAYS(L265,G265))))","v":""},null,null,null,{"$f":"IF(ISBLANK(P265), \"\", P265-Q265)","v":""},{"$f":"IF(ISBLANK(Q265), \"\", Q265/P265)","v":""}]
[null,null,null,null,null,null,null,{"$f":"IF(COUNTIF(E266,\"N\"),\"\",IF(ISBLANK(F266),\"\",IF(ISBLANK(G266),_xlfn.DAYS(TODAY(),F266),_xlfn.DAYS(G266,F266))))","v":""},null,{"$f":"IF(COUNTIF(E266,\"N\"),\"\",IF(ISBLANK(G266),\"\",IF(ISBLANK(I266),IF(ISBLANK(L266),_xlfn.DAYS(TODAY(),G266),_xlfn.DAYS(L266,G266)),_xlfn.DAYS(I266,G266))))","v":""},null,null,{"$f":"IF(COUNTIF(E266,\"N\"),\"ON HOLD\",IF(ISBLANK(L266),IF(ISBLANK(F266),\"\",IF(ISBLANK(G266),\"NO\",\"YES\")),\"NO\"))","v":""},{"$f":"IF(COUNTIF(E266,\"N\"),\"\",IF(ISBLANK(G266),\"\",IF(ISBLANK(L266),_xlfn.DAYS(TODAY(),G266),_xlfn.DAYS(L266,G266))))","v":""},null,null,null,{"$f":"IF(ISBLANK(P266), \"\", P266-Q266)","v":""},{"$f":"IF(ISBLANK(Q266), \"\", Q266/P266)","v":""}]
[null,null,null,null,null,null,null,{"$f":"IF(COUNTIF(E267,\"N\"),\"\",IF(ISBLANK(F267),\"\",IF(ISBLANK(G267),_xlfn.DAYS(TODAY(),F267),_xlfn.DAYS(G267,F267))))","v":""},null,{"$f":"IF(COUNTIF(E267,\"N\"),\"\",IF(ISBLANK(G267),\"\",IF(ISBLANK(I267),IF(ISBLANK(L267),_xlfn.DAYS(TODAY(),G267),_xlfn.DAYS(L267,G267)),_xlfn.DAYS(I267,G267))))","v":""},null,null,{"$f":"IF(COUNTIF(E267,\"N\"),\"ON HOLD\",IF(ISBLANK(L267),IF(ISBLANK(F267),\"\",IF(ISBLANK(G267),\"NO\",\"YES\")),\"NO\"))","v":""},{"$f":"IF(COUNTIF(E267,\"N\"),\"\",IF(ISBLANK(G267),\"\",IF(ISBLANK(L267),_xlfn.DAYS(TODAY(),G267),_xlfn.DAYS(L267,G267))))","v":""},null,null,null,{"$f":"IF(ISBLANK(P267), \"\", P267-Q267)","v":""},{"$f":"IF(ISBLANK(Q267), \"\", Q267/P267)","v":""}]
[null,null,null,null,null,null,null,{"$f":"IF(COUNTIF(E268,\"N\"),\"\",IF(ISBLANK(F268),\"\",IF(ISBLANK(G268),_xlfn.DAYS(TODAY(),F268),_xlfn.DAYS(G268,F268))))","v":""},null,{"$f":"IF(COUNTIF(E268,\"N\"),\"\",IF(ISBLANK(G268),\"\",IF(ISBLANK(I268),IF(ISBLANK(L268),_xlfn.DAYS(TODAY(),G268),_xlfn.DAYS(L268,G268)),_xlfn.DAYS(I268,G268))))","v":""},null,null,{"$f":"IF(COUNTIF(E268,\"N\"),\"ON HOLD\",IF(ISBLANK(L268),IF(ISBLANK(F268),\"\",IF(ISBLANK(G268),\"NO\",\"YES\")),\"NO\"))","v":""},{"$f":"IF(COUNTIF(E268,\"N\"),\"\",IF(ISBLANK(G268),\"\",IF(ISBLANK(L268),_xlfn.DAYS(TODAY(),G268),_xlfn.DAYS(L268,G268))))","v":""},null,null,null,{"$f":"IF(ISBLANK(P268), \"\", P268-Q268)","v":""},{"$f":"IF(ISBLANK(Q268), \"\", Q268/P268)","v":""}]
[null,null,null,null,null,null,null,{"$f":"IF(COUNTIF(E269,\"N\"),\"\",IF(ISBLANK(F269),\"\",IF(ISBLANK(G269),_xlfn.DAYS(TODAY(),F269),_xlfn.DAYS(G269,F269))))","v":""},null,{"$f":"IF(COUNTIF(E269,\"N\"),\"\",IF(ISBLANK(G269),\"\",IF(ISBLANK(I269),IF(ISBLANK(L269),_xlfn.DAYS(TODAY(),G269),_xlfn.DAYS(L269,G269)),_xlfn.DAYS(I269,G269))))","v":""},null,null,{"$f":"IF(COUNTIF(E269,\"N\"),\"ON HOLD\",IF(ISBLANK(L269),IF(ISBLANK(F269),\"\",IF(ISBLANK(G269),\"NO\",\"YES\")),\"NO\"))","v":""},{"$f":"IF(COUNTIF(E269,\"N\"),\"\",IF(ISBLANK(G269),\"\",IF(ISBLANK(L269),_xlfn.DAYS(TODAY(),G269),_xlfn.DAYS(L269,G269))))","v":""},null,null,null,{"$f":"IF(ISBLANK(P269), \"\", P269-Q269)","v":""},{"$f":"IF(ISBLANK(Q269), \"\", Q269/P269)","v":""}]
[null,null,null,null,null,null,null,{"$f":"IF(COUNTIF(E270,\"N\"),\"\",IF(ISBLANK(F270),\"\",IF(ISBLANK(G270),_xlfn.DAYS(TODAY(),F270),_xlfn.DAYS(G270,F270))))","v":""},null,{"$f":"IF(COUNTIF(E270,\"N\"),\"\",IF(ISBLANK(G270),\"\",IF(ISBLANK(I270),IF(ISBLANK(L270),_xlfn.DAYS(TODAY(),G270),_xlfn.DAYS(L270,G270)),_xlfn.DAYS(I270,G270))))","v":""},null,null,{"$f":"IF(COUNTIF(E270,\"N\"),\"ON HOLD\",IF(ISBLANK(L270),IF(ISBLANK(F270),\"\",IF(ISBLANK(G270),\"NO\",\"YES\")),\"NO\"))","v":""},{"$f":"IF(COUNTIF(E270,\"N\"),\"\",IF(ISBLANK(G270),\"\",IF(ISBLANK(L270),_xlfn.DAYS(TODAY(),G270),_xlfn.DAYS(L270,G270))))","v":""},null,null,null,{"$f":"IF(ISBLANK(P270), \"\", P270-Q270)","v":""},{"$f":"IF(ISBLANK(Q270), \"\", Q270/P270)","v":""}]
[null,null,null,null,null,null,null,{"$f":"IF(COUNTIF(E271,\"N\"),\"\",IF(ISBLANK(F271),\"\",IF(ISBLANK(G271),_xlfn.DAYS(TODAY(),F271),_xlfn.DAYS(G271,F271))))","v":""},null,{"$f":"IF(COUNTIF(E271,\"N\"),\"\",IF(ISBLANK(G271),\"\",IF(ISBLANK(I271),IF(ISBLANK(L271),_xlfn.DAYS(TODAY(),G271),_xlfn.DAYS(L271,G271)),_xlfn.DAYS(I271,G271))))","v":""},null,null,{"$f":"IF(COUNTIF(E271,\"N\"),\"ON HOLD\",IF(ISBLANK(L271),IF(ISBLANK(F271),\"\",IF(ISBLANK(G271),\"NO\",\"YES\")),\"NO\"))","v":""},{"$f":"IF(COUNTIF(E271,\"N\"),\"\",IF(ISBLANK(G271),\"\",IF(ISBLANK(L271),_xlfn.DAYS(TODAY(),G271),_xlfn.DAYS(L271,G271))))","v":""},null,null,null,{"$f":"IF(ISBLANK(P271), \"\", P271-Q271)","v":""},{"$f":"IF(ISBLANK(Q271), \"\", Q271/P271)","v":""}]
[null,null,null,null,null,null,null,{"$f":"IF(COUNTIF(E272,\"N\"),\"\",IF(ISBLANK(F272),\"\",IF(ISBLANK(G272),_xlfn.DAYS(TODAY(),F272),_xlfn.DAYS(G272,F272))))","v":""},null,{"$f":"IF(COUNTIF(E272,\"N\"),\"\",IF(ISBLANK(G272),\"\",IF(ISBLANK(I272),IF(ISBLANK(L272),_xlfn.DAYS(TODAY(),G272),_xlfn.DAYS(L272,G272)),_xlfn.DAYS(I272,G272))))","v":""},null,null,{"$f":"IF(COUNTIF(E272,\"N\"),\"ON HOLD\",IF(ISBLANK(L272),IF(ISBLANK(F272),\"\",IF(ISBLANK(G272),\"NO\",\"YES\")),\"NO\"))","v":""},{"$f":"IF(COUNTIF(E272,\"N\"),\"\",IF(ISBLANK(G272),\"\",IF(ISBLANK(L272),_xlfn.DAYS(TODAY(),G272),_xlfn.DAYS(L272,G272))))","v":""},null,null,null,{"$f":"IF(ISBLANK(P272), \"\", P272-Q272)","v":""},{"$f":"IF(ISBLANK(Q272), \"\", Q272/P272)","v":""}]
[null,null,null,null,null,null,null,{"$f":"IF(COUNTIF(E273,\"N\"),\"\",IF(ISBLANK(F273),\"\",IF(ISBLANK(G273),_xlfn.DAYS(TODAY(),F273),_xlfn.DAYS(G273,F273))))","v":""},null,{"$f":"IF(COUNTIF(E273,\"N\"),\"\",IF(ISBLANK(G273),\"\",IF(ISBLANK(I273),IF(ISBLANK(L273),_xlfn.DAYS(TODAY(),G273),_xlfn.DAYS(L273,G273)),_xlfn.DAYS(I273,G273))))","v":""},null,null,{"$f":"IF(COUNTIF(E273,\"N\"),\"ON HOLD\",IF(ISBLANK(L273),IF(ISBLANK(F273),\"\",IF(ISBLANK(G273),\"NO\",\"YES\")),\"NO\"))","v":""},{"$f":"IF(COUNTIF(E273,\"N\"),\"\",IF(ISBLANK(G273),\"\",IF(ISBLANK(L273),_xlfn.DAYS(TODAY(),G273),_xlfn.DAYS(L273,G273))))","v":""},null,null,null,{"$f":"IF(ISBLANK(P273), \"\", P273-Q273)","v":""},{"$f":"IF(ISBLANK(Q273), \"\", Q273/P273)","v":""}]
[null,null,null,null,null,null,null,{"$f":"IF(COUNTIF(E274,\"N\"),\"\",IF(ISBLANK(F274),\"\",IF(ISBLANK(G274),_xlfn.DAYS(TODAY(),F274),_xlfn.DAYS(G274,F274))))","v":""},null,{"$f":"IF(COUNTIF(E274,\"N\"),\"\",IF(ISBLANK(G274),\"\",IF(ISBLANK(I274),IF(ISBLANK(L274),_xlfn.DAYS(TODAY(),G274),_xlfn.DAYS(L274,G274)),_xlfn.DAYS(I274,G274))))","v":""},null,null,{"$f":"IF(COUNTIF(E274,\"N\"),\"ON HOLD\",IF(ISBLANK(L274),IF(ISBLANK(F274),\"\",IF(ISBLANK(G274),\"NO\",\"YES\")),\"NO\"))","v":""},{"$f":"IF(COUNTIF(E274,\"N\"),\"\",IF(ISBLANK(G274),\"\",IF(ISBLANK(L274),_xlfn.DAYS(TODAY(),G274),_xlfn.DAYS(L274,G274))))","v":""},null,null,null,{"$f":"IF(ISBLANK(P274), \"\", P274-Q274)","v":""},{"$f":"IF(ISBLANK(Q274), \"\", Q274/P274)","v":""}]
[null,null,null,null,null,null,null,{"$f":"IF(COUNTIF(E275,\"N\"),\"\",IF(ISBLANK(F275),\"\",IF(ISBLANK(G275),_xlfn.DAYS(TODAY(),F275),_xlfn.DAYS(G275,F275))))","v":""},null,{"$f":"IF(COUNTIF(E275,\"N\"),\"\",IF(ISBLANK(G275),\"\",IF(ISBLANK(I275),IF(ISBLANK(L275),_xlfn.DAYS(TODAY(),G275),_xlfn.DAYS(L275,G275)),_xlfn.DAYS(I275,G275))))","v":""},null,null,{"$f":"IF(COUNTIF(E275,\"N\"),\"ON HOLD\",IF(ISBLANK(L275),IF(ISBLANK(F275),\"\",IF(ISBLANK(G275),\"NO\",\"YES\")),\"NO\"))","v":""},{"$f":"IF(COUNTIF(E275,\"N\"),\"\",IF(ISBLANK(G275),\"\",IF(ISBLANK(L275),_xlfn.DAYS(TODAY(),G275),_xlfn.DAYS(L275,G275))))","v":""},null,null,null,{"$f":"IF(ISBLANK(P275), \"\", P275-Q275)","v":""},{"$f":"IF(ISBLANK(Q275), \"\", Q275/P275)","v":""}]
[null,null,null,null,null,null,null,{"$f":"IF(COUNTIF(E276,\"N\"),\"\",IF(ISBLANK(F276),\"\",IF(ISBLANK(G276),_xlfn.DAYS(TODAY(),F276),_xlfn.DAYS(G276,F276))))","v":""},null,{"$f":"IF(COUNTIF(E276,\"N\"),\"\",IF(ISBLANK(G276),\"\",IF(ISBLANK(I276),IF(ISBLANK(L276),_xlfn.DAYS(TODAY(),G276),_xlfn.DAYS(L276,G276)),_xlfn.DAYS(I276,G276))))","v":""},null,null,{"$f":"IF(COUNTIF(E276,\"N\"),\"ON HOLD\",IF(ISBLANK(L276),IF(ISBLANK(F276),\"\",IF(ISBLANK(G276),\"NO\",\"YES\")),\"NO\"))","v":""},{"$f":"IF(COUNTIF(E276,\"N\"),\"\",IF(ISBLANK(G276),\"\",IF(ISBLANK(L276),_xlfn.DAYS(TODAY(),G276),_xlfn.DAYS(L276,G276))))","v":""},null,null,null,{"$f":"IF(ISBLANK(P276), \"\", P276-Q276)","v":""},{"$f":"IF(ISBLANK(Q276), \"\", Q276/P276)","v":""}]
[null,null,null,null,null,null,null,{"$f":"IF(COUNTIF(E277,\"N\"),\"\",IF(ISBLANK(F277),\"\",IF(ISBLANK(G277),_xlfn.DAYS(TODAY(),F277),_xlfn.DAYS(G277,F277))))","v":""},null,{"$f":"IF(COUNTIF(E277,\"N\"),\"\",IF(ISBLANK(G277),\"\",IF(ISBLANK(I277),IF(ISBLANK(L277),_xlfn.DAYS(TODAY(),G277),_xlfn.DAYS(L277,G277)),_xlfn.DAYS(I277,G277))))","v":""},null,null,{"$f":"IF(COUNTIF(E277,\"N\"),\"ON HOLD\",IF(ISBLANK(L277),IF(ISBLANK(F277),\"\",IF(ISBLANK(G277),\"NO\",\"YES\")),\"NO\"))","v":""},{"$f":"IF(COUNTIF(E277,\"N\"),\"\",IF(ISBLANK(G277),\"\",IF(ISBLANK(L277),_xlfn.DAYS(TODAY(),G277),_xlfn.DAYS(L277,G277))))","v":""},null,null,null,{"$f":"IF(ISBLANK(P277), \"\", P277-Q277)","v":""},{"$f":"IF(ISBLANK(Q277), \"\", Q277/P277)","v":""}]
[null,null,null,null,null,null,null,{"$f":"IF(COUNTIF(E278,\"N\"),\"\",IF(ISBLANK(F278),\"\",IF(ISBLANK(G278),_xlfn.DAYS(TODAY(),F278),_xlfn.DAYS(G278,F278))))","v":""},null,{"$f":"IF(COUNTIF(E278,\"N\"),\"\",IF(ISBLANK(G278),\"\",IF(ISBLANK(I278),IF(ISBLANK(L278),_xlfn.DAYS(TODAY(),G278),_xlfn.DAYS(L278,G278)),_xlfn.DAYS(I278,G278))))","v":""},null,null,{"$f":"IF(COUNTIF(E278,\"N\"),\"ON HOLD\",IF(ISBLANK(L278),IF(ISBLANK(F278),\"\",IF(ISBLANK(G278),\"NO\",\"YES\")),\"NO\"))","v":""},{"$f":"IF(COUNTIF(E278,\"N\"),\"\",IF(ISBLANK(G278),\"\",IF(ISBLANK(L278),_xlfn.DAYS(TODAY(),G278),_xlfn.DAYS(L278,G278))))","v":""},null,null,null,{"$f":"IF(ISBLANK(P278), \"\", P278-Q278)","v":""},{"$f":"IF(ISBLANK(Q278), \"\", Q278/P278)","v":""}]
[null,null,null,null,null,null,null,{"$f":"IF(COUNTIF(E279,\"N\"),\"\",IF(ISBLANK(F279),\"\",IF(ISBLANK(G279),_xlfn.DAYS(TODAY(),F279),_xlfn.DAYS(G279,F279))))","v":""},null,{"$f":"IF(COUNTIF(E279,\"N\"),\"\",IF(ISBLANK(G279),\"\",IF(ISBLANK(I279),IF(ISBLANK(L279),_xlfn.DAYS(TODAY(),G279),_xlfn.DAYS(L279,G279)),_xlfn.DAYS(I279,G279))))","v":""},null,null,{"$f":"IF(COUNTIF(E279,\"N\"),\"ON HOLD\",IF(ISBLANK(L279),IF(ISBLANK(F279),\"\",IF(ISBLANK(G279),\"NO\",\"YES\")),\"NO\"))","v":""},{"$f":"IF(COUNTIF(E279,\"N\"),\"\",IF(ISBLANK(G279),\"\",IF(ISBLANK(L279),_xlfn.DAYS(TODAY(),G279),_xlfn.DAYS(L279,G279))))","v":""},null,null,null,{"$f":"IF(ISBLANK(P279), \"\", P279-Q279)","v":""},{"$f":"IF(ISBLANK(Q279), \"\", Q279/P279)","v":""}]
[null,null,null,null,null,null,null,{"$f":"IF(COUNTIF(E280,\"N\"),\"\",IF(ISBLANK(F280),\"\",IF(ISBLANK(G280),_xlfn.DAYS(TODAY(),F280),_xlfn.DAYS(G280,F280))))","v":""},null,{"$f":"IF(COUNTIF(E280,\"N\"),\"\",IF(ISBLANK(G280),\"\",IF(ISBLANK(I280),IF(ISBLANK(L280),_xlfn.DAYS(TODAY(),G280),_xlfn.DAYS(L280,G280)),_xlfn.DAYS(I280,G280))))","v":""},null,null,{"$f":"IF(COUNTIF(E280,\"N\"),\"ON HOLD\",IF(ISBLANK(L280),IF(ISBLANK(F280),\"\",IF(ISBLANK(G280),\"NO\",\"YES\")),\"NO\"))","v":""},{"$f":"IF(COUNTIF(E280,\"N\"),\"\",IF(ISBLANK(G280),\"\",IF(ISBLANK(L280),_xlfn.DAYS(TODAY(),G280),_xlfn.DAYS(L280,G280))))","v":""},null,null,null,{"$f":"IF(ISBLANK(P280), \"\", P280-Q280)","v":""},{"$f":"IF(ISBLANK(Q280), \"\", Q280/P280)","v":""}]
[null,null,null,null,null,null,null,{"$f":"IF(COUNTIF(E281,\"N\"),\"\",IF(ISBLANK(F281),\"\",IF(ISBLANK(G281),_xlfn.DAYS(TODAY(),F281),_xlfn.DAYS(G281,F281))))","v":""},null,{"$f":"IF(COUNTIF(E281,\"N\"),\"\",IF(ISBLANK(G281),\"\",IF(ISBLANK(I281),IF(ISBLANK(L281),_xlfn.DAYS(TODAY(),G281),_xlfn.DAYS(L281,G281)),_xlfn.DAYS(I281,G281))))","v":""},null,null,{"$f":"IF(COUNTIF(E281,\"N\"),\"ON HOLD\",IF(ISBLANK(L281),IF(ISBLANK(F281),\"\",IF(ISBLANK(G281),\"NO\",\"YES\")),\"NO\"))","v":""},{"$f":"IF(COUNTIF(E281,\"N\"),\"\",IF(ISBLANK(G281),\"\",IF(ISBLANK(L281),_xlfn.DAYS(TODAY(),G281),_xlfn.DAYS(L281,G281))))","v":""},null,null,null,{"$f":"IF(ISBLANK(P281), \"\", P281-Q281)","v":""},{"$f":"IF(ISBLANK(Q281), \"\", Q281/P281)","v":""}]
[null,null,null,null,null,null,null,{"$f":"IF(COUNTIF(E282,\"N\"),\"\",IF(ISBLANK(F282),\"\",IF(ISBLANK(G282),_xlfn.DAYS(TODAY(),F282),_xlfn.DAYS(G282,F282))))","v":""},null,{"$f":"IF(COUNTIF(E282,\"N\"),\"\",IF(ISBLANK(G282),\"\",IF(ISBLANK(I282),IF(ISBLANK(L282),_xlfn.DAYS(TODAY(),G282),_xlfn.DAYS(L282,G282)),_xlfn.DAYS(I282,G282))))","v":""},null,null,{"$f":"IF(COUNTIF(E282,\"N\"),\"ON HOLD\",IF(ISBLANK(L282),IF(ISBLANK(F282),\"\",IF(ISBLANK(G282),\"NO\",\"YES\")),\"NO\"))","v":""},{"$f":"IF(COUNTIF(E282,\"N\"),\"\",IF(ISBLANK(G282),\"\",IF(ISBLANK(L282),_xlfn.DAYS(TODAY(),G282),_xlfn.DAYS(L282,G282))))","v":""},null,null,null,{"$f":"IF(ISBLANK(P282), \"\", P282-Q282)","v":""},{"$f":"IF(ISBLANK(Q282), \"\", Q282/P282)","v":""}]
[null,null,null,null,null,null,null,{"$f":"IF(COUNTIF(E283,\"N\"),\"\",IF(ISBLANK(F283),\"\",IF(ISBLANK(G283),_xlfn.DAYS(TODAY(),F283),_xlfn.DAYS(G283,F283))))","v":""},null,{"$f":"IF(COUNTIF(E283,\"N\"),\"\",IF(ISBLANK(G283),\"\",IF(ISBLANK(I283),IF(ISBLANK(L283),_xlfn.DAYS(TODAY(),G283),_xlfn.DAYS(L283,G283)),_xlfn.DAYS(I283,G283))))","v":""},null,null,{"$f":"IF(COUNTIF(E283,\"N\"),\"ON HOLD\",IF(ISBLANK(L283),IF(ISBLANK(F283),\"\",IF(ISBLANK(G283),\"NO\",\"YES\")),\"NO\"))","v":""},{"$f":"IF(COUNTIF(E283,\"N\"),\"\",IF(ISBLANK(G283),\"\",IF(ISBLANK(L283),_xlfn.DAYS(TODAY(),G283),_xlfn.DAYS(L283,G283))))","v":""},null,null,null,{"$f":"IF(ISBLANK(P283), \"\", P283-Q283)","v":""},{"$f":"IF(ISBLANK(Q283), \"\", Q283/P283)","v":""}]
[null,null,null,null,null,null,null,{"$f":"IF(COUNTIF(E284,\"N\"),\"\",IF(ISBLANK(F284),\"\",IF(ISBLANK(G284),_xlfn.DAYS(TODAY(),F284),_xlfn.DAYS(G284,F284))))","v":""},null,{"$f":"IF(COUNTIF(E284,\"N\"),\"\",IF(ISBLANK(G284),\"\",IF(ISBLANK(I284),IF(ISBLANK(L284),_xlfn.DAYS(TODAY(),G284),_xlfn.DAYS(L284,G284)),_xlfn.DAYS(I284,G284))))","v":""},null,null,{"$f":"IF(COUNTIF(E284,\"N\"),\"ON HOLD\",IF(ISBLANK(L284),IF(ISBLANK(F284),\"\",IF(ISBLANK(G284),\"NO\",\"YES\")),\"NO\"))","v":""},{"$f":"IF(COUNTIF(E284,\"N\"),\"\",IF(ISBLANK(G284),\"\",IF(ISBLANK(L284),_xlfn.DAYS(TODAY(),G284),_xlfn.DAYS(L284,G284))))","v":""},null,null,null,{"$f":"IF(ISBLANK(P284), \"\", P284-Q284)","v":""},{"$f":"IF(ISBLANK(Q284), \"\", Q284/P284)","v":""}]
[null,null,null,null,null,null,null,{"$f":"IF(COUNTIF(E285,\"N\"),\"\",IF(ISBLANK(F285),\"\",IF(ISBLANK(G285),_xlfn.DAYS(TODAY(),F285),_xlfn.DAYS(G285,F285))))","v":""},null,{"$f":"IF(COUNTIF(E285,\"N\"),\"\",IF(ISBLANK(G285),\"\",IF(ISBLANK(I285),IF(ISBLANK(L285),_xlfn.DAYS(TODAY(),G285),_xlfn.DAYS(L285,G285)),_xlfn.DAYS(I285,G285))))","v":""},null,null,{"$f":"IF(COUNTIF(E285,\"N\"),\"ON HOLD\",IF(ISBLANK(L285),IF(ISBLANK(F285),\"\",IF(ISBLANK(G285),\"NO\",\"YES\")),\"NO\"))","v":""},{"$f":"IF(COUNTIF(E285,\"N\"),\"\",IF(ISBLANK(G285),\"\",IF(ISBLANK(L285),_xlfn.DAYS(TODAY(),G285),_xlfn.DAYS(L285,G285))))","v":""},null,null,null,{"$f":"IF(ISBLANK(P285), \"\", P285-Q285)","v":""},{"$f":"IF(ISBLANK(Q285), \"\", Q285/P285)","v":""}]
[null,null,null,null,null,null,null,{"$f":"IF(COUNTIF(E286,\"N\"),\"\",IF(ISBLANK(F286),\"\",IF(ISBLANK(G286),_xlfn.DAYS(TODAY(),F286),_xlfn.DAYS(G286,F286))))","v":""},null,{"$f":"IF(COUNTIF(E286,\"N\"),\"\",IF(ISBLANK(G286),\"\",IF(ISBLANK(I286),IF(ISBLANK(L286),_xlfn.DAYS(TODAY(),G286),_xlfn.DAYS(L286,G286)),_xlfn.DAYS(I286,G286))))","v":""},null,null,{"$f":"IF(COUNTIF(E286,\"N\"),\"ON HOLD\",IF(ISBLANK(L286),IF(ISBLANK(F286),\"\",IF(ISBLANK(G286),\"NO\",\"YES\")),\"NO\"))","v":""},{"$f":"IF(COUNTIF(E286,\"N\"),\"\",IF(ISBLANK(G286),\"\",IF(ISBLANK(L286),_xlfn.DAYS(TODAY(),G286),_xlfn.DAYS(L286,G286))))","v":""},null,null,null,{"$f":"IF(ISBLANK(P286), \"\", P286-Q286)","v":""},{"$f":"IF(ISBLANK(Q286), \"\", Q286/P286)","v":""}]
[null,null,null,null,null,null,null,{"$f":"IF(COUNTIF(E287,\"N\"),\"\",IF(ISBLANK(F287),\"\",IF(ISBLANK(G287),_xlfn.DAYS(TODAY(),F287),_xlfn.DAYS(G287,F287))))","v":""},null,{"$f":"IF(COUNTIF(E287,\"N\"),\"\",IF(ISBLANK(G287),\"\",IF(ISBLANK(I287),IF(ISBLANK(L287),_xlfn.DAYS(TODAY(),G287),_xlfn.DAYS(L287,G287)),_xlfn.DAYS(I287,G287))))","v":""},null,null,{"$f":"IF(COUNTIF(E287,\"N\"),\"ON HOLD\",IF(ISBLANK(L287),IF(ISBLANK(F287),\"\",IF(ISBLANK(G287),\"NO\",\"YES\")),\"NO\"))","v":""},{"$f":"IF(COUNTIF(E287,\"N\"),\"\",IF(ISBLANK(G287),\"\",IF(ISBLANK(L287),_xlfn.DAYS(TODAY(),G287),_xlfn.DAYS(L287,G287))))","v":""},null,null,null,{"$f":"IF(ISBLANK(P287), \"\", P287-Q287)","v":""},{"$f":"IF(ISBLANK(Q287), \"\", Q287/P287)","v":""}]
[null,null,null,null,null,null,null,{"$f":"IF(COUNTIF(E288,\"N\"),\"\",IF(ISBLANK(F288),\"\",IF(ISBLANK(G288),_xlfn.DAYS(TODAY(),F288),_xlfn.DAYS(G288,F288))))","v":""},null,{"$f":"IF(COUNTIF(E288,\"N\"),\"\",IF(ISBLANK(G288),\"\",IF(ISBLANK(I288),IF(ISBLANK(L288),_xlfn.DAYS(TODAY(),G288),_xlfn.DAYS(L288,G288)),_xlfn.DAYS(I288,G288))))","v":""},null,null,{"$f":"IF(COUNTIF(E288,\"N\"),\"ON HOLD\",IF(ISBLANK(L288),IF(ISBLANK(F288),\"\",IF(ISBLANK(G288),\"NO\",\"YES\")),\"NO\"))","v":""},{"$f":"IF(COUNTIF(E288,\"N\"),\"\",IF(ISBLANK(G288),\"\",IF(ISBLANK(L288),_xlfn.DAYS(TODAY(),G288),_xlfn.DAYS(L288,G288))))","v":""},null,null,null,{"$f":"IF(ISBLANK(P288), \"\", P288-Q288)","v":""},{"$f":"IF(ISBLANK(Q288), \"\", Q288/P288)","v":""}]
[null,null,null,null,null,null,null,{"$f":"IF(COUNTIF(E289,\"N\"),\"\",IF(ISBLANK(F289),\"\",IF(ISBLANK(G289),_xlfn.DAYS(TODAY(),F289),_xlfn.DAYS(G289,F289))))","v":""},null,{"$f":"IF(COUNTIF(E289,\"N\"),\"\",IF(ISBLANK(G289),\"\",IF(ISBLANK(I289),IF(ISBLANK(L289),_xlfn.DAYS(TODAY(),G289),_xlfn.DAYS(L289,G289)),_xlfn.DAYS(I289,G289))))","v":""},null,null,{"$f":"IF(COUNTIF(E289,\"N\"),\"ON HOLD\",IF(ISBLANK(L289),IF(ISBLANK(F289),\"\",IF(ISBLANK(G289),\"NO\",\"YES\")),\"NO\"))","v":""},{"$f":"IF(COUNTIF(E289,\"N\"),\"\",IF(ISBLANK(G289),\"\",IF(ISBLANK(L289),_xlfn.DAYS(TODAY(),G289),_xlfn.DAYS(L289,G289))))","v":""},null,null,null,{"$f":"IF(ISBLANK(P289), \"\", P289-Q289)","v":""},{"$f":"IF(ISBLANK(Q289), \"\", Q289/P289)","v":""}]
[null,null,null,null,null,null,null,{"$f":"IF(COUNTIF(E290,\"N\"),\"\",IF(ISBLANK(F290),\"\",IF(ISBLANK(G290),_xlfn.DAYS(TODAY(),F290),_xlfn.DAYS(G290,F290))))","v":""},null,{"$f":"IF(COUNTIF(E290,\"N\"),\"\",IF(ISBLANK(G290),\"\",IF(ISBLANK(I290),IF(ISBLANK(L290),_xlfn.DAYS(TODAY(),G290),_xlfn.DAYS(L290,G290)),_xlfn.DAYS(I290,G290))))","v":""},null,null,{"$f":"IF(COUNTIF(E290,\"N\"),\"ON HOLD\",IF(ISBLANK(L290),IF(ISBLANK(F290),\"\",IF(ISBLANK(G290),\"NO\",\"YES\")),\"NO\"))","v":""},{"$f":"IF(COUNTIF(E290,\"N\"),\"\",IF(ISBLANK(G290),\"\",IF(ISBLANK(L290),_xlfn.DAYS(TODAY(),G290),_xlfn.DAYS(L290,G290))))","v":""},null,null,null,{"$f":"IF(ISBLANK(P290), \"\", P290-Q290)","v":""},{"$f":"IF(ISBLANK(Q290), \"\", Q290/P290)","v":""}]
[null,null,null,null,null,null,null,{"$f":"IF(COUNTIF(E291,\"N\"),\"\",IF(ISBLANK(F291),\"\",IF(ISBLANK(G291),_xlfn.DAYS(TODAY(),F291),_xlfn.DAYS(G291,F291))))","v":""},null,{"$f":"IF(COUNTIF(E291,\"N\"),\"\",IF(ISBLANK(G291),\"\",IF(ISBLANK(I291),IF(ISBLANK(L291),_xlfn.DAYS(TODAY(),G291),_xlfn.DAYS(L291,G291)),_xlfn.DAYS(I291,G291))))","v":""},null,null,{"$f":"IF(COUNTIF(E291,\"N\"),\"ON HOLD\",IF(ISBLANK(L291),IF(ISBLANK(F291),\"\",IF(ISBLANK(G291),\"NO\",\"YES\")),\"NO\"))","v":""},{"$f":"IF(COUNTIF(E291,\"N\"),\"\",IF(ISBLANK(G291),\"\",IF(ISBLANK(L291),_xlfn.DAYS(TODAY(),G291),_xlfn.DAYS(L291,G291))))","v":""},null,null,null,{"$f":"IF(ISBLANK(P291), \"\", P291-Q291)","v":""},{"$f":"IF(ISBLANK(Q291), \"\", Q291/P291)","v":""}]
[null,null,null,null,null,null,null,{"$f":"IF(COUNTIF(E292,\"N\"),\"\",IF(ISBLANK(F292),\"\",IF(ISBLANK(G292),_xlfn.DAYS(TODAY(),F292),_xlfn.DAYS(G292,F292))))","v":""},null,{"$f":"IF(COUNTIF(E292,\"N\"),\"\",IF(ISBLANK(G292),\"\",IF(ISBLANK(I292),IF(ISBLANK(L292),_xlfn.DAYS(TODAY(),G292),_xlfn.DAYS(L292,G292)),_xlfn.DAYS(I292,G292))))","v":""},null,null,{"$f":"IF(COUNTIF(E292,\"N\"),\"ON HOLD\",IF(ISBLANK(L292),IF(ISBLANK(F292),\"\",IF(ISBLANK(G292),\"NO\",\"YES\")),\"NO\"))","v":""},{"$f":"IF(COUNTIF(E292,\"N\"),\"\",IF(ISBLANK(G292),\"\",IF(ISBLANK(L292),_xlfn.DAYS(TODAY(),G292),_xlfn.DAYS(L292,G292))))","v":""},null,null,null,{"$f":"IF(ISBLANK(P292), \"\", P292-Q292)","v":""},{"$f":"IF(ISBLANK(Q292), \"\", Q292/P292)","v":""}]
[null,null,null,null,null,null,null,{"$f":"IF(COUNTIF(E293,\"N\"),\"\",IF(ISBLANK(F293),\"\",IF(ISBLANK(G293),_xlfn.DAYS(TODAY(),F293),_xlfn.DAYS(G293,F293))))","v":""},null,{"$f":"IF(COUNTIF(E293,\"N\"),\"\",IF(ISBLANK(G293),\"\",IF(ISBLANK(I293),IF(ISBLANK(L293),_xlfn.DAYS(TODAY(),G293),_xlfn.DAYS(L293,G293)),_xlfn.DAYS(I293,G293))))","v":""},null,null,{"$f":"IF(COUNTIF(E293,\"N\"),\"ON HOLD\",IF(ISBLANK(L293),IF(ISBLANK(F293),\"\",IF(ISBLANK(G293),\"NO\",\"YES\")),\"NO\"))","v":""},{"$f":"IF(COUNTIF(E293,\"N\"),\"\",IF(ISBLANK(G293),\"\",IF(ISBLANK(L293),_xlfn.DAYS(TODAY(),G293),_xlfn.DAYS(L293,G293))))","v":""},null,null,null,{"$f":"IF(ISBLANK(P293), \"\", P293-Q293)","v":""},{"$f":"IF(ISBLANK(Q293), \"\", Q293/P293)","v":""}]
[null,null,null,null,null,null,null,{"$f":"IF(COUNTIF(E294,\"N\"),\"\",IF(ISBLANK(F294),\"\",IF(ISBLANK(G294),_xlfn.DAYS(TODAY(),F294),_xlfn.DAYS(G294,F294))))","v":""},null,{"$f":"IF(COUNTIF(E294,\"N\"),\"\",IF(ISBLANK(G294),\"\",IF(ISBLANK(I294),IF(ISBLANK(L294),_xlfn.DAYS(TODAY(),G294),_xlfn.DAYS(L294,G294)),_xlfn.DAYS(I294,G294))))","v":""},null,null,{"$f":"IF(COUNTIF(E294,\"N\"),\"ON HOLD\",IF(ISBLANK(L294),IF(ISBLANK(F294),\"\",IF(ISBLANK(G294),\"NO\",\"YES\")),\"NO\"))","v":""},{"$f":"IF(COUNTIF(E294,\"N\"),\"\",IF(ISBLANK(G294),\"\",IF(ISBLANK(L294),_xlfn.DAYS(TODAY(),G294),_xlfn.DAYS(L294,G294))))","v":""},null,null,null,{"$f":"IF(ISBLANK(P294), \"\", P294-Q294)","v":""},{"$f":"IF(ISBLANK(Q294), \"\", Q294/P294)","v":""}]
[null,null,null,null,null,null,null,{"$f":"IF(COUNTIF(E295,\"N\"),\"\",IF(ISBLANK(F295),\"\",IF(ISBLANK(G295),_xlfn.DAYS(TODAY(),F295),_xlfn.DAYS(G295,F295))))","v":""},null,{"$f":"IF(COUNTIF(E295,\"N\"),\"\",IF(ISBLANK(G295),\"\",IF(ISBLANK(I295),IF(ISBLANK(L295),_xlfn.DAYS(TODAY(),G295),_xlfn.DAYS(L295,G295)),_xlfn.DAYS(I295,G295))))","v":""},null,null,{"$f":"IF(COUNTIF(E295,\"N\"),\"ON HOLD\",IF(ISBLANK(L295),IF(ISBLANK(F295),\"\",IF(ISBLANK(G295),\"NO\",\"YES\")),\"NO\"))","v":""},{"$f":"IF(COUNTIF(E295,\"N\"),\"\",IF(ISBLANK(G295),\"\",IF(ISBLANK(L295),_xlfn.DAYS(TODAY(),G295),_xlfn.DAYS(L295,G295))))","v":""},null,null,null,{"$f":"IF(ISBLANK(P295), \"\", P295-Q295)","v":""},{"$f":"IF(ISBLANK(Q295), \"\", Q295/P295)","v":""}]
[null,null,null,null,null,null,null,{"$f":"IF(COUNTIF(E296,\"N\"),\"\",IF(ISBLANK(F296),\"\",IF(ISBLANK(G296),_xlfn.DAYS(TODAY(),F296),_xlfn.DAYS(G296,F296))))","v":""},null,{"$f":"IF(COUNTIF(E296,\"N\"),\"\",IF(ISBLANK(G296),\"\",IF(ISBLANK(I296),IF(ISBLANK(L296),_xlfn.DAYS(TODAY(),G296),_xlfn.DAYS(L296,G296)),_xlfn.DAYS(I296,G296))))","v":""},null,null,{"$f":"IF(COUNTIF(E296,\"N\"),\"ON HOLD\",IF(ISBLANK(L296),IF(ISBLANK(F296),\"\",IF(ISBLANK(G296),\"NO\",\"YES\")),\"NO\"))","v":""},{"$f":"IF(COUNTIF(E296,\"N\"),\"\",IF(ISBLANK(G296),\"\",IF(ISBLANK(L296),_xlfn.DAYS(TODAY(),G296),_xlfn.DAYS(L296,G296))))","v":""},null,null,null,{"$f":"IF(ISBLANK(P296), \"\", P296-Q296)","v":""},{"$f":"IF(ISBLANK(Q296), \"\", Q296/P296)","v":""}]
[null,null,null,null,null,null,null,{"$f":"IF(COUNTIF(E297,\"N\"),\"\",IF(ISBLANK(F297),\"\",IF(ISBLANK(G297),_xlfn.DAYS(TODAY(),F297),_xlfn.DAYS(G297,F297))))","v":""},null,{"$f":"IF(COUNTIF(E297,\"N\"),\"\",IF(ISBLANK(G297),\"\",IF(ISBLANK(I297),IF(ISBLANK(L297),_xlfn.DAYS(TODAY(),G297),_xlfn.DAYS(L297,G297)),_xlfn.DAYS(I297,G297))))","v":""},null,null,{"$f":"IF(COUNTIF(E297,\"N\"),\"ON HOLD\",IF(ISBLANK(L297),IF(ISBLANK(F297),\"\",IF(ISBLANK(G297),\"NO\",\"YES\")),\"NO\"))","v":""},{"$f":"IF(COUNTIF(E297,\"N\"),\"\",IF(ISBLANK(G297),\"\",IF(ISBLANK(L297),_xlfn.DAYS(TODAY(),G297),_xlfn.DAYS(L297,G297))))","v":""},null,null,null,{"$f":"IF(ISBLANK(P297), \"\", P297-Q297)","v":""},{"$f":"IF(ISBLANK(Q297), \"\", Q297/P297)","v":""}]
[null,null,null,null,null,null,null,{"$f":"IF(COUNTIF(E298,\"N\"),\"\",IF(ISBLANK(F298),\"\",IF(ISBLANK(G298),_xlfn.DAYS(TODAY(),F298),_xlfn.DAYS(G298,F298))))","v":""},null,{"$f":"IF(COUNTIF(E298,\"N\"),\"\",IF(ISBLANK(G298),\"\",IF(ISBLANK(I298),IF(ISBLANK(L298),_xlfn.DAYS(TODAY(),G298),_xlfn.DAYS(L298,G298)),_xlfn.DAYS(I298,G298))))","v":""},null,null,{"$f":"IF(COUNTIF(E298,\"N\"),\"ON HOLD\",IF(ISBLANK(L298),IF(ISBLANK(F298),\"\",IF(ISBLANK(G298),\"NO\",\"YES\")),\"NO\"))","v":""},{"$f":"IF(COUNTIF(E298,\"N\"),\"\",IF(ISBLANK(G298),\"\",IF(ISBLANK(L298),_xlfn.DAYS(TODAY(),G298),_xlfn.DAYS(L298,G298))))","v":""},null,null,null,{"$f":"IF(ISBLANK(P298), \"\", P298-Q298)","v":""},{"$f":"IF(ISBLANK(Q298), \"\", Q298/P298)","v":""}]
[null,null,null,null,null,null,null,{"$f":"IF(COUNTIF(E299,\"N\"),\"\",IF(ISBLANK(F299),\"\",IF(ISBLANK(G299),_xlfn.DAYS(TODAY(),F299),_xlfn.DAYS(G299,F299))))","v":""},null,{"$f":"IF(COUNTIF(E299,\"N\"),\"\",IF(ISBLANK(G299),\"\",IF(ISBLANK(I299),IF(ISBLANK(L299),_xlfn.DAYS(TODAY(),G299),_xlfn.DAYS(L299,G299)),_xlfn.DAYS(I299,G299))))","v":""},null,null,{"$f":"IF(COUNTIF(E299,\"N\"),\"ON HOLD\",IF(ISBLANK(L299),IF(ISBLANK(F299),\"\",IF(ISBLANK(G299),\"NO\",\"YES\")),\"NO\"))","v":""},{"$f":"IF(COUNTIF(E299,\"N\"),\"\",IF(ISBLANK(G299),\"\",IF(ISBLANK(L299),_xlfn.DAYS(TODAY(),G299),_xlfn.DAYS(L299,G299))))","v":""},null,null,null,{"$f":"IF(ISBLANK(P299), \"\", P299-Q299)","v":""},{"$f":"IF(ISBLANK(Q299), \"\", Q299/P299)","v":""}]
[null,null,null,null,null,null,null,{"$f":"IF(COUNTIF(E300,\"N\"),\"\",IF(ISBLANK(F300),\"\",IF(ISBLANK(G300),_xlfn.DAYS(TODAY(),F300),_xlfn.DAYS(G300,F300))))","v":""},null,{"$f":"IF(COUNTIF(E300,\"N\"),\"\",IF(ISBLANK(G300),\"\",IF(ISBLANK(I300),IF(ISBLANK(L300),_xlfn.DAYS(TODAY(),G300),_xlfn.DAYS(L300,G300)),_xlfn.DAYS(I300,G300))))","v":""},null,null,{"$f":"IF(COUNTIF(E300,\"N\"),\"ON HOLD\",IF(ISBLANK(L300),IF(ISBLANK(F300),\"\",IF(ISBLANK(G300),\"NO\",\"YES\")),\"NO\"))","v":""},{"$f":"IF(COUNTIF(E300,\"N\"),\"\",IF(ISBLANK(G300),\"\",IF(ISBLANK(L300),_xlfn.DAYS(TODAY(),G300),_xlfn.DAYS(L300,G300))))","v":""},null,null,null,{"$f":"IF(ISBLANK(P300), \"\", P300-Q300)","v":""},{"$f":"IF(ISBLANK(Q300), \"\", Q300/P300)","v":""}]
[null,null,null,null,null,null,null,{"$f":"IF(COUNTIF(E301,\"N\"),\"\",IF(ISBLANK(F301),\"\",IF(ISBLANK(G301),_xlfn.DAYS(TODAY(),F301),_xlfn.DAYS(G301,F301))))","v":""},null,{"$f":"IF(COUNTIF(E301,\"N\"),\"\",IF(ISBLANK(G301),\"\",IF(ISBLANK(I301),IF(ISBLANK(L301),_xlfn.DAYS(TODAY(),G301),_xlfn.DAYS(L301,G301)),_xlfn.DAYS(I301,G301))))","v":""},null,null,{"$f":"IF(COUNTIF(E301,\"N\"),\"ON HOLD\",IF(ISBLANK(L301),IF(ISBLANK(F301),\"\",IF(ISBLANK(G301),\"NO\",\"YES\")),\"NO\"))","v":""},{"$f":"IF(COUNTIF(E301,\"N\"),\"\",IF(ISBLANK(G301),\"\",IF(ISBLANK(L301),_xlfn.DAYS(TODAY(),G301),_xlfn.DAYS(L301,G301))))","v":""},null,null,null,{"$f":"IF(ISBLANK(P301), \"\", P301-Q301)","v":""},{"$f":"IF(ISBLANK(Q301), \"\", Q301/P301)","v":""}]
[null,null,null,null,null,null,null,{"$f":"IF(COUNTIF(E302,\"N\"),\"\",IF(ISBLANK(F302),\"\",IF(ISBLANK(G302),_xlfn.DAYS(TODAY(),F302),_xlfn.DAYS(G302,F302))))","v":""},null,{"$f":"IF(COUNTIF(E302,\"N\"),\"\",IF(ISBLANK(G302),\"\",IF(ISBLANK(I302),IF(ISBLANK(L302),_xlfn.DAYS(TODAY(),G302),_xlfn.DAYS(L302,G302)),_xlfn.DAYS(I302,G302))))","v":""},null,null,{"$f":"IF(COUNTIF(E302,\"N\"),\"ON HOLD\",IF(ISBLANK(L302),IF(ISBLANK(F302),\"\",IF(ISBLANK(G302),\"NO\",\"YES\")),\"NO\"))","v":""},{"$f":"IF(COUNTIF(E302,\"N\"),\"\",IF(ISBLANK(G302),\"\",IF(ISBLANK(L302),_xlfn.DAYS(TODAY(),G302),_xlfn.DAYS(L302,G302))))","v":""},null,null,null,{"$f":"IF(ISBLANK(P302), \"\", P302-Q302)","v":""},{"$f":"IF(ISBLANK(Q302), \"\", Q302/P302)","v":""}]
[null,null,null,null,null,null,null,{"$f":"IF(COUNTIF(E303,\"N\"),\"\",IF(ISBLANK(F303),\"\",IF(ISBLANK(G303),_xlfn.DAYS(TODAY(),F303),_xlfn.DAYS(G303,F303))))","v":""},null,{"$f":"IF(COUNTIF(E303,\"N\"),\"\",IF(ISBLANK(G303),\"\",IF(ISBLANK(I303),IF(ISBLANK(L303),_xlfn.DAYS(TODAY(),G303),_xlfn.DAYS(L303,G303)),_xlfn.DAYS(I303,G303))))","v":""},null,null,{"$f":"IF(COUNTIF(E303,\"N\"),\"ON HOLD\",IF(ISBLANK(L303),IF(ISBLANK(F303),\"\",IF(ISBLANK(G303),\"NO\",\"YES\")),\"NO\"))","v":""},{"$f":"IF(COUNTIF(E303,\"N\"),\"\",IF(ISBLANK(G303),\"\",IF(ISBLANK(L303),_xlfn.DAYS(TODAY(),G303),_xlfn.DAYS(L303,G303))))","v":""},null,null,null,{"$f":"IF(ISBLANK(P303), \"\", P303-Q303)","v":""},{"$f":"IF(ISBLANK(Q303), \"\", Q303/P303)","v":""}]
[null,null,null,null,null,null,null,{"$f":"IF(COUNTIF(E304,\"N\"),\"\",IF(ISBLANK(F304),\"\",IF(ISBLANK(G304),_xlfn.DAYS(TODAY(),F304),_xlfn.DAYS(G304,F304))))","v":""},null,{"$f":"IF(COUNTIF(E304,\"N\"),\"\",IF(ISBLANK(G304),\"\",IF(ISBLANK(I304),IF(ISBLANK(L304),_xlfn.DAYS(TODAY(),G304),_xlfn.DAYS(L304,G304)),_xlfn.DAYS(I304,G304))))","v":""},null,null,{"$f":"IF(COUNTIF(E304,\"N\"),\"ON HOLD\",IF(ISBLANK(L304),IF(ISBLANK(F304),\"\",IF(ISBLANK(G304),\"NO\",\"YES\")),\"NO\"))","v":""},{"$f":"IF(COUNTIF(E304,\"N\"),\"\",IF(ISBLANK(G304),\"\",IF(ISBLANK(L304),_xlfn.DAYS(TODAY(),G304),_xlfn.DAYS(L304,G304))))","v":""},null,null,null,{"$f":"IF(ISBLANK(P304), \"\", P304-Q304)","v":""},{"$f":"IF(ISBLANK(Q304), \"\", Q304/P304)","v":""}]
[null,null,null,null,null,null,null,{"$f":"IF(COUNTIF(E305,\"N\"),\"\",IF(ISBLANK(F305),\"\",IF(ISBLANK(G305),_xlfn.DAYS(TODAY(),F305),_xlfn.DAYS(G305,F305))))","v":""},null,{"$f":"IF(COUNTIF(E305,\"N\"),\"\",IF(ISBLANK(G305),\"\",IF(ISBLANK(I305),IF(ISBLANK(L305),_xlfn.DAYS(TODAY(),G305),_xlfn.DAYS(L305,G305)),_xlfn.DAYS(I305,G305))))","v":""},null,null,{"$f":"IF(COUNTIF(E305,\"N\"),\"ON HOLD\",IF(ISBLANK(L305),IF(ISBLANK(F305),\"\",IF(ISBLANK(G305),\"NO\",\"YES\")),\"NO\"))","v":""},{"$f":"IF(COUNTIF(E305,\"N\"),\"\",IF(ISBLANK(G305),\"\",IF(ISBLANK(L305),_xlfn.DAYS(TODAY(),G305),_xlfn.DAYS(L305,G305))))","v":""},null,null,null,{"$f":"IF(ISBLANK(P305), \"\", P305-Q305)","v":""},{"$f":"IF(ISBLANK(Q305), \"\", Q305/P305)","v":""}]
[null,null,null,null,null,null,null,{"$f":"IF(COUNTIF(E306,\"N\"),\"\",IF(ISBLANK(F306),\"\",IF(ISBLANK(G306),_xlfn.DAYS(TODAY(),F306),_xlfn.DAYS(G306,F306))))","v":""},null,{"$f":"IF(COUNTIF(E306,\"N\"),\"\",IF(ISBLANK(G306),\"\",IF(ISBLANK(I306),IF(ISBLANK(L306),_xlfn.DAYS(TODAY(),G306),_xlfn.DAYS(L306,G306)),_xlfn.DAYS(I306,G306))))","v":""},null,null,{"$f":"IF(COUNTIF(E306,\"N\"),\"ON HOLD\",IF(ISBLANK(L306),IF(ISBLANK(F306),\"\",IF(ISBLANK(G306),\"NO\",\"YES\")),\"NO\"))","v":""},{"$f":"IF(COUNTIF(E306,\"N\"),\"\",IF(ISBLANK(G306),\"\",IF(ISBLANK(L306),_xlfn.DAYS(TODAY(),G306),_xlfn.DAYS(L306,G306))))","v":""},null,null,null,{"$f":"IF(ISBLANK(P306), \"\", P306-Q306)","v":""},{"$f":"IF(ISBLANK(Q306), \"\", Q306/P306)","v":""}]
[null,null,null,null,null,null,null,{"$f":"IF(COUNTIF(E307,\"N\"),\"\",IF(ISBLANK(F307),\"\",IF(ISBLANK(G307),_xlfn.DAYS(TODAY(),F307),_xlfn.DAYS(G307,F307))))","v":""},null,{"$f":"IF(COUNTIF(E307,\"N\"),\"\",IF(ISBLANK(G307),\"\",IF(ISBLANK(I307),IF(ISBLANK(L307),_xlfn.DAYS(TODAY(),G307),_xlfn.DAYS(L307,G307)),_xlfn.DAYS(I307,G307))))","v":""},null,null,{"$f":"IF(COUNTIF(E307,\"N\"),\"ON HOLD\",IF(ISBLANK(L307),IF(ISBLANK(F307),\"\",IF(ISBLANK(G307),\"NO\",\"YES\")),\"NO\"))","v":""},{"$f":"IF(COUNTIF(E307,\"N\"),\"\",IF(ISBLANK(G307),\"\",IF(ISBLANK(L307),_xlfn.DAYS(TODAY(),G307),_xlfn.DAYS(L307,G307))))","v":""},null,null,null,{"$f":"IF(ISBLANK(P307), \"\", P307-Q307)","v":""},{"$f":"IF(ISBLANK(Q307), \"\", Q307/P307)","v":""}]
[null,null,null,null,null,null,null,{"$f":"IF(COUNTIF(E308,\"N\"),\"\",IF(ISBLANK(F308),\"\",IF(ISBLANK(G308),_xlfn.DAYS(TODAY(),F308),_xlfn.DAYS(G308,F308))))","v":""},null,{"$f":"IF(COUNTIF(E308,\"N\"),\"\",IF(ISBLANK(G308),\"\",IF(ISBLANK(I308),IF(ISBLANK(L308),_xlfn.DAYS(TODAY(),G308),_xlfn.DAYS(L308,G308)),_xlfn.DAYS(I308,G308))))","v":""},null,null,{"$f":"IF(COUNTIF(E308,\"N\"),\"ON HOLD\",IF(ISBLANK(L308),IF(ISBLANK(F308),\"\",IF(ISBLANK(G308),\"NO\",\"YES\")),\"NO\"))","v":""},{"$f":"IF(COUNTIF(E308,\"N\"),\"\",IF(ISBLANK(G308),\"\",IF(ISBLANK(L308),_xlfn.DAYS(TODAY(),G308),_xlfn.DAYS(L308,G308))))","v":""},null,null,null,{"$f":"IF(ISBLANK(P308), \"\", P308-Q308)","v":""},{"$f":"IF(ISBLANK(Q308), \"\", Q308/P308)","v":""}]
[null,null,null,null,null,null,null,{"$f":"IF(COUNTIF(E309,\"N\"),\"\",IF(ISBLANK(F309),\"\",IF(ISBLANK(G309),_xlfn.DAYS(TODAY(),F309),_xlfn.DAYS(G309,F309))))","v":""},null,{"$f":"IF(COUNTIF(E309,\"N\"),\"\",IF(ISBLANK(G309),\"\",IF(ISBLANK(I309),IF(ISBLANK(L309),_xlfn.DAYS(TODAY(),G309),_xlfn.DAYS(L309,G309)),_xlfn.DAYS(I309,G309))))","v":""},null,null,{"$f":"IF(COUNTIF(E309,\"N\"),\"ON HOLD\",IF(ISBLANK(L309),IF(ISBLANK(F309),\"\",IF(ISBLANK(G309),\"NO\",\"YES\")),\"NO\"))","v":""},{"$f":"IF(COUNTIF(E309,\"N\"),\"\",IF(ISBLANK(G309),\"\",IF(ISBLANK(L309),_xlfn.DAYS(TODAY(),G309),_xlfn.DAYS(L309,G309))))","v":""},null,null,null,{"$f":"IF(ISBLANK(P309), \"\", P309-Q309)","v":""},{"$f":"IF(ISBLANK(Q309), \"\", Q309/P309)","v":""}]
[null,null,null,null,null,null,null,{"$f":"IF(COUNTIF(E310,\"N\"),\"\",IF(ISBLANK(F310),\"\",IF(ISBLANK(G310),_xlfn.DAYS(TODAY(),F310),_xlfn.DAYS(G310,F310))))","v":""},null,{"$f":"IF(COUNTIF(E310,\"N\"),\"\",IF(ISBLANK(G310),\"\",IF(ISBLANK(I310),IF(ISBLANK(L310),_xlfn.DAYS(TODAY(),G310),_xlfn.DAYS(L310,G310)),_xlfn.DAYS(I310,G310))))","v":""},null,null,{"$f":"IF(COUNTIF(E310,\"N\"),\"ON HOLD\",IF(ISBLANK(L310),IF(ISBLANK(F310),\"\",IF(ISBLANK(G310),\"NO\",\"YES\")),\"NO\"))","v":""},{"$f":"IF(COUNTIF(E310,\"N\"),\"\",IF(ISBLANK(G310),\"\",IF(ISBLANK(L310),_xlfn.DAYS(TODAY(),G310),_xlfn.DAYS(L310,G310))))","v":""},null,null,null,{"$f":"IF(ISBLANK(P310), \"\", P310-Q310)","v":""},{"$f":"IF(ISBLANK(Q310), \"\", Q310/P310)","v":""}]
[null,null,null,null,null,null,null,{"$f":"IF(COUNTIF(E311,\"N\"),\"\",IF(ISBLANK(F311),\"\",IF(ISBLANK(G311),_xlfn.DAYS(TODAY(),F311),_xlfn.DAYS(G311,F311))))","v":""},null,{"$f":"IF(COUNTIF(E311,\"N\"),\"\",IF(ISBLANK(G311),\"\",IF(ISBLANK(I311),IF(ISBLANK(L311),_xlfn.DAYS(TODAY(),G311),_xlfn.DAYS(L311,G311)),_xlfn.DAYS(I311,G311))))","v":""},null,null,{"$f":"IF(COUNTIF(E311,\"N\"),\"ON HOLD\",IF(ISBLANK(L311),IF(ISBLANK(F311),\"\",IF(ISBLANK(G311),\"NO\",\"YES\")),\"NO\"))","v":""},{"$f":"IF(COUNTIF(E311,\"N\"),\"\",IF(ISBLANK(G311),\"\",IF(ISBLANK(L311),_xlfn.DAYS(TODAY(),G311),_xlfn.DAYS(L311,G311))))","v":""},null,null,null,{"$f":"IF(ISBLANK(P311), \"\", P311-Q311)","v":""},{"$f":"IF(ISBLANK(Q311), \"\", Q311/P311)","v":""}]
[null,null,null,null,null,null,null,{"$f":"IF(COUNTIF(E312,\"N\"),\"\",IF(ISBLANK(F312),\"\",IF(ISBLANK(G312),_xlfn.DAYS(TODAY(),F312),_xlfn.DAYS(G312,F312))))","v":""},null,{"$f":"IF(COUNTIF(E312,\"N\"),\"\",IF(ISBLANK(G312),\"\",IF(ISBLANK(I312),IF(ISBLANK(L312),_xlfn.DAYS(TODAY(),G312),_xlfn.DAYS(L312,G312)),_xlfn.DAYS(I312,G312))))","v":""},null,null,{"$f":"IF(COUNTIF(E312,\"N\"),\"ON HOLD\",IF(ISBLANK(L312),IF(ISBLANK(F312),\"\",IF(ISBLANK(G312),\"NO\",\"YES\")),\"NO\"))","v":""},{"$f":"IF(COUNTIF(E312,\"N\"),\"\",IF(ISBLANK(G312),\"\",IF(ISBLANK(L312),_xlfn.DAYS(TODAY(),G312),_xlfn.DAYS(L312,G312))))","v":""},null,null,null,{"$f":"IF(ISBLANK(P312), \"\", P312-Q312)","v":""},{"$f":"IF(ISBLANK(Q312), \"\", Q312/P312)","v":""}]
[null,null,null,null,null,null,null,{"$f":"IF(COUNTIF(E313,\"N\"),\"\",IF(ISBLANK(F313),\"\",IF(ISBLANK(G313),_xlfn.DAYS(TODAY(),F313),_xlfn.DAYS(G313,F313))))","v":""},null,{"$f":"IF(COUNTIF(E313,\"N\"),\"\",IF(ISBLANK(G313),\"\",IF(ISBLANK(I313),IF(ISBLANK(L313),_xlfn.DAYS(TODAY(),G313),_xlfn.DAYS(L313,G313)),_xlfn.DAYS(I313,G313))))","v":""},null,null,{"$f":"IF(COUNTIF(E313,\"N\"),\"ON HOLD\",IF(ISBLANK(L313),IF(ISBLANK(F313),\"\",IF(ISBLANK(G313),\"NO\",\"YES\")),\"NO\"))","v":""},{"$f":"IF(COUNTIF(E313,\"N\"),\"\",IF(ISBLANK(G313),\"\",IF(ISBLANK(L313),_xlfn.DAYS(TODAY(),G313),_xlfn.DAYS(L313,G313))))","v":""},null,null,null,{"$f":"IF(ISBLANK(P313), \"\", P313-Q313)","v":""},{"$f":"IF(ISBLANK(Q313), \"\", Q313/P313)","v":""}]
[null,null,null,null,null,null,null,{"$f":"IF(COUNTIF(E314,\"N\"),\"\",IF(ISBLANK(F314),\"\",IF(ISBLANK(G314),_xlfn.DAYS(TODAY(),F314),_xlfn.DAYS(G314,F314))))","v":""},null,{"$f":"IF(COUNTIF(E314,\"N\"),\"\",IF(ISBLANK(G314),\"\",IF(ISBLANK(I314),IF(ISBLANK(L314),_xlfn.DAYS(TODAY(),G314),_xlfn.DAYS(L314,G314)),_xlfn.DAYS(I314,G314))))","v":""},null,null,{"$f":"IF(COUNTIF(E314,\"N\"),\"ON HOLD\",IF(ISBLANK(L314),IF(ISBLANK(F314),\"\",IF(ISBLANK(G314),\"NO\",\"YES\")),\"NO\"))","v":""},{"$f":"IF(COUNTIF(E314,\"N\"),\"\",IF(ISBLANK(G314),\"\",IF(ISBLANK(L314),_xlfn.DAYS(TODAY(),G314),_xlfn.DAYS(L314,G314))))","v":""},null,null,null,{"$f":"IF(ISBLANK(P314), \"\", P314-Q314)","v":""},{"$f":"IF(ISBLANK(Q314), \"\", Q314/P314)","v":""}]
[null,null,null,null,null,null,null,{"$f":"IF(COUNTIF(E315,\"N\"),\"\",IF(ISBLANK(F315),\"\",IF(ISBLANK(G315),_xlfn.DAYS(TODAY(),F315),_xlfn.DAYS(G315,F315))))","v":""},null,{"$f":"IF(COUNTIF(E315,\"N\"),\"\",IF(ISBLANK(G315),\"\",IF(ISBLANK(I315),IF(ISBLANK(L315),_xlfn.DAYS(TODAY(),G315),_xlfn.DAYS(L315,G315)),_xlfn.DAYS(I315,G315))))","v":""},null,null,{"$f":"IF(COUNTIF(E315,\"N\"),\"ON HOLD\",IF(ISBLANK(L315),IF(ISBLANK(F315),\"\",IF(ISBLANK(G315),\"NO\",\"YES\")),\"NO\"))","v":""},{"$f":"IF(COUNTIF(E315,\"N\"),\"\",IF(ISBLANK(G315),\"\",IF(ISBLANK(L315),_xlfn.DAYS(TODAY(),G315),_xlfn.DAYS(L315,G315))))","v":""},null,null,null,{"$f":"IF(ISBLANK(P315), \"\", P315-Q315)","v":""},{"$f":"IF(ISBLANK(Q315), \"\", Q315/P315)","v":""}]
[null,null,null,null,null,null,null,{"$f":"IF(COUNTIF(E316,\"N\"),\"\",IF(ISBLANK(F316),\"\",IF(ISBLANK(G316),_xlfn.DAYS(TODAY(),F316),_xlfn.DAYS(G316,F316))))","v":""},null,{"$f":"IF(COUNTIF(E316,\"N\"),\"\",IF(ISBLANK(G316),\"\",IF(ISBLANK(I316),IF(ISBLANK(L316),_xlfn.DAYS(TODAY(),G316),_xlfn.DAYS(L316,G316)),_xlfn.DAYS(I316,G316))))","v":""},null,null,{"$f":"IF(COUNTIF(E316,\"N\"),\"ON HOLD\",IF(ISBLANK(L316),IF(ISBLANK(F316),\"\",IF(ISBLANK(G316),\"NO\",\"YES\")),\"NO\"))","v":""},{"$f":"IF(COUNTIF(E316,\"N\"),\"\",IF(ISBLANK(G316),\"\",IF(ISBLANK(L316),_xlfn.DAYS(TODAY(),G316),_xlfn.DAYS(L316,G316))))","v":""},null,null,null,{"$f":"IF(ISBLANK(P316), \"\", P316-Q316)","v":""},{"$f":"IF(ISBLANK(Q316), \"\", Q316/P316)","v":""}]
[null,null,null,null,null,null,null,{"$f":"IF(COUNTIF(E317,\"N\"),\"\",IF(ISBLANK(F317),\"\",IF(ISBLANK(G317),_xlfn.DAYS(TODAY(),F317),_xlfn.DAYS(G317,F317))))","v":""},null,{"$f":"IF(COUNTIF(E317,\"N\"),\"\",IF(ISBLANK(G317),\"\",IF(ISBLANK(I317),IF(ISBLANK(L317),_xlfn.DAYS(TODAY(),G317),_xlfn.DAYS(L317,G317)),_xlfn.DAYS(I317,G317))))","v":""},null,null,{"$f":"IF(COUNTIF(E317,\"N\"),\"ON HOLD\",IF(ISBLANK(L317),IF(ISBLANK(F317),\"\",IF(ISBLANK(G317),\"NO\",\"YES\")),\"NO\"))","v":""},{"$f":"IF(COUNTIF(E317,\"N\"),\"\",IF(ISBLANK(G317),\"\",IF(ISBLANK(L317),_xlfn.DAYS(TODAY(),G317),_xlfn.DAYS(L317,G317))))","v":""},null,null,null,{"$f":"IF(ISBLANK(P317), \"\", P317-Q317)","v":""},{"$f":"IF(ISBLANK(Q317), \"\", Q317/P317)","v":""}]
[null,null,null,null,null,null,null,{"$f":"IF(COUNTIF(E318,\"N\"),\"\",IF(ISBLANK(F318),\"\",IF(ISBLANK(G318),_xlfn.DAYS(TODAY(),F318),_xlfn.DAYS(G318,F318))))","v":""},null,{"$f":"IF(COUNTIF(E318,\"N\"),\"\",IF(ISBLANK(G318),\"\",IF(ISBLANK(I318),IF(ISBLANK(L318),_xlfn.DAYS(TODAY(),G318),_xlfn.DAYS(L318,G318)),_xlfn.DAYS(I318,G318))))","v":""},null,null,{"$f":"IF(COUNTIF(E318,\"N\"),\"ON HOLD\",IF(ISBLANK(L318),IF(ISBLANK(F318),\"\",IF(ISBLANK(G318),\"NO\",\"YES\")),\"NO\"))","v":""},{"$f":"IF(COUNTIF(E318,\"N\"),\"\",IF(ISBLANK(G318),\"\",IF(ISBLANK(L318),_xlfn.DAYS(TODAY(),G318),_xlfn.DAYS(L318,G318))))","v":""},null,null,null,{"$f":"IF(ISBLANK(P318), \"\", P318-Q318)","v":""},{"$f":"IF(ISBLANK(Q318), \"\", Q318/P318)","v":""}]
[null,null,null,null,null,null,null,{"$f":"IF(COUNTIF(E319,\"N\"),\"\",IF(ISBLANK(F319),\"\",IF(ISBLANK(G319),_xlfn.DAYS(TODAY(),F319),_xlfn.DAYS(G319,F319))))","v":""},null,{"$f":"IF(COUNTIF(E319,\"N\"),\"\",IF(ISBLANK(G319),\"\",IF(ISBLANK(I319),IF(ISBLANK(L319),_xlfn.DAYS(TODAY(),G319),_xlfn.DAYS(L319,G319)),_xlfn.DAYS(I319,G319))))","v":""},null,null,{"$f":"IF(COUNTIF(E319,\"N\"),\"ON HOLD\",IF(ISBLANK(L319),IF(ISBLANK(F319),\"\",IF(ISBLANK(G319),\"NO\",\"YES\")),\"NO\"))","v":""},{"$f":"IF(COUNTIF(E319,\"N\"),\"\",IF(ISBLANK(G319),\"\",IF(ISBLANK(L319),_xlfn.DAYS(TODAY(),G319),_xlfn.DAYS(L319,G319))))","v":""},null,null,null,{"$f":"IF(ISBLANK(P319), \"\", P319-Q319)","v":""},{"$f":"IF(ISBLANK(Q319), \"\", Q319/P319)","v":""}]
[null,null,null,null,null,null,null,{"$f":"IF(COUNTIF(E320,\"N\"),\"\",IF(ISBLANK(F320),\"\",IF(ISBLANK(G320),_xlfn.DAYS(TODAY(),F320),_xlfn.DAYS(G320,F320))))","v":""},null,{"$f":"IF(COUNTIF(E320,\"N\"),\"\",IF(ISBLANK(G320),\"\",IF(ISBLANK(I320),IF(ISBLANK(L320),_xlfn.DAYS(TODAY(),G320),_xlfn.DAYS(L320,G320)),_xlfn.DAYS(I320,G320))))","v":""},null,null,{"$f":"IF(COUNTIF(E320,\"N\"),\"ON HOLD\",IF(ISBLANK(L320),IF(ISBLANK(F320),\"\",IF(ISBLANK(G320),\"NO\",\"YES\")),\"NO\"))","v":""},{"$f":"IF(COUNTIF(E320,\"N\"),\"\",IF(ISBLANK(G320),\"\",IF(ISBLANK(L320),_xlfn.DAYS(TODAY(),G320),_xlfn.DAYS(L320,G320))))","v":""},null,null,null,{"$f":"IF(ISBLANK(P320), \"\", P320-Q320)","v":""},{"$f":"IF(ISBLANK(Q320), \"\", Q320/P320)","v":""}]
[null,null,null,null,null,null,null,{"$f":"IF(COUNTIF(E321,\"N\"),\"\",IF(ISBLANK(F321),\"\",IF(ISBLANK(G321),_xlfn.DAYS(TODAY(),F321),_xlfn.DAYS(G321,F321))))","v":""},null,{"$f":"IF(COUNTIF(E321,\"N\"),\"\",IF(ISBLANK(G321),\"\",IF(ISBLANK(I321),IF(ISBLANK(L321),_xlfn.DAYS(TODAY(),G321),_xlfn.DAYS(L321,G321)),_xlfn.DAYS(I321,G321))))","v":""},null,null,{"$f":"IF(COUNTIF(E321,\"N\"),\"ON HOLD\",IF(ISBLANK(L321),IF(ISBLANK(F321),\"\",IF(ISBLANK(G321),\"NO\",\"YES\")),\"NO\"))","v":""},{"$f":"IF(COUNTIF(E321,\"N\"),\"\",IF(ISBLANK(G321),\"\",IF(ISBLANK(L321),_xlfn.DAYS(TODAY(),G321),_xlfn.DAYS(L321,G321))))","v":""},null,null,null,{"$f":"IF(ISBLANK(P321), \"\", P321-Q321)","v":""},{"$f":"IF(ISBLANK(Q321), \"\", Q321/P321)","v":""}]
[null,null,null,null,null,null,null,{"$f":"IF(COUNTIF(E322,\"N\"),\"\",IF(ISBLANK(F322),\"\",IF(ISBLANK(G322),_xlfn.DAYS(TODAY(),F322),_xlfn.DAYS(G322,F322))))","v":""},null,{"$f":"IF(COUNTIF(E322,\"N\"),\"\",IF(ISBLANK(G322),\"\",IF(ISBLANK(I322),IF(ISBLANK(L322),_xlfn.DAYS(TODAY(),G322),_xlfn.DAYS(L322,G322)),_xlfn.DAYS(I322,G322))))","v":""},null,null,{"$f":"IF(COUNTIF(E322,\"N\"),\"ON HOLD\",IF(ISBLANK(L322),IF(ISBLANK(F322),\"\",IF(ISBLANK(G322),\"NO\",\"YES\")),\"NO\"))","v":""},{"$f":"IF(COUNTIF(E322,\"N\"),\"\",IF(ISBLANK(G322),\"\",IF(ISBLANK(L322),_xlfn.DAYS(TODAY(),G322),_xlfn.DAYS(L322,G322))))","v":""},null,null,null,{"$f":"IF(ISBLANK(P322), \"\", P322-Q322)","v":""},{"$f":"IF(ISBLANK(Q322), \"\", Q322/P322)","v":""}]
[null,null,null,null,null,null,null,{"$f":"IF(COUNTIF(E323,\"N\"),\"\",IF(ISBLANK(F323),\"\",IF(ISBLANK(G323),_xlfn.DAYS(TODAY(),F323),_xlfn.DAYS(G323,F323))))","v":""},null,{"$f":"IF(COUNTIF(E323,\"N\"),\"\",IF(ISBLANK(G323),\"\",IF(ISBLANK(I323),IF(ISBLANK(L323),_xlfn.DAYS(TODAY(),G323),_xlfn.DAYS(L323,G323)),_xlfn.DAYS(I323,G323))))","v":""},null,null,{"$f":"IF(COUNTIF(E323,\"N\"),\"ON HOLD\",IF(ISBLANK(L323),IF(ISBLANK(F323),\"\",IF(ISBLANK(G323),\"NO\",\"YES\")),\"NO\"))","v":""},{"$f":"IF(COUNTIF(E323,\"N\"),\"\",IF(ISBLANK(G323),\"\",IF(ISBLANK(L323),_xlfn.DAYS(TODAY(),G323),_xlfn.DAYS(L323,G323))))","v":""},null,null,null,{"$f":"IF(ISBLANK(P323), \"\", P323-Q323)","v":""},{"$f":"IF(ISBLANK(Q323), \"\", Q323/P323)","v":""}]
[null,null,null,null,null,null,null,{"$f":"IF(COUNTIF(E324,\"N\"),\"\",IF(ISBLANK(F324),\"\",IF(ISBLANK(G324),_xlfn.DAYS(TODAY(),F324),_xlfn.DAYS(G324,F324))))","v":""},null,{"$f":"IF(COUNTIF(E324,\"N\"),\"\",IF(ISBLANK(G324),\"\",IF(ISBLANK(I324),IF(ISBLANK(L324),_xlfn.DAYS(TODAY(),G324),_xlfn.DAYS(L324,G324)),_xlfn.DAYS(I324,G324))))","v":""},null,null,{"$f":"IF(COUNTIF(E324,\"N\"),\"ON HOLD\",IF(ISBLANK(L324),IF(ISBLANK(F324),\"\",IF(ISBLANK(G324),\"NO\",\"YES\")),\"NO\"))","v":""},{"$f":"IF(COUNTIF(E324,\"N\"),\"\",IF(ISBLANK(G324),\"\",IF(ISBLANK(L324),_xlfn.DAYS(TODAY(),G324),_xlfn.DAYS(L324,G324))))","v":""},null,null,null,{"$f":"IF(ISBLANK(P324), \"\", P324-Q324)","v":""},{"$f":"IF(ISBLANK(Q324), \"\", Q324/P324)","v":""}]
[null,null,null,null,null,null,null,{"$f":"IF(COUNTIF(E325,\"N\"),\"\",IF(ISBLANK(F325),\"\",IF(ISBLANK(G325),_xlfn.DAYS(TODAY(),F325),_xlfn.DAYS(G325,F325))))","v":""},null,{"$f":"IF(COUNTIF(E325,\"N\"),\"\",IF(ISBLANK(G325),\"\",IF(ISBLANK(I325),IF(ISBLANK(L325),_xlfn.DAYS(TODAY(),G325),_xlfn.DAYS(L325,G325)),_xlfn.DAYS(I325,G325))))","v":""},null,null,{"$f":"IF(COUNTIF(E325,\"N\"),\"ON HOLD\",IF(ISBLANK(L325),IF(ISBLANK(F325),\"\",IF(ISBLANK(G325),\"NO\",\"YES\")),\"NO\"))","v":""},{"$f":"IF(COUNTIF(E325,\"N\"),\"\",IF(ISBLANK(G325),\"\",IF(ISBLANK(L325),_xlfn.DAYS(TODAY(),G325),_xlfn.DAYS(L325,G325))))","v":""},null,null,null,{"$f":"IF(ISBLANK(P325), \"\", P325-Q325)","v":""},{"$f":"IF(ISBLANK(Q325), \"\", Q325/P325)","v":""}]
[null,null,null,null,null,null,null,{"$f":"IF(COUNTIF(E326,\"N\"),\"\",IF(ISBLANK(F326),\"\",IF(ISBLANK(G326),_xlfn.DAYS(TODAY(),F326),_xlfn.DAYS(G326,F326))))","v":""},null,{"$f":"IF(COUNTIF(E326,\"N\"),\"\",IF(ISBLANK(G326),\"\",IF(ISBLANK(I326),IF(ISBLANK(L326),_xlfn.DAYS(TODAY(),G326),_xlfn.DAYS(L326,G326)),_xlfn.DAYS(I326,G326))))","v":""},null,null,{"$f":"IF(COUNTIF(E326,\"N\"),\"ON HOLD\",IF(ISBLANK(L326),IF(ISBLANK(F326),\"\",IF(ISBLANK(G326),\"NO\",\"YES\")),\"NO\"))","v":""},{"$f":"IF(COUNTIF(E326,\"N\"),\"\",IF(ISBLANK(G326),\"\",IF(ISBLANK(L326),_xlfn.DAYS(TODAY(),G326),_xlfn.DAYS(L326,G326))))","v":""},null,null,null,{"$f":"IF(ISBLANK(P326), \"\", P326-Q326)","v":""},{"$f":"IF(ISBLANK(Q326), \"\", Q326/P326)","v":""}]
[null,null,null,null,null,null,null,{"$f":"IF(COUNTIF(E327,\"N\"),\"\",IF(ISBLANK(F327),\"\",IF(ISBLANK(G327),_xlfn.DAYS(TODAY(),F327),_xlfn.DAYS(G327,F327))))","v":""},null,{"$f":"IF(COUNTIF(E327,\"N\"),\"\",IF(ISBLANK(G327),\"\",IF(ISBLANK(I327),IF(ISBLANK(L327),_xlfn.DAYS(TODAY(),G327),_xlfn.DAYS(L327,G327)),_xlfn.DAYS(I327,G327))))","v":""},null,null,{"$f":"IF(COUNTIF(E327,\"N\"),\"ON HOLD\",IF(ISBLANK(L327),IF(ISBLANK(F327),\"\",IF(ISBLANK(G327),\"NO\",\"YES\")),\"NO\"))","v":""},{"$f":"IF(COUNTIF(E327,\"N\"),\"\",IF(ISBLANK(G327),\"\",IF(ISBLANK(L327),_xlfn.DAYS(TODAY(),G327),_xlfn.DAYS(L327,G327))))","v":""},null,null,null,{"$f":"IF(ISBLANK(P327), \"\", P327-Q327)","v":""},{"$f":"IF(ISBLANK(Q327), \"\", Q327/P327)","v":""}]
[null,null,null,null,null,null,null,{"$f":"IF(COUNTIF(E328,\"N\"),\"\",IF(ISBLANK(F328),\"\",IF(ISBLANK(G328),_xlfn.DAYS(TODAY(),F328),_xlfn.DAYS(G328,F328))))","v":""},null,{"$f":"IF(COUNTIF(E328,\"N\"),\"\",IF(ISBLANK(G328),\"\",IF(ISBLANK(I328),IF(ISBLANK(L328),_xlfn.DAYS(TODAY(),G328),_xlfn.DAYS(L328,G328)),_xlfn.DAYS(I328,G328))))","v":""},null,null,{"$f":"IF(COUNTIF(E328,\"N\"),\"ON HOLD\",IF(ISBLANK(L328),IF(ISBLANK(F328),\"\",IF(ISBLANK(G328),\"NO\",\"YES\")),\"NO\"))","v":""},{"$f":"IF(COUNTIF(E328,\"N\"),\"\",IF(ISBLANK(G328),\"\",IF(ISBLANK(L328),_xlfn.DAYS(TODAY(),G328),_xlfn.DAYS(L328,G328))))","v":""},null,null,null,{"$f":"IF(ISBLANK(P328), \"\", P328-Q328)","v":""},{"$f":"IF(ISBLANK(Q328), \"\", Q328/P328)","v":""}]
[null,null,null,null,null,null,null,{"$f":"IF(COUNTIF(E329,\"N\"),\"\",IF(ISBLANK(F329),\"\",IF(ISBLANK(G329),_xlfn.DAYS(TODAY(),F329),_xlfn.DAYS(G329,F329))))","v":""},null,{"$f":"IF(COUNTIF(E329,\"N\"),\"\",IF(ISBLANK(G329),\"\",IF(ISBLANK(I329),IF(ISBLANK(L329),_xlfn.DAYS(TODAY(),G329),_xlfn.DAYS(L329,G329)),_xlfn.DAYS(I329,G329))))","v":""},null,null,{"$f":"IF(COUNTIF(E329,\"N\"),\"ON HOLD\",IF(ISBLANK(L329),IF(ISBLANK(F329),\"\",IF(ISBLANK(G329),\"NO\",\"YES\")),\"NO\"))","v":""},{"$f":"IF(COUNTIF(E329,\"N\"),\"\",IF(ISBLANK(G329),\"\",IF(ISBLANK(L329),_xlfn.DAYS(TODAY(),G329),_xlfn.DAYS(L329,G329))))","v":""},null,null,null,{"$f":"IF(ISBLANK(P329), \"\", P329-Q329)","v":""},{"$f":"IF(ISBLANK(Q329), \"\", Q329/P329)","v":""}]
[null,null,null,null,null,null,null,{"$f":"IF(COUNTIF(E330,\"N\"),\"\",IF(ISBLANK(F330),\"\",IF(ISBLANK(G330),_xlfn.DAYS(TODAY(),F330),_xlfn.DAYS(G330,F330))))","v":""},null,{"$f":"IF(COUNTIF(E330,\"N\"),\"\",IF(ISBLANK(G330),\"\",IF(ISBLANK(I330),IF(ISBLANK(L330),_xlfn.DAYS(TODAY(),G330),_xlfn.DAYS(L330,G330)),_xlfn.DAYS(I330,G330))))","v":""},null,null,{"$f":"IF(COUNTIF(E330,\"N\"),\"ON HOLD\",IF(ISBLANK(L330),IF(ISBLANK(F330),\"\",IF(ISBLANK(G330),\"NO\",\"YES\")),\"NO\"))","v":""},{"$f":"IF(COUNTIF(E330,\"N\"),\"\",IF(ISBLANK(G330),\"\",IF(ISBLANK(L330),_xlfn.DAYS(TODAY(),G330),_xlfn.DAYS(L330,G330))))","v":""},null,null,null,{"$f":"IF(ISBLANK(P330), \"\", P330-Q330)","v":""},{"$f":"IF(ISBLANK(Q330), \"\", Q330/P330)","v":""}]
[null,null,null,null,null,null,null,{"$f":"IF(COUNTIF(E331,\"N\"),\"\",IF(ISBLANK(F331),\"\",IF(ISBLANK(G331),_xlfn.DAYS(TODAY(),F331),_xlfn.DAYS(G331,F331))))","v":""},null,{"$f":"IF(COUNTIF(E331,\"N\"),\"\",IF(ISBLANK(G331),\"\",IF(ISBLANK(I331),IF(ISBLANK(L331),_xlfn.DAYS(TODAY(),G331),_xlfn.DAYS(L331,G331)),_xlfn.DAYS(I331,G331))))","v":""},null,null,{"$f":"IF(COUNTIF(E331,\"N\"),\"ON HOLD\",IF(ISBLANK(L331),IF(ISBLANK(F331),\"\",IF(ISBLANK(G331),\"NO\",\"YES\")),\"NO\"))","v":""},{"$f":"IF(COUNTIF(E331,\"N\"),\"\",IF(ISBLANK(G331),\"\",IF(ISBLANK(L331),_xlfn.DAYS(TODAY(),G331),_xlfn.DAYS(L331,G331))))","v":""},null,null,null,{"$f":"IF(ISBLANK(P331), \"\", P331-Q331)","v":""},{"$f":"IF(ISBLANK(Q331), \"\", Q331/P331)","v":""}]
[null,null,null,null,null,null,null,{"$f":"IF(COUNTIF(E332,\"N\"),\"\",IF(ISBLANK(F332),\"\",IF(ISBLANK(G332),_xlfn.DAYS(TODAY(),F332),_xlfn.DAYS(G332,F332))))","v":""},null,{"$f":"IF(COUNTIF(E332,\"N\"),\"\",IF(ISBLANK(G332),\"\",IF(ISBLANK(I332),IF(ISBLANK(L332),_xlfn.DAYS(TODAY(),G332),_xlfn.DAYS(L332,G332)),_xlfn.DAYS(I332,G332))))","v":""},null,null,{"$f":"IF(COUNTIF(E332,\"N\"),\"ON HOLD\",IF(ISBLANK(L332),IF(ISBLANK(F332),\"\",IF(ISBLANK(G332),\"NO\",\"YES\")),\"NO\"))","v":""},{"$f":"IF(COUNTIF(E332,\"N\"),\"\",IF(ISBLANK(G332),\"\",IF(ISBLANK(L332),_xlfn.DAYS(TODAY(),G332),_xlfn.DAYS(L332,G332))))","v":""},null,null,null,{"$f":"IF(ISBLANK(P332), \"\", P332-Q332)","v":""},{"$f":"IF(ISBLANK(Q332), \"\", Q332/P332)","v":""}]
[null,null,null,null,null,null,null,{"$f":"IF(COUNTIF(E333,\"N\"),\"\",IF(ISBLANK(F333),\"\",IF(ISBLANK(G333),_xlfn.DAYS(TODAY(),F333),_xlfn.DAYS(G333,F333))))","v":""},null,{"$f":"IF(COUNTIF(E333,\"N\"),\"\",IF(ISBLANK(G333),\"\",IF(ISBLANK(I333),IF(ISBLANK(L333),_xlfn.DAYS(TODAY(),G333),_xlfn.DAYS(L333,G333)),_xlfn.DAYS(I333,G333))))","v":""},null,null,{"$f":"IF(COUNTIF(E333,\"N\"),\"ON HOLD\",IF(ISBLANK(L333),IF(ISBLANK(F333),\"\",IF(ISBLANK(G333),\"NO\",\"YES\")),\"NO\"))","v":""},{"$f":"IF(COUNTIF(E333,\"N\"),\"\",IF(ISBLANK(G333),\"\",IF(ISBLANK(L333),_xlfn.DAYS(TODAY(),G333),_xlfn.DAYS(L333,G333))))","v":""},null,null,null,{"$f":"IF(ISBLANK(P333), \"\", P333-Q333)","v":""},{"$f":"IF(ISBLANK(Q333), \"\", Q333/P333)","v":""}]
[null,null,null,null,null,null,null,{"$f":"IF(COUNTIF(E334,\"N\"),\"\",IF(ISBLANK(F334),\"\",IF(ISBLANK(G334),_xlfn.DAYS(TODAY(),F334),_xlfn.DAYS(G334,F334))))","v":""},null,{"$f":"IF(COUNTIF(E334,\"N\"),\"\",IF(ISBLANK(G334),\"\",IF(ISBLANK(I334),IF(ISBLANK(L334),_xlfn.DAYS(TODAY(),G334),_xlfn.DAYS(L334,G334)),_xlfn.DAYS(I334,G334))))","v":""},null,null,{"$f":"IF(COUNTIF(E334,\"N\"),\"ON HOLD\",IF(ISBLANK(L334),IF(ISBLANK(F334),\"\",IF(ISBLANK(G334),\"NO\",\"YES\")),\"NO\"))","v":""},{"$f":"IF(COUNTIF(E334,\"N\"),\"\",IF(ISBLANK(G334),\"\",IF(ISBLANK(L334),_xlfn.DAYS(TODAY(),G334),_xlfn.DAYS(L334,G334))))","v":""},null,null,null,{"$f":"IF(ISBLANK(P334), \"\", P334-Q334)","v":""},{"$f":"IF(ISBLANK(Q334), \"\", Q334/P334)","v":""}]
[null,null,null,null,null,null,null,{"$f":"IF(COUNTIF(E335,\"N\"),\"\",IF(ISBLANK(F335),\"\",IF(ISBLANK(G335),_xlfn.DAYS(TODAY(),F335),_xlfn.DAYS(G335,F335))))","v":""},null,{"$f":"IF(COUNTIF(E335,\"N\"),\"\",IF(ISBLANK(G335),\"\",IF(ISBLANK(I335),IF(ISBLANK(L335),_xlfn.DAYS(TODAY(),G335),_xlfn.DAYS(L335,G335)),_xlfn.DAYS(I335,G335))))","v":""},null,null,{"$f":"IF(COUNTIF(E335,\"N\"),\"ON HOLD\",IF(ISBLANK(L335),IF(ISBLANK(F335),\"\",IF(ISBLANK(G335),\"NO\",\"YES\")),\"NO\"))","v":""},{"$f":"IF(COUNTIF(E335,\"N\"),\"\",IF(ISBLANK(G335),\"\",IF(ISBLANK(L335),_xlfn.DAYS(TODAY(),G335),_xlfn.DAYS(L335,G335))))","v":""},null,null,null,{"$f":"IF(ISBLANK(P335), \"\", P335-Q335)","v":""},{"$f":"IF(ISBLANK(Q335), \"\", Q335/P335)","v":""}]
[null,null,null,null,null,null,null,{"$f":"IF(COUNTIF(E336,\"N\"),\"\",IF(ISBLANK(F336),\"\",IF(ISBLANK(G336),_xlfn.DAYS(TODAY(),F336),_xlfn.DAYS(G336,F336))))","v":""},null,{"$f":"IF(COUNTIF(E336,\"N\"),\"\",IF(ISBLANK(G336),\"\",IF(ISBLANK(I336),IF(ISBLANK(L336),_xlfn.DAYS(TODAY(),G336),_xlfn.DAYS(L336,G336)),_xlfn.DAYS(I336,G336))))","v":""},null,null,{"$f":"IF(COUNTIF(E336,\"N\"),\"ON HOLD\",IF(ISBLANK(L336),IF(ISBLANK(F336),\"\",IF(ISBLANK(G336),\"NO\",\"YES\")),\"NO\"))","v":""},{"$f":"IF(COUNTIF(E336,\"N\"),\"\",IF(ISBLANK(G336),\"\",IF(ISBLANK(L336),_xlfn.DAYS(TODAY(),G336),_xlfn.DAYS(L336,G336))))","v":""},null,null,null,{"$f":"IF(ISBLANK(P336), \"\", P336-Q336)","v":""},{"$f":"IF(ISBLANK(Q336), \"\", Q336/P336)","v":""}]
[null,null,null,null,null,null,null,{"$f":"IF(COUNTIF(E337,\"N\"),\"\",IF(ISBLANK(F337),\"\",IF(ISBLANK(G337),_xlfn.DAYS(TODAY(),F337),_xlfn.DAYS(G337,F337))))","v":""},null,{"$f":"IF(COUNTIF(E337,\"N\"),\"\",IF(ISBLANK(G337),\"\",IF(ISBLANK(I337),IF(ISBLANK(L337),_xlfn.DAYS(TODAY(),G337),_xlfn.DAYS(L337,G337)),_xlfn.DAYS(I337,G337))))","v":""},null,null,{"$f":"IF(COUNTIF(E337,\"N\"),\"ON HOLD\",IF(ISBLANK(L337),IF(ISBLANK(F337),\"\",IF(ISBLANK(G337),\"NO\",\"YES\")),\"NO\"))","v":""},{"$f":"IF(COUNTIF(E337,\"N\"),\"\",IF(ISBLANK(G337),\"\",IF(ISBLANK(L337),_xlfn.DAYS(TODAY(),G337),_xlfn.DAYS(L337,G337))))","v":""},null,null,null,{"$f":"IF(ISBLANK(P337), \"\", P337-Q337)","v":""},{"$f":"IF(ISBLANK(Q337), \"\", Q337/P337)","v":""}]
[null,null,null,null,null,null,null,{"$f":"IF(COUNTIF(E338,\"N\"),\"\",IF(ISBLANK(F338),\"\",IF(ISBLANK(G338),_xlfn.DAYS(TODAY(),F338),_xlfn.DAYS(G338,F338))))","v":""},null,{"$f":"IF(COUNTIF(E338,\"N\"),\"\",IF(ISBLANK(G338),\"\",IF(ISBLANK(I338),IF(ISBLANK(L338),_xlfn.DAYS(TODAY(),G338),_xlfn.DAYS(L338,G338)),_xlfn.DAYS(I338,G338))))","v":""},null,null,{"$f":"IF(COUNTIF(E338,\"N\"),\"ON HOLD\",IF(ISBLANK(L338),IF(ISBLANK(F338),\"\",IF(ISBLANK(G338),\"NO\",\"YES\")),\"NO\"))","v":""},{"$f":"IF(COUNTIF(E338,\"N\"),\"\",IF(ISBLANK(G338),\"\",IF(ISBLANK(L338),_xlfn.DAYS(TODAY(),G338),_xlfn.DAYS(L338,G338))))","v":""},null,null,null,{"$f":"IF(ISBLANK(P338), \"\", P338-Q338)","v":""},{"$f":"IF(ISBLANK(Q338), \"\", Q338/P338)","v":""}]
[null,null,null,null,null,null,null,{"$f":"IF(COUNTIF(E339,\"N\"),\"\",IF(ISBLANK(F339),\"\",IF(ISBLANK(G339),_xlfn.DAYS(TODAY(),F339),_xlfn.DAYS(G339,F339))))","v":""},null,{"$f":"IF(COUNTIF(E339,\"N\"),\"\",IF(ISBLANK(G339),\"\",IF(ISBLANK(I339),IF(ISBLANK(L339),_xlfn.DAYS(TODAY(),G339),_xlfn.DAYS(L339,G339)),_xlfn.DAYS(I339,G339))))","v":""},null,null,{"$f":"IF(COUNTIF(E339,\"N\"),\"ON HOLD\",IF(ISBLANK(L339),IF(ISBLANK(F339),\"\",IF(ISBLANK(G339),\"NO\",\"YES\")),\"NO\"))","v":""},{"$f":"IF(COUNTIF(E339,\"N\"),\"\",IF(ISBLANK(G339),\"\",IF(ISBLANK(L339),_xlfn.DAYS(TODAY(),G339),_xlfn.DAYS(L339,G339))))","v":""},null,null,null,{"$f":"IF(ISBLANK(P339), \"\", P339-Q339)","v":""},{"$f":"IF(ISBLANK(Q339), \"\", Q339/P339)","v":""}]
[null,null,null,null,null,null,null,{"$f":"IF(COUNTIF(E340,\"N\"),\"\",IF(ISBLANK(F340),\"\",IF(ISBLANK(G340),_xlfn.DAYS(TODAY(),F340),_xlfn.DAYS(G340,F340))))","v":""},null,{"$f":"IF(COUNTIF(E340,\"N\"),\"\",IF(ISBLANK(G340),\"\",IF(ISBLANK(I340),IF(ISBLANK(L340),_xlfn.DAYS(TODAY(),G340),_xlfn.DAYS(L340,G340)),_xlfn.DAYS(I340,G340))))","v":""},null,null,{"$f":"IF(COUNTIF(E340,\"N\"),\"ON HOLD\",IF(ISBLANK(L340),IF(ISBLANK(F340),\"\",IF(ISBLANK(G340),\"NO\",\"YES\")),\"NO\"))","v":""},{"$f":"IF(COUNTIF(E340,\"N\"),\"\",IF(ISBLANK(G340),\"\",IF(ISBLANK(L340),_xlfn.DAYS(TODAY(),G340),_xlfn.DAYS(L340,G340))))","v":""},null,null,null,{"$f":"IF(ISBLANK(P340), \"\", P340-Q340)","v":""},{"$f":"IF(ISBLANK(Q340), \"\", Q340/P340)","v":""}]
[null,null,null,null,null,null,null,{"$f":"IF(COUNTIF(E341,\"N\"),\"\",IF(ISBLANK(F341),\"\",IF(ISBLANK(G341),_xlfn.DAYS(TODAY(),F341),_xlfn.DAYS(G341,F341))))","v":""},null,{"$f":"IF(COUNTIF(E341,\"N\"),\"\",IF(ISBLANK(G341),\"\",IF(ISBLANK(I341),IF(ISBLANK(L341),_xlfn.DAYS(TODAY(),G341),_xlfn.DAYS(L341,G341)),_xlfn.DAYS(I341,G341))))","v":""},null,null,{"$f":"IF(COUNTIF(E341,\"N\"),\"ON HOLD\",IF(ISBLANK(L341),IF(ISBLANK(F341),\"\",IF(ISBLANK(G341),\"NO\",\"YES\")),\"NO\"))","v":""},{"$f":"IF(COUNTIF(E341,\"N\"),\"\",IF(ISBLANK(G341),\"\",IF(ISBLANK(L341),_xlfn.DAYS(TODAY(),G341),_xlfn.DAYS(L341,G341))))","v":""},null,null,null,{"$f":"IF(ISBLANK(P341), \"\", P341-Q341)","v":""},{"$f":"IF(ISBLANK(Q341), \"\", Q341/P341)","v":""}]
[null,null,null,null,null,null,null,{"$f":"IF(COUNTIF(E342,\"N\"),\"\",IF(ISBLANK(F342),\"\",IF(ISBLANK(G342),_xlfn.DAYS(TODAY(),F342),_xlfn.DAYS(G342,F342))))","v":""},null,{"$f":"IF(COUNTIF(E342,\"N\"),\"\",IF(ISBLANK(G342),\"\",IF(ISBLANK(I342),IF(ISBLANK(L342),_xlfn.DAYS(TODAY(),G342),_xlfn.DAYS(L342,G342)),_xlfn.DAYS(I342,G342))))","v":""},null,null,{"$f":"IF(COUNTIF(E342,\"N\"),\"ON HOLD\",IF(ISBLANK(L342),IF(ISBLANK(F342),\"\",IF(ISBLANK(G342),\"NO\",\"YES\")),\"NO\"))","v":""},{"$f":"IF(COUNTIF(E342,\"N\"),\"\",IF(ISBLANK(G342),\"\",IF(ISBLANK(L342),_xlfn.DAYS(TODAY(),G342),_xlfn.DAYS(L342,G342))))","v":""},null,null,null,{"$f":"IF(ISBLANK(P342), \"\", P342-Q342)","v":""},{"$f":"IF(ISBLANK(Q342), \"\", Q342/P342)","v":""}]
[null,null,null,null,null,null,null,{"$f":"IF(COUNTIF(E343,\"N\"),\"\",IF(ISBLANK(F343),\"\",IF(ISBLANK(G343),_xlfn.DAYS(TODAY(),F343),_xlfn.DAYS(G343,F343))))","v":""},null,{"$f":"IF(COUNTIF(E343,\"N\"),\"\",IF(ISBLANK(G343),\"\",IF(ISBLANK(I343),IF(ISBLANK(L343),_xlfn.DAYS(TODAY(),G343),_xlfn.DAYS(L343,G343)),_xlfn.DAYS(I343,G343))))","v":""},null,null,{"$f":"IF(COUNTIF(E343,\"N\"),\"ON HOLD\",IF(ISBLANK(L343),IF(ISBLANK(F343),\"\",IF(ISBLANK(G343),\"NO\",\"YES\")),\"NO\"))","v":""},{"$f":"IF(COUNTIF(E343,\"N\"),\"\",IF(ISBLANK(G343),\"\",IF(ISBLANK(L343),_xlfn.DAYS(TODAY(),G343),_xlfn.DAYS(L343,G343))))","v":""},null,null,null,{"$f":"IF(ISBLANK(P343), \"\", P343-Q343)","v":""},{"$f":"IF(ISBLANK(Q343), \"\", Q343/P343)","v":""}]
[null,null,null,null,null,null,null,{"$f":"IF(COUNTIF(E344,\"N\"),\"\",IF(ISBLANK(F344),\"\",IF(ISBLANK(G344),_xlfn.DAYS(TODAY(),F344),_xlfn.DAYS(G344,F344))))","v":""},null,{"$f":"IF(COUNTIF(E344,\"N\"),\"\",IF(ISBLANK(G344),\"\",IF(ISBLANK(I344),IF(ISBLANK(L344),_xlfn.DAYS(TODAY(),G344),_xlfn.DAYS(L344,G344)),_xlfn.DAYS(I344,G344))))","v":""},null,null,{"$f":"IF(COUNTIF(E344,\"N\"),\"ON HOLD\",IF(ISBLANK(L344),IF(ISBLANK(F344),\"\",IF(ISBLANK(G344),\"NO\",\"YES\")),\"NO\"))","v":""},{"$f":"IF(COUNTIF(E344,\"N\"),\"\",IF(ISBLANK(G344),\"\",IF(ISBLANK(L344),_xlfn.DAYS(TODAY(),G344),_xlfn.DAYS(L344,G344))))","v":""},null,null,null,{"$f":"IF(ISBLANK(P344), \"\", P344-Q344)","v":""},{"$f":"IF(ISBLANK(Q344), \"\", Q344/P344)","v":""}]
[null,null,null,null,null,null,null,{"$f":"IF(COUNTIF(E345,\"N\"),\"\",IF(ISBLANK(F345),\"\",IF(ISBLANK(G345),_xlfn.DAYS(TODAY(),F345),_xlfn.DAYS(G345,F345))))","v":""},null,{"$f":"IF(COUNTIF(E345,\"N\"),\"\",IF(ISBLANK(G345),\"\",IF(ISBLANK(I345),IF(ISBLANK(L345),_xlfn.DAYS(TODAY(),G345),_xlfn.DAYS(L345,G345)),_xlfn.DAYS(I345,G345))))","v":""},null,null,{"$f":"IF(COUNTIF(E345,\"N\"),\"ON HOLD\",IF(ISBLANK(L345),IF(ISBLANK(F345),\"\",IF(ISBLANK(G345),\"NO\",\"YES\")),\"NO\"))","v":""},{"$f":"IF(COUNTIF(E345,\"N\"),\"\",IF(ISBLANK(G345),\"\",IF(ISBLANK(L345),_xlfn.DAYS(TODAY(),G345),_xlfn.DAYS(L345,G345))))","v":""},null,null,null,{"$f":"IF(ISBLANK(P345), \"\", P345-Q345)","v":""},{"$f":"IF(ISBLANK(Q345), \"\", Q345/P345)","v":""}]
[null,null,null,null,null,null,null,{"$f":"IF(COUNTIF(E346,\"N\"),\"\",IF(ISBLANK(F346),\"\",IF(ISBLANK(G346),_xlfn.DAYS(TODAY(),F346),_xlfn.DAYS(G346,F346))))","v":""},null,{"$f":"IF(COUNTIF(E346,\"N\"),\"\",IF(ISBLANK(G346),\"\",IF(ISBLANK(I346),IF(ISBLANK(L346),_xlfn.DAYS(TODAY(),G346),_xlfn.DAYS(L346,G346)),_xlfn.DAYS(I346,G346))))","v":""},null,null,{"$f":"IF(COUNTIF(E346,\"N\"),\"ON HOLD\",IF(ISBLANK(L346),IF(ISBLANK(F346),\"\",IF(ISBLANK(G346),\"NO\",\"YES\")),\"NO\"))","v":""},{"$f":"IF(COUNTIF(E346,\"N\"),\"\",IF(ISBLANK(G346),\"\",IF(ISBLANK(L346),_xlfn.DAYS(TODAY(),G346),_xlfn.DAYS(L346,G346))))","v":""},null,null,null,{"$f":"IF(ISBLANK(P346), \"\", P346-Q346)","v":""},{"$f":"IF(ISBLANK(Q346), \"\", Q346/P346)","v":""}]
[null,null,null,null,null,null,null,{"$f":"IF(COUNTIF(E347,\"N\"),\"\",IF(ISBLANK(F347),\"\",IF(ISBLANK(G347),_xlfn.DAYS(TODAY(),F347),_xlfn.DAYS(G347,F347))))","v":""},null,{"$f":"IF(COUNTIF(E347,\"N\"),\"\",IF(ISBLANK(G347),\"\",IF(ISBLANK(I347),IF(ISBLANK(L347),_xlfn.DAYS(TODAY(),G347),_xlfn.DAYS(L347,G347)),_xlfn.DAYS(I347,G347))))","v":""},null,null,{"$f":"IF(COUNTIF(E347,\"N\"),\"ON HOLD\",IF(ISBLANK(L347),IF(ISBLANK(F347),\"\",IF(ISBLANK(G347),\"NO\",\"YES\")),\"NO\"))","v":""},{"$f":"IF(COUNTIF(E347,\"N\"),\"\",IF(ISBLANK(G347),\"\",IF(ISBLANK(L347),_xlfn.DAYS(TODAY(),G347),_xlfn.DAYS(L347,G347))))","v":""},null,null,null,{"$f":"IF(ISBLANK(P347), \"\", P347-Q347)","v":""},{"$f":"IF(ISBLANK(Q347), \"\", Q347/P347)","v":""}]
[null,null,null,null,null,null,null,{"$f":"IF(COUNTIF(E348,\"N\"),\"\",IF(ISBLANK(F348),\"\",IF(ISBLANK(G348),_xlfn.DAYS(TODAY(),F348),_xlfn.DAYS(G348,F348))))","v":""},null,{"$f":"IF(COUNTIF(E348,\"N\"),\"\",IF(ISBLANK(G348),\"\",IF(ISBLANK(I348),IF(ISBLANK(L348),_xlfn.DAYS(TODAY(),G348),_xlfn.DAYS(L348,G348)),_xlfn.DAYS(I348,G348))))","v":""},null,null,{"$f":"IF(COUNTIF(E348,\"N\"),\"ON HOLD\",IF(ISBLANK(L348),IF(ISBLANK(F348),\"\",IF(ISBLANK(G348),\"NO\",\"YES\")),\"NO\"))","v":""},{"$f":"IF(COUNTIF(E348,\"N\"),\"\",IF(ISBLANK(G348),\"\",IF(ISBLANK(L348),_xlfn.DAYS(TODAY(),G348),_xlfn.DAYS(L348,G348))))","v":""},null,null,null,{"$f":"IF(ISBLANK(P348), \"\", P348-Q348)","v":""},{"$f":"IF(ISBLANK(Q348), \"\", Q348/P348)","v":""}]
[null,null,null,null,null,null,null,{"$f":"IF(COUNTIF(E349,\"N\"),\"\",IF(ISBLANK(F349),\"\",IF(ISBLANK(G349),_xlfn.DAYS(TODAY(),F349),_xlfn.DAYS(G349,F349))))","v":""},null,{"$f":"IF(COUNTIF(E349,\"N\"),\"\",IF(ISBLANK(G349),\"\",IF(ISBLANK(I349),IF(ISBLANK(L349),_xlfn.DAYS(TODAY(),G349),_xlfn.DAYS(L349,G349)),_xlfn.DAYS(I349,G349))))","v":""},null,null,{"$f":"IF(COUNTIF(E349,\"N\"),\"ON HOLD\",IF(ISBLANK(L349),IF(ISBLANK(F349),\"\",IF(ISBLANK(G349),\"NO\",\"YES\")),\"NO\"))","v":""},{"$f":"IF(COUNTIF(E349,\"N\"),\"\",IF(ISBLANK(G349),\"\",IF(ISBLANK(L349),_xlfn.DAYS(TODAY(),G349),_xlfn.DAYS(L349,G349))))","v":""},null,null,null,{"$f":"IF(ISBLANK(P349), \"\", P349-Q349)","v":""},{"$f":"IF(ISBLANK(Q349), \"\", Q349/P349)","v":""}]
[null,null,null,null,null,null,null,{"$f":"IF(COUNTIF(E350,\"N\"),\"\",IF(ISBLANK(F350),\"\",IF(ISBLANK(G350),_xlfn.DAYS(TODAY(),F350),_xlfn.DAYS(G350,F350))))","v":""},null,{"$f":"IF(COUNTIF(E350,\"N\"),\"\",IF(ISBLANK(G350),\"\",IF(ISBLANK(I350),IF(ISBLANK(L350),_xlfn.DAYS(TODAY(),G350),_xlfn.DAYS(L350,G350)),_xlfn.DAYS(I350,G350))))","v":""},null,null,{"$f":"IF(COUNTIF(E350,\"N\"),\"ON HOLD\",IF(ISBLANK(L350),IF(ISBLANK(F350),\"\",IF(ISBLANK(G350),\"NO\",\"YES\")),\"NO\"))","v":""},{"$f":"IF(COUNTIF(E350,\"N\"),\"\",IF(ISBLANK(G350),\"\",IF(ISBLANK(L350),_xlfn.DAYS(TODAY(),G350),_xlfn.DAYS(L350,G350))))","v":""},null,null,null,{"$f":"IF(ISBLANK(P350), \"\", P350-Q350)","v":""},{"$f":"IF(ISBLANK(Q350), \"\", Q350/P350)","v":""}]
[null,null,null,null,null,null,null,{"$f":"IF(COUNTIF(E351,\"N\"),\"\",IF(ISBLANK(F351),\"\",IF(ISBLANK(G351),_xlfn.DAYS(TODAY(),F351),_xlfn.DAYS(G351,F351))))","v":""},null,{"$f":"IF(COUNTIF(E351,\"N\"),\"\",IF(ISBLANK(G351),\"\",IF(ISBLANK(I351),IF(ISBLANK(L351),_xlfn.DAYS(TODAY(),G351),_xlfn.DAYS(L351,G351)),_xlfn.DAYS(I351,G351))))","v":""},null,null,{"$f":"IF(COUNTIF(E351,\"N\"),\"ON HOLD\",IF(ISBLANK(L351),IF(ISBLANK(F351),\"\",IF(ISBLANK(G351),\"NO\",\"YES\")),\"NO\"))","v":""},{"$f":"IF(COUNTIF(E351,\"N\"),\"\",IF(ISBLANK(G351),\"\",IF(ISBLANK(L351),_xlfn.DAYS(TODAY(),G351),_xlfn.DAYS(L351,G351))))","v":""},null,null,null,{"$f":"IF(ISBLANK(P351), \"\", P351-Q351)","v":""},{"$f":"IF(ISBLANK(Q351), \"\", Q351/P351)","v":""}]
[null,null,null,null,null,null,null,{"$f":"IF(COUNTIF(E352,\"N\"),\"\",IF(ISBLANK(F352),\"\",IF(ISBLANK(G352),_xlfn.DAYS(TODAY(),F352),_xlfn.DAYS(G352,F352))))","v":""},null,{"$f":"IF(COUNTIF(E352,\"N\"),\"\",IF(ISBLANK(G352),\"\",IF(ISBLANK(I352),IF(ISBLANK(L352),_xlfn.DAYS(TODAY(),G352),_xlfn.DAYS(L352,G352)),_xlfn.DAYS(I352,G352))))","v":""},null,null,{"$f":"IF(COUNTIF(E352,\"N\"),\"ON HOLD\",IF(ISBLANK(L352),IF(ISBLANK(F352),\"\",IF(ISBLANK(G352),\"NO\",\"YES\")),\"NO\"))","v":""},{"$f":"IF(COUNTIF(E352,\"N\"),\"\",IF(ISBLANK(G352),\"\",IF(ISBLANK(L352),_xlfn.DAYS(TODAY(),G352),_xlfn.DAYS(L352,G352))))","v":""},null,null,null,{"$f":"IF(ISBLANK(P352), \"\", P352-Q352)","v":""},{"$f":"IF(ISBLANK(Q352), \"\", Q352/P352)","v":""}]
[null,null,null,null,null,null,null,{"$f":"IF(COUNTIF(E353,\"N\"),\"\",IF(ISBLANK(F353),\"\",IF(ISBLANK(G353),_xlfn.DAYS(TODAY(),F353),_xlfn.DAYS(G353,F353))))","v":""},null,{"$f":"IF(COUNTIF(E353,\"N\"),\"\",IF(ISBLANK(G353),\"\",IF(ISBLANK(I353),IF(ISBLANK(L353),_xlfn.DAYS(TODAY(),G353),_xlfn.DAYS(L353,G353)),_xlfn.DAYS(I353,G353))))","v":""},null,null,{"$f":"IF(COUNTIF(E353,\"N\"),\"ON HOLD\",IF(ISBLANK(L353),IF(ISBLANK(F353),\"\",IF(ISBLANK(G353),\"NO\",\"YES\")),\"NO\"))","v":""},{"$f":"IF(COUNTIF(E353,\"N\"),\"\",IF(ISBLANK(G353),\"\",IF(ISBLANK(L353),_xlfn.DAYS(TODAY(),G353),_xlfn.DAYS(L353,G353))))","v":""},null,null,null,{"$f":"IF(ISBLANK(P353), \"\", P353-Q353)","v":""},{"$f":"IF(ISBLANK(Q353), \"\", Q353/P353)","v":""}]
[null,null,null,null,null,null,null,{"$f":"IF(COUNTIF(E354,\"N\"),\"\",IF(ISBLANK(F354),\"\",IF(ISBLANK(G354),_xlfn.DAYS(TODAY(),F354),_xlfn.DAYS(G354,F354))))","v":""},null,{"$f":"IF(COUNTIF(E354,\"N\"),\"\",IF(ISBLANK(G354),\"\",IF(ISBLANK(I354),IF(ISBLANK(L354),_xlfn.DAYS(TODAY(),G354),_xlfn.DAYS(L354,G354)),_xlfn.DAYS(I354,G354))))","v":""},null,null,{"$f":"IF(COUNTIF(E354,\"N\"),\"ON HOLD\",IF(ISBLANK(L354),IF(ISBLANK(F354),\"\",IF(ISBLANK(G354),\"NO\",\"YES\")),\"NO\"))","v":""},{"$f":"IF(COUNTIF(E354,\"N\"),\"\",IF(ISBLANK(G354),\"\",IF(ISBLANK(L354),_xlfn.DAYS(TODAY(),G354),_xlfn.DAYS(L354,G354))))","v":""},null,null,null,{"$f":"IF(ISBLANK(P354), \"\", P354-Q354)","v":""},{"$f":"IF(ISBLANK(Q354), \"\", Q354/P354)","v":""}]
[null,null,null,null,null,null,null,{"$f":"IF(COUNTIF(E355,\"N\"),\"\",IF(ISBLANK(F355),\"\",IF(ISBLANK(G355),_xlfn.DAYS(TODAY(),F355),_xlfn.DAYS(G355,F355))))","v":""},null,{"$f":"IF(COUNTIF(E355,\"N\"),\"\",IF(ISBLANK(G355),\"\",IF(ISBLANK(I355),IF(ISBLANK(L355),_xlfn.DAYS(TODAY(),G355),_xlfn.DAYS(L355,G355)),_xlfn.DAYS(I355,G355))))","v":""},null,null,{"$f":"IF(COUNTIF(E355,\"N\"),\"ON HOLD\",IF(ISBLANK(L355),IF(ISBLANK(F355),\"\",IF(ISBLANK(G355),\"NO\",\"YES\")),\"NO\"))","v":""},{"$f":"IF(COUNTIF(E355,\"N\"),\"\",IF(ISBLANK(G355),\"\",IF(ISBLANK(L355),_xlfn.DAYS(TODAY(),G355),_xlfn.DAYS(L355,G355))))","v":""},null,null,null,{"$f":"IF(ISBLANK(P355), \"\", P355-Q355)","v":""},{"$f":"IF(ISBLANK(Q355), \"\", Q355/P355)","v":""}]
[null,null,null,null,null,null,null,{"$f":"IF(COUNTIF(E356,\"N\"),\"\",IF(ISBLANK(F356),\"\",IF(ISBLANK(G356),_xlfn.DAYS(TODAY(),F356),_xlfn.DAYS(G356,F356))))","v":""},null,{"$f":"IF(COUNTIF(E356,\"N\"),\"\",IF(ISBLANK(G356),\"\",IF(ISBLANK(I356),IF(ISBLANK(L356),_xlfn.DAYS(TODAY(),G356),_xlfn.DAYS(L356,G356)),_xlfn.DAYS(I356,G356))))","v":""},null,null,{"$f":"IF(COUNTIF(E356,\"N\"),\"ON HOLD\",IF(ISBLANK(L356),IF(ISBLANK(F356),\"\",IF(ISBLANK(G356),\"NO\",\"YES\")),\"NO\"))","v":""},{"$f":"IF(COUNTIF(E356,\"N\"),\"\",IF(ISBLANK(G356),\"\",IF(ISBLANK(L356),_xlfn.DAYS(TODAY(),G356),_xlfn.DAYS(L356,G356))))","v":""},null,null,null,{"$f":"IF(ISBLANK(P356), \"\", P356-Q356)","v":""},{"$f":"IF(ISBLANK(Q356), \"\", Q356/P356)","v":""}]
[null,null,null,null,null,null,null,{"$f":"IF(COUNTIF(E357,\"N\"),\"\",IF(ISBLANK(F357),\"\",IF(ISBLANK(G357),_xlfn.DAYS(TODAY(),F357),_xlfn.DAYS(G357,F357))))","v":""},null,{"$f":"IF(COUNTIF(E357,\"N\"),\"\",IF(ISBLANK(G357),\"\",IF(ISBLANK(I357),IF(ISBLANK(L357),_xlfn.DAYS(TODAY(),G357),_xlfn.DAYS(L357,G357)),_xlfn.DAYS(I357,G357))))","v":""},null,null,{"$f":"IF(COUNTIF(E357,\"N\"),\"ON HOLD\",IF(ISBLANK(L357),IF(ISBLANK(F357),\"\",IF(ISBLANK(G357),\"NO\",\"YES\")),\"NO\"))","v":""},{"$f":"IF(COUNTIF(E357,\"N\"),\"\",IF(ISBLANK(G357),\"\",IF(ISBLANK(L357),_xlfn.DAYS(TODAY(),G357),_xlfn.DAYS(L357,G357))))","v":""},null,null,null,{"$f":"IF(ISBLANK(P357), \"\", P357-Q357)","v":""},{"$f":"IF(ISBLANK(Q357), \"\", Q357/P357)","v":""}]
[null,null,null,null,null,null,null,{"$f":"IF(COUNTIF(E358,\"N\"),\"\",IF(ISBLANK(F358),\"\",IF(ISBLANK(G358),_xlfn.DAYS(TODAY(),F358),_xlfn.DAYS(G358,F358))))","v":""},null,{"$f":"IF(COUNTIF(E358,\"N\"),\"\",IF(ISBLANK(G358),\"\",IF(ISBLANK(I358),IF(ISBLANK(L358),_xlfn.DAYS(TODAY(),G358),_xlfn.DAYS(L358,G358)),_xlfn.DAYS(I358,G358))))","v":""},null,null,{"$f":"IF(COUNTIF(E358,\"N\"),\"ON HOLD\",IF(ISBLANK(L358),IF(ISBLANK(F358),\"\",IF(ISBLANK(G358),\"NO\",\"YES\")),\"NO\"))","v":""},{"$f":"IF(COUNTIF(E358,\"N\"),\"\",IF(ISBLANK(G358),\"\",IF(ISBLANK(L358),_xlfn.DAYS(TODAY(),G358),_xlfn.DAYS(L358,G358))))","v":""},null,null,null,{"$f":"IF(ISBLANK(P358), \"\", P358-Q358)","v":""},{"$f":"IF(ISBLANK(Q358), \"\", Q358/P358)","v":""}]
[null,null,null,null,null,null,null,{"$f":"IF(COUNTIF(E359,\"N\"),\"\",IF(ISBLANK(F359),\"\",IF(ISBLANK(G359),_xlfn.DAYS(TODAY(),F359),_xlfn.DAYS(G359,F359))))","v":""},null,{"$f":"IF(COUNTIF(E359,\"N\"),\"\",IF(ISBLANK(G359),\"\",IF(ISBLANK(I359),IF(ISBLANK(L359),_xlfn.DAYS(TODAY(),G359),_xlfn.DAYS(L359,G359)),_xlfn.DAYS(I359,G359))))","v":""},null,null,{"$f":"IF(COUNTIF(E359,\"N\"),\"ON HOLD\",IF(ISBLANK(L359),IF(ISBLANK(F359),\"\",IF(ISBLANK(G359),\"NO\",\"YES\")),\"NO\"))","v":""},{"$f":"IF(COUNTIF(E359,\"N\"),\"\",IF(ISBLANK(G359),\"\",IF(ISBLANK(L359),_xlfn.DAYS(TODAY(),G359),_xlfn.DAYS(L359,G359))))","v":""},null,null,null,{"$f":"IF(ISBLANK(P359), \"\", P359-Q359)","v":""},{"$f":"IF(ISBLANK(Q359), \"\", Q359/P359)","v":""}]
[null,null,null,null,null,null,null,{"$f":"IF(COUNTIF(E360,\"N\"),\"\",IF(ISBLANK(F360),\"\",IF(ISBLANK(G360),_xlfn.DAYS(TODAY(),F360),_xlfn.DAYS(G360,F360))))","v":""},null,{"$f":"IF(COUNTIF(E360,\"N\"),\"\",IF(ISBLANK(G360),\"\",IF(ISBLANK(I360),IF(ISBLANK(L360),_xlfn.DAYS(TODAY(),G360),_xlfn.DAYS(L360,G360)),_xlfn.DAYS(I360,G360))))","v":""},null,null,{"$f":"IF(COUNTIF(E360,\"N\"),\"ON HOLD\",IF(ISBLANK(L360),IF(ISBLANK(F360),\"\",IF(ISBLANK(G360),\"NO\",\"YES\")),\"NO\"))","v":""},{"$f":"IF(COUNTIF(E360,\"N\"),\"\",IF(ISBLANK(G360),\"\",IF(ISBLANK(L360),_xlfn.DAYS(TODAY(),G360),_xlfn.DAYS(L360,G360))))","v":""},null,null,null,{"$f":"IF(ISBLANK(P360), \"\", P360-Q360)","v":""},{"$f":"IF(ISBLANK(Q360), \"\", Q360/P360)","v":""}]
[null,null,null,null,null,null,null,{"$f":"IF(COUNTIF(E361,\"N\"),\"\",IF(ISBLANK(F361),\"\",IF(ISBLANK(G361),_xlfn.DAYS(TODAY(),F361),_xlfn.DAYS(G361,F361))))","v":""},null,{"$f":"IF(COUNTIF(E361,\"N\"),\"\",IF(ISBLANK(G361),\"\",IF(ISBLANK(I361),IF(ISBLANK(L361),_xlfn.DAYS(TODAY(),G361),_xlfn.DAYS(L361,G361)),_xlfn.DAYS(I361,G361))))","v":""},null,null,{"$f":"IF(COUNTIF(E361,\"N\"),\"ON HOLD\",IF(ISBLANK(L361),IF(ISBLANK(F361),\"\",IF(ISBLANK(G361),\"NO\",\"YES\")),\"NO\"))","v":""},{"$f":"IF(COUNTIF(E361,\"N\"),\"\",IF(ISBLANK(G361),\"\",IF(ISBLANK(L361),_xlfn.DAYS(TODAY(),G361),_xlfn.DAYS(L361,G361))))","v":""},null,null,null,{"$f":"IF(ISBLANK(P361), \"\", P361-Q361)","v":""},{"$f":"IF(ISBLANK(Q361), \"\", Q361/P361)","v":""}]
[null,null,null,null,null,null,null,{"$f":"IF(COUNTIF(E362,\"N\"),\"\",IF(ISBLANK(F362),\"\",IF(ISBLANK(G362),_xlfn.DAYS(TODAY(),F362),_xlfn.DAYS(G362,F362))))","v":""},null,{"$f":"IF(COUNTIF(E362,\"N\"),\"\",IF(ISBLANK(G362),\"\",IF(ISBLANK(I362),IF(ISBLANK(L362),_xlfn.DAYS(TODAY(),G362),_xlfn.DAYS(L362,G362)),_xlfn.DAYS(I362,G362))))","v":""},null,null,{"$f":"IF(COUNTIF(E362,\"N\"),\"ON HOLD\",IF(ISBLANK(L362),IF(ISBLANK(F362),\"\",IF(ISBLANK(G362),\"NO\",\"YES\")),\"NO\"))","v":""},{"$f":"IF(COUNTIF(E362,\"N\"),\"\",IF(ISBLANK(G362),\"\",IF(ISBLANK(L362),_xlfn.DAYS(TODAY(),G362),_xlfn.DAYS(L362,G362))))","v":""},null,null,null,{"$f":"IF(ISBLANK(P362), \"\", P362-Q362)","v":""},{"$f":"IF(ISBLANK(Q362), \"\", Q362/P362)","v":""}]
[null,null,null,null,null,null,null,{"$f":"IF(COUNTIF(E363,\"N\"),\"\",IF(ISBLANK(F363),\"\",IF(ISBLANK(G363),_xlfn.DAYS(TODAY(),F363),_xlfn.DAYS(G363,F363))))","v":""},null,{"$f":"IF(COUNTIF(E363,\"N\"),\"\",IF(ISBLANK(G363),\"\",IF(ISBLANK(I363),IF(ISBLANK(L363),_xlfn.DAYS(TODAY(),G363),_xlfn.DAYS(L363,G363)),_xlfn.DAYS(I363,G363))))","v":""},null,null,{"$f":"IF(COUNTIF(E363,\"N\"),\"ON HOLD\",IF(ISBLANK(L363),IF(ISBLANK(F363),\"\",IF(ISBLANK(G363),\"NO\",\"YES\")),\"NO\"))","v":""},{"$f":"IF(COUNTIF(E363,\"N\"),\"\",IF(ISBLANK(G363),\"\",IF(ISBLANK(L363),_xlfn.DAYS(TODAY(),G363),_xlfn.DAYS(L363,G363))))","v":""},null,null,null,{"$f":"IF(ISBLANK(P363), \"\", P363-Q363)","v":""},{"$f":"IF(ISBLANK(Q363), \"\", Q363/P363)","v":""}]
[null,null,null,null,null,null,null,{"$f":"IF(COUNTIF(E364,\"N\"),\"\",IF(ISBLANK(F364),\"\",IF(ISBLANK(G364),_xlfn.DAYS(TODAY(),F364),_xlfn.DAYS(G364,F364))))","v":""},null,{"$f":"IF(COUNTIF(E364,\"N\"),\"\",IF(ISBLANK(G364),\"\",IF(ISBLANK(I364),IF(ISBLANK(L364),_xlfn.DAYS(TODAY(),G364),_xlfn.DAYS(L364,G364)),_xlfn.DAYS(I364,G364))))","v":""},null,null,{"$f":"IF(COUNTIF(E364,\"N\"),\"ON HOLD\",IF(ISBLANK(L364),IF(ISBLANK(F364),\"\",IF(ISBLANK(G364),\"NO\",\"YES\")),\"NO\"))","v":""},{"$f":"IF(COUNTIF(E364,\"N\"),\"\",IF(ISBLANK(G364),\"\",IF(ISBLANK(L364),_xlfn.DAYS(TODAY(),G364),_xlfn.DAYS(L364,G364))))","v":""},null,null,null,{"$f":"IF(ISBLANK(P364), \"\", P364-Q364)","v":""},{"$f":"IF(ISBLANK(Q364), \"\", Q364/P364)","v":""}]
[null,null,null,null,null,null,null,{"$f":"IF(COUNTIF(E365,\"N\"),\"\",IF(ISBLANK(F365),\"\",IF(ISBLANK(G365),_xlfn.DAYS(TODAY(),F365),_xlfn.DAYS(G365,F365))))","v":""},null,{"$f":"IF(COUNTIF(E365,\"N\"),\"\",IF(ISBLANK(G365),\"\",IF(ISBLANK(I365),IF(ISBLANK(L365),_xlfn.DAYS(TODAY(),G365),_xlfn.DAYS(L365,G365)),_xlfn.DAYS(I365,G365))))","v":""},null,null,{"$f":"IF(COUNTIF(E365,\"N\"),\"ON HOLD\",IF(ISBLANK(L365),IF(ISBLANK(F365),\"\",IF(ISBLANK(G365),\"NO\",\"YES\")),\"NO\"))","v":""},{"$f":"IF(COUNTIF(E365,\"N\"),\"\",IF(ISBLANK(G365),\"\",IF(ISBLANK(L365),_xlfn.DAYS(TODAY(),G365),_xlfn.DAYS(L365,G365))))","v":""},null,null,null,{"$f":"IF(ISBLANK(P365), \"\", P365-Q365)","v":""},{"$f":"IF(ISBLANK(Q365), \"\", Q365/P365)","v":""}]
[null,null,null,null,null,null,null,{"$f":"IF(COUNTIF(E366,\"N\"),\"\",IF(ISBLANK(F366),\"\",IF(ISBLANK(G366),_xlfn.DAYS(TODAY(),F366),_xlfn.DAYS(G366,F366))))","v":""},null,{"$f":"IF(COUNTIF(E366,\"N\"),\"\",IF(ISBLANK(G366),\"\",IF(ISBLANK(I366),IF(ISBLANK(L366),_xlfn.DAYS(TODAY(),G366),_xlfn.DAYS(L366,G366)),_xlfn.DAYS(I366,G366))))","v":""},null,null,{"$f":"IF(COUNTIF(E366,\"N\"),\"ON HOLD\",IF(ISBLANK(L366),IF(ISBLANK(F366),\"\",IF(ISBLANK(G366),\"NO\",\"YES\")),\"NO\"))","v":""},{"$f":"IF(COUNTIF(E366,\"N\"),\"\",IF(ISBLANK(G366),\"\",IF(ISBLANK(L366),_xlfn.DAYS(TODAY(),G366),_xlfn.DAYS(L366,G366))))","v":""},null,null,null,{"$f":"IF(ISBLANK(P366), \"\", P366-Q366)","v":""},{"$f":"IF(ISBLANK(Q366), \"\", Q366/P366)","v":""}]
[null,null,null,null,null,null,null,{"$f":"IF(COUNTIF(E367,\"N\"),\"\",IF(ISBLANK(F367),\"\",IF(ISBLANK(G367),_xlfn.DAYS(TODAY(),F367),_xlfn.DAYS(G367,F367))))","v":""},null,{"$f":"IF(COUNTIF(E367,\"N\"),\"\",IF(ISBLANK(G367),\"\",IF(ISBLANK(I367),IF(ISBLANK(L367),_xlfn.DAYS(TODAY(),G367),_xlfn.DAYS(L367,G367)),_xlfn.DAYS(I367,G367))))","v":""},null,null,{"$f":"IF(COUNTIF(E367,\"N\"),\"ON HOLD\",IF(ISBLANK(L367),IF(ISBLANK(F367),\"\",IF(ISBLANK(G367),\"NO\",\"YES\")),\"NO\"))","v":""},{"$f":"IF(COUNTIF(E367,\"N\"),\"\",IF(ISBLANK(G367),\"\",IF(ISBLANK(L367),_xlfn.DAYS(TODAY(),G367),_xlfn.DAYS(L367,G367))))","v":""},null,null,null,{"$f":"IF(ISBLANK(P367), \"\", P367-Q367)","v":""},{"$f":"IF(ISBLANK(Q367), \"\", Q367/P367)","v":""}]
[null,null,null,null,null,null,null,{"$f":"IF(COUNTIF(E368,\"N\"),\"\",IF(ISBLANK(F368),\"\",IF(ISBLANK(G368),_xlfn.DAYS(TODAY(),F368),_xlfn.DAYS(G368,F368))))","v":""},null,{"$f":"IF(COUNTIF(E368,\"N\"),\"\",IF(ISBLANK(G368),\"\",IF(ISBLANK(I368),IF(ISBLANK(L368),_xlfn.DAYS(TODAY(),G368),_xlfn.DAYS(L368,G368)),_xlfn.DAYS(I368,G368))))","v":""},null,null,{"$f":"IF(COUNTIF(E368,\"N\"),\"ON HOLD\",IF(ISBLANK(L368),IF(ISBLANK(F368),\"\",IF(ISBLANK(G368),\"NO\",\"YES\")),\"NO\"))","v":""},{"$f":"IF(COUNTIF(E368,\"N\"),\"\",IF(ISBLANK(G368),\"\",IF(ISBLANK(L368),_xlfn.DAYS(TODAY(),G368),_xlfn.DAYS(L368,G368))))","v":""},null,null,null,{"$f":"IF(ISBLANK(P368), \"\", P368-Q368)","v":""},{"$f":"IF(ISBLANK(Q368), \"\", Q368/P368)","v":""}]
[null,null,null,null,null,null,null,{"$f":"IF(COUNTIF(E369,\"N\"),\"\",IF(ISBLANK(F369),\"\",IF(ISBLANK(G369),_xlfn.DAYS(TODAY(),F369),_xlfn.DAYS(G369,F369))))","v":""},null,{"$f":"IF(COUNTIF(E369,\"N\"),\"\",IF(ISBLANK(G369),\"\",IF(ISBLANK(I369),IF(ISBLANK(L369),_xlfn.DAYS(TODAY(),G369),_xlfn.DAYS(L369,G369)),_xlfn.DAYS(I369,G369))))","v":""},null,null,{"$f":"IF(COUNTIF(E369,\"N\"),\"ON HOLD\",IF(ISBLANK(L369),IF(ISBLANK(F369),\"\",IF(ISBLANK(G369),\"NO\",\"YES\")),\"NO\"))","v":""},{"$f":"IF(COUNTIF(E369,\"N\"),\"\",IF(ISBLANK(G369),\"\",IF(ISBLANK(L369),_xlfn.DAYS(TODAY(),G369),_xlfn.DAYS(L369,G369))))","v":""},null,null,null,{"$f":"IF(ISBLANK(P369), \"\", P369-Q369)","v":""},{"$f":"IF(ISBLANK(Q369), \"\", Q369/P369)","v":""}]
[null,null,null,null,null,null,null,{"$f":"IF(COUNTIF(E370,\"N\"),\"\",IF(ISBLANK(F370),\"\",IF(ISBLANK(G370),_xlfn.DAYS(TODAY(),F370),_xlfn.DAYS(G370,F370))))","v":""},null,{"$f":"IF(COUNTIF(E370,\"N\"),\"\",IF(ISBLANK(G370),\"\",IF(ISBLANK(I370),IF(ISBLANK(L370),_xlfn.DAYS(TODAY(),G370),_xlfn.DAYS(L370,G370)),_xlfn.DAYS(I370,G370))))","v":""},null,null,{"$f":"IF(COUNTIF(E370,\"N\"),\"ON HOLD\",IF(ISBLANK(L370),IF(ISBLANK(F370),\"\",IF(ISBLANK(G370),\"NO\",\"YES\")),\"NO\"))","v":""},{"$f":"IF(COUNTIF(E370,\"N\"),\"\",IF(ISBLANK(G370),\"\",IF(ISBLANK(L370),_xlfn.DAYS(TODAY(),G370),_xlfn.DAYS(L370,G370))))","v":""},null,null,null,{"$f":"IF(ISBLANK(P370), \"\", P370-Q370)","v":""},{"$f":"IF(ISBLANK(Q370), \"\", Q370/P370)","v":""}]
[null,null,null,null,null,null,null,{"$f":"IF(COUNTIF(E371,\"N\"),\"\",IF(ISBLANK(F371),\"\",IF(ISBLANK(G371),_xlfn.DAYS(TODAY(),F371),_xlfn.DAYS(G371,F371))))","v":""},null,{"$f":"IF(COUNTIF(E371,\"N\"),\"\",IF(ISBLANK(G371),\"\",IF(ISBLANK(I371),IF(ISBLANK(L371),_xlfn.DAYS(TODAY(),G371),_xlfn.DAYS(L371,G371)),_xlfn.DAYS(I371,G371))))","v":""},null,null,{"$f":"IF(COUNTIF(E371,\"N\"),\"ON HOLD\",IF(ISBLANK(L371),IF(ISBLANK(F371),\"\",IF(ISBLANK(G371),\"NO\",\"YES\")),\"NO\"))","v":""},{"$f":"IF(COUNTIF(E371,\"N\"),\"\",IF(ISBLANK(G371),\"\",IF(ISBLANK(L371),_xlfn.DAYS(TODAY(),G371),_xlfn.DAYS(L371,G371))))","v":""},null,null,null,{"$f":"IF(ISBLANK(P371), \"\", P371-Q371)","v":""},{"$f":"IF(ISBLANK(Q371), \"\", Q371/P371)","v":""}]
[null,null,null,null,null,null,null,{"$f":"IF(COUNTIF(E372,\"N\"),\"\",IF(ISBLANK(F372),\"\",IF(ISBLANK(G372),_xlfn.DAYS(TODAY(),F372),_xlfn.DAYS(G372,F372))))","v":""},null,{"$f":"IF(COUNTIF(E372,\"N\"),\"\",IF(ISBLANK(G372),\"\",IF(ISBLANK(I372),IF(ISBLANK(L372),_xlfn.DAYS(TODAY(),G372),_xlfn.DAYS(L372,G372)),_xlfn.DAYS(I372,G372))))","v":""},null,null,{"$f":"IF(COUNTIF(E372,\"N\"),\"ON HOLD\",IF(ISBLANK(L372),IF(ISBLANK(F372),\"\",IF(ISBLANK(G372),\"NO\",\"YES\")),\"NO\"))","v":""},{"$f":"IF(COUNTIF(E372,\"N\"),\"\",IF(ISBLANK(G372),\"\",IF(ISBLANK(L372),_xlfn.DAYS(TODAY(),G372),_xlfn.DAYS(L372,G372))))","v":""},null,null,null,{"$f":"IF(ISBLANK(P372), \"\", P372-Q372)","v":""},{"$f":"IF(ISBLANK(Q372), \"\", Q372/P372)","v":""}]
[null,null,null,null,null,null,null,{"$f":"IF(COUNTIF(E373,\"N\"),\"\",IF(ISBLANK(F373),\"\",IF(ISBLANK(G373),_xlfn.DAYS(TODAY(),F373),_xlfn.DAYS(G373,F373))))","v":""},null,{"$f":"IF(COUNTIF(E373,\"N\"),\"\",IF(ISBLANK(G373),\"\",IF(ISBLANK(I373),IF(ISBLANK(L373),_xlfn.DAYS(TODAY(),G373),_xlfn.DAYS(L373,G373)),_xlfn.DAYS(I373,G373))))","v":""},null,null,{"$f":"IF(COUNTIF(E373,\"N\"),\"ON HOLD\",IF(ISBLANK(L373),IF(ISBLANK(F373),\"\",IF(ISBLANK(G373),\"NO\",\"YES\")),\"NO\"))","v":""},{"$f":"IF(COUNTIF(E373,\"N\"),\"\",IF(ISBLANK(G373),\"\",IF(ISBLANK(L373),_xlfn.DAYS(TODAY(),G373),_xlfn.DAYS(L373,G373))))","v":""},null,null,null,{"$f":"IF(ISBLANK(P373), \"\", P373-Q373)","v":""},{"$f":"IF(ISBLANK(Q373), \"\", Q373/P373)","v":""}]
[null,null,null,null,null,null,null,{"$f":"IF(COUNTIF(E374,\"N\"),\"\",IF(ISBLANK(F374),\"\",IF(ISBLANK(G374),_xlfn.DAYS(TODAY(),F374),_xlfn.DAYS(G374,F374))))","v":""},null,{"$f":"IF(COUNTIF(E374,\"N\"),\"\",IF(ISBLANK(G374),\"\",IF(ISBLANK(I374),IF(ISBLANK(L374),_xlfn.DAYS(TODAY(),G374),_xlfn.DAYS(L374,G374)),_xlfn.DAYS(I374,G374))))","v":""},null,null,{"$f":"IF(COUNTIF(E374,\"N\"),\"ON HOLD\",IF(ISBLANK(L374),IF(ISBLANK(F374),\"\",IF(ISBLANK(G374),\"NO\",\"YES\")),\"NO\"))","v":""},{"$f":"IF(COUNTIF(E374,\"N\"),\"\",IF(ISBLANK(G374),\"\",IF(ISBLANK(L374),_xlfn.DAYS(TODAY(),G374),_xlfn.DAYS(L374,G374))))","v":""},null,null,null,{"$f":"IF(ISBLANK(P374), \"\", P374-Q374)","v":""},{"$f":"IF(ISBLANK(Q374), \"\", Q374/P374)","v":""}]
[null,null,null,null,null,null,null,{"$f":"IF(COUNTIF(E375,\"N\"),\"\",IF(ISBLANK(F375),\"\",IF(ISBLANK(G375),_xlfn.DAYS(TODAY(),F375),_xlfn.DAYS(G375,F375))))","v":""},null,{"$f":"IF(COUNTIF(E375,\"N\"),\"\",IF(ISBLANK(G375),\"\",IF(ISBLANK(I375),IF(ISBLANK(L375),_xlfn.DAYS(TODAY(),G375),_xlfn.DAYS(L375,G375)),_xlfn.DAYS(I375,G375))))","v":""},null,null,{"$f":"IF(COUNTIF(E375,\"N\"),\"ON HOLD\",IF(ISBLANK(L375),IF(ISBLANK(F375),\"\",IF(ISBLANK(G375),\"NO\",\"YES\")),\"NO\"))","v":""},{"$f":"IF(COUNTIF(E375,\"N\"),\"\",IF(ISBLANK(G375),\"\",IF(ISBLANK(L375),_xlfn.DAYS(TODAY(),G375),_xlfn.DAYS(L375,G375))))","v":""},null,null,null,{"$f":"IF(ISBLANK(P375), \"\", P375-Q375)","v":""},{"$f":"IF(ISBLANK(Q375), \"\", Q375/P375)","v":""}]
[null,null,null,null,null,null,null,{"$f":"IF(COUNTIF(E376,\"N\"),\"\",IF(ISBLANK(F376),\"\",IF(ISBLANK(G376),_xlfn.DAYS(TODAY(),F376),_xlfn.DAYS(G376,F376))))","v":""},null,{"$f":"IF(COUNTIF(E376,\"N\"),\"\",IF(ISBLANK(G376),\"\",IF(ISBLANK(I376),IF(ISBLANK(L376),_xlfn.DAYS(TODAY(),G376),_xlfn.DAYS(L376,G376)),_xlfn.DAYS(I376,G376))))","v":""},null,null,{"$f":"IF(COUNTIF(E376,\"N\"),\"ON HOLD\",IF(ISBLANK(L376),IF(ISBLANK(F376),\"\",IF(ISBLANK(G376),\"NO\",\"YES\")),\"NO\"))","v":""},{"$f":"IF(COUNTIF(E376,\"N\"),\"\",IF(ISBLANK(G376),\"\",IF(ISBLANK(L376),_xlfn.DAYS(TODAY(),G376),_xlfn.DAYS(L376,G376))))","v":""},null,null,null,{"$f":"IF(ISBLANK(P376), \"\", P376-Q376)","v":""},{"$f":"IF(ISBLANK(Q376), \"\", Q376/P376)","v":""}]
[null,null,null,null,null,null,null,{"$f":"IF(COUNTIF(E377,\"N\"),\"\",IF(ISBLANK(F377),\"\",IF(ISBLANK(G377),_xlfn.DAYS(TODAY(),F377),_xlfn.DAYS(G377,F377))))","v":""},null,{"$f":"IF(COUNTIF(E377,\"N\"),\"\",IF(ISBLANK(G377),\"\",IF(ISBLANK(I377),IF(ISBLANK(L377),_xlfn.DAYS(TODAY(),G377),_xlfn.DAYS(L377,G377)),_xlfn.DAYS(I377,G377))))","v":""},null,null,{"$f":"IF(COUNTIF(E377,\"N\"),\"ON HOLD\",IF(ISBLANK(L377),IF(ISBLANK(F377),\"\",IF(ISBLANK(G377),\"NO\",\"YES\")),\"NO\"))","v":""},{"$f":"IF(COUNTIF(E377,\"N\"),\"\",IF(ISBLANK(G377),\"\",IF(ISBLANK(L377),_xlfn.DAYS(TODAY(),G377),_xlfn.DAYS(L377,G377))))","v":""},null,null,null,{"$f":"IF(ISBLANK(P377), \"\", P377-Q377)","v":""},{"$f":"IF(ISBLANK(Q377), \"\", Q377/P377)","v":""}]
[null,null,null,null,null,null,null,{"$f":"IF(COUNTIF(E378,\"N\"),\"\",IF(ISBLANK(F378),\"\",IF(ISBLANK(G378),_xlfn.DAYS(TODAY(),F378),_xlfn.DAYS(G378,F378))))","v":""},null,{"$f":"IF(COUNTIF(E378,\"N\"),\"\",IF(ISBLANK(G378),\"\",IF(ISBLANK(I378),IF(ISBLANK(L378),_xlfn.DAYS(TODAY(),G378),_xlfn.DAYS(L378,G378)),_xlfn.DAYS(I378,G378))))","v":""},null,null,{"$f":"IF(COUNTIF(E378,\"N\"),\"ON HOLD\",IF(ISBLANK(L378),IF(ISBLANK(F378),\"\",IF(ISBLANK(G378),\"NO\",\"YES\")),\"NO\"))","v":""},{"$f":"IF(COUNTIF(E378,\"N\"),\"\",IF(ISBLANK(G378),\"\",IF(ISBLANK(L378),_xlfn.DAYS(TODAY(),G378),_xlfn.DAYS(L378,G378))))","v":""},null,null,null,{"$f":"IF(ISBLANK(P378), \"\", P378-Q378)","v":""},{"$f":"IF(ISBLANK(Q378), \"\", Q378/P378)","v":""}]
[null,null,null,null,null,null,null,{"$f":"IF(COUNTIF(E379,\"N\"),\"\",IF(ISBLANK(F379),\"\",IF(ISBLANK(G379),_xlfn.DAYS(TODAY(),F379),_xlfn.DAYS(G379,F379))))","v":""},null,{"$f":"IF(COUNTIF(E379,\"N\"),\"\",IF(ISBLANK(G379),\"\",IF(ISBLANK(I379),IF(ISBLANK(L379),_xlfn.DAYS(TODAY(),G379),_xlfn.DAYS(L379,G379)),_xlfn.DAYS(I379,G379))))","v":""},null,null,{"$f":"IF(COUNTIF(E379,\"N\"),\"ON HOLD\",IF(ISBLANK(L379),IF(ISBLANK(F379),\"\",IF(ISBLANK(G379),\"NO\",\"YES\")),\"NO\"))","v":""},{"$f":"IF(COUNTIF(E379,\"N\"),\"\",IF(ISBLANK(G379),\"\",IF(ISBLANK(L379),_xlfn.DAYS(TODAY(),G379),_xlfn.DAYS(L379,G379))))","v":""},null,null,null,{"$f":"IF(ISBLANK(P379), \"\", P379-Q379)","v":""},{"$f":"IF(ISBLANK(Q379), \"\", Q379/P379)","v":""}]
[null,null,null,null,null,null,null,{"$f":"IF(COUNTIF(E380,\"N\"),\"\",IF(ISBLANK(F380),\"\",IF(ISBLANK(G380),_xlfn.DAYS(TODAY(),F380),_xlfn.DAYS(G380,F380))))","v":""},null,{"$f":"IF(COUNTIF(E380,\"N\"),\"\",IF(ISBLANK(G380),\"\",IF(ISBLANK(I380),IF(ISBLANK(L380),_xlfn.DAYS(TODAY(),G380),_xlfn.DAYS(L380,G380)),_xlfn.DAYS(I380,G380))))","v":""},null,null,{"$f":"IF(COUNTIF(E380,\"N\"),\"ON HOLD\",IF(ISBLANK(L380),IF(ISBLANK(F380),\"\",IF(ISBLANK(G380),\"NO\",\"YES\")),\"NO\"))","v":""},{"$f":"IF(COUNTIF(E380,\"N\"),\"\",IF(ISBLANK(G380),\"\",IF(ISBLANK(L380),_xlfn.DAYS(TODAY(),G380),_xlfn.DAYS(L380,G380))))","v":""},null,null,null,{"$f":"IF(ISBLANK(P380), \"\", P380-Q380)","v":""},{"$f":"IF(ISBLANK(Q380), \"\", Q380/P380)","v":""}]
[null,null,null,null,null,null,null,{"$f":"IF(COUNTIF(E381,\"N\"),\"\",IF(ISBLANK(F381),\"\",IF(ISBLANK(G381),_xlfn.DAYS(TODAY(),F381),_xlfn.DAYS(G381,F381))))","v":""},null,{"$f":"IF(COUNTIF(E381,\"N\"),\"\",IF(ISBLANK(G381),\"\",IF(ISBLANK(I381),IF(ISBLANK(L381),_xlfn.DAYS(TODAY(),G381),_xlfn.DAYS(L381,G381)),_xlfn.DAYS(I381,G381))))","v":""},null,null,{"$f":"IF(COUNTIF(E381,\"N\"),\"ON HOLD\",IF(ISBLANK(L381),IF(ISBLANK(F381),\"\",IF(ISBLANK(G381),\"NO\",\"YES\")),\"NO\"))","v":""},{"$f":"IF(COUNTIF(E381,\"N\"),\"\",IF(ISBLANK(G381),\"\",IF(ISBLANK(L381),_xlfn.DAYS(TODAY(),G381),_xlfn.DAYS(L381,G381))))","v":""},null,null,null,{"$f":"IF(ISBLANK(P381), \"\", P381-Q381)","v":""},{"$f":"IF(ISBLANK(Q381), \"\", Q381/P381)","v":""}]
[null,null,null,null,null,null,null,{"$f":"IF(COUNTIF(E382,\"N\"),\"\",IF(ISBLANK(F382),\"\",IF(ISBLANK(G382),_xlfn.DAYS(TODAY(),F382),_xlfn.DAYS(G382,F382))))","v":""},null,{"$f":"IF(COUNTIF(E382,\"N\"),\"\",IF(ISBLANK(G382),\"\",IF(ISBLANK(I382),IF(ISBLANK(L382),_xlfn.DAYS(TODAY(),G382),_xlfn.DAYS(L382,G382)),_xlfn.DAYS(I382,G382))))","v":""},null,null,{"$f":"IF(COUNTIF(E382,\"N\"),\"ON HOLD\",IF(ISBLANK(L382),IF(ISBLANK(F382),\"\",IF(ISBLANK(G382),\"NO\",\"YES\")),\"NO\"))","v":""},{"$f":"IF(COUNTIF(E382,\"N\"),\"\",IF(ISBLANK(G382),\"\",IF(ISBLANK(L382),_xlfn.DAYS(TODAY(),G382),_xlfn.DAYS(L382,G382))))","v":""},null,null,null,{"$f":"IF(ISBLANK(P382), \"\", P382-Q382)","v":""},{"$f":"IF(ISBLANK(Q382), \"\", Q382/P382)","v":""}]
[null,null,null,null,null,null,null,{"$f":"IF(COUNTIF(E383,\"N\"),\"\",IF(ISBLANK(F383),\"\",IF(ISBLANK(G383),_xlfn.DAYS(TODAY(),F383),_xlfn.DAYS(G383,F383))))","v":""},null,{"$f":"IF(COUNTIF(E383,\"N\"),\"\",IF(ISBLANK(G383),\"\",IF(ISBLANK(I383),IF(ISBLANK(L383),_xlfn.DAYS(TODAY(),G383),_xlfn.DAYS(L383,G383)),_xlfn.DAYS(I383,G383))))","v":""},null,null,{"$f":"IF(COUNTIF(E383,\"N\"),\"ON HOLD\",IF(ISBLANK(L383),IF(ISBLANK(F383),\"\",IF(ISBLANK(G383),\"NO\",\"YES\")),\"NO\"))","v":""},{"$f":"IF(COUNTIF(E383,\"N\"),\"\",IF(ISBLANK(G383),\"\",IF(ISBLANK(L383),_xlfn.DAYS(TODAY(),G383),_xlfn.DAYS(L383,G383))))","v":""},null,null,null,{"$f":"IF(ISBLANK(P383), \"\", P383-Q383)","v":""},{"$f":"IF(ISBLANK(Q383), \"\", Q383/P383)","v":""}]
[null,null,null,null,null,null,null,{"$f":"IF(COUNTIF(E384,\"N\"),\"\",IF(ISBLANK(F384),\"\",IF(ISBLANK(G384),_xlfn.DAYS(TODAY(),F384),_xlfn.DAYS(G384,F384))))","v":""},null,{"$f":"IF(COUNTIF(E384,\"N\"),\"\",IF(ISBLANK(G384),\"\",IF(ISBLANK(I384),IF(ISBLANK(L384),_xlfn.DAYS(TODAY(),G384),_xlfn.DAYS(L384,G384)),_xlfn.DAYS(I384,G384))))","v":""},null,null,{"$f":"IF(COUNTIF(E384,\"N\"),\"ON HOLD\",IF(ISBLANK(L384),IF(ISBLANK(F384),\"\",IF(ISBLANK(G384),\"NO\",\"YES\")),\"NO\"))","v":""},{"$f":"IF(COUNTIF(E384,\"N\"),\"\",IF(ISBLANK(G384),\"\",IF(ISBLANK(L384),_xlfn.DAYS(TODAY(),G384),_xlfn.DAYS(L384,G384))))","v":""},null,null,null,{"$f":"IF(ISBLANK(P384), \"\", P384-Q384)","v":""},{"$f":"IF(ISBLANK(Q384), \"\", Q384/P384)","v":""}]
[null,null,null,null,null,null,null,{"$f":"IF(COUNTIF(E385,\"N\"),\"\",IF(ISBLANK(F385),\"\",IF(ISBLANK(G385),_xlfn.DAYS(TODAY(),F385),_xlfn.DAYS(G385,F385))))","v":""},null,{"$f":"IF(COUNTIF(E385,\"N\"),\"\",IF(ISBLANK(G385),\"\",IF(ISBLANK(I385),IF(ISBLANK(L385),_xlfn.DAYS(TODAY(),G385),_xlfn.DAYS(L385,G385)),_xlfn.DAYS(I385,G385))))","v":""},null,null,{"$f":"IF(COUNTIF(E385,\"N\"),\"ON HOLD\",IF(ISBLANK(L385),IF(ISBLANK(F385),\"\",IF(ISBLANK(G385),\"NO\",\"YES\")),\"NO\"))","v":""},{"$f":"IF(COUNTIF(E385,\"N\"),\"\",IF(ISBLANK(G385),\"\",IF(ISBLANK(L385),_xlfn.DAYS(TODAY(),G385),_xlfn.DAYS(L385,G385))))","v":""},null,null,null,{"$f":"IF(ISBLANK(P385), \"\", P385-Q385)","v":""},{"$f":"IF(ISBLANK(Q385), \"\", Q385/P385)","v":""}]
[null,null,null,null,null,null,null,{"$f":"IF(COUNTIF(E386,\"N\"),\"\",IF(ISBLANK(F386),\"\",IF(ISBLANK(G386),_xlfn.DAYS(TODAY(),F386),_xlfn.DAYS(G386,F386))))","v":""},null,{"$f":"IF(COUNTIF(E386,\"N\"),\"\",IF(ISBLANK(G386),\"\",IF(ISBLANK(I386),IF(ISBLANK(L386),_xlfn.DAYS(TODAY(),G386),_xlfn.DAYS(L386,G386)),_xlfn.DAYS(I386,G386))))","v":""},null,null,{"$f":"IF(COUNTIF(E386,\"N\"),\"ON HOLD\",IF(ISBLANK(L386),IF(ISBLANK(F386),\"\",IF(ISBLANK(G386),\"NO\",\"YES\")),\"NO\"))","v":""},{"$f":"IF(COUNTIF(E386,\"N\"),\"\",IF(ISBLANK(G386),\"\",IF(ISBLANK(L386),_xlfn.DAYS(TODAY(),G386),_xlfn.DAYS(L386,G386))))","v":""},null,null,null,{"$f":"IF(ISBLANK(P386), \"\", P386-Q386)","v":""},{"$f":"IF(ISBLANK(Q386), \"\", Q386/P386)","v":""}]
[null,null,null,null,null,null,null,{"$f":"IF(COUNTIF(E387,\"N\"),\"\",IF(ISBLANK(F387),\"\",IF(ISBLANK(G387),_xlfn.DAYS(TODAY(),F387),_xlfn.DAYS(G387,F387))))","v":""},null,{"$f":"IF(COUNTIF(E387,\"N\"),\"\",IF(ISBLANK(G387),\"\",IF(ISBLANK(I387),IF(ISBLANK(L387),_xlfn.DAYS(TODAY(),G387),_xlfn.DAYS(L387,G387)),_xlfn.DAYS(I387,G387))))","v":""},null,null,{"$f":"IF(COUNTIF(E387,\"N\"),\"ON HOLD\",IF(ISBLANK(L387),IF(ISBLANK(F387),\"\",IF(ISBLANK(G387),\"NO\",\"YES\")),\"NO\"))","v":""},{"$f":"IF(COUNTIF(E387,\"N\"),\"\",IF(ISBLANK(G387),\"\",IF(ISBLANK(L387),_xlfn.DAYS(TODAY(),G387),_xlfn.DAYS(L387,G387))))","v":""},null,null,null,{"$f":"IF(ISBLANK(P387), \"\", P387-Q387)","v":""},{"$f":"IF(ISBLANK(Q387), \"\", Q387/P387)","v":""}]
[null,null,null,null,null,null,null,{"$f":"IF(COUNTIF(E388,\"N\"),\"\",IF(ISBLANK(F388),\"\",IF(ISBLANK(G388),_xlfn.DAYS(TODAY(),F388),_xlfn.DAYS(G388,F388))))","v":""},null,{"$f":"IF(COUNTIF(E388,\"N\"),\"\",IF(ISBLANK(G388),\"\",IF(ISBLANK(I388),IF(ISBLANK(L388),_xlfn.DAYS(TODAY(),G388),_xlfn.DAYS(L388,G388)),_xlfn.DAYS(I388,G388))))","v":""},null,null,{"$f":"IF(COUNTIF(E388,\"N\"),\"ON HOLD\",IF(ISBLANK(L388),IF(ISBLANK(F388),\"\",IF(ISBLANK(G388),\"NO\",\"YES\")),\"NO\"))","v":""},{"$f":"IF(COUNTIF(E388,\"N\"),\"\",IF(ISBLANK(G388),\"\",IF(ISBLANK(L388),_xlfn.DAYS(TODAY(),G388),_xlfn.DAYS(L388,G388))))","v":""},null,null,null,{"$f":"IF(ISBLANK(P388), \"\", P388-Q388)","v":""},{"$f":"IF(ISBLANK(Q388), \"\", Q388/P388)","v":""}]
[null,null,null,null,null,null,null,{"$f":"IF(COUNTIF(E389,\"N\"),\"\",IF(ISBLANK(F389),\"\",IF(ISBLANK(G389),_xlfn.DAYS(TODAY(),F389),_xlfn.DAYS(G389,F389))))","v":""},null,{"$f":"IF(COUNTIF(E389,\"N\"),\"\",IF(ISBLANK(G389),\"\",IF(ISBLANK(I389),IF(ISBLANK(L389),_xlfn.DAYS(TODAY(),G389),_xlfn.DAYS(L389,G389)),_xlfn.DAYS(I389,G389))))","v":""},null,null,{"$f":"IF(COUNTIF(E389,\"N\"),\"ON HOLD\",IF(ISBLANK(L389),IF(ISBLANK(F389),\"\",IF(ISBLANK(G389),\"NO\",\"YES\")),\"NO\"))","v":""},{"$f":"IF(COUNTIF(E389,\"N\"),\"\",IF(ISBLANK(G389),\"\",IF(ISBLANK(L389),_xlfn.DAYS(TODAY(),G389),_xlfn.DAYS(L389,G389))))","v":""},null,null,null,{"$f":"IF(ISBLANK(P389), \"\", P389-Q389)","v":""},{"$f":"IF(ISBLANK(Q389), \"\", Q389/P389)","v":""}]
[null,null,null,null,null,null,null,{"$f":"IF(COUNTIF(E390,\"N\"),\"\",IF(ISBLANK(F390),\"\",IF(ISBLANK(G390),_xlfn.DAYS(TODAY(),F390),_xlfn.DAYS(G390,F390))))","v":""},null,{"$f":"IF(COUNTIF(E390,\"N\"),\"\",IF(ISBLANK(G390),\"\",IF(ISBLANK(I390),IF(ISBLANK(L390),_xlfn.DAYS(TODAY(),G390),_xlfn.DAYS(L390,G390)),_xlfn.DAYS(I390,G390))))","v":""},null,null,{"$f":"IF(COUNTIF(E390,\"N\"),\"ON HOLD\",IF(ISBLANK(L390),IF(ISBLANK(F390),\"\",IF(ISBLANK(G390),\"NO\",\"YES\")),\"NO\"))","v":""},{"$f":"IF(COUNTIF(E390,\"N\"),\"\",IF(ISBLANK(G390),\"\",IF(ISBLANK(L390),_xlfn.DAYS(TODAY(),G390),_xlfn.DAYS(L390,G390))))","v":""},null,null,null,{"$f":"IF(ISBLANK(P390), \"\", P390-Q390)","v":""},{"$f":"IF(ISBLANK(Q390), \"\", Q390/P390)","v":""}]
[null,null,null,null,null,null,null,{"$f":"IF(COUNTIF(E391,\"N\"),\"\",IF(ISBLANK(F391),\"\",IF(ISBLANK(G391),_xlfn.DAYS(TODAY(),F391),_xlfn.DAYS(G391,F391))))","v":""},null,{"$f":"IF(COUNTIF(E391,\"N\"),\"\",IF(ISBLANK(G391),\"\",IF(ISBLANK(I391),IF(ISBLANK(L391),_xlfn.DAYS(TODAY(),G391),_xlfn.DAYS(L391,G391)),_xlfn.DAYS(I391,G391))))","v":""},null,null,{"$f":"IF(COUNTIF(E391,\"N\"),\"ON HOLD\",IF(ISBLANK(L391),IF(ISBLANK(F391),\"\",IF(ISBLANK(G391),\"NO\",\"YES\")),\"NO\"))","v":""},{"$f":"IF(COUNTIF(E391,\"N\"),\"\",IF(ISBLANK(G391),\"\",IF(ISBLANK(L391),_xlfn.DAYS(TODAY(),G391),_xlfn.DAYS(L391,G391))))","v":""},null,null,null,{"$f":"IF(ISBLANK(P391), \"\", P391-Q391)","v":""},{"$f":"IF(ISBLANK(Q391), \"\", Q391/P391)","v":""}]
[null,null,null,null,null,null,null,{"$f":"IF(COUNTIF(E392,\"N\"),\"\",IF(ISBLANK(F392),\"\",IF(ISBLANK(G392),_xlfn.DAYS(TODAY(),F392),_xlfn.DAYS(G392,F392))))","v":""},null,{"$f":"IF(COUNTIF(E392,\"N\"),\"\",IF(ISBLANK(G392),\"\",IF(ISBLANK(I392),IF(ISBLANK(L392),_xlfn.DAYS(TODAY(),G392),_xlfn.DAYS(L392,G392)),_xlfn.DAYS(I392,G392))))","v":""},null,null,{"$f":"IF(COUNTIF(E392,\"N\"),\"ON HOLD\",IF(ISBLANK(L392),IF(ISBLANK(F392),\"\",IF(ISBLANK(G392),\"NO\",\"YES\")),\"NO\"))","v":""},{"$f":"IF(COUNTIF(E392,\"N\"),\"\",IF(ISBLANK(G392),\"\",IF(ISBLANK(L392),_xlfn.DAYS(TODAY(),G392),_xlfn.DAYS(L392,G392))))","v":""},null,null,null,{"$f":"IF(ISBLANK(P392), \"\", P392-Q392)","v":""},{"$f":"IF(ISBLANK(Q392), \"\", Q392/P392)","v":""}]
[null,null,null,null,null,null,null,{"$f":"IF(COUNTIF(E393,\"N\"),\"\",IF(ISBLANK(F393),\"\",IF(ISBLANK(G393),_xlfn.DAYS(TODAY(),F393),_xlfn.DAYS(G393,F393))))","v":""},null,{"$f":"IF(COUNTIF(E393,\"N\"),\"\",IF(ISBLANK(G393),\"\",IF(ISBLANK(I393),IF(ISBLANK(L393),_xlfn.DAYS(TODAY(),G393),_xlfn.DAYS(L393,G393)),_xlfn.DAYS(I393,G393))))","v":""},null,null,{"$f":"IF(COUNTIF(E393,\"N\"),\"ON HOLD\",IF(ISBLANK(L393),IF(ISBLANK(F393),\"\",IF(ISBLANK(G393),\"NO\",\"YES\")),\"NO\"))","v":""},{"$f":"IF(COUNTIF(E393,\"N\"),\"\",IF(ISBLANK(G393),\"\",IF(ISBLANK(L393),_xlfn.DAYS(TODAY(),G393),_xlfn.DAYS(L393,G393))))","v":""},null,null,null,{"$f":"IF(ISBLANK(P393), \"\", P393-Q393)","v":""},{"$f":"IF(ISBLANK(Q393), \"\", Q393/P393)","v":""}]
[null,null,null,null,null,null,null,{"$f":"IF(COUNTIF(E394,\"N\"),\"\",IF(ISBLANK(F394),\"\",IF(ISBLANK(G394),_xlfn.DAYS(TODAY(),F394),_xlfn.DAYS(G394,F394))))","v":""},null,{"$f":"IF(COUNTIF(E394,\"N\"),\"\",IF(ISBLANK(G394),\"\",IF(ISBLANK(I394),IF(ISBLANK(L394),_xlfn.DAYS(TODAY(),G394),_xlfn.DAYS(L394,G394)),_xlfn.DAYS(I394,G394))))","v":""},null,null,{"$f":"IF(COUNTIF(E394,\"N\"),\"ON HOLD\",IF(ISBLANK(L394),IF(ISBLANK(F394),\"\",IF(ISBLANK(G394),\"NO\",\"YES\")),\"NO\"))","v":""},{"$f":"IF(COUNTIF(E394,\"N\"),\"\",IF(ISBLANK(G394),\"\",IF(ISBLANK(L394),_xlfn.DAYS(TODAY(),G394),_xlfn.DAYS(L394,G394))))","v":""},null,null,null,{"$f":"IF(ISBLANK(P394), \"\", P394-Q394)","v":""},{"$f":"IF(ISBLANK(Q394), \"\", Q394/P394)","v":""}]
[null,null,null,null,null,null,null,{"$f":"IF(COUNTIF(E395,\"N\"),\"\",IF(ISBLANK(F395),\"\",IF(ISBLANK(G395),_xlfn.DAYS(TODAY(),F395),_xlfn.DAYS(G395,F395))))","v":""},null,{"$f":"IF(COUNTIF(E395,\"N\"),\"\",IF(ISBLANK(G395),\"\",IF(ISBLANK(I395),IF(ISBLANK(L395),_xlfn.DAYS(TODAY(),G395),_xlfn.DAYS(L395,G395)),_xlfn.DAYS(I395,G395))))","v":""},null,null,{"$f":"IF(COUNTIF(E395,\"N\"),\"ON HOLD\",IF(ISBLANK(L395),IF(ISBLANK(F395),\"\",IF(ISBLANK(G395),\"NO\",\"YES\")),\"NO\"))","v":""},{"$f":"IF(COUNTIF(E395,\"N\"),\"\",IF(ISBLANK(G395),\"\",IF(ISBLANK(L395),_xlfn.DAYS(TODAY(),G395),_xlfn.DAYS(L395,G395))))","v":""},null,null,null,{"$f":"IF(ISBLANK(P395), \"\", P395-Q395)","v":""},{"$f":"IF(ISBLANK(Q395), \"\", Q395/P395)","v":""}]
[null,null,null,null,null,null,null,{"$f":"IF(COUNTIF(E396,\"N\"),\"\",IF(ISBLANK(F396),\"\",IF(ISBLANK(G396),_xlfn.DAYS(TODAY(),F396),_xlfn.DAYS(G396,F396))))","v":""},null,{"$f":"IF(COUNTIF(E396,\"N\"),\"\",IF(ISBLANK(G396),\"\",IF(ISBLANK(I396),IF(ISBLANK(L396),_xlfn.DAYS(TODAY(),G396),_xlfn.DAYS(L396,G396)),_xlfn.DAYS(I396,G396))))","v":""},null,null,{"$f":"IF(COUNTIF(E396,\"N\"),\"ON HOLD\",IF(ISBLANK(L396),IF(ISBLANK(F396),\"\",IF(ISBLANK(G396),\"NO\",\"YES\")),\"NO\"))","v":""},{"$f":"IF(COUNTIF(E396,\"N\"),\"\",IF(ISBLANK(G396),\"\",IF(ISBLANK(L396),_xlfn.DAYS(TODAY(),G396),_xlfn.DAYS(L396,G396))))","v":""},null,null,null,{"$f":"IF(ISBLANK(P396), \"\", P396-Q396)","v":""},{"$f":"IF(ISBLANK(Q396), \"\", Q396/P396)","v":""}]
[null,null,null,null,null,null,null,{"$f":"IF(COUNTIF(E397,\"N\"),\"\",IF(ISBLANK(F397),\"\",IF(ISBLANK(G397),_xlfn.DAYS(TODAY(),F397),_xlfn.DAYS(G397,F397))))","v":""},null,{"$f":"IF(COUNTIF(E397,\"N\"),\"\",IF(ISBLANK(G397),\"\",IF(ISBLANK(I397),IF(ISBLANK(L397),_xlfn.DAYS(TODAY(),G397),_xlfn.DAYS(L397,G397)),_xlfn.DAYS(I397,G397))))","v":""},null,null,{"$f":"IF(COUNTIF(E397,\"N\"),\"ON HOLD\",IF(ISBLANK(L397),IF(ISBLANK(F397),\"\",IF(ISBLANK(G397),\"NO\",\"YES\")),\"NO\"))","v":""},{"$f":"IF(COUNTIF(E397,\"N\"),\"\",IF(ISBLANK(G397),\"\",IF(ISBLANK(L397),_xlfn.DAYS(TODAY(),G397),_xlfn.DAYS(L397,G397))))","v":""},null,null,null,{"$f":"IF(ISBLANK(P397), \"\", P397-Q397)","v":""},{"$f":"IF(ISBLANK(Q397), \"\", Q397/P397)","v":""}]
[null,null,null,null,null,null,null,{"$f":"IF(COUNTIF(E398,\"N\"),\"\",IF(ISBLANK(F398),\"\",IF(ISBLANK(G398),_xlfn.DAYS(TODAY(),F398),_xlfn.DAYS(G398,F398))))","v":""},null,{"$f":"IF(COUNTIF(E398,\"N\"),\"\",IF(ISBLANK(G398),\"\",IF(ISBLANK(I398),IF(ISBLANK(L398),_xlfn.DAYS(TODAY(),G398),_xlfn.DAYS(L398,G398)),_xlfn.DAYS(I398,G398))))","v":""},null,null,{"$f":"IF(COUNTIF(E398,\"N\"),\"ON HOLD\",IF(ISBLANK(L398),IF(ISBLANK(F398),\"\",IF(ISBLANK(G398),\"NO\",\"YES\")),\"NO\"))","v":""},{"$f":"IF(COUNTIF(E398,\"N\"),\"\",IF(ISBLANK(G398),\"\",IF(ISBLANK(L398),_xlfn.DAYS(TODAY(),G398),_xlfn.DAYS(L398,G398))))","v":""},null,null,null,{"$f":"IF(ISBLANK(P398), \"\", P398-Q398)","v":""},{"$f":"IF(ISBLANK(Q398), \"\", Q398/P398)","v":""}]
[null,null,null,null,null,null,null,{"$f":"IF(COUNTIF(E399,\"N\"),\"\",IF(ISBLANK(F399),\"\",IF(ISBLANK(G399),_xlfn.DAYS(TODAY(),F399),_xlfn.DAYS(G399,F399))))","v":""},null,{"$f":"IF(COUNTIF(E399,\"N\"),\"\",IF(ISBLANK(G399),\"\",IF(ISBLANK(I399),IF(ISBLANK(L399),_xlfn.DAYS(TODAY(),G399),_xlfn.DAYS(L399,G399)),_xlfn.DAYS(I399,G399))))","v":""},null,null,{"$f":"IF(COUNTIF(E399,\"N\"),\"ON HOLD\",IF(ISBLANK(L399),IF(ISBLANK(F399),\"\",IF(ISBLANK(G399),\"NO\",\"YES\")),\"NO\"))","v":""},{"$f":"IF(COUNTIF(E399,\"N\"),\"\",IF(ISBLANK(G399),\"\",IF(ISBLANK(L399),_xlfn.DAYS(TODAY(),G399),_xlfn.DAYS(L399,G399))))","v":""},null,null,null,{"$f":"IF(ISBLANK(P399), \"\", P399-Q399)","v":""},{"$f":"IF(ISBLANK(Q399), \"\", Q399/P399)","v":""}]
[null,null,null,null,null,null,null,{"$f":"IF(COUNTIF(E400,\"N\"),\"\",IF(ISBLANK(F400),\"\",IF(ISBLANK(G400),_xlfn.DAYS(TODAY(),F400),_xlfn.DAYS(G400,F400))))","v":""},null,{"$f":"IF(COUNTIF(E400,\"N\"),\"\",IF(ISBLANK(G400),\"\",IF(ISBLANK(I400),IF(ISBLANK(L400),_xlfn.DAYS(TODAY(),G400),_xlfn.DAYS(L400,G400)),_xlfn.DAYS(I400,G400))))","v":""},null,null,{"$f":"IF(COUNTIF(E400,\"N\"),\"ON HOLD\",IF(ISBLANK(L400),IF(ISBLANK(F400),\"\",IF(ISBLANK(G400),\"NO\",\"YES\")),\"NO\"))","v":""},{"$f":"IF(COUNTIF(E400,\"N\"),\"\",IF(ISBLANK(G400),\"\",IF(ISBLANK(L400),_xlfn.DAYS(TODAY(),G400),_xlfn.DAYS(L400,G400))))","v":""},null,null,null,{"$f":"IF(ISBLANK(P400), \"\", P400-Q400)","v":""},{"$f":"IF(ISBLANK(Q400), \"\", Q400/P400)","v":""}]
[null,null,null,null,null,null,null,{"$f":"IF(COUNTIF(E401,\"N\"),\"\",IF(ISBLANK(F401),\"\",IF(ISBLANK(G401),_xlfn.DAYS(TODAY(),F401),_xlfn.DAYS(G401,F401))))","v":""},null,{"$f":"IF(COUNTIF(E401,\"N\"),\"\",IF(ISBLANK(G401),\"\",IF(ISBLANK(I401),IF(ISBLANK(L401),_xlfn.DAYS(TODAY(),G401),_xlfn.DAYS(L401,G401)),_xlfn.DAYS(I401,G401))))","v":""},null,null,{"$f":"IF(COUNTIF(E401,\"N\"),\"ON HOLD\",IF(ISBLANK(L401),IF(ISBLANK(F401),\"\",IF(ISBLANK(G401),\"NO\",\"YES\")),\"NO\"))","v":""},{"$f":"IF(COUNTIF(E401,\"N\"),\"\",IF(ISBLANK(G401),\"\",IF(ISBLANK(L401),_xlfn.DAYS(TODAY(),G401),_xlfn.DAYS(L401,G401))))","v":""},null,null,null,{"$f":"IF(ISBLANK(P401), \"\", P401-Q401)","v":""},{"$f":"IF(ISBLANK(Q401), \"\", Q401/P401)","v":""}]
[null,null,null,null,null,null,null,{"$f":"IF(COUNTIF(E402,\"N\"),\"\",IF(ISBLANK(F402),\"\",IF(ISBLANK(G402),_xlfn.DAYS(TODAY(),F402),_xlfn.DAYS(G402,F402))))","v":""},null,{"$f":"IF(COUNTIF(E402,\"N\"),\"\",IF(ISBLANK(G402),\"\",IF(ISBLANK(I402),IF(ISBLANK(L402),_xlfn.DAYS(TODAY(),G402),_xlfn.DAYS(L402,G402)),_xlfn.DAYS(I402,G402))))","v":""},null,null,{"$f":"IF(COUNTIF(E402,\"N\"),\"ON HOLD\",IF(ISBLANK(L402),IF(ISBLANK(F402),\"\",IF(ISBLANK(G402),\"NO\",\"YES\")),\"NO\"))","v":""},{"$f":"IF(COUNTIF(E402,\"N\"),\"\",IF(ISBLANK(G402),\"\",IF(ISBLANK(L402),_xlfn.DAYS(TODAY(),G402),_xlfn.DAYS(L402,G402))))","v":""},null,null,null,{"$f":"IF(ISBLANK(P402), \"\", P402-Q402)","v":""},{"$f":"IF(ISBLANK(Q402), \"\", Q402/P402)","v":""}]
[null,null,null,null,null,null,null,{"$f":"IF(COUNTIF(E403,\"N\"),\"\",IF(ISBLANK(F403),\"\",IF(ISBLANK(G403),_xlfn.DAYS(TODAY(),F403),_xlfn.DAYS(G403,F403))))","v":""},null,{"$f":"IF(COUNTIF(E403,\"N\"),\"\",IF(ISBLANK(G403),\"\",IF(ISBLANK(I403),IF(ISBLANK(L403),_xlfn.DAYS(TODAY(),G403),_xlfn.DAYS(L403,G403)),_xlfn.DAYS(I403,G403))))","v":""},null,null,{"$f":"IF(COUNTIF(E403,\"N\"),\"ON HOLD\",IF(ISBLANK(L403),IF(ISBLANK(F403),\"\",IF(ISBLANK(G403),\"NO\",\"YES\")),\"NO\"))","v":""},{"$f":"IF(COUNTIF(E403,\"N\"),\"\",IF(ISBLANK(G403),\"\",IF(ISBLANK(L403),_xlfn.DAYS(TODAY(),G403),_xlfn.DAYS(L403,G403))))","v":""},null,null,null,{"$f":"IF(ISBLANK(P403), \"\", P403-Q403)","v":""},{"$f":"IF(ISBLANK(Q403), \"\", Q403/P403)","v":""}]
[null,null,null,null,null,null,null,{"$f":"IF(COUNTIF(E404,\"N\"),\"\",IF(ISBLANK(F404),\"\",IF(ISBLANK(G404),_xlfn.DAYS(TODAY(),F404),_xlfn.DAYS(G404,F404))))","v":""},null,{"$f":"IF(COUNTIF(E404,\"N\"),\"\",IF(ISBLANK(G404),\"\",IF(ISBLANK(I404),IF(ISBLANK(L404),_xlfn.DAYS(TODAY(),G404),_xlfn.DAYS(L404,G404)),_xlfn.DAYS(I404,G404))))","v":""},null,null,{"$f":"IF(COUNTIF(E404,\"N\"),\"ON HOLD\",IF(ISBLANK(L404),IF(ISBLANK(F404),\"\",IF(ISBLANK(G404),\"NO\",\"YES\")),\"NO\"))","v":""},{"$f":"IF(COUNTIF(E404,\"N\"),\"\",IF(ISBLANK(G404),\"\",IF(ISBLANK(L404),_xlfn.DAYS(TODAY(),G404),_xlfn.DAYS(L404,G404))))","v":""},null,null,null,{"$f":"IF(ISBLANK(P404), \"\", P404-Q404)","v":""},{"$f":"IF(ISBLANK(Q404), \"\", Q404/P404)","v":""}]
[null,null,null,null,null,null,null,{"$f":"IF(COUNTIF(E405,\"N\"),\"\",IF(ISBLANK(F405),\"\",IF(ISBLANK(G405),_xlfn.DAYS(TODAY(),F405),_xlfn.DAYS(G405,F405))))","v":""},null,{"$f":"IF(COUNTIF(E405,\"N\"),\"\",IF(ISBLANK(G405),\"\",IF(ISBLANK(I405),IF(ISBLANK(L405),_xlfn.DAYS(TODAY(),G405),_xlfn.DAYS(L405,G405)),_xlfn.DAYS(I405,G405))))","v":""},null,null,{"$f":"IF(COUNTIF(E405,\"N\"),\"ON HOLD\",IF(ISBLANK(L405),IF(ISBLANK(F405),\"\",IF(ISBLANK(G405),\"NO\",\"YES\")),\"NO\"))","v":""},{"$f":"IF(COUNTIF(E405,\"N\"),\"\",IF(ISBLANK(G405),\"\",IF(ISBLANK(L405),_xlfn.DAYS(TODAY(),G405),_xlfn.DAYS(L405,G405))))","v":""},null,null,null,{"$f":"IF(ISBLANK(P405), \"\", P405-Q405)","v":""},{"$f":"IF(ISBLANK(Q405), \"\", Q405/P405)","v":""}]
[null,null,null,null,null,null,null,{"$f":"IF(COUNTIF(E406,\"N\"),\"\",IF(ISBLANK(F406),\"\",IF(ISBLANK(G406),_xlfn.DAYS(TODAY(),F406),_xlfn.DAYS(G406,F406))))","v":""},null,{"$f":"IF(COUNTIF(E406,\"N\"),\"\",IF(ISBLANK(G406),\"\",IF(ISBLANK(I406),IF(ISBLANK(L406),_xlfn.DAYS(TODAY(),G406),_xlfn.DAYS(L406,G406)),_xlfn.DAYS(I406,G406))))","v":""},null,null,{"$f":"IF(COUNTIF(E406,\"N\"),\"ON HOLD\",IF(ISBLANK(L406),IF(ISBLANK(F406),\"\",IF(ISBLANK(G406),\"NO\",\"YES\")),\"NO\"))","v":""},{"$f":"IF(COUNTIF(E406,\"N\"),\"\",IF(ISBLANK(G406),\"\",IF(ISBLANK(L406),_xlfn.DAYS(TODAY(),G406),_xlfn.DAYS(L406,G406))))","v":""},null,null,null,{"$f":"IF(ISBLANK(P406), \"\", P406-Q406)","v":""},{"$f":"IF(ISBLANK(Q406), \"\", Q406/P406)","v":""}]
[null,null,null,null,null,null,null,{"$f":"IF(COUNTIF(E407,\"N\"),\"\",IF(ISBLANK(F407),\"\",IF(ISBLANK(G407),_xlfn.DAYS(TODAY(),F407),_xlfn.DAYS(G407,F407))))","v":""},null,{"$f":"IF(COUNTIF(E407,\"N\"),\"\",IF(ISBLANK(G407),\"\",IF(ISBLANK(I407),IF(ISBLANK(L407),_xlfn.DAYS(TODAY(),G407),_xlfn.DAYS(L407,G407)),_xlfn.DAYS(I407,G407))))","v":""},null,null,{"$f":"IF(COUNTIF(E407,\"N\"),\"ON HOLD\",IF(ISBLANK(L407),IF(ISBLANK(F407),\"\",IF(ISBLANK(G407),\"NO\",\"YES\")),\"NO\"))","v":""},{"$f":"IF(COUNTIF(E407,\"N\"),\"\",IF(ISBLANK(G407),\"\",IF(ISBLANK(L407),_xlfn.DAYS(TODAY(),G407),_xlfn.DAYS(L407,G407))))","v":""},null,null,null,{"$f":"IF(ISBLANK(P407), \"\", P407-Q407)","v":""},{"$f":"IF(ISBLANK(Q407), \"\", Q407/P407)","v":""}]
[null,null,null,null,null,null,null,{"$f":"IF(COUNTIF(E408,\"N\"),\"\",IF(ISBLANK(F408),\"\",IF(ISBLANK(G408),_xlfn.DAYS(TODAY(),F408),_xlfn.DAYS(G408,F408))))","v":""},null,{"$f":"IF(COUNTIF(E408,\"N\"),\"\",IF(ISBLANK(G408),\"\",IF(ISBLANK(I408),IF(ISBLANK(L408),_xlfn.DAYS(TODAY(),G408),_xlfn.DAYS(L408,G408)),_xlfn.DAYS(I408,G408))))","v":""},null,null,{"$f":"IF(COUNTIF(E408,\"N\"),\"ON HOLD\",IF(ISBLANK(L408),IF(ISBLANK(F408),\"\",IF(ISBLANK(G408),\"NO\",\"YES\")),\"NO\"))","v":""},{"$f":"IF(COUNTIF(E408,\"N\"),\"\",IF(ISBLANK(G408),\"\",IF(ISBLANK(L408),_xlfn.DAYS(TODAY(),G408),_xlfn.DAYS(L408,G408))))","v":""},null,null,null,{"$f":"IF(ISBLANK(P408), \"\", P408-Q408)","v":""},{"$f":"IF(ISBLANK(Q408), \"\", Q408/P408)","v":""}]
[null,null,null,null,null,null,null,{"$f":"IF(COUNTIF(E409,\"N\"),\"\",IF(ISBLANK(F409),\"\",IF(ISBLANK(G409),_xlfn.DAYS(TODAY(),F409),_xlfn.DAYS(G409,F409))))","v":""},null,{"$f":"IF(COUNTIF(E409,\"N\"),\"\",IF(ISBLANK(G409),\"\",IF(ISBLANK(I409),IF(ISBLANK(L409),_xlfn.DAYS(TODAY(),G409),_xlfn.DAYS(L409,G409)),_xlfn.DAYS(I409,G409))))","v":""},null,null,{"$f":"IF(COUNTIF(E409,\"N\"),\"ON HOLD\",IF(ISBLANK(L409),IF(ISBLANK(F409),\"\",IF(ISBLANK(G409),\"NO\",\"YES\")),\"NO\"))","v":""},{"$f":"IF(COUNTIF(E409,\"N\"),\"\",IF(ISBLANK(G409),\"\",IF(ISBLANK(L409),_xlfn.DAYS(TODAY(),G409),_xlfn.DAYS(L409,G409))))","v":""},null,null,null,{"$f":"IF(ISBLANK(P409), \"\", P409-Q409)","v":""},{"$f":"IF(ISBLANK(Q409), \"\", Q409/P409)","v":""}]
[null,null,null,null,null,null,null,{"$f":"IF(COUNTIF(E410,\"N\"),\"\",IF(ISBLANK(F410),\"\",IF(ISBLANK(G410),_xlfn.DAYS(TODAY(),F410),_xlfn.DAYS(G410,F410))))","v":""},null,{"$f":"IF(COUNTIF(E410,\"N\"),\"\",IF(ISBLANK(G410),\"\",IF(ISBLANK(I410),IF(ISBLANK(L410),_xlfn.DAYS(TODAY(),G410),_xlfn.DAYS(L410,G410)),_xlfn.DAYS(I410,G410))))","v":""},null,null,{"$f":"IF(COUNTIF(E410,\"N\"),\"ON HOLD\",IF(ISBLANK(L410),IF(ISBLANK(F410),\"\",IF(ISBLANK(G410),\"NO\",\"YES\")),\"NO\"))","v":""},{"$f":"IF(COUNTIF(E410,\"N\"),\"\",IF(ISBLANK(G410),\"\",IF(ISBLANK(L410),_xlfn.DAYS(TODAY(),G410),_xlfn.DAYS(L410,G410))))","v":""},null,null,null,{"$f":"IF(ISBLANK(P410), \"\", P410-Q410)","v":""},{"$f":"IF(ISBLANK(Q410), \"\", Q410/P410)","v":""}]
[null,null,null,null,null,null,null,{"$f":"IF(COUNTIF(E411,\"N\"),\"\",IF(ISBLANK(F411),\"\",IF(ISBLANK(G411),_xlfn.DAYS(TODAY(),F411),_xlfn.DAYS(G411,F411))))","v":""},null,{"$f":"IF(COUNTIF(E411,\"N\"),\"\",IF(ISBLANK(G411),\"\",IF(ISBLANK(I411),IF(ISBLANK(L411),_xlfn.DAYS(TODAY(),G411),_xlfn.DAYS(L411,G411)),_xlfn.DAYS(I411,G411))))","v":""},null,null,{"$f":"IF(COUNTIF(E411,\"N\"),\"ON HOLD\",IF(ISBLANK(L411),IF(ISBLANK(F411),\"\",IF(ISBLANK(G411),\"NO\",\"YES\")),\"NO\"))","v":""},{"$f":"IF(COUNTIF(E411,\"N\"),\"\",IF(ISBLANK(G411),\"\",IF(ISBLANK(L411),_xlfn.DAYS(TODAY(),G411),_xlfn.DAYS(L411,G411))))","v":""},null,null,null,{"$f":"IF(ISBLANK(P411), \"\", P411-Q411)","v":""},{"$f":"IF(ISBLANK(Q411), \"\", Q411/P411)","v":""}]
[null,null,null,null,null,null,null,{"$f":"IF(COUNTIF(E412,\"N\"),\"\",IF(ISBLANK(F412),\"\",IF(ISBLANK(G412),_xlfn.DAYS(TODAY(),F412),_xlfn.DAYS(G412,F412))))","v":""},null,{"$f":"IF(COUNTIF(E412,\"N\"),\"\",IF(ISBLANK(G412),\"\",IF(ISBLANK(I412),IF(ISBLANK(L412),_xlfn.DAYS(TODAY(),G412),_xlfn.DAYS(L412,G412)),_xlfn.DAYS(I412,G412))))","v":""},null,null,{"$f":"IF(COUNTIF(E412,\"N\"),\"ON HOLD\",IF(ISBLANK(L412),IF(ISBLANK(F412),\"\",IF(ISBLANK(G412),\"NO\",\"YES\")),\"NO\"))","v":""},{"$f":"IF(COUNTIF(E412,\"N\"),\"\",IF(ISBLANK(G412),\"\",IF(ISBLANK(L412),_xlfn.DAYS(TODAY(),G412),_xlfn.DAYS(L412,G412))))","v":""},null,null,null,{"$f":"IF(ISBLANK(P412), \"\", P412-Q412)","v":""},{"$f":"IF(ISBLANK(Q412), \"\", Q412/P412)","v":""}]
[null,null,null,null,null,null,null,{"$f":"IF(COUNTIF(E413,\"N\"),\"\",IF(ISBLANK(F413),\"\",IF(ISBLANK(G413),_xlfn.DAYS(TODAY(),F413),_xlfn.DAYS(G413,F413))))","v":""},null,{"$f":"IF(COUNTIF(E413,\"N\"),\"\",IF(ISBLANK(G413),\"\",IF(ISBLANK(I413),IF(ISBLANK(L413),_xlfn.DAYS(TODAY(),G413),_xlfn.DAYS(L413,G413)),_xlfn.DAYS(I413,G413))))","v":""},null,null,{"$f":"IF(COUNTIF(E413,\"N\"),\"ON HOLD\",IF(ISBLANK(L413),IF(ISBLANK(F413),\"\",IF(ISBLANK(G413),\"NO\",\"YES\")),\"NO\"))","v":""},{"$f":"IF(COUNTIF(E413,\"N\"),\"\",IF(ISBLANK(G413),\"\",IF(ISBLANK(L413),_xlfn.DAYS(TODAY(),G413),_xlfn.DAYS(L413,G413))))","v":""},null,null,null,{"$f":"IF(ISBLANK(P413), \"\", P413-Q413)","v":""},{"$f":"IF(ISBLANK(Q413), \"\", Q413/P413)","v":""}]
[null,null,null,null,null,null,null,{"$f":"IF(COUNTIF(E414,\"N\"),\"\",IF(ISBLANK(F414),\"\",IF(ISBLANK(G414),_xlfn.DAYS(TODAY(),F414),_xlfn.DAYS(G414,F414))))","v":""},null,{"$f":"IF(COUNTIF(E414,\"N\"),\"\",IF(ISBLANK(G414),\"\",IF(ISBLANK(I414),IF(ISBLANK(L414),_xlfn.DAYS(TODAY(),G414),_xlfn.DAYS(L414,G414)),_xlfn.DAYS(I414,G414))))","v":""},null,null,{"$f":"IF(COUNTIF(E414,\"N\"),\"ON HOLD\",IF(ISBLANK(L414),IF(ISBLANK(F414),\"\",IF(ISBLANK(G414),\"NO\",\"YES\")),\"NO\"))","v":""},{"$f":"IF(COUNTIF(E414,\"N\"),\"\",IF(ISBLANK(G414),\"\",IF(ISBLANK(L414),_xlfn.DAYS(TODAY(),G414),_xlfn.DAYS(L414,G414))))","v":""},null,null,null,{"$f":"IF(ISBLANK(P414), \"\", P414-Q414)","v":""},{"$f":"IF(ISBLANK(Q414), \"\", Q414/P414)","v":""}]
[null,null,null,null,null,null,null,{"$f":"IF(COUNTIF(E415,\"N\"),\"\",IF(ISBLANK(F415),\"\",IF(ISBLANK(G415),_xlfn.DAYS(TODAY(),F415),_xlfn.DAYS(G415,F415))))","v":""},null,{"$f":"IF(COUNTIF(E415,\"N\"),\"\",IF(ISBLANK(G415),\"\",IF(ISBLANK(I415),IF(ISBLANK(L415),_xlfn.DAYS(TODAY(),G415),_xlfn.DAYS(L415,G415)),_xlfn.DAYS(I415,G415))))","v":""},null,null,{"$f":"IF(COUNTIF(E415,\"N\"),\"ON HOLD\",IF(ISBLANK(L415),IF(ISBLANK(F415),\"\",IF(ISBLANK(G415),\"NO\",\"YES\")),\"NO\"))","v":""},{"$f":"IF(COUNTIF(E415,\"N\"),\"\",IF(ISBLANK(G415),\"\",IF(ISBLANK(L415),_xlfn.DAYS(TODAY(),G415),_xlfn.DAYS(L415,G415))))","v":""},null,null,null,{"$f":"IF(ISBLANK(P415), \"\", P415-Q415)","v":""},{"$f":"IF(ISBLANK(Q415), \"\", Q415/P415)","v":""}]
[null,null,null,null,null,null,null,{"$f":"IF(COUNTIF(E416,\"N\"),\"\",IF(ISBLANK(F416),\"\",IF(ISBLANK(G416),_xlfn.DAYS(TODAY(),F416),_xlfn.DAYS(G416,F416))))","v":""},null,{"$f":"IF(COUNTIF(E416,\"N\"),\"\",IF(ISBLANK(G416),\"\",IF(ISBLANK(I416),IF(ISBLANK(L416),_xlfn.DAYS(TODAY(),G416),_xlfn.DAYS(L416,G416)),_xlfn.DAYS(I416,G416))))","v":""},null,null,{"$f":"IF(COUNTIF(E416,\"N\"),\"ON HOLD\",IF(ISBLANK(L416),IF(ISBLANK(F416),\"\",IF(ISBLANK(G416),\"NO\",\"YES\")),\"NO\"))","v":""},{"$f":"IF(COUNTIF(E416,\"N\"),\"\",IF(ISBLANK(G416),\"\",IF(ISBLANK(L416),_xlfn.DAYS(TODAY(),G416),_xlfn.DAYS(L416,G416))))","v":""},null,null,null,{"$f":"IF(ISBLANK(P416), \"\", P416-Q416)","v":""},{"$f":"IF(ISBLANK(Q416), \"\", Q416/P416)","v":""}]
[null,null,null,null,null,null,null,{"$f":"IF(COUNTIF(E417,\"N\"),\"\",IF(ISBLANK(F417),\"\",IF(ISBLANK(G417),_xlfn.DAYS(TODAY(),F417),_xlfn.DAYS(G417,F417))))","v":""},null,{"$f":"IF(COUNTIF(E417,\"N\"),\"\",IF(ISBLANK(G417),\"\",IF(ISBLANK(I417),IF(ISBLANK(L417),_xlfn.DAYS(TODAY(),G417),_xlfn.DAYS(L417,G417)),_xlfn.DAYS(I417,G417))))","v":""},null,null,{"$f":"IF(COUNTIF(E417,\"N\"),\"ON HOLD\",IF(ISBLANK(L417),IF(ISBLANK(F417),\"\",IF(ISBLANK(G417),\"NO\",\"YES\")),\"NO\"))","v":""},{"$f":"IF(COUNTIF(E417,\"N\"),\"\",IF(ISBLANK(G417),\"\",IF(ISBLANK(L417),_xlfn.DAYS(TODAY(),G417),_xlfn.DAYS(L417,G417))))","v":""},null,null,null,{"$f":"IF(ISBLANK(P417), \"\", P417-Q417)","v":""},{"$f":"IF(ISBLANK(Q417), \"\", Q417/P417)","v":""}]
[null,null,null,null,null,null,null,{"$f":"IF(COUNTIF(E418,\"N\"),\"\",IF(ISBLANK(F418),\"\",IF(ISBLANK(G418),_xlfn.DAYS(TODAY(),F418),_xlfn.DAYS(G418,F418))))","v":""},null,{"$f":"IF(COUNTIF(E418,\"N\"),\"\",IF(ISBLANK(G418),\"\",IF(ISBLANK(I418),IF(ISBLANK(L418),_xlfn.DAYS(TODAY(),G418),_xlfn.DAYS(L418,G418)),_xlfn.DAYS(I418,G418))))","v":""},null,null,{"$f":"IF(COUNTIF(E418,\"N\"),\"ON HOLD\",IF(ISBLANK(L418),IF(ISBLANK(F418),\"\",IF(ISBLANK(G418),\"NO\",\"YES\")),\"NO\"))","v":""},{"$f":"IF(COUNTIF(E418,\"N\"),\"\",IF(ISBLANK(G418),\"\",IF(ISBLANK(L418),_xlfn.DAYS(TODAY(),G418),_xlfn.DAYS(L418,G418))))","v":""},null,null,null,{"$f":"IF(ISBLANK(P418), \"\", P418-Q418)","v":""},{"$f":"IF(ISBLANK(Q418), \"\", Q418/P418)","v":""}]
[null,null,null,null,null,null,null,{"$f":"IF(COUNTIF(E419,\"N\"),\"\",IF(ISBLANK(F419),\"\",IF(ISBLANK(G419),_xlfn.DAYS(TODAY(),F419),_xlfn.DAYS(G419,F419))))","v":""},null,{"$f":"IF(COUNTIF(E419,\"N\"),\"\",IF(ISBLANK(G419),\"\",IF(ISBLANK(I419),IF(ISBLANK(L419),_xlfn.DAYS(TODAY(),G419),_xlfn.DAYS(L419,G419)),_xlfn.DAYS(I419,G419))))","v":""},null,null,{"$f":"IF(COUNTIF(E419,\"N\"),\"ON HOLD\",IF(ISBLANK(L419),IF(ISBLANK(F419),\"\",IF(ISBLANK(G419),\"NO\",\"YES\")),\"NO\"))","v":""},{"$f":"IF(COUNTIF(E419,\"N\"),\"\",IF(ISBLANK(G419),\"\",IF(ISBLANK(L419),_xlfn.DAYS(TODAY(),G419),_xlfn.DAYS(L419,G419))))","v":""},null,null,null,{"$f":"IF(ISBLANK(P419), \"\", P419-Q419)","v":""},{"$f":"IF(ISBLANK(Q419), \"\", Q419/P419)","v":""}]
[null,null,null,null,null,null,null,{"$f":"IF(COUNTIF(E420,\"N\"),\"\",IF(ISBLANK(F420),\"\",IF(ISBLANK(G420),_xlfn.DAYS(TODAY(),F420),_xlfn.DAYS(G420,F420))))","v":""},null,{"$f":"IF(COUNTIF(E420,\"N\"),\"\",IF(ISBLANK(G420),\"\",IF(ISBLANK(I420),IF(ISBLANK(L420),_xlfn.DAYS(TODAY(),G420),_xlfn.DAYS(L420,G420)),_xlfn.DAYS(I420,G420))))","v":""},null,null,{"$f":"IF(COUNTIF(E420,\"N\"),\"ON HOLD\",IF(ISBLANK(L420),IF(ISBLANK(F420),\"\",IF(ISBLANK(G420),\"NO\",\"YES\")),\"NO\"))","v":""},{"$f":"IF(COUNTIF(E420,\"N\"),\"\",IF(ISBLANK(G420),\"\",IF(ISBLANK(L420),_xlfn.DAYS(TODAY(),G420),_xlfn.DAYS(L420,G420))))","v":""},null,null,null,{"$f":"IF(ISBLANK(P420), \"\", P420-Q420)","v":""},{"$f":"IF(ISBLANK(Q420), \"\", Q420/P420)","v":""}]
[null,null,null,null,null,null,null,{"$f":"IF(COUNTIF(E421,\"N\"),\"\",IF(ISBLANK(F421),\"\",IF(ISBLANK(G421),_xlfn.DAYS(TODAY(),F421),_xlfn.DAYS(G421,F421))))","v":""},null,{"$f":"IF(COUNTIF(E421,\"N\"),\"\",IF(ISBLANK(G421),\"\",IF(ISBLANK(I421),IF(ISBLANK(L421),_xlfn.DAYS(TODAY(),G421),_xlfn.DAYS(L421,G421)),_xlfn.DAYS(I421,G421))))","v":""},null,null,{"$f":"IF(COUNTIF(E421,\"N\"),\"ON HOLD\",IF(ISBLANK(L421),IF(ISBLANK(F421),\"\",IF(ISBLANK(G421),\"NO\",\"YES\")),\"NO\"))","v":""},{"$f":"IF(COUNTIF(E421,\"N\"),\"\",IF(ISBLANK(G421),\"\",IF(ISBLANK(L421),_xlfn.DAYS(TODAY(),G421),_xlfn.DAYS(L421,G421))))","v":""},null,null,null,{"$f":"IF(ISBLANK(P421), \"\", P421-Q421)","v":""},{"$f":"IF(ISBLANK(Q421), \"\", Q421/P421)","v":""}]
[null,null,null,null,null,null,null,{"$f":"IF(COUNTIF(E422,\"N\"),\"\",IF(ISBLANK(F422),\"\",IF(ISBLANK(G422),_xlfn.DAYS(TODAY(),F422),_xlfn.DAYS(G422,F422))))","v":""},null,{"$f":"IF(COUNTIF(E422,\"N\"),\"\",IF(ISBLANK(G422),\"\",IF(ISBLANK(I422),IF(ISBLANK(L422),_xlfn.DAYS(TODAY(),G422),_xlfn.DAYS(L422,G422)),_xlfn.DAYS(I422,G422))))","v":""},null,null,{"$f":"IF(COUNTIF(E422,\"N\"),\"ON HOLD\",IF(ISBLANK(L422),IF(ISBLANK(F422),\"\",IF(ISBLANK(G422),\"NO\",\"YES\")),\"NO\"))","v":""},{"$f":"IF(COUNTIF(E422,\"N\"),\"\",IF(ISBLANK(G422),\"\",IF(ISBLANK(L422),_xlfn.DAYS(TODAY(),G422),_xlfn.DAYS(L422,G422))))","v":""},null,null,null,{"$f":"IF(ISBLANK(P422), \"\", P422-Q422)","v":""},{"$f":"IF(ISBLANK(Q422), \"\", Q422/P422)","v":""}]
[null,null,null,null,null,null,null,{"$f":"IF(COUNTIF(E423,\"N\"),\"\",IF(ISBLANK(F423),\"\",IF(ISBLANK(G423),_xlfn.DAYS(TODAY(),F423),_xlfn.DAYS(G423,F423))))","v":""},null,{"$f":"IF(COUNTIF(E423,\"N\"),\"\",IF(ISBLANK(G423),\"\",IF(ISBLANK(I423),IF(ISBLANK(L423),_xlfn.DAYS(TODAY(),G423),_xlfn.DAYS(L423,G423)),_xlfn.DAYS(I423,G423))))","v":""},null,null,{"$f":"IF(COUNTIF(E423,\"N\"),\"ON HOLD\",IF(ISBLANK(L423),IF(ISBLANK(F423),\"\",IF(ISBLANK(G423),\"NO\",\"YES\")),\"NO\"))","v":""},{"$f":"IF(COUNTIF(E423,\"N\"),\"\",IF(ISBLANK(G423),\"\",IF(ISBLANK(L423),_xlfn.DAYS(TODAY(),G423),_xlfn.DAYS(L423,G423))))","v":""},null,null,null,{"$f":"IF(ISBLANK(P423), \"\", P423-Q423)","v":""},{"$f":"IF(ISBLANK(Q423), \"\", Q423/P423)","v":""}]
[null,null,null,null,null,null,null,{"$f":"IF(COUNTIF(E424,\"N\"),\"\",IF(ISBLANK(F424),\"\",IF(ISBLANK(G424),_xlfn.DAYS(TODAY(),F424),_xlfn.DAYS(G424,F424))))","v":""},null,{"$f":"IF(COUNTIF(E424,\"N\"),\"\",IF(ISBLANK(G424),\"\",IF(ISBLANK(I424),IF(ISBLANK(L424),_xlfn.DAYS(TODAY(),G424),_xlfn.DAYS(L424,G424)),_xlfn.DAYS(I424,G424))))","v":""},null,null,{"$f":"IF(COUNTIF(E424,\"N\"),\"ON HOLD\",IF(ISBLANK(L424),IF(ISBLANK(F424),\"\",IF(ISBLANK(G424),\"NO\",\"YES\")),\"NO\"))","v":""},{"$f":"IF(COUNTIF(E424,\"N\"),\"\",IF(ISBLANK(G424),\"\",IF(ISBLANK(L424),_xlfn.DAYS(TODAY(),G424),_xlfn.DAYS(L424,G424))))","v":""},null,null,null,{"$f":"IF(ISBLANK(P424), \"\", P424-Q424)","v":""},{"$f":"IF(ISBLANK(Q424), \"\", Q424/P424)","v":""}]
[null,null,null,null,null,null,null,{"$f":"IF(COUNTIF(E425,\"N\"),\"\",IF(ISBLANK(F425),\"\",IF(ISBLANK(G425),_xlfn.DAYS(TODAY(),F425),_xlfn.DAYS(G425,F425))))","v":""},null,{"$f":"IF(COUNTIF(E425,\"N\"),\"\",IF(ISBLANK(G425),\"\",IF(ISBLANK(I425),IF(ISBLANK(L425),_xlfn.DAYS(TODAY(),G425),_xlfn.DAYS(L425,G425)),_xlfn.DAYS(I425,G425))))","v":""},null,null,{"$f":"IF(COUNTIF(E425,\"N\"),\"ON HOLD\",IF(ISBLANK(L425),IF(ISBLANK(F425),\"\",IF(ISBLANK(G425),\"NO\",\"YES\")),\"NO\"))","v":""},{"$f":"IF(COUNTIF(E425,\"N\"),\"\",IF(ISBLANK(G425),\"\",IF(ISBLANK(L425),_xlfn.DAYS(TODAY(),G425),_xlfn.DAYS(L425,G425))))","v":""},null,null,null,{"$f":"IF(ISBLANK(P425), \"\", P425-Q425)","v":""},{"$f":"IF(ISBLANK(Q425), \"\", Q425/P425)","v":""}]
[null,null,null,null,null,null,null,{"$f":"IF(COUNTIF(E426,\"N\"),\"\",IF(ISBLANK(F426),\"\",IF(ISBLANK(G426),_xlfn.DAYS(TODAY(),F426),_xlfn.DAYS(G426,F426))))","v":""},null,{"$f":"IF(COUNTIF(E426,\"N\"),\"\",IF(ISBLANK(G426),\"\",IF(ISBLANK(I426),IF(ISBLANK(L426),_xlfn.DAYS(TODAY(),G426),_xlfn.DAYS(L426,G426)),_xlfn.DAYS(I426,G426))))","v":""},null,null,{"$f":"IF(COUNTIF(E426,\"N\"),\"ON HOLD\",IF(ISBLANK(L426),IF(ISBLANK(F426),\"\",IF(ISBLANK(G426),\"NO\",\"YES\")),\"NO\"))","v":""},{"$f":"IF(COUNTIF(E426,\"N\"),\"\",IF(ISBLANK(G426),\"\",IF(ISBLANK(L426),_xlfn.DAYS(TODAY(),G426),_xlfn.DAYS(L426,G426))))","v":""},null,null,null,{"$f":"IF(ISBLANK(P426), \"\", P426-Q426)","v":""},{"$f":"IF(ISBLANK(Q426), \"\", Q426/P426)","v":""}]
[null,null,null,null,null,null,null,{"$f":"IF(COUNTIF(E427,\"N\"),\"\",IF(ISBLANK(F427),\"\",IF(ISBLANK(G427),_xlfn.DAYS(TODAY(),F427),_xlfn.DAYS(G427,F427))))","v":""},null,{"$f":"IF(COUNTIF(E427,\"N\"),\"\",IF(ISBLANK(G427),\"\",IF(ISBLANK(I427),IF(ISBLANK(L427),_xlfn.DAYS(TODAY(),G427),_xlfn.DAYS(L427,G427)),_xlfn.DAYS(I427,G427))))","v":""},null,null,{"$f":"IF(COUNTIF(E427,\"N\"),\"ON HOLD\",IF(ISBLANK(L427),IF(ISBLANK(F427),\"\",IF(ISBLANK(G427),\"NO\",\"YES\")),\"NO\"))","v":""},{"$f":"IF(COUNTIF(E427,\"N\"),\"\",IF(ISBLANK(G427),\"\",IF(ISBLANK(L427),_xlfn.DAYS(TODAY(),G427),_xlfn.DAYS(L427,G427))))","v":""},null,null,null,{"$f":"IF(ISBLANK(P427), \"\", P427-Q427)","v":""},{"$f":"IF(ISBLANK(Q427), \"\", Q427/P427)","v":""}]
[null,null,null,null,null,null,null,{"$f":"IF(COUNTIF(E428,\"N\"),\"\",IF(ISBLANK(F428),\"\",IF(ISBLANK(G428),_xlfn.DAYS(TODAY(),F428),_xlfn.DAYS(G428,F428))))","v":""},null,{"$f":"IF(COUNTIF(E428,\"N\"),\"\",IF(ISBLANK(G428),\"\",IF(ISBLANK(I428),IF(ISBLANK(L428),_xlfn.DAYS(TODAY(),G428),_xlfn.DAYS(L428,G428)),_xlfn.DAYS(I428,G428))))","v":""},null,null,{"$f":"IF(COUNTIF(E428,\"N\"),\"ON HOLD\",IF(ISBLANK(L428),IF(ISBLANK(F428),\"\",IF(ISBLANK(G428),\"NO\",\"YES\")),\"NO\"))","v":""},{"$f":"IF(COUNTIF(E428,\"N\"),\"\",IF(ISBLANK(G428),\"\",IF(ISBLANK(L428),_xlfn.DAYS(TODAY(),G428),_xlfn.DAYS(L428,G428))))","v":""},null,null,null,{"$f":"IF(ISBLANK(P428), \"\", P428-Q428)","v":""},{"$f":"IF(ISBLANK(Q428), \"\", Q428/P428)","v":""}]
[null,null,null,null,null,null,null,{"$f":"IF(COUNTIF(E429,\"N\"),\"\",IF(ISBLANK(F429),\"\",IF(ISBLANK(G429),_xlfn.DAYS(TODAY(),F429),_xlfn.DAYS(G429,F429))))","v":""},null,{"$f":"IF(COUNTIF(E429,\"N\"),\"\",IF(ISBLANK(G429),\"\",IF(ISBLANK(I429),IF(ISBLANK(L429),_xlfn.DAYS(TODAY(),G429),_xlfn.DAYS(L429,G429)),_xlfn.DAYS(I429,G429))))","v":""},null,null,{"$f":"IF(COUNTIF(E429,\"N\"),\"ON HOLD\",IF(ISBLANK(L429),IF(ISBLANK(F429),\"\",IF(ISBLANK(G429),\"NO\",\"YES\")),\"NO\"))","v":""},{"$f":"IF(COUNTIF(E429,\"N\"),\"\",IF(ISBLANK(G429),\"\",IF(ISBLANK(L429),_xlfn.DAYS(TODAY(),G429),_xlfn.DAYS(L429,G429))))","v":""},null,null,null,{"$f":"IF(ISBLANK(P429), \"\", P429-Q429)","v":""},{"$f":"IF(ISBLANK(Q429), \"\", Q429/P429)","v":""}]
[null,null,null,null,null,null,null,{"$f":"IF(COUNTIF(E430,\"N\"),\"\",IF(ISBLANK(F430),\"\",IF(ISBLANK(G430),_xlfn.DAYS(TODAY(),F430),_xlfn.DAYS(G430,F430))))","v":""},null,{"$f":"IF(COUNTIF(E430,\"N\"),\"\",IF(ISBLANK(G430),\"\",IF(ISBLANK(I430),IF(ISBLANK(L430),_xlfn.DAYS(TODAY(),G430),_xlfn.DAYS(L430,G430)),_xlfn.DAYS(I430,G430))))","v":""},null,null,{"$f":"IF(COUNTIF(E430,\"N\"),\"ON HOLD\",IF(ISBLANK(L430),IF(ISBLANK(F430),\"\",IF(ISBLANK(G430),\"NO\",\"YES\")),\"NO\"))","v":""},{"$f":"IF(COUNTIF(E430,\"N\"),\"\",IF(ISBLANK(G430),\"\",IF(ISBLANK(L430),_xlfn.DAYS(TODAY(),G430),_xlfn.DAYS(L430,G430))))","v":""},null,null,null,{"$f":"IF(ISBLANK(P430), \"\", P430-Q430)","v":""},{"$f":"IF(ISBLANK(Q430), \"\", Q430/P430)","v":""}]
[null,null,null,null,null,null,null,{"$f":"IF(COUNTIF(E431,\"N\"),\"\",IF(ISBLANK(F431),\"\",IF(ISBLANK(G431),_xlfn.DAYS(TODAY(),F431),_xlfn.DAYS(G431,F431))))","v":""},null,{"$f":"IF(COUNTIF(E431,\"N\"),\"\",IF(ISBLANK(G431),\"\",IF(ISBLANK(I431),IF(ISBLANK(L431),_xlfn.DAYS(TODAY(),G431),_xlfn.DAYS(L431,G431)),_xlfn.DAYS(I431,G431))))","v":""},null,null,{"$f":"IF(COUNTIF(E431,\"N\"),\"ON HOLD\",IF(ISBLANK(L431),IF(ISBLANK(F431),\"\",IF(ISBLANK(G431),\"NO\",\"YES\")),\"NO\"))","v":""},{"$f":"IF(COUNTIF(E431,\"N\"),\"\",IF(ISBLANK(G431),\"\",IF(ISBLANK(L431),_xlfn.DAYS(TODAY(),G431),_xlfn.DAYS(L431,G431))))","v":""},null,null,null,{"$f":"IF(ISBLANK(P431), \"\", P431-Q431)","v":""},{"$f":"IF(ISBLANK(Q431), \"\", Q431/P431)","v":""}]
[null,null,null,null,null,null,null,{"$f":"IF(COUNTIF(E432,\"N\"),\"\",IF(ISBLANK(F432),\"\",IF(ISBLANK(G432),_xlfn.DAYS(TODAY(),F432),_xlfn.DAYS(G432,F432))))","v":""},null,{"$f":"IF(COUNTIF(E432,\"N\"),\"\",IF(ISBLANK(G432),\"\",IF(ISBLANK(I432),IF(ISBLANK(L432),_xlfn.DAYS(TODAY(),G432),_xlfn.DAYS(L432,G432)),_xlfn.DAYS(I432,G432))))","v":""},null,null,{"$f":"IF(COUNTIF(E432,\"N\"),\"ON HOLD\",IF(ISBLANK(L432),IF(ISBLANK(F432),\"\",IF(ISBLANK(G432),\"NO\",\"YES\")),\"NO\"))","v":""},{"$f":"IF(COUNTIF(E432,\"N\"),\"\",IF(ISBLANK(G432),\"\",IF(ISBLANK(L432),_xlfn.DAYS(TODAY(),G432),_xlfn.DAYS(L432,G432))))","v":""},null,null,null,{"$f":"IF(ISBLANK(P432), \"\", P432-Q432)","v":""},{"$f":"IF(ISBLANK(Q432), \"\", Q432/P432)","v":""}]
[null,null,null,null,null,null,null,{"$f":"IF(COUNTIF(E433,\"N\"),\"\",IF(ISBLANK(F433),\"\",IF(ISBLANK(G433),_xlfn.DAYS(TODAY(),F433),_xlfn.DAYS(G433,F433))))","v":""},null,{"$f":"IF(COUNTIF(E433,\"N\"),\"\",IF(ISBLANK(G433),\"\",IF(ISBLANK(I433),IF(ISBLANK(L433),_xlfn.DAYS(TODAY(),G433),_xlfn.DAYS(L433,G433)),_xlfn.DAYS(I433,G433))))","v":""},null,null,{"$f":"IF(COUNTIF(E433,\"N\"),\"ON HOLD\",IF(ISBLANK(L433),IF(ISBLANK(F433),\"\",IF(ISBLANK(G433),\"NO\",\"YES\")),\"NO\"))","v":""},{"$f":"IF(COUNTIF(E433,\"N\"),\"\",IF(ISBLANK(G433),\"\",IF(ISBLANK(L433),_xlfn.DAYS(TODAY(),G433),_xlfn.DAYS(L433,G433))))","v":""},null,null,null,{"$f":"IF(ISBLANK(P433), \"\", P433-Q433)","v":""},{"$f":"IF(ISBLANK(Q433), \"\", Q433/P433)","v":""}]
[null,null,null,null,null,null,null,{"$f":"IF(COUNTIF(E434,\"N\"),\"\",IF(ISBLANK(F434),\"\",IF(ISBLANK(G434),_xlfn.DAYS(TODAY(),F434),_xlfn.DAYS(G434,F434))))","v":""},null,{"$f":"IF(COUNTIF(E434,\"N\"),\"\",IF(ISBLANK(G434),\"\",IF(ISBLANK(I434),IF(ISBLANK(L434),_xlfn.DAYS(TODAY(),G434),_xlfn.DAYS(L434,G434)),_xlfn.DAYS(I434,G434))))","v":""},null,null,{"$f":"IF(COUNTIF(E434,\"N\"),\"ON HOLD\",IF(ISBLANK(L434),IF(ISBLANK(F434),\"\",IF(ISBLANK(G434),\"NO\",\"YES\")),\"NO\"))","v":""},{"$f":"IF(COUNTIF(E434,\"N\"),\"\",IF(ISBLANK(G434),\"\",IF(ISBLANK(L434),_xlfn.DAYS(TODAY(),G434),_xlfn.DAYS(L434,G434))))","v":""},null,null,null,{"$f":"IF(ISBLANK(P434), \"\", P434-Q434)","v":""},{"$f":"IF(ISBLANK(Q434), \"\", Q434/P434)","v":""}]
[null,null,null,null,null,null,null,{"$f":"IF(COUNTIF(E435,\"N\"),\"\",IF(ISBLANK(F435),\"\",IF(ISBLANK(G435),_xlfn.DAYS(TODAY(),F435),_xlfn.DAYS(G435,F435))))","v":""},null,{"$f":"IF(COUNTIF(E435,\"N\"),\"\",IF(ISBLANK(G435),\"\",IF(ISBLANK(I435),IF(ISBLANK(L435),_xlfn.DAYS(TODAY(),G435),_xlfn.DAYS(L435,G435)),_xlfn.DAYS(I435,G435))))","v":""},null,null,{"$f":"IF(COUNTIF(E435,\"N\"),\"ON HOLD\",IF(ISBLANK(L435),IF(ISBLANK(F435),\"\",IF(ISBLANK(G435),\"NO\",\"YES\")),\"NO\"))","v":""},{"$f":"IF(COUNTIF(E435,\"N\"),\"\",IF(ISBLANK(G435),\"\",IF(ISBLANK(L435),_xlfn.DAYS(TODAY(),G435),_xlfn.DAYS(L435,G435))))","v":""},null,null,null,{"$f":"IF(ISBLANK(P435), \"\", P435-Q435)","v":""},{"$f":"IF(ISBLANK(Q435), \"\", Q435/P435)","v":""}]
[null,null,null,null,null,null,null,{"$f":"IF(COUNTIF(E436,\"N\"),\"\",IF(ISBLANK(F436),\"\",IF(ISBLANK(G436),_xlfn.DAYS(TODAY(),F436),_xlfn.DAYS(G436,F436))))","v":""},null,{"$f":"IF(COUNTIF(E436,\"N\"),\"\",IF(ISBLANK(G436),\"\",IF(ISBLANK(I436),IF(ISBLANK(L436),_xlfn.DAYS(TODAY(),G436),_xlfn.DAYS(L436,G436)),_xlfn.DAYS(I436,G436))))","v":""},null,null,{"$f":"IF(COUNTIF(E436,\"N\"),\"ON HOLD\",IF(ISBLANK(L436),IF(ISBLANK(F436),\"\",IF(ISBLANK(G436),\"NO\",\"YES\")),\"NO\"))","v":""},{"$f":"IF(COUNTIF(E436,\"N\"),\"\",IF(ISBLANK(G436),\"\",IF(ISBLANK(L436),_xlfn.DAYS(TODAY(),G436),_xlfn.DAYS(L436,G436))))","v":""},null,null,null,{"$f":"IF(ISBLANK(P436), \"\", P436-Q436)","v":""},{"$f":"IF(ISBLANK(Q436), \"\", Q436/P436)","v":""}]
[null,null,null,null,null,null,null,{"$f":"IF(COUNTIF(E437,\"N\"),\"\",IF(ISBLANK(F437),\"\",IF(ISBLANK(G437),_xlfn.DAYS(TODAY(),F437),_xlfn.DAYS(G437,F437))))","v":""},null,{"$f":"IF(COUNTIF(E437,\"N\"),\"\",IF(ISBLANK(G437),\"\",IF(ISBLANK(I437),IF(ISBLANK(L437),_xlfn.DAYS(TODAY(),G437),_xlfn.DAYS(L437,G437)),_xlfn.DAYS(I437,G437))))","v":""},null,null,{"$f":"IF(COUNTIF(E437,\"N\"),\"ON HOLD\",IF(ISBLANK(L437),IF(ISBLANK(F437),\"\",IF(ISBLANK(G437),\"NO\",\"YES\")),\"NO\"))","v":""},{"$f":"IF(COUNTIF(E437,\"N\"),\"\",IF(ISBLANK(G437),\"\",IF(ISBLANK(L437),_xlfn.DAYS(TODAY(),G437),_xlfn.DAYS(L437,G437))))","v":""},null,null,null,{"$f":"IF(ISBLANK(P437), \"\", P437-Q437)","v":""},{"$f":"IF(ISBLANK(Q437), \"\", Q437/P437)","v":""}]
[null,null,null,null,null,null,null,{"$f":"IF(COUNTIF(E438,\"N\"),\"\",IF(ISBLANK(F438),\"\",IF(ISBLANK(G438),_xlfn.DAYS(TODAY(),F438),_xlfn.DAYS(G438,F438))))","v":""},null,{"$f":"IF(COUNTIF(E438,\"N\"),\"\",IF(ISBLANK(G438),\"\",IF(ISBLANK(I438),IF(ISBLANK(L438),_xlfn.DAYS(TODAY(),G438),_xlfn.DAYS(L438,G438)),_xlfn.DAYS(I438,G438))))","v":""},null,null,{"$f":"IF(COUNTIF(E438,\"N\"),\"ON HOLD\",IF(ISBLANK(L438),IF(ISBLANK(F438),\"\",IF(ISBLANK(G438),\"NO\",\"YES\")),\"NO\"))","v":""},{"$f":"IF(COUNTIF(E438,\"N\"),\"\",IF(ISBLANK(G438),\"\",IF(ISBLANK(L438),_xlfn.DAYS(TODAY(),G438),_xlfn.DAYS(L438,G438))))","v":""},null,null,null,{"$f":"IF(ISBLANK(P438), \"\", P438-Q438)","v":""},{"$f":"IF(ISBLANK(Q438), \"\", Q438/P438)","v":""}]
[null,null,null,null,null,null,null,{"$f":"IF(COUNTIF(E439,\"N\"),\"\",IF(ISBLANK(F439),\"\",IF(ISBLANK(G439),_xlfn.DAYS(TODAY(),F439),_xlfn.DAYS(G439,F439))))","v":""},null,{"$f":"IF(COUNTIF(E439,\"N\"),\"\",IF(ISBLANK(G439),\"\",IF(ISBLANK(I439),IF(ISBLANK(L439),_xlfn.DAYS(TODAY(),G439),_xlfn.DAYS(L439,G439)),_xlfn.DAYS(I439,G439))))","v":""},null,null,{"$f":"IF(COUNTIF(E439,\"N\"),\"ON HOLD\",IF(ISBLANK(L439),IF(ISBLANK(F439),\"\",IF(ISBLANK(G439),\"NO\",\"YES\")),\"NO\"))","v":""},{"$f":"IF(COUNTIF(E439,\"N\"),\"\",IF(ISBLANK(G439),\"\",IF(ISBLANK(L439),_xlfn.DAYS(TODAY(),G439),_xlfn.DAYS(L439,G439))))","v":""},null,null,null,{"$f":"IF(ISBLANK(P439), \"\", P439-Q439)","v":""},{"$f":"IF(ISBLANK(Q439), \"\", Q439/P439)","v":""}]
[null,null,null,null,null,null,null,{"$f":"IF(COUNTIF(E440,\"N\"),\"\",IF(ISBLANK(F440),\"\",IF(ISBLANK(G440),_xlfn.DAYS(TODAY(),F440),_xlfn.DAYS(G440,F440))))","v":""},null,{"$f":"IF(COUNTIF(E440,\"N\"),\"\",IF(ISBLANK(G440),\"\",IF(ISBLANK(I440),IF(ISBLANK(L440),_xlfn.DAYS(TODAY(),G440),_xlfn.DAYS(L440,G440)),_xlfn.DAYS(I440,G440))))","v":""},null,null,{"$f":"IF(COUNTIF(E440,\"N\"),\"ON HOLD\",IF(ISBLANK(L440),IF(ISBLANK(F440),\"\",IF(ISBLANK(G440),\"NO\",\"YES\")),\"NO\"))","v":""},{"$f":"IF(COUNTIF(E440,\"N\"),\"\",IF(ISBLANK(G440),\"\",IF(ISBLANK(L440),_xlfn.DAYS(TODAY(),G440),_xlfn.DAYS(L440,G440))))","v":""},null,null,null,{"$f":"IF(ISBLANK(P440), \"\", P440-Q440)","v":""},{"$f":"IF(ISBLANK(Q440), \"\", Q440/P440)","v":""}]
[null,null,null,null,null,null,null,{"$f":"IF(COUNTIF(E441,\"N\"),\"\",IF(ISBLANK(F441),\"\",IF(ISBLANK(G441),_xlfn.DAYS(TODAY(),F441),_xlfn.DAYS(G441,F441))))","v":""},null,{"$f":"IF(COUNTIF(E441,\"N\"),\"\",IF(ISBLANK(G441),\"\",IF(ISBLANK(I441),IF(ISBLANK(L441),_xlfn.DAYS(TODAY(),G441),_xlfn.DAYS(L441,G441)),_xlfn.DAYS(I441,G441))))","v":""},null,null,{"$f":"IF(COUNTIF(E441,\"N\"),\"ON HOLD\",IF(ISBLANK(L441),IF(ISBLANK(F441),\"\",IF(ISBLANK(G441),\"NO\",\"YES\")),\"NO\"))","v":""},{"$f":"IF(COUNTIF(E441,\"N\"),\"\",IF(ISBLANK(G441),\"\",IF(ISBLANK(L441),_xlfn.DAYS(TODAY(),G441),_xlfn.DAYS(L441,G441))))","v":""},null,null,null,{"$f":"IF(ISBLANK(P441), \"\", P441-Q441)","v":""},{"$f":"IF(ISBLANK(Q441), \"\", Q441/P441)","v":""}]
[null,null,null,null,null,null,null,{"$f":"IF(COUNTIF(E442,\"N\"),\"\",IF(ISBLANK(F442),\"\",IF(ISBLANK(G442),_xlfn.DAYS(TODAY(),F442),_xlfn.DAYS(G442,F442))))","v":""},null,{"$f":"IF(COUNTIF(E442,\"N\"),\"\",IF(ISBLANK(G442),\"\",IF(ISBLANK(I442),IF(ISBLANK(L442),_xlfn.DAYS(TODAY(),G442),_xlfn.DAYS(L442,G442)),_xlfn.DAYS(I442,G442))))","v":""},null,null,{"$f":"IF(COUNTIF(E442,\"N\"),\"ON HOLD\",IF(ISBLANK(L442),IF(ISBLANK(F442),\"\",IF(ISBLANK(G442),\"NO\",\"YES\")),\"NO\"))","v":""},{"$f":"IF(COUNTIF(E442,\"N\"),\"\",IF(ISBLANK(G442),\"\",IF(ISBLANK(L442),_xlfn.DAYS(TODAY(),G442),_xlfn.DAYS(L442,G442))))","v":""},null,null,null,{"$f":"IF(ISBLANK(P442), \"\", P442-Q442)","v":""},{"$f":"IF(ISBLANK(Q442), \"\", Q442/P442)","v":""}]
[null,null,null,null,null,null,null,{"$f":"IF(COUNTIF(E443,\"N\"),\"\",IF(ISBLANK(F443),\"\",IF(ISBLANK(G443),_xlfn.DAYS(TODAY(),F443),_xlfn.DAYS(G443,F443))))","v":""},null,{"$f":"IF(COUNTIF(E443,\"N\"),\"\",IF(ISBLANK(G443),\"\",IF(ISBLANK(I443),IF(ISBLANK(L443),_xlfn.DAYS(TODAY(),G443),_xlfn.DAYS(L443,G443)),_xlfn.DAYS(I443,G443))))","v":""},null,null,{"$f":"IF(COUNTIF(E443,\"N\"),\"ON HOLD\",IF(ISBLANK(L443),IF(ISBLANK(F443),\"\",IF(ISBLANK(G443),\"NO\",\"YES\")),\"NO\"))","v":""},{"$f":"IF(COUNTIF(E443,\"N\"),\"\",IF(ISBLANK(G443),\"\",IF(ISBLANK(L443),_xlfn.DAYS(TODAY(),G443),_xlfn.DAYS(L443,G443))))","v":""},null,null,null,{"$f":"IF(ISBLANK(P443), \"\", P443-Q443)","v":""},{"$f":"IF(ISBLANK(Q443), \"\", Q443/P443)","v":""}]
[null,null,null,null,null,null,null,{"$f":"IF(COUNTIF(E444,\"N\"),\"\",IF(ISBLANK(F444),\"\",IF(ISBLANK(G444),_xlfn.DAYS(TODAY(),F444),_xlfn.DAYS(G444,F444))))","v":""},null,{"$f":"IF(COUNTIF(E444,\"N\"),\"\",IF(ISBLANK(G444),\"\",IF(ISBLANK(I444),IF(ISBLANK(L444),_xlfn.DAYS(TODAY(),G444),_xlfn.DAYS(L444,G444)),_xlfn.DAYS(I444,G444))))","v":""},null,null,{"$f":"IF(COUNTIF(E444,\"N\"),\"ON HOLD\",IF(ISBLANK(L444),IF(ISBLANK(F444),\"\",IF(ISBLANK(G444),\"NO\",\"YES\")),\"NO\"))","v":""},{"$f":"IF(COUNTIF(E444,\"N\"),\"\",IF(ISBLANK(G444),\"\",IF(ISBLANK(L444),_xlfn.DAYS(TODAY(),G444),_xlfn.DAYS(L444,G444))))","v":""},null,null,null,{"$f":"IF(ISBLANK(P444), \"\", P444-Q444)","v":""},{"$f":"IF(ISBLANK(Q444), \"\", Q444/P444)","v":""}]
[null,null,null,null,null,null,null,{"$f":"IF(COUNTIF(E445,\"N\"),\"\",IF(ISBLANK(F445),\"\",IF(ISBLANK(G445),_xlfn.DAYS(TODAY(),F445),_xlfn.DAYS(G445,F445))))","v":""},null,{"$f":"IF(COUNTIF(E445,\"N\"),\"\",IF(ISBLANK(G445),\"\",IF(ISBLANK(I445),IF(ISBLANK(L445),_xlfn.DAYS(TODAY(),G445),_xlfn.DAYS(L445,G445)),_xlfn.DAYS(I445,G445))))","v":""},null,null,{"$f":"IF(COUNTIF(E445,\"N\"),\"ON HOLD\",IF(ISBLANK(L445),IF(ISBLANK(F445),\"\",IF(ISBLANK(G445),\"NO\",\"YES\")),\"NO\"))","v":""},{"$f":"IF(COUNTIF(E445,\"N\"),\"\",IF(ISBLANK(G445),\"\",IF(ISBLANK(L445),_xlfn.DAYS(TODAY(),G445),_xlfn.DAYS(L445,G445))))","v":""},null,null,null,{"$f":"IF(ISBLANK(P445), \"\", P445-Q445)","v":""},{"$f":"IF(ISBLANK(Q445), \"\", Q445/P445)","v":""}]
[null,null,null,null,null,null,null,{"$f":"IF(COUNTIF(E446,\"N\"),\"\",IF(ISBLANK(F446),\"\",IF(ISBLANK(G446),_xlfn.DAYS(TODAY(),F446),_xlfn.DAYS(G446,F446))))","v":""},null,{"$f":"IF(COUNTIF(E446,\"N\"),\"\",IF(ISBLANK(G446),\"\",IF(ISBLANK(I446),IF(ISBLANK(L446),_xlfn.DAYS(TODAY(),G446),_xlfn.DAYS(L446,G446)),_xlfn.DAYS(I446,G446))))","v":""},null,null,{"$f":"IF(COUNTIF(E446,\"N\"),\"ON HOLD\",IF(ISBLANK(L446),IF(ISBLANK(F446),\"\",IF(ISBLANK(G446),\"NO\",\"YES\")),\"NO\"))","v":""},{"$f":"IF(COUNTIF(E446,\"N\"),\"\",IF(ISBLANK(G446),\"\",IF(ISBLANK(L446),_xlfn.DAYS(TODAY(),G446),_xlfn.DAYS(L446,G446))))","v":""},null,null,null,{"$f":"IF(ISBLANK(P446), \"\", P446-Q446)","v":""},{"$f":"IF(ISBLANK(Q446), \"\", Q446/P446)","v":""}]
[null,null,null,null,null,null,null,{"$f":"IF(COUNTIF(E447,\"N\"),\"\",IF(ISBLANK(F447),\"\",IF(ISBLANK(G447),_xlfn.DAYS(TODAY(),F447),_xlfn.DAYS(G447,F447))))","v":""},null,{"$f":"IF(COUNTIF(E447,\"N\"),\"\",IF(ISBLANK(G447),\"\",IF(ISBLANK(I447),IF(ISBLANK(L447),_xlfn.DAYS(TODAY(),G447),_xlfn.DAYS(L447,G447)),_xlfn.DAYS(I447,G447))))","v":""},null,null,{"$f":"IF(COUNTIF(E447,\"N\"),\"ON HOLD\",IF(ISBLANK(L447),IF(ISBLANK(F447),\"\",IF(ISBLANK(G447),\"NO\",\"YES\")),\"NO\"))","v":""},{"$f":"IF(COUNTIF(E447,\"N\"),\"\",IF(ISBLANK(G447),\"\",IF(ISBLANK(L447),_xlfn.DAYS(TODAY(),G447),_xlfn.DAYS(L447,G447))))","v":""},null,null,null,{"$f":"IF(ISBLANK(P447), \"\", P447-Q447)","v":""},{"$f":"IF(ISBLANK(Q447), \"\", Q447/P447)","v":""}]
[null,null,null,null,null,null,null,{"$f":"IF(COUNTIF(E448,\"N\"),\"\",IF(ISBLANK(F448),\"\",IF(ISBLANK(G448),_xlfn.DAYS(TODAY(),F448),_xlfn.DAYS(G448,F448))))","v":""},null,{"$f":"IF(COUNTIF(E448,\"N\"),\"\",IF(ISBLANK(G448),\"\",IF(ISBLANK(I448),IF(ISBLANK(L448),_xlfn.DAYS(TODAY(),G448),_xlfn.DAYS(L448,G448)),_xlfn.DAYS(I448,G448))))","v":""},null,null,{"$f":"IF(COUNTIF(E448,\"N\"),\"ON HOLD\",IF(ISBLANK(L448),IF(ISBLANK(F448),\"\",IF(ISBLANK(G448),\"NO\",\"YES\")),\"NO\"))","v":""},{"$f":"IF(COUNTIF(E448,\"N\"),\"\",IF(ISBLANK(G448),\"\",IF(ISBLANK(L448),_xlfn.DAYS(TODAY(),G448),_xlfn.DAYS(L448,G448))))","v":""},null,null,null,{"$f":"IF(ISBLANK(P448), \"\", P448-Q448)","v":""},{"$f":"IF(ISBLANK(Q448), \"\", Q448/P448)","v":""}]
[null,null,null,null,null,null,null,{"$f":"IF(COUNTIF(E449,\"N\"),\"\",IF(ISBLANK(F449),\"\",IF(ISBLANK(G449),_xlfn.DAYS(TODAY(),F449),_xlfn.DAYS(G449,F449))))","v":""},null,{"$f":"IF(COUNTIF(E449,\"N\"),\"\",IF(ISBLANK(G449),\"\",IF(ISBLANK(I449),IF(ISBLANK(L449),_xlfn.DAYS(TODAY(),G449),_xlfn.DAYS(L449,G449)),_xlfn.DAYS(I449,G449))))","v":""},null,null,{"$f":"IF(COUNTIF(E449,\"N\"),\"ON HOLD\",IF(ISBLANK(L449),IF(ISBLANK(F449),\"\",IF(ISBLANK(G449),\"NO\",\"YES\")),\"NO\"))","v":""},{"$f":"IF(COUNTIF(E449,\"N\"),\"\",IF(ISBLANK(G449),\"\",IF(ISBLANK(L449),_xlfn.DAYS(TODAY(),G449),_xlfn.DAYS(L449,G449))))","v":""},null,null,null,{"$f":"IF(ISBLANK(P449), \"\", P449-Q449)","v":""},{"$f":"IF(ISBLANK(Q449), \"\", Q449/P449)","v":""}]
[null,null,null,null,null,null,null,{"$f":"IF(COUNTIF(E450,\"N\"),\"\",IF(ISBLANK(F450),\"\",IF(ISBLANK(G450),_xlfn.DAYS(TODAY(),F450),_xlfn.DAYS(G450,F450))))","v":""},null,{"$f":"IF(COUNTIF(E450,\"N\"),\"\",IF(ISBLANK(G450),\"\",IF(ISBLANK(I450),IF(ISBLANK(L450),_xlfn.DAYS(TODAY(),G450),_xlfn.DAYS(L450,G450)),_xlfn.DAYS(I450,G450))))","v":""},null,null,{"$f":"IF(COUNTIF(E450,\"N\"),\"ON HOLD\",IF(ISBLANK(L450),IF(ISBLANK(F450),\"\",IF(ISBLANK(G450),\"NO\",\"YES\")),\"NO\"))","v":""},{"$f":"IF(COUNTIF(E450,\"N\"),\"\",IF(ISBLANK(G450),\"\",IF(ISBLANK(L450),_xlfn.DAYS(TODAY(),G450),_xlfn.DAYS(L450,G450))))","v":""},null,null,null,{"$f":"IF(ISBLANK(P450), \"\", P450-Q450)","v":""},{"$f":"IF(ISBLANK(Q450), \"\", Q450/P450)","v":""}]
[null,null,null,null,null,null,null,{"$f":"IF(COUNTIF(E451,\"N\"),\"\",IF(ISBLANK(F451),\"\",IF(ISBLANK(G451),_xlfn.DAYS(TODAY(),F451),_xlfn.DAYS(G451,F451))))","v":""},null,{"$f":"IF(COUNTIF(E451,\"N\"),\"\",IF(ISBLANK(G451),\"\",IF(ISBLANK(I451),IF(ISBLANK(L451),_xlfn.DAYS(TODAY(),G451),_xlfn.DAYS(L451,G451)),_xlfn.DAYS(I451,G451))))","v":""},null,null,{"$f":"IF(COUNTIF(E451,\"N\"),\"ON HOLD\",IF(ISBLANK(L451),IF(ISBLANK(F451),\"\",IF(ISBLANK(G451),\"NO\",\"YES\")),\"NO\"))","v":""},{"$f":"IF(COUNTIF(E451,\"N\"),\"\",IF(ISBLANK(G451),\"\",IF(ISBLANK(L451),_xlfn.DAYS(TODAY(),G451),_xlfn.DAYS(L451,G451))))","v":""},null,null,null,{"$f":"IF(ISBLANK(P451), \"\", P451-Q451)","v":""},{"$f":"IF(ISBLANK(Q451), \"\", Q451/P451)","v":""}]
[null,null,null,null,null,null,null,{"$f":"IF(COUNTIF(E452,\"N\"),\"\",IF(ISBLANK(F452),\"\",IF(ISBLANK(G452),_xlfn.DAYS(TODAY(),F452),_xlfn.DAYS(G452,F452))))","v":""},null,{"$f":"IF(COUNTIF(E452,\"N\"),\"\",IF(ISBLANK(G452),\"\",IF(ISBLANK(I452),IF(ISBLANK(L452),_xlfn.DAYS(TODAY(),G452),_xlfn.DAYS(L452,G452)),_xlfn.DAYS(I452,G452))))","v":""},null,null,{"$f":"IF(COUNTIF(E452,\"N\"),\"ON HOLD\",IF(ISBLANK(L452),IF(ISBLANK(F452),\"\",IF(ISBLANK(G452),\"NO\",\"YES\")),\"NO\"))","v":""},{"$f":"IF(COUNTIF(E452,\"N\"),\"\",IF(ISBLANK(G452),\"\",IF(ISBLANK(L452),_xlfn.DAYS(TODAY(),G452),_xlfn.DAYS(L452,G452))))","v":""},null,null,null,{"$f":"IF(ISBLANK(P452), \"\", P452-Q452)","v":""},{"$f":"IF(ISBLANK(Q452), \"\", Q452/P452)","v":""}]
[null,null,null,null,null,null,null,{"$f":"IF(COUNTIF(E453,\"N\"),\"\",IF(ISBLANK(F453),\"\",IF(ISBLANK(G453),_xlfn.DAYS(TODAY(),F453),_xlfn.DAYS(G453,F453))))","v":""},null,{"$f":"IF(COUNTIF(E453,\"N\"),\"\",IF(ISBLANK(G453),\"\",IF(ISBLANK(I453),IF(ISBLANK(L453),_xlfn.DAYS(TODAY(),G453),_xlfn.DAYS(L453,G453)),_xlfn.DAYS(I453,G453))))","v":""},null,null,{"$f":"IF(COUNTIF(E453,\"N\"),\"ON HOLD\",IF(ISBLANK(L453),IF(ISBLANK(F453),\"\",IF(ISBLANK(G453),\"NO\",\"YES\")),\"NO\"))","v":""},{"$f":"IF(COUNTIF(E453,\"N\"),\"\",IF(ISBLANK(G453),\"\",IF(ISBLANK(L453),_xlfn.DAYS(TODAY(),G453),_xlfn.DAYS(L453,G453))))","v":""},null,null,null,{"$f":"IF(ISBLANK(P453), \"\", P453-Q453)","v":""},{"$f":"IF(ISBLANK(Q453), \"\", Q453/P453)","v":""}]
[null,null,null,null,null,null,null,{"$f":"IF(COUNTIF(E454,\"N\"),\"\",IF(ISBLANK(F454),\"\",IF(ISBLANK(G454),_xlfn.DAYS(TODAY(),F454),_xlfn.DAYS(G454,F454))))","v":""},null,{"$f":"IF(COUNTIF(E454,\"N\"),\"\",IF(ISBLANK(G454),\"\",IF(ISBLANK(I454),IF(ISBLANK(L454),_xlfn.DAYS(TODAY(),G454),_xlfn.DAYS(L454,G454)),_xlfn.DAYS(I454,G454))))","v":""},null,null,{"$f":"IF(COUNTIF(E454,\"N\"),\"ON HOLD\",IF(ISBLANK(L454),IF(ISBLANK(F454),\"\",IF(ISBLANK(G454),\"NO\",\"YES\")),\"NO\"))","v":""},{"$f":"IF(COUNTIF(E454,\"N\"),\"\",IF(ISBLANK(G454),\"\",IF(ISBLANK(L454),_xlfn.DAYS(TODAY(),G454),_xlfn.DAYS(L454,G454))))","v":""},null,null,null,{"$f":"IF(ISBLANK(P454), \"\", P454-Q454)","v":""},{"$f":"IF(ISBLANK(Q454), \"\", Q454/P454)","v":""}]
[null,null,null,null,null,null,null,{"$f":"IF(COUNTIF(E455,\"N\"),\"\",IF(ISBLANK(F455),\"\",IF(ISBLANK(G455),_xlfn.DAYS(TODAY(),F455),_xlfn.DAYS(G455,F455))))","v":""},null,{"$f":"IF(COUNTIF(E455,\"N\"),\"\",IF(ISBLANK(G455),\"\",IF(ISBLANK(I455),IF(ISBLANK(L455),_xlfn.DAYS(TODAY(),G455),_xlfn.DAYS(L455,G455)),_xlfn.DAYS(I455,G455))))","v":""},null,null,{"$f":"IF(COUNTIF(E455,\"N\"),\"ON HOLD\",IF(ISBLANK(L455),IF(ISBLANK(F455),\"\",IF(ISBLANK(G455),\"NO\",\"YES\")),\"NO\"))","v":""},{"$f":"IF(COUNTIF(E455,\"N\"),\"\",IF(ISBLANK(G455),\"\",IF(ISBLANK(L455),_xlfn.DAYS(TODAY(),G455),_xlfn.DAYS(L455,G455))))","v":""},null,null,null,{"$f":"IF(ISBLANK(P455), \"\", P455-Q455)","v":""},{"$f":"IF(ISBLANK(Q455), \"\", Q455/P455)","v":""}]
[null,null,null,null,null,null,null,{"$f":"IF(COUNTIF(E456,\"N\"),\"\",IF(ISBLANK(F456),\"\",IF(ISBLANK(G456),_xlfn.DAYS(TODAY(),F456),_xlfn.DAYS(G456,F456))))","v":""},null,{"$f":"IF(COUNTIF(E456,\"N\"),\"\",IF(ISBLANK(G456),\"\",IF(ISBLANK(I456),IF(ISBLANK(L456),_xlfn.DAYS(TODAY(),G456),_xlfn.DAYS(L456,G456)),_xlfn.DAYS(I456,G456))))","v":""},null,null,{"$f":"IF(COUNTIF(E456,\"N\"),\"ON HOLD\",IF(ISBLANK(L456),IF(ISBLANK(F456),\"\",IF(ISBLANK(G456),\"NO\",\"YES\")),\"NO\"))","v":""},{"$f":"IF(COUNTIF(E456,\"N\"),\"\",IF(ISBLANK(G456),\"\",IF(ISBLANK(L456),_xlfn.DAYS(TODAY(),G456),_xlfn.DAYS(L456,G456))))","v":""},null,null,null,{"$f":"IF(ISBLANK(P456), \"\", P456-Q456)","v":""},{"$f":"IF(ISBLANK(Q456), \"\", Q456/P456)","v":""}]
[null,null,null,null,null,null,null,{"$f":"IF(COUNTIF(E457,\"N\"),\"\",IF(ISBLANK(F457),\"\",IF(ISBLANK(G457),_xlfn.DAYS(TODAY(),F457),_xlfn.DAYS(G457,F457))))","v":""},null,{"$f":"IF(COUNTIF(E457,\"N\"),\"\",IF(ISBLANK(G457),\"\",IF(ISBLANK(I457),IF(ISBLANK(L457),_xlfn.DAYS(TODAY(),G457),_xlfn.DAYS(L457,G457)),_xlfn.DAYS(I457,G457))))","v":""},null,null,{"$f":"IF(COUNTIF(E457,\"N\"),\"ON HOLD\",IF(ISBLANK(L457),IF(ISBLANK(F457),\"\",IF(ISBLANK(G457),\"NO\",\"YES\")),\"NO\"))","v":""},{"$f":"IF(COUNTIF(E457,\"N\"),\"\",IF(ISBLANK(G457),\"\",IF(ISBLANK(L457),_xlfn.DAYS(TODAY(),G457),_xlfn.DAYS(L457,G457))))","v":""},null,null,null,{"$f":"IF(ISBLANK(P457), \"\", P457-Q457)","v":""},{"$f":"IF(ISBLANK(Q457), \"\", Q457/P457)","v":""}]
[null,null,null,null,null,null,null,{"$f":"IF(COUNTIF(E458,\"N\"),\"\",IF(ISBLANK(F458),\"\",IF(ISBLANK(G458),_xlfn.DAYS(TODAY(),F458),_xlfn.DAYS(G458,F458))))","v":""},null,{"$f":"IF(COUNTIF(E458,\"N\"),\"\",IF(ISBLANK(G458),\"\",IF(ISBLANK(I458),IF(ISBLANK(L458),_xlfn.DAYS(TODAY(),G458),_xlfn.DAYS(L458,G458)),_xlfn.DAYS(I458,G458))))","v":""},null,null,{"$f":"IF(COUNTIF(E458,\"N\"),\"ON HOLD\",IF(ISBLANK(L458),IF(ISBLANK(F458),\"\",IF(ISBLANK(G458),\"NO\",\"YES\")),\"NO\"))","v":""},{"$f":"IF(COUNTIF(E458,\"N\"),\"\",IF(ISBLANK(G458),\"\",IF(ISBLANK(L458),_xlfn.DAYS(TODAY(),G458),_xlfn.DAYS(L458,G458))))","v":""},null,null,null,{"$f":"IF(ISBLANK(P458), \"\", P458-Q458)","v":""},{"$f":"IF(ISBLANK(Q458), \"\", Q458/P458)","v":""}]
[null,null,null,null,null,null,null,{"$f":"IF(COUNTIF(E459,\"N\"),\"\",IF(ISBLANK(F459),\"\",IF(ISBLANK(G459),_xlfn.DAYS(TODAY(),F459),_xlfn.DAYS(G459,F459))))","v":""},null,{"$f":"IF(COUNTIF(E459,\"N\"),\"\",IF(ISBLANK(G459),\"\",IF(ISBLANK(I459),IF(ISBLANK(L459),_xlfn.DAYS(TODAY(),G459),_xlfn.DAYS(L459,G459)),_xlfn.DAYS(I459,G459))))","v":""},null,null,{"$f":"IF(COUNTIF(E459,\"N\"),\"ON HOLD\",IF(ISBLANK(L459),IF(ISBLANK(F459),\"\",IF(ISBLANK(G459),\"NO\",\"YES\")),\"NO\"))","v":""},{"$f":"IF(COUNTIF(E459,\"N\"),\"\",IF(ISBLANK(G459),\"\",IF(ISBLANK(L459),_xlfn.DAYS(TODAY(),G459),_xlfn.DAYS(L459,G459))))","v":""},null,null,null,{"$f":"IF(ISBLANK(P459), \"\", P459-Q459)","v":""},{"$f":"IF(ISBLANK(Q459), \"\", Q459/P459)","v":""}]
[null,null,null,null,null,null,null,{"$f":"IF(COUNTIF(E460,\"N\"),\"\",IF(ISBLANK(F460),\"\",IF(ISBLANK(G460),_xlfn.DAYS(TODAY(),F460),_xlfn.DAYS(G460,F460))))","v":""},null,{"$f":"IF(COUNTIF(E460,\"N\"),\"\",IF(ISBLANK(G460),\"\",IF(ISBLANK(I460),IF(ISBLANK(L460),_xlfn.DAYS(TODAY(),G460),_xlfn.DAYS(L460,G460)),_xlfn.DAYS(I460,G460))))","v":""},null,null,{"$f":"IF(COUNTIF(E460,\"N\"),\"ON HOLD\",IF(ISBLANK(L460),IF(ISBLANK(F460),\"\",IF(ISBLANK(G460),\"NO\",\"YES\")),\"NO\"))","v":""},{"$f":"IF(COUNTIF(E460,\"N\"),\"\",IF(ISBLANK(G460),\"\",IF(ISBLANK(L460),_xlfn.DAYS(TODAY(),G460),_xlfn.DAYS(L460,G460))))","v":""},null,null,null,{"$f":"IF(ISBLANK(P460), \"\", P460-Q460)","v":""},{"$f":"IF(ISBLANK(Q460), \"\", Q460/P460)","v":""}]
[null,null,null,null,null,null,null,{"$f":"IF(COUNTIF(E461,\"N\"),\"\",IF(ISBLANK(F461),\"\",IF(ISBLANK(G461),_xlfn.DAYS(TODAY(),F461),_xlfn.DAYS(G461,F461))))","v":""},null,{"$f":"IF(COUNTIF(E461,\"N\"),\"\",IF(ISBLANK(G461),\"\",IF(ISBLANK(I461),IF(ISBLANK(L461),_xlfn.DAYS(TODAY(),G461),_xlfn.DAYS(L461,G461)),_xlfn.DAYS(I461,G461))))","v":""},null,null,{"$f":"IF(COUNTIF(E461,\"N\"),\"ON HOLD\",IF(ISBLANK(L461),IF(ISBLANK(F461),\"\",IF(ISBLANK(G461),\"NO\",\"YES\")),\"NO\"))","v":""},{"$f":"IF(COUNTIF(E461,\"N\"),\"\",IF(ISBLANK(G461),\"\",IF(ISBLANK(L461),_xlfn.DAYS(TODAY(),G461),_xlfn.DAYS(L461,G461))))","v":""},null,null,null,{"$f":"IF(ISBLANK(P461), \"\", P461-Q461)","v":""},{"$f":"IF(ISBLANK(Q461), \"\", Q461/P461)","v":""}]
[null,null,null,null,null,null,null,{"$f":"IF(COUNTIF(E462,\"N\"),\"\",IF(ISBLANK(F462),\"\",IF(ISBLANK(G462),_xlfn.DAYS(TODAY(),F462),_xlfn.DAYS(G462,F462))))","v":""},null,{"$f":"IF(COUNTIF(E462,\"N\"),\"\",IF(ISBLANK(G462),\"\",IF(ISBLANK(I462),IF(ISBLANK(L462),_xlfn.DAYS(TODAY(),G462),_xlfn.DAYS(L462,G462)),_xlfn.DAYS(I462,G462))))","v":""},null,null,{"$f":"IF(COUNTIF(E462,\"N\"),\"ON HOLD\",IF(ISBLANK(L462),IF(ISBLANK(F462),\"\",IF(ISBLANK(G462),\"NO\",\"YES\")),\"NO\"))","v":""},{"$f":"IF(COUNTIF(E462,\"N\"),\"\",IF(ISBLANK(G462),\"\",IF(ISBLANK(L462),_xlfn.DAYS(TODAY(),G462),_xlfn.DAYS(L462,G462))))","v":""},null,null,null,{"$f":"IF(ISBLANK(P462), \"\", P462-Q462)","v":""},{"$f":"IF(ISBLANK(Q462), \"\", Q462/P462)","v":""}]
[null,null,null,null,null,null,null,{"$f":"IF(COUNTIF(E463,\"N\"),\"\",IF(ISBLANK(F463),\"\",IF(ISBLANK(G463),_xlfn.DAYS(TODAY(),F463),_xlfn.DAYS(G463,F463))))","v":""},null,{"$f":"IF(COUNTIF(E463,\"N\"),\"\",IF(ISBLANK(G463),\"\",IF(ISBLANK(I463),IF(ISBLANK(L463),_xlfn.DAYS(TODAY(),G463),_xlfn.DAYS(L463,G463)),_xlfn.DAYS(I463,G463))))","v":""},null,null,{"$f":"IF(COUNTIF(E463,\"N\"),\"ON HOLD\",IF(ISBLANK(L463),IF(ISBLANK(F463),\"\",IF(ISBLANK(G463),\"NO\",\"YES\")),\"NO\"))","v":""},{"$f":"IF(COUNTIF(E463,\"N\"),\"\",IF(ISBLANK(G463),\"\",IF(ISBLANK(L463),_xlfn.DAYS(TODAY(),G463),_xlfn.DAYS(L463,G463))))","v":""},null,null,null,{"$f":"IF(ISBLANK(P463), \"\", P463-Q463)","v":""},{"$f":"IF(ISBLANK(Q463), \"\", Q463/P463)","v":""}]
[null,null,null,null,null,null,null,{"$f":"IF(COUNTIF(E464,\"N\"),\"\",IF(ISBLANK(F464),\"\",IF(ISBLANK(G464),_xlfn.DAYS(TODAY(),F464),_xlfn.DAYS(G464,F464))))","v":""},null,{"$f":"IF(COUNTIF(E464,\"N\"),\"\",IF(ISBLANK(G464),\"\",IF(ISBLANK(I464),IF(ISBLANK(L464),_xlfn.DAYS(TODAY(),G464),_xlfn.DAYS(L464,G464)),_xlfn.DAYS(I464,G464))))","v":""},null,null,{"$f":"IF(COUNTIF(E464,\"N\"),\"ON HOLD\",IF(ISBLANK(L464),IF(ISBLANK(F464),\"\",IF(ISBLANK(G464),\"NO\",\"YES\")),\"NO\"))","v":""},{"$f":"IF(COUNTIF(E464,\"N\"),\"\",IF(ISBLANK(G464),\"\",IF(ISBLANK(L464),_xlfn.DAYS(TODAY(),G464),_xlfn.DAYS(L464,G464))))","v":""},null,null,null,{"$f":"IF(ISBLANK(P464), \"\", P464-Q464)","v":""},{"$f":"IF(ISBLANK(Q464), \"\", Q464/P464)","v":""}]
[null,null,null,null,null,null,null,{"$f":"IF(COUNTIF(E465,\"N\"),\"\",IF(ISBLANK(F465),\"\",IF(ISBLANK(G465),_xlfn.DAYS(TODAY(),F465),_xlfn.DAYS(G465,F465))))","v":""},null,{"$f":"IF(COUNTIF(E465,\"N\"),\"\",IF(ISBLANK(G465),\"\",IF(ISBLANK(I465),IF(ISBLANK(L465),_xlfn.DAYS(TODAY(),G465),_xlfn.DAYS(L465,G465)),_xlfn.DAYS(I465,G465))))","v":""},null,null,{"$f":"IF(COUNTIF(E465,\"N\"),\"ON HOLD\",IF(ISBLANK(L465),IF(ISBLANK(F465),\"\",IF(ISBLANK(G465),\"NO\",\"YES\")),\"NO\"))","v":""},{"$f":"IF(COUNTIF(E465,\"N\"),\"\",IF(ISBLANK(G465),\"\",IF(ISBLANK(L465),_xlfn.DAYS(TODAY(),G465),_xlfn.DAYS(L465,G465))))","v":""},null,null,null,{"$f":"IF(ISBLANK(P465), \"\", P465-Q465)","v":""},{"$f":"IF(ISBLANK(Q465), \"\", Q465/P465)","v":""}]
[null,null,null,null,null,null,null,{"$f":"IF(COUNTIF(E466,\"N\"),\"\",IF(ISBLANK(F466),\"\",IF(ISBLANK(G466),_xlfn.DAYS(TODAY(),F466),_xlfn.DAYS(G466,F466))))","v":""},null,{"$f":"IF(COUNTIF(E466,\"N\"),\"\",IF(ISBLANK(G466),\"\",IF(ISBLANK(I466),IF(ISBLANK(L466),_xlfn.DAYS(TODAY(),G466),_xlfn.DAYS(L466,G466)),_xlfn.DAYS(I466,G466))))","v":""},null,null,{"$f":"IF(COUNTIF(E466,\"N\"),\"ON HOLD\",IF(ISBLANK(L466),IF(ISBLANK(F466),\"\",IF(ISBLANK(G466),\"NO\",\"YES\")),\"NO\"))","v":""},{"$f":"IF(COUNTIF(E466,\"N\"),\"\",IF(ISBLANK(G466),\"\",IF(ISBLANK(L466),_xlfn.DAYS(TODAY(),G466),_xlfn.DAYS(L466,G466))))","v":""},null,null,null,{"$f":"IF(ISBLANK(P466), \"\", P466-Q466)","v":""},{"$f":"IF(ISBLANK(Q466), \"\", Q466/P466)","v":""}]
[null,null,null,null,null,null,null,{"$f":"IF(COUNTIF(E467,\"N\"),\"\",IF(ISBLANK(F467),\"\",IF(ISBLANK(G467),_xlfn.DAYS(TODAY(),F467),_xlfn.DAYS(G467,F467))))","v":""},null,{"$f":"IF(COUNTIF(E467,\"N\"),\"\",IF(ISBLANK(G467),\"\",IF(ISBLANK(I467),IF(ISBLANK(L467),_xlfn.DAYS(TODAY(),G467),_xlfn.DAYS(L467,G467)),_xlfn.DAYS(I467,G467))))","v":""},null,null,{"$f":"IF(COUNTIF(E467,\"N\"),\"ON HOLD\",IF(ISBLANK(L467),IF(ISBLANK(F467),\"\",IF(ISBLANK(G467),\"NO\",\"YES\")),\"NO\"))","v":""},{"$f":"IF(COUNTIF(E467,\"N\"),\"\",IF(ISBLANK(G467),\"\",IF(ISBLANK(L467),_xlfn.DAYS(TODAY(),G467),_xlfn.DAYS(L467,G467))))","v":""},null,null,null,{"$f":"IF(ISBLANK(P467), \"\", P467-Q467)","v":""},{"$f":"IF(ISBLANK(Q467), \"\", Q467/P467)","v":""}]
[null,null,null,null,null,null,null,{"$f":"IF(COUNTIF(E468,\"N\"),\"\",IF(ISBLANK(F468),\"\",IF(ISBLANK(G468),_xlfn.DAYS(TODAY(),F468),_xlfn.DAYS(G468,F468))))","v":""},null,{"$f":"IF(COUNTIF(E468,\"N\"),\"\",IF(ISBLANK(G468),\"\",IF(ISBLANK(I468),IF(ISBLANK(L468),_xlfn.DAYS(TODAY(),G468),_xlfn.DAYS(L468,G468)),_xlfn.DAYS(I468,G468))))","v":""},null,null,{"$f":"IF(COUNTIF(E468,\"N\"),\"ON HOLD\",IF(ISBLANK(L468),IF(ISBLANK(F468),\"\",IF(ISBLANK(G468),\"NO\",\"YES\")),\"NO\"))","v":""},{"$f":"IF(COUNTIF(E468,\"N\"),\"\",IF(ISBLANK(G468),\"\",IF(ISBLANK(L468),_xlfn.DAYS(TODAY(),G468),_xlfn.DAYS(L468,G468))))","v":""},null,null,null,{"$f":"IF(ISBLANK(P468), \"\", P468-Q468)","v":""},{"$f":"IF(ISBLANK(Q468), \"\", Q468/P468)","v":""}]
[null,null,null,null,null,null,null,{"$f":"IF(COUNTIF(E469,\"N\"),\"\",IF(ISBLANK(F469),\"\",IF(ISBLANK(G469),_xlfn.DAYS(TODAY(),F469),_xlfn.DAYS(G469,F469))))","v":""},null,{"$f":"IF(COUNTIF(E469,\"N\"),\"\",IF(ISBLANK(G469),\"\",IF(ISBLANK(I469),IF(ISBLANK(L469),_xlfn.DAYS(TODAY(),G469),_xlfn.DAYS(L469,G469)),_xlfn.DAYS(I469,G469))))","v":""},null,null,{"$f":"IF(COUNTIF(E469,\"N\"),\"ON HOLD\",IF(ISBLANK(L469),IF(ISBLANK(F469),\"\",IF(ISBLANK(G469),\"NO\",\"YES\")),\"NO\"))","v":""},{"$f":"IF(COUNTIF(E469,\"N\"),\"\",IF(ISBLANK(G469),\"\",IF(ISBLANK(L469),_xlfn.DAYS(TODAY(),G469),_xlfn.DAYS(L469,G469))))","v":""},null,null,null,{"$f":"IF(ISBLANK(P469), \"\", P469-Q469)","v":""},{"$f":"IF(ISBLANK(Q469), \"\", Q469/P469)","v":""}]
[null,null,null,null,null,null,null,{"$f":"IF(COUNTIF(E470,\"N\"),\"\",IF(ISBLANK(F470),\"\",IF(ISBLANK(G470),_xlfn.DAYS(TODAY(),F470),_xlfn.DAYS(G470,F470))))","v":""},null,{"$f":"IF(COUNTIF(E470,\"N\"),\"\",IF(ISBLANK(G470),\"\",IF(ISBLANK(I470),IF(ISBLANK(L470),_xlfn.DAYS(TODAY(),G470),_xlfn.DAYS(L470,G470)),_xlfn.DAYS(I470,G470))))","v":""},null,null,{"$f":"IF(COUNTIF(E470,\"N\"),\"ON HOLD\",IF(ISBLANK(L470),IF(ISBLANK(F470),\"\",IF(ISBLANK(G470),\"NO\",\"YES\")),\"NO\"))","v":""},{"$f":"IF(COUNTIF(E470,\"N\"),\"\",IF(ISBLANK(G470),\"\",IF(ISBLANK(L470),_xlfn.DAYS(TODAY(),G470),_xlfn.DAYS(L470,G470))))","v":""},null,null,null,{"$f":"IF(ISBLANK(P470), \"\", P470-Q470)","v":""},{"$f":"IF(ISBLANK(Q470), \"\", Q470/P470)","v":""}]
[null,null,null,null,null,null,null,{"$f":"IF(COUNTIF(E471,\"N\"),\"\",IF(ISBLANK(F471),\"\",IF(ISBLANK(G471),_xlfn.DAYS(TODAY(),F471),_xlfn.DAYS(G471,F471))))","v":""},null,{"$f":"IF(COUNTIF(E471,\"N\"),\"\",IF(ISBLANK(G471),\"\",IF(ISBLANK(I471),IF(ISBLANK(L471),_xlfn.DAYS(TODAY(),G471),_xlfn.DAYS(L471,G471)),_xlfn.DAYS(I471,G471))))","v":""},null,null,{"$f":"IF(COUNTIF(E471,\"N\"),\"ON HOLD\",IF(ISBLANK(L471),IF(ISBLANK(F471),\"\",IF(ISBLANK(G471),\"NO\",\"YES\")),\"NO\"))","v":""},{"$f":"IF(COUNTIF(E471,\"N\"),\"\",IF(ISBLANK(G471),\"\",IF(ISBLANK(L471),_xlfn.DAYS(TODAY(),G471),_xlfn.DAYS(L471,G471))))","v":""},null,null,null,{"$f":"IF(ISBLANK(P471), \"\", P471-Q471)","v":""},{"$f":"IF(ISBLANK(Q471), \"\", Q471/P471)","v":""}]
[null,null,null,null,null,null,null,{"$f":"IF(COUNTIF(E472,\"N\"),\"\",IF(ISBLANK(F472),\"\",IF(ISBLANK(G472),_xlfn.DAYS(TODAY(),F472),_xlfn.DAYS(G472,F472))))","v":""},null,{"$f":"IF(COUNTIF(E472,\"N\"),\"\",IF(ISBLANK(G472),\"\",IF(ISBLANK(I472),IF(ISBLANK(L472),_xlfn.DAYS(TODAY(),G472),_xlfn.DAYS(L472,G472)),_xlfn.DAYS(I472,G472))))","v":""},null,null,{"$f":"IF(COUNTIF(E472,\"N\"),\"ON HOLD\",IF(ISBLANK(L472),IF(ISBLANK(F472),\"\",IF(ISBLANK(G472),\"NO\",\"YES\")),\"NO\"))","v":""},{"$f":"IF(COUNTIF(E472,\"N\"),\"\",IF(ISBLANK(G472),\"\",IF(ISBLANK(L472),_xlfn.DAYS(TODAY(),G472),_xlfn.DAYS(L472,G472))))","v":""},null,null,null,{"$f":"IF(ISBLANK(P472), \"\", P472-Q472)","v":""},{"$f":"IF(ISBLANK(Q472), \"\", Q472/P472)","v":""}]
[null,null,null,null,null,null,null,{"$f":"IF(COUNTIF(E473,\"N\"),\"\",IF(ISBLANK(F473),\"\",IF(ISBLANK(G473),_xlfn.DAYS(TODAY(),F473),_xlfn.DAYS(G473,F473))))","v":""},null,{"$f":"IF(COUNTIF(E473,\"N\"),\"\",IF(ISBLANK(G473),\"\",IF(ISBLANK(I473),IF(ISBLANK(L473),_xlfn.DAYS(TODAY(),G473),_xlfn.DAYS(L473,G473)),_xlfn.DAYS(I473,G473))))","v":""},null,null,{"$f":"IF(COUNTIF(E473,\"N\"),\"ON HOLD\",IF(ISBLANK(L473),IF(ISBLANK(F473),\"\",IF(ISBLANK(G473),\"NO\",\"YES\")),\"NO\"))","v":""},{"$f":"IF(COUNTIF(E473,\"N\"),\"\",IF(ISBLANK(G473),\"\",IF(ISBLANK(L473),_xlfn.DAYS(TODAY(),G473),_xlfn.DAYS(L473,G473))))","v":""},null,null,null,{"$f":"IF(ISBLANK(P473), \"\", P473-Q473)","v":""},{"$f":"IF(ISBLANK(Q473), \"\", Q473/P473)","v":""}]
[null,null,null,null,null,null,null,{"$f":"IF(COUNTIF(E474,\"N\"),\"\",IF(ISBLANK(F474),\"\",IF(ISBLANK(G474),_xlfn.DAYS(TODAY(),F474),_xlfn.DAYS(G474,F474))))","v":""},null,{"$f":"IF(COUNTIF(E474,\"N\"),\"\",IF(ISBLANK(G474),\"\",IF(ISBLANK(I474),IF(ISBLANK(L474),_xlfn.DAYS(TODAY(),G474),_xlfn.DAYS(L474,G474)),_xlfn.DAYS(I474,G474))))","v":""},null,null,{"$f":"IF(COUNTIF(E474,\"N\"),\"ON HOLD\",IF(ISBLANK(L474),IF(ISBLANK(F474),\"\",IF(ISBLANK(G474),\"NO\",\"YES\")),\"NO\"))","v":""},{"$f":"IF(COUNTIF(E474,\"N\"),\"\",IF(ISBLANK(G474),\"\",IF(ISBLANK(L474),_xlfn.DAYS(TODAY(),G474),_xlfn.DAYS(L474,G474))))","v":""},null,null,null,{"$f":"IF(ISBLANK(P474), \"\", P474-Q474)","v":""},{"$f":"IF(ISBLANK(Q474), \"\", Q474/P474)","v":""}]
[null,null,null,null,null,null,null,{"$f":"IF(COUNTIF(E475,\"N\"),\"\",IF(ISBLANK(F475),\"\",IF(ISBLANK(G475),_xlfn.DAYS(TODAY(),F475),_xlfn.DAYS(G475,F475))))","v":""},null,{"$f":"IF(COUNTIF(E475,\"N\"),\"\",IF(ISBLANK(G475),\"\",IF(ISBLANK(I475),IF(ISBLANK(L475),_xlfn.DAYS(TODAY(),G475),_xlfn.DAYS(L475,G475)),_xlfn.DAYS(I475,G475))))","v":""},null,null,{"$f":"IF(COUNTIF(E475,\"N\"),\"ON HOLD\",IF(ISBLANK(L475),IF(ISBLANK(F475),\"\",IF(ISBLANK(G475),\"NO\",\"YES\")),\"NO\"))","v":""},{"$f":"IF(COUNTIF(E475,\"N\"),\"\",IF(ISBLANK(G475),\"\",IF(ISBLANK(L475),_xlfn.DAYS(TODAY(),G475),_xlfn.DAYS(L475,G475))))","v":""},null,null,null,{"$f":"IF(ISBLANK(P475), \"\", P475-Q475)","v":""},{"$f":"IF(ISBLANK(Q475), \"\", Q475/P475)","v":""}]
[null,null,null,null,null,null,null,{"$f":"IF(COUNTIF(E476,\"N\"),\"\",IF(ISBLANK(F476),\"\",IF(ISBLANK(G476),_xlfn.DAYS(TODAY(),F476),_xlfn.DAYS(G476,F476))))","v":""},null,{"$f":"IF(COUNTIF(E476,\"N\"),\"\",IF(ISBLANK(G476),\"\",IF(ISBLANK(I476),IF(ISBLANK(L476),_xlfn.DAYS(TODAY(),G476),_xlfn.DAYS(L476,G476)),_xlfn.DAYS(I476,G476))))","v":""},null,null,{"$f":"IF(COUNTIF(E476,\"N\"),\"ON HOLD\",IF(ISBLANK(L476),IF(ISBLANK(F476),\"\",IF(ISBLANK(G476),\"NO\",\"YES\")),\"NO\"))","v":""},{"$f":"IF(COUNTIF(E476,\"N\"),\"\",IF(ISBLANK(G476),\"\",IF(ISBLANK(L476),_xlfn.DAYS(TODAY(),G476),_xlfn.DAYS(L476,G476))))","v":""},null,null,null,{"$f":"IF(ISBLANK(P476), \"\", P476-Q476)","v":""},{"$f":"IF(ISBLANK(Q476), \"\", Q476/P476)","v":""}]
[null,null,null,null,null,null,null,{"$f":"IF(COUNTIF(E477,\"N\"),\"\",IF(ISBLANK(F477),\"\",IF(ISBLANK(G477),_xlfn.DAYS(TODAY(),F477),_xlfn.DAYS(G477,F477))))","v":""},null,{"$f":"IF(COUNTIF(E477,\"N\"),\"\",IF(ISBLANK(G477),\"\",IF(ISBLANK(I477),IF(ISBLANK(L477),_xlfn.DAYS(TODAY(),G477),_xlfn.DAYS(L477,G477)),_xlfn.DAYS(I477,G477))))","v":""},null,null,{"$f":"IF(COUNTIF(E477,\"N\"),\"ON HOLD\",IF(ISBLANK(L477),IF(ISBLANK(F477),\"\",IF(ISBLANK(G477),\"NO\",\"YES\")),\"NO\"))","v":""},{"$f":"IF(COUNTIF(E477,\"N\"),\"\",IF(ISBLANK(G477),\"\",IF(ISBLANK(L477),_xlfn.DAYS(TODAY(),G477),_xlfn.DAYS(L477,G477))))","v":""},null,null,null,{"$f":"IF(ISBLANK(P477), \"\", P477-Q477)","v":""},{"$f":"IF(ISBLANK(Q477), \"\", Q477/P477)","v":""}]
[null,null,null,null,null,null,null,{"$f":"IF(COUNTIF(E478,\"N\"),\"\",IF(ISBLANK(F478),\"\",IF(ISBLANK(G478),_xlfn.DAYS(TODAY(),F478),_xlfn.DAYS(G478,F478))))","v":""},null,{"$f":"IF(COUNTIF(E478,\"N\"),\"\",IF(ISBLANK(G478),\"\",IF(ISBLANK(I478),IF(ISBLANK(L478),_xlfn.DAYS(TODAY(),G478),_xlfn.DAYS(L478,G478)),_xlfn.DAYS(I478,G478))))","v":""},null,null,{"$f":"IF(COUNTIF(E478,\"N\"),\"ON HOLD\",IF(ISBLANK(L478),IF(ISBLANK(F478),\"\",IF(ISBLANK(G478),\"NO\",\"YES\")),\"NO\"))","v":""},{"$f":"IF(COUNTIF(E478,\"N\"),\"\",IF(ISBLANK(G478),\"\",IF(ISBLANK(L478),_xlfn.DAYS(TODAY(),G478),_xlfn.DAYS(L478,G478))))","v":""},null,null,null,{"$f":"IF(ISBLANK(P478), \"\", P478-Q478)","v":""},{"$f":"IF(ISBLANK(Q478), \"\", Q478/P478)","v":""}]
[null,null,null,null,null,null,null,{"$f":"IF(COUNTIF(E479,\"N\"),\"\",IF(ISBLANK(F479),\"\",IF(ISBLANK(G479),_xlfn.DAYS(TODAY(),F479),_xlfn.DAYS(G479,F479))))","v":""},null,{"$f":"IF(COUNTIF(E479,\"N\"),\"\",IF(ISBLANK(G479),\"\",IF(ISBLANK(I479),IF(ISBLANK(L479),_xlfn.DAYS(TODAY(),G479),_xlfn.DAYS(L479,G479)),_xlfn.DAYS(I479,G479))))","v":""},null,null,{"$f":"IF(COUNTIF(E479,\"N\"),\"ON HOLD\",IF(ISBLANK(L479),IF(ISBLANK(F479),\"\",IF(ISBLANK(G479),\"NO\",\"YES\")),\"NO\"))","v":""},{"$f":"IF(COUNTIF(E479,\"N\"),\"\",IF(ISBLANK(G479),\"\",IF(ISBLANK(L479),_xlfn.DAYS(TODAY(),G479),_xlfn.DAYS(L479,G479))))","v":""},null,null,null,{"$f":"IF(ISBLANK(P479), \"\", P479-Q479)","v":""},{"$f":"IF(ISBLANK(Q479), \"\", Q479/P479)","v":""}]
[null,null,null,null,null,null,null,{"$f":"IF(COUNTIF(E480,\"N\"),\"\",IF(ISBLANK(F480),\"\",IF(ISBLANK(G480),_xlfn.DAYS(TODAY(),F480),_xlfn.DAYS(G480,F480))))","v":""},null,{"$f":"IF(COUNTIF(E480,\"N\"),\"\",IF(ISBLANK(G480),\"\",IF(ISBLANK(I480),IF(ISBLANK(L480),_xlfn.DAYS(TODAY(),G480),_xlfn.DAYS(L480,G480)),_xlfn.DAYS(I480,G480))))","v":""},null,null,{"$f":"IF(COUNTIF(E480,\"N\"),\"ON HOLD\",IF(ISBLANK(L480),IF(ISBLANK(F480),\"\",IF(ISBLANK(G480),\"NO\",\"YES\")),\"NO\"))","v":""},{"$f":"IF(COUNTIF(E480,\"N\"),\"\",IF(ISBLANK(G480),\"\",IF(ISBLANK(L480),_xlfn.DAYS(TODAY(),G480),_xlfn.DAYS(L480,G480))))","v":""},null,null,null,{"$f":"IF(ISBLANK(P480), \"\", P480-Q480)","v":""},{"$f":"IF(ISBLANK(Q480), \"\", Q480/P480)","v":""}]
[null,null,null,null,null,null,null,{"$f":"IF(COUNTIF(E481,\"N\"),\"\",IF(ISBLANK(F481),\"\",IF(ISBLANK(G481),_xlfn.DAYS(TODAY(),F481),_xlfn.DAYS(G481,F481))))","v":""},null,{"$f":"IF(COUNTIF(E481,\"N\"),\"\",IF(ISBLANK(G481),\"\",IF(ISBLANK(I481),IF(ISBLANK(L481),_xlfn.DAYS(TODAY(),G481),_xlfn.DAYS(L481,G481)),_xlfn.DAYS(I481,G481))))","v":""},null,null,{"$f":"IF(COUNTIF(E481,\"N\"),\"ON HOLD\",IF(ISBLANK(L481),IF(ISBLANK(F481),\"\",IF(ISBLANK(G481),\"NO\",\"YES\")),\"NO\"))","v":""},{"$f":"IF(COUNTIF(E481,\"N\"),\"\",IF(ISBLANK(G481),\"\",IF(ISBLANK(L481),_xlfn.DAYS(TODAY(),G481),_xlfn.DAYS(L481,G481))))","v":""},null,null,null,{"$f":"IF(ISBLANK(P481), \"\", P481-Q481)","v":""},{"$f":"IF(ISBLANK(Q481), \"\", Q481/P481)","v":""}]
[null,null,null,null,null,null,null,{"$f":"IF(COUNTIF(E482,\"N\"),\"\",IF(ISBLANK(F482),\"\",IF(ISBLANK(G482),_xlfn.DAYS(TODAY(),F482),_xlfn.DAYS(G482,F482))))","v":""},null,{"$f":"IF(COUNTIF(E482,\"N\"),\"\",IF(ISBLANK(G482),\"\",IF(ISBLANK(I482),IF(ISBLANK(L482),_xlfn.DAYS(TODAY(),G482),_xlfn.DAYS(L482,G482)),_xlfn.DAYS(I482,G482))))","v":""},null,null,{"$f":"IF(COUNTIF(E482,\"N\"),\"ON HOLD\",IF(ISBLANK(L482),IF(ISBLANK(F482),\"\",IF(ISBLANK(G482),\"NO\",\"YES\")),\"NO\"))","v":""},{"$f":"IF(COUNTIF(E482,\"N\"),\"\",IF(ISBLANK(G482),\"\",IF(ISBLANK(L482),_xlfn.DAYS(TODAY(),G482),_xlfn.DAYS(L482,G482))))","v":""},null,null,null,{"$f":"IF(ISBLANK(P482), \"\", P482-Q482)","v":""},{"$f":"IF(ISBLANK(Q482), \"\", Q482/P482)","v":""}]
[null,null,null,null,null,null,null,{"$f":"IF(COUNTIF(E483,\"N\"),\"\",IF(ISBLANK(F483),\"\",IF(ISBLANK(G483),_xlfn.DAYS(TODAY(),F483),_xlfn.DAYS(G483,F483))))","v":""},null,{"$f":"IF(COUNTIF(E483,\"N\"),\"\",IF(ISBLANK(G483),\"\",IF(ISBLANK(I483),IF(ISBLANK(L483),_xlfn.DAYS(TODAY(),G483),_xlfn.DAYS(L483,G483)),_xlfn.DAYS(I483,G483))))","v":""},null,null,{"$f":"IF(COUNTIF(E483,\"N\"),\"ON HOLD\",IF(ISBLANK(L483),IF(ISBLANK(F483),\"\",IF(ISBLANK(G483),\"NO\",\"YES\")),\"NO\"))","v":""},{"$f":"IF(COUNTIF(E483,\"N\"),\"\",IF(ISBLANK(G483),\"\",IF(ISBLANK(L483),_xlfn.DAYS(TODAY(),G483),_xlfn.DAYS(L483,G483))))","v":""},null,null,null,{"$f":"IF(ISBLANK(P483), \"\", P483-Q483)","v":""},{"$f":"IF(ISBLANK(Q483), \"\", Q483/P483)","v":""}]
[null,null,null,null,null,null,null,{"$f":"IF(COUNTIF(E484,\"N\"),\"\",IF(ISBLANK(F484),\"\",IF(ISBLANK(G484),_xlfn.DAYS(TODAY(),F484),_xlfn.DAYS(G484,F484))))","v":""},null,{"$f":"IF(COUNTIF(E484,\"N\"),\"\",IF(ISBLANK(G484),\"\",IF(ISBLANK(I484),IF(ISBLANK(L484),_xlfn.DAYS(TODAY(),G484),_xlfn.DAYS(L484,G484)),_xlfn.DAYS(I484,G484))))","v":""},null,null,{"$f":"IF(COUNTIF(E484,\"N\"),\"ON HOLD\",IF(ISBLANK(L484),IF(ISBLANK(F484),\"\",IF(ISBLANK(G484),\"NO\",\"YES\")),\"NO\"))","v":""},{"$f":"IF(COUNTIF(E484,\"N\"),\"\",IF(ISBLANK(G484),\"\",IF(ISBLANK(L484),_xlfn.DAYS(TODAY(),G484),_xlfn.DAYS(L484,G484))))","v":""},null,null,null,{"$f":"IF(ISBLANK(P484), \"\", P484-Q484)","v":""},{"$f":"IF(ISBLANK(Q484), \"\", Q484/P484)","v":""}]
[null,null,null,null,null,null,null,{"$f":"IF(COUNTIF(E485,\"N\"),\"\",IF(ISBLANK(F485),\"\",IF(ISBLANK(G485),_xlfn.DAYS(TODAY(),F485),_xlfn.DAYS(G485,F485))))","v":""},null,{"$f":"IF(COUNTIF(E485,\"N\"),\"\",IF(ISBLANK(G485),\"\",IF(ISBLANK(I485),IF(ISBLANK(L485),_xlfn.DAYS(TODAY(),G485),_xlfn.DAYS(L485,G485)),_xlfn.DAYS(I485,G485))))","v":""},null,null,{"$f":"IF(COUNTIF(E485,\"N\"),\"ON HOLD\",IF(ISBLANK(L485),IF(ISBLANK(F485),\"\",IF(ISBLANK(G485),\"NO\",\"YES\")),\"NO\"))","v":""},{"$f":"IF(COUNTIF(E485,\"N\"),\"\",IF(ISBLANK(G485),\"\",IF(ISBLANK(L485),_xlfn.DAYS(TODAY(),G485),_xlfn.DAYS(L485,G485))))","v":""},null,null,null,{"$f":"IF(ISBLANK(P485), \"\", P485-Q485)","v":""},{"$f":"IF(ISBLANK(Q485), \"\", Q485/P485)","v":""}]
[null,null,null,null,null,null,null,{"$f":"IF(COUNTIF(E486,\"N\"),\"\",IF(ISBLANK(F486),\"\",IF(ISBLANK(G486),_xlfn.DAYS(TODAY(),F486),_xlfn.DAYS(G486,F486))))","v":""},null,{"$f":"IF(COUNTIF(E486,\"N\"),\"\",IF(ISBLANK(G486),\"\",IF(ISBLANK(I486),IF(ISBLANK(L486),_xlfn.DAYS(TODAY(),G486),_xlfn.DAYS(L486,G486)),_xlfn.DAYS(I486,G486))))","v":""},null,null,{"$f":"IF(COUNTIF(E486,\"N\"),\"ON HOLD\",IF(ISBLANK(L486),IF(ISBLANK(F486),\"\",IF(ISBLANK(G486),\"NO\",\"YES\")),\"NO\"))","v":""},{"$f":"IF(COUNTIF(E486,\"N\"),\"\",IF(ISBLANK(G486),\"\",IF(ISBLANK(L486),_xlfn.DAYS(TODAY(),G486),_xlfn.DAYS(L486,G486))))","v":""},null,null,null,{"$f":"IF(ISBLANK(P486), \"\", P486-Q486)","v":""},{"$f":"IF(ISBLANK(Q486), \"\", Q486/P486)","v":""}]
[null,null,null,null,null,null,null,{"$f":"IF(COUNTIF(E487,\"N\"),\"\",IF(ISBLANK(F487),\"\",IF(ISBLANK(G487),_xlfn.DAYS(TODAY(),F487),_xlfn.DAYS(G487,F487))))","v":""},null,{"$f":"IF(COUNTIF(E487,\"N\"),\"\",IF(ISBLANK(G487),\"\",IF(ISBLANK(I487),IF(ISBLANK(L487),_xlfn.DAYS(TODAY(),G487),_xlfn.DAYS(L487,G487)),_xlfn.DAYS(I487,G487))))","v":""},null,null,{"$f":"IF(COUNTIF(E487,\"N\"),\"ON HOLD\",IF(ISBLANK(L487),IF(ISBLANK(F487),\"\",IF(ISBLANK(G487),\"NO\",\"YES\")),\"NO\"))","v":""},{"$f":"IF(COUNTIF(E487,\"N\"),\"\",IF(ISBLANK(G487),\"\",IF(ISBLANK(L487),_xlfn.DAYS(TODAY(),G487),_xlfn.DAYS(L487,G487))))","v":""},null,null,null,{"$f":"IF(ISBLANK(P487), \"\", P487-Q487)","v":""},{"$f":"IF(ISBLANK(Q487), \"\", Q487/P487)","v":""}]
[null,null,null,null,null,null,null,{"$f":"IF(COUNTIF(E488,\"N\"),\"\",IF(ISBLANK(F488),\"\",IF(ISBLANK(G488),_xlfn.DAYS(TODAY(),F488),_xlfn.DAYS(G488,F488))))","v":""},null,{"$f":"IF(COUNTIF(E488,\"N\"),\"\",IF(ISBLANK(G488),\"\",IF(ISBLANK(I488),IF(ISBLANK(L488),_xlfn.DAYS(TODAY(),G488),_xlfn.DAYS(L488,G488)),_xlfn.DAYS(I488,G488))))","v":""},null,null,{"$f":"IF(COUNTIF(E488,\"N\"),\"ON HOLD\",IF(ISBLANK(L488),IF(ISBLANK(F488),\"\",IF(ISBLANK(G488),\"NO\",\"YES\")),\"NO\"))","v":""},{"$f":"IF(COUNTIF(E488,\"N\"),\"\",IF(ISBLANK(G488),\"\",IF(ISBLANK(L488),_xlfn.DAYS(TODAY(),G488),_xlfn.DAYS(L488,G488))))","v":""},null,null,null,{"$f":"IF(ISBLANK(P488), \"\", P488-Q488)","v":""},{"$f":"IF(ISBLANK(Q488), \"\", Q488/P488)","v":""}]
[null,null,null,null,null,null,null,{"$f":"IF(COUNTIF(E489,\"N\"),\"\",IF(ISBLANK(F489),\"\",IF(ISBLANK(G489),_xlfn.DAYS(TODAY(),F489),_xlfn.DAYS(G489,F489))))","v":""},null,{"$f":"IF(COUNTIF(E489,\"N\"),\"\",IF(ISBLANK(G489),\"\",IF(ISBLANK(I489),IF(ISBLANK(L489),_xlfn.DAYS(TODAY(),G489),_xlfn.DAYS(L489,G489)),_xlfn.DAYS(I489,G489))))","v":""},null,null,{"$f":"IF(COUNTIF(E489,\"N\"),\"ON HOLD\",IF(ISBLANK(L489),IF(ISBLANK(F489),\"\",IF(ISBLANK(G489),\"NO\",\"YES\")),\"NO\"))","v":""},{"$f":"IF(COUNTIF(E489,\"N\"),\"\",IF(ISBLANK(G489),\"\",IF(ISBLANK(L489),_xlfn.DAYS(TODAY(),G489),_xlfn.DAYS(L489,G489))))","v":""},null,null,null,{"$f":"IF(ISBLANK(P489), \"\", P489-Q489)","v":""},{"$f":"IF(ISBLANK(Q489), \"\", Q489/P489)","v":""}]
[null,null,null,null,null,null,null,{"$f":"IF(COUNTIF(E490,\"N\"),\"\",IF(ISBLANK(F490),\"\",IF(ISBLANK(G490),_xlfn.DAYS(TODAY(),F490),_xlfn.DAYS(G490,F490))))","v":""},null,{"$f":"IF(COUNTIF(E490,\"N\"),\"\",IF(ISBLANK(G490),\"\",IF(ISBLANK(I490),IF(ISBLANK(L490),_xlfn.DAYS(TODAY(),G490),_xlfn.DAYS(L490,G490)),_xlfn.DAYS(I490,G490))))","v":""},null,null,{"$f":"IF(COUNTIF(E490,\"N\"),\"ON HOLD\",IF(ISBLANK(L490),IF(ISBLANK(F490),\"\",IF(ISBLANK(G490),\"NO\",\"YES\")),\"NO\"))","v":""},{"$f":"IF(COUNTIF(E490,\"N\"),\"\",IF(ISBLANK(G490),\"\",IF(ISBLANK(L490),_xlfn.DAYS(TODAY(),G490),_xlfn.DAYS(L490,G490))))","v":""},null,null,null,{"$f":"IF(ISBLANK(P490), \"\", P490-Q490)","v":""},{"$f":"IF(ISBLANK(Q490), \"\", Q490/P490)","v":""}]
[null,null,null,null,null,null,null,{"$f":"IF(COUNTIF(E491,\"N\"),\"\",IF(ISBLANK(F491),\"\",IF(ISBLANK(G491),_xlfn.DAYS(TODAY(),F491),_xlfn.DAYS(G491,F491))))","v":""},null,{"$f":"IF(COUNTIF(E491,\"N\"),\"\",IF(ISBLANK(G491),\"\",IF(ISBLANK(I491),IF(ISBLANK(L491),_xlfn.DAYS(TODAY(),G491),_xlfn.DAYS(L491,G491)),_xlfn.DAYS(I491,G491))))","v":""},null,null,{"$f":"IF(COUNTIF(E491,\"N\"),\"ON HOLD\",IF(ISBLANK(L491),IF(ISBLANK(F491),\"\",IF(ISBLANK(G491),\"NO\",\"YES\")),\"NO\"))","v":""},{"$f":"IF(COUNTIF(E491,\"N\"),\"\",IF(ISBLANK(G491),\"\",IF(ISBLANK(L491),_xlfn.DAYS(TODAY(),G491),_xlfn.DAYS(L491,G491))))","v":""},null,null,null,{"$f":"IF(ISBLANK(P491), \"\", P491-Q491)","v":""},{"$f":"IF(ISBLANK(Q491), \"\", Q491/P491)","v":""}]
[null,null,null,null,null,null,null,{"$f":"IF(COUNTIF(E492,\"N\"),\"\",IF(ISBLANK(F492),\"\",IF(ISBLANK(G492),_xlfn.DAYS(TODAY(),F492),_xlfn.DAYS(G492,F492))))","v":""},null,{"$f":"IF(COUNTIF(E492,\"N\"),\"\",IF(ISBLANK(G492),\"\",IF(ISBLANK(I492),IF(ISBLANK(L492),_xlfn.DAYS(TODAY(),G492),_xlfn.DAYS(L492,G492)),_xlfn.DAYS(I492,G492))))","v":""},null,null,{"$f":"IF(COUNTIF(E492,\"N\"),\"ON HOLD\",IF(ISBLANK(L492),IF(ISBLANK(F492),\"\",IF(ISBLANK(G492),\"NO\",\"YES\")),\"NO\"))","v":""},{"$f":"IF(COUNTIF(E492,\"N\"),\"\",IF(ISBLANK(G492),\"\",IF(ISBLANK(L492),_xlfn.DAYS(TODAY(),G492),_xlfn.DAYS(L492,G492))))","v":""},null,null,null,{"$f":"IF(ISBLANK(P492), \"\", P492-Q492)","v":""},{"$f":"IF(ISBLANK(Q492), \"\", Q492/P492)","v":""}]
[null,null,null,null,null,null,null,{"$f":"IF(COUNTIF(E493,\"N\"),\"\",IF(ISBLANK(F493),\"\",IF(ISBLANK(G493),_xlfn.DAYS(TODAY(),F493),_xlfn.DAYS(G493,F493))))","v":""},null,{"$f":"IF(COUNTIF(E493,\"N\"),\"\",IF(ISBLANK(G493),\"\",IF(ISBLANK(I493),IF(ISBLANK(L493),_xlfn.DAYS(TODAY(),G493),_xlfn.DAYS(L493,G493)),_xlfn.DAYS(I493,G493))))","v":""},null,null,{"$f":"IF(COUNTIF(E493,\"N\"),\"ON HOLD\",IF(ISBLANK(L493),IF(ISBLANK(F493),\"\",IF(ISBLANK(G493),\"NO\",\"YES\")),\"NO\"))","v":""},{"$f":"IF(COUNTIF(E493,\"N\"),\"\",IF(ISBLANK(G493),\"\",IF(ISBLANK(L493),_xlfn.DAYS(TODAY(),G493),_xlfn.DAYS(L493,G493))))","v":""},null,null,null,{"$f":"IF(ISBLANK(P493), \"\", P493-Q493)","v":""},{"$f":"IF(ISBLANK(Q493), \"\", Q493/P493)","v":""}]
[null,null,null,null,null,null,null,{"$f":"IF(COUNTIF(E494,\"N\"),\"\",IF(ISBLANK(F494),\"\",IF(ISBLANK(G494),_xlfn.DAYS(TODAY(),F494),_xlfn.DAYS(G494,F494))))","v":""},null,{"$f":"IF(COUNTIF(E494,\"N\"),\"\",IF(ISBLANK(G494),\"\",IF(ISBLANK(I494),IF(ISBLANK(L494),_xlfn.DAYS(TODAY(),G494),_xlfn.DAYS(L494,G494)),_xlfn.DAYS(I494,G494))))","v":""},null,null,{"$f":"IF(COUNTIF(E494,\"N\"),\"ON HOLD\",IF(ISBLANK(L494),IF(ISBLANK(F494),\"\",IF(ISBLANK(G494),\"NO\",\"YES\")),\"NO\"))","v":""},{"$f":"IF(COUNTIF(E494,\"N\"),\"\",IF(ISBLANK(G494),\"\",IF(ISBLANK(L494),_xlfn.DAYS(TODAY(),G494),_xlfn.DAYS(L494,G494))))","v":""},null,null,null,{"$f":"IF(ISBLANK(P494), \"\", P494-Q494)","v":""},{"$f":"IF(ISBLANK(Q494), \"\", Q494/P494)","v":""}]
[null,null,null,null,null,null,null,{"$f":"IF(COUNTIF(E495,\"N\"),\"\",IF(ISBLANK(F495),\"\",IF(ISBLANK(G495),_xlfn.DAYS(TODAY(),F495),_xlfn.DAYS(G495,F495))))","v":""},null,{"$f":"IF(COUNTIF(E495,\"N\"),\"\",IF(ISBLANK(G495),\"\",IF(ISBLANK(I495),IF(ISBLANK(L495),_xlfn.DAYS(TODAY(),G495),_xlfn.DAYS(L495,G495)),_xlfn.DAYS(I495,G495))))","v":""},null,null,{"$f":"IF(COUNTIF(E495,\"N\"),\"ON HOLD\",IF(ISBLANK(L495),IF(ISBLANK(F495),\"\",IF(ISBLANK(G495),\"NO\",\"YES\")),\"NO\"))","v":""},{"$f":"IF(COUNTIF(E495,\"N\"),\"\",IF(ISBLANK(G495),\"\",IF(ISBLANK(L495),_xlfn.DAYS(TODAY(),G495),_xlfn.DAYS(L495,G495))))","v":""},null,null,null,{"$f":"IF(ISBLANK(P495), \"\", P495-Q495)","v":""},{"$f":"IF(ISBLANK(Q495), \"\", Q495/P495)","v":""}]
[null,null,null,null,null,null,null,{"$f":"IF(COUNTIF(E496,\"N\"),\"\",IF(ISBLANK(F496),\"\",IF(ISBLANK(G496),_xlfn.DAYS(TODAY(),F496),_xlfn.DAYS(G496,F496))))","v":""},null,{"$f":"IF(COUNTIF(E496,\"N\"),\"\",IF(ISBLANK(G496),\"\",IF(ISBLANK(I496),IF(ISBLANK(L496),_xlfn.DAYS(TODAY(),G496),_xlfn.DAYS(L496,G496)),_xlfn.DAYS(I496,G496))))","v":""},null,null,{"$f":"IF(COUNTIF(E496,\"N\"),\"ON HOLD\",IF(ISBLANK(L496),IF(ISBLANK(F496),\"\",IF(ISBLANK(G496),\"NO\",\"YES\")),\"NO\"))","v":""},{"$f":"IF(COUNTIF(E496,\"N\"),\"\",IF(ISBLANK(G496),\"\",IF(ISBLANK(L496),_xlfn.DAYS(TODAY(),G496),_xlfn.DAYS(L496,G496))))","v":""},null,null,null,{"$f":"IF(ISBLANK(P496), \"\", P496-Q496)","v":""},{"$f":"IF(ISBLANK(Q496), \"\", Q496/P496)","v":""}]
[null,null,null,null,null,null,null,{"$f":"IF(COUNTIF(E497,\"N\"),\"\",IF(ISBLANK(F497),\"\",IF(ISBLANK(G497),_xlfn.DAYS(TODAY(),F497),_xlfn.DAYS(G497,F497))))","v":""},null,{"$f":"IF(COUNTIF(E497,\"N\"),\"\",IF(ISBLANK(G497),\"\",IF(ISBLANK(I497),IF(ISBLANK(L497),_xlfn.DAYS(TODAY(),G497),_xlfn.DAYS(L497,G497)),_xlfn.DAYS(I497,G497))))","v":""},null,null,{"$f":"IF(COUNTIF(E497,\"N\"),\"ON HOLD\",IF(ISBLANK(L497),IF(ISBLANK(F497),\"\",IF(ISBLANK(G497),\"NO\",\"YES\")),\"NO\"))","v":""},{"$f":"IF(COUNTIF(E497,\"N\"),\"\",IF(ISBLANK(G497),\"\",IF(ISBLANK(L497),_xlfn.DAYS(TODAY(),G497),_xlfn.DAYS(L497,G497))))","v":""},null,null,null,{"$f":"IF(ISBLANK(P497), \"\", P497-Q497)","v":""},{"$f":"IF(ISBLANK(Q497), \"\", Q497/P497)","v":""}]
[null,null,null,null,null,null,null,{"$f":"IF(COUNTIF(E498,\"N\"),\"\",IF(ISBLANK(F498),\"\",IF(ISBLANK(G498),_xlfn.DAYS(TODAY(),F498),_xlfn.DAYS(G498,F498))))","v":""},null,{"$f":"IF(COUNTIF(E498,\"N\"),\"\",IF(ISBLANK(G498),\"\",IF(ISBLANK(I498),IF(ISBLANK(L498),_xlfn.DAYS(TODAY(),G498),_xlfn.DAYS(L498,G498)),_xlfn.DAYS(I498,G498))))","v":""},null,null,{"$f":"IF(COUNTIF(E498,\"N\"),\"ON HOLD\",IF(ISBLANK(L498),IF(ISBLANK(F498),\"\",IF(ISBLANK(G498),\"NO\",\"YES\")),\"NO\"))","v":""},{"$f":"IF(COUNTIF(E498,\"N\"),\"\",IF(ISBLANK(G498),\"\",IF(ISBLANK(L498),_xlfn.DAYS(TODAY(),G498),_xlfn.DAYS(L498,G498))))","v":""},null,null,null,{"$f":"IF(ISBLANK(P498), \"\", P498-Q498)","v":""},{"$f":"IF(ISBLANK(Q498), \"\", Q498/P498)","v":""}]
[null,null,null,null,null,null,null,{"$f":"IF(COUNTIF(E499,\"N\"),\"\",IF(ISBLANK(F499),\"\",IF(ISBLANK(G499),_xlfn.DAYS(TODAY(),F499),_xlfn.DAYS(G499,F499))))","v":""},null,{"$f":"IF(COUNTIF(E499,\"N\"),\"\",IF(ISBLANK(G499),\"\",IF(ISBLANK(I499),IF(ISBLANK(L499),_xlfn.DAYS(TODAY(),G499),_xlfn.DAYS(L499,G499)),_xlfn.DAYS(I499,G499))))","v":""},null,null,{"$f":"IF(COUNTIF(E499,\"N\"),\"ON HOLD\",IF(ISBLANK(L499),IF(ISBLANK(F499),\"\",IF(ISBLANK(G499),\"NO\",\"YES\")),\"NO\"))","v":""},{"$f":"IF(COUNTIF(E499,\"N\"),\"\",IF(ISBLANK(G499),\"\",IF(ISBLANK(L499),_xlfn.DAYS(TODAY(),G499),_xlfn.DAYS(L499,G499))))","v":""},null,null,null,{"$f":"IF(ISBLANK(P499), \"\", P499-Q499)","v":""},{"$f":"IF(ISBLANK(Q499), \"\", Q499/P499)","v":""}]
[null,null,null,null,null,null,null,{"$f":"IF(COUNTIF(E500,\"N\"),\"\",IF(ISBLANK(F500),\"\",IF(ISBLANK(G500),_xlfn.DAYS(TODAY(),F500),_xlfn.DAYS(G500,F500))))","v":""},null,{"$f":"IF(COUNTIF(E500,\"N\"),\"\",IF(ISBLANK(G500),\"\",IF(ISBLANK(I500),IF(ISBLANK(L500),_xlfn.DAYS(TODAY(),G500),_xlfn.DAYS(L500,G500)),_xlfn.DAYS(I500,G500))))","v":""},null,null,{"$f":"IF(COUNTIF(E500,\"N\"),\"ON HOLD\",IF(ISBLANK(L500),IF(ISBLANK(F500),\"\",IF(ISBLANK(G500),\"NO\",\"YES\")),\"NO\"))","v":""},{"$f":"IF(COUNTIF(E500,\"N\"),\"\",IF(ISBLANK(G500),\"\",IF(ISBLANK(L500),_xlfn.DAYS(TODAY(),G500),_xlfn.DAYS(L500,G500))))","v":""},null,null,null,{"$f":"IF(ISBLANK(P500), \"\", P500-Q500)","v":""},{"$f":"IF(ISBLANK(Q500), \"\", Q500/P500)","v":""}]
[null,null,null,null,null,null,null,{"$f":"IF(COUNTIF(E501,\"N\"),\"\",IF(ISBLANK(F501),\"\",IF(ISBLANK(G501),_xlfn.DAYS(TODAY(),F501),_xlfn.DAYS(G501,F501))))","v":""},null,{"$f":"IF(COUNTIF(E501,\"N\"),\"\",IF(ISBLANK(G501),\"\",IF(ISBLANK(I501),IF(ISBLANK(L501),_xlfn.DAYS(TODAY(),G501),_xlfn.DAYS(L501,G501)),_xlfn.DAYS(I501,G501))))","v":""},null,null,{"$f":"IF(COUNTIF(E501,\"N\"),\"ON HOLD\",IF(ISBLANK(L501),IF(ISBLANK(F501),\"\",IF(ISBLANK(G501),\"NO\",\"YES\")),\"NO\"))","v":""},{"$f":"IF(COUNTIF(E501,\"N\"),\"\",IF(ISBLANK(G501),\"\",IF(ISBLANK(L501),_xlfn.DAYS(TODAY(),G501),_xlfn.DAYS(L501,G501))))","v":""},null,null,null,{"$f":"IF(ISBLANK(P501), \"\", P501-Q501)","v":""},{"$f":"IF(ISBLANK(Q501), \"\", Q501/P501)","v":""}]
[null,null,null,null,null,null,null,{"$f":"IF(COUNTIF(E502,\"N\"),\"\",IF(ISBLANK(F502),\"\",IF(ISBLANK(G502),_xlfn.DAYS(TODAY(),F502),_xlfn.DAYS(G502,F502))))","v":""},null,{"$f":"IF(COUNTIF(E502,\"N\"),\"\",IF(ISBLANK(G502),\"\",IF(ISBLANK(I502),IF(ISBLANK(L502),_xlfn.DAYS(TODAY(),G502),_xlfn.DAYS(L502,G502)),_xlfn.DAYS(I502,G502))))","v":""},null,null,{"$f":"IF(COUNTIF(E502,\"N\"),\"ON HOLD\",IF(ISBLANK(L502),IF(ISBLANK(F502),\"\",IF(ISBLANK(G502),\"NO\",\"YES\")),\"NO\"))","v":""},{"$f":"IF(COUNTIF(E502,\"N\"),\"\",IF(ISBLANK(G502),\"\",IF(ISBLANK(L502),_xlfn.DAYS(TODAY(),G502),_xlfn.DAYS(L502,G502))))","v":""},null,null,null,{"$f":"IF(ISBLANK(P502), \"\", P502-Q502)","v":""},{"$f":"IF(ISBLANK(Q502), \"\", Q502/P502)","v":""}]
[null,null,null,null,null,null,null,{"$f":"IF(COUNTIF(E503,\"N\"),\"\",IF(ISBLANK(F503),\"\",IF(ISBLANK(G503),_xlfn.DAYS(TODAY(),F503),_xlfn.DAYS(G503,F503))))","v":""},null,{"$f":"IF(COUNTIF(E503,\"N\"),\"\",IF(ISBLANK(G503),\"\",IF(ISBLANK(I503),IF(ISBLANK(L503),_xlfn.DAYS(TODAY(),G503),_xlfn.DAYS(L503,G503)),_xlfn.DAYS(I503,G503))))","v":""},null,null,{"$f":"IF(COUNTIF(E503,\"N\"),\"ON HOLD\",IF(ISBLANK(L503),IF(ISBLANK(F503),\"\",IF(ISBLANK(G503),\"NO\",\"YES\")),\"NO\"))","v":""},{"$f":"IF(COUNTIF(E503,\"N\"),\"\",IF(ISBLANK(G503),\"\",IF(ISBLANK(L503),_xlfn.DAYS(TODAY(),G503),_xlfn.DAYS(L503,G503))))","v":""},null,null,null,{"$f":"IF(ISBLANK(P503), \"\", P503-Q503)","v":""},{"$f":"IF(ISBLANK(Q503), \"\", Q503/P503)","v":""}]
[null,{"$f":"COUNTA(B4:B503)","v":0},null,null,{"$f":"IFERROR(COUNTIF(E4:E503, \"Y\")/COUNTA(B4:B503),\"\")","v":""},"Active",null,{"$f":"IFERROR(ROUNDDOWN(AVERAGE(H4:H503)/30, 0)&\" months, \"&ROUNDDOWN(MOD(AVERAGE(H4:H503), 30),0)&\" days\", \"\")","v":""},null,{"$f":"IFERROR(ROUNDDOWN(AVERAGE(J4:J503)/30, 0)&\" months, \"&ROUNDDOWN(MOD(AVERAGE(J4:J503), 30),0)&\" days\", \"\")","v":""},"Re-referral Rate by Job Stabilization Period","Employed",{"$f":"IFERROR(COUNTIF(M4:M503, \"*YES*\")/COUNTIF(E4:E503, \"Y\"), \"\")","v":""},{"$f":"IFERROR(ROUNDDOWN(AVERAGE(N4:N503)/30, 0)&\" months, \"&ROUNDDOWN(MOD(AVERAGE(N4:N503), 30),0)&\" days\",\"\")","v":""}]
[null,null,null,null,{"$f":"IFERROR(COUNTIF(E4:E503, \"N\")/COUNTA(B4:B503),\"\")","v":""},"On hold",null,{"$f":"IFERROR(COUNTIFS(H4:H503, \">0\", H4:H503, \"<91\")/COUNTIFS(E4:E503, \"Y\", H4:H503, \">0\"),\"\")","v":""},"<3 Months",{"$f":"IFERROR(COUNTIF(J4:J503, \"<91\")/COUNTA(G4:G503),\"\")","v":""},{"$f":"IFERROR(COUNTIFS(J4:J503, \">0\", J4:J503, \"<91\", K4:K503, \">.5\")/COUNTIFS(J4:J503, \">0\", J4:J503, \"<91\"),\"\")","v":""},"Unemployed",{"$f":"IFERROR(COUNTIF(M4:M503, \"*NO*\")/COUNTIF(E4:E503, \"Y\"),\"\")","v":""},{"$f":"IFERROR(COUNTIF(N4:N503, \"<91\")/COUNTIFS(N4:N503, \">1\", N4:N503, \"<7000\"), \"\")","v":""},"<3 Months"]
[null,null,null,null,null,null,null,{"$f":"IFERROR(COUNTIFS(H4:H503, \">91\", H4:H503, \"<181\")/COUNTIFS(E4:E503, \"Y\", H4:H503, \">0\"),\"\")","v":""},"3-6 Months",{"$f":"IFERROR(COUNTIFS(J4:J503, \">91\", J4:J503, \"<181\")/COUNTA(G4:G503),\"\")","v":""},{"$f":"IFERROR(COUNTIFS(J4:J503, \">91\", J4:J503, \"<181\", K4:K503, \">.5\")/COUNTIFS(J4:J503, \">91\", J4:J503, \"<181\"),\"\")","v":""},null,null,{"$f":"IFERROR(COUNTIFS(N4:N503, \">91\", N4:N503,\"<181\")/COUNTIFS(N4:N503, \">1\", N4:N503, \"<7000\"),\"\")","v":""},"3-6 Months"]
[null,null,null,null,null,null,null,{"$f":"IFERROR(COUNTIFS(H4:H503, \">181\", H4:H503, \"<366\")/COUNTIFS(E4:E503, \"Y\", H4:H503, \">0\"),\"\")","v":""},"6-12 Months",{"$f":"IFERROR(COUNTIFS(J4:J503, \">181\", J4:J503, \"<366\")/COUNTA(G4:G503),\"\")","v":""},{"$f":"IFERROR(COUNTIFS(J4:J503, \">181\", J4:J503, \"<361\", K4:K503, \">.5\")/COUNTIFS(J4:J503, \">181\", J4:J503, \"<361\"),\"\")","v":""},null,null,{"$f":"IFERROR(COUNTIFS(N4:N503, \">181\", N4:N503,\"<366\")/COUNTIFS(N4:N503, \">1\", N4:N503, \"<7000\"),\"\")","v":""},"6-12 Months"]
[null,null,null,null,null,null,null,{"$f":"IFERROR(COUNTIFS(H4:H503, \">366\", H4:H503, \"<7000\")/COUNTIFS(E4:E503, \"Y\", H4:H503, \">0\"),\"\")","v":""},"12+ Months",{"$f":"IFERROR(COUNTIFS(J4:J503, \">366\", J4:J503, \"<7000\")/COUNTA(G4:G503),\"\")","v":""},{"$f":"IFERROR(COUNTIFS(J4:J503, \">361\", J4:J503, \"<7000\", K4:K503, \">.5\")/COUNTIFS(J4:J503, \">361\", J4:J503, \"<7000\"),\"\")","v":""},null,null,{"$f":"IFERROR(COUNTIFS(N4:N503, \">366\", N4:N503,\"<7000\")/COUNTIFS(N4:N503, \">1\", N4:N503, \"<7000\"),\"\")","v":""},"12+ Months"]
[null,null,null,null,null,null,null,{"$f":"IFERROR(AVERAGE(H4:H503),\"\")","v":""},null,{"$f":"IFERROR(AVERAGE(J4:J503),\"\")","v":""},null,null,null,{"$f":"IFERROR(AVERAGE(N4:N503),\"\")","v":""},null,null,null,null,null,"CASES v1.4 - 7/2024"]
[null,null,null,null,null,null,null,null,null,null,null,null,null,null,null,null,null,null," Comprehensive Assessment of Supported Employment Service (CASES) companion guide","AVAILABLE HERE"]

{"sheet":"Staff Metrics","index":3,"n_rows":57,"n_cols":14,"rows_kept":57,"cut":false,"hidden":false,"merged":[]}
[null,null,null,null,null,null,null,null,null,null,null,null,"Staff Metrics"]
[]
[null,"Staff Member","Start Date","End Date","Staff Retention (Days)","Title","Credentials","30/60/90 Evaluation","Biannual Evaluation","Prof Development Opportunities","PP Cases","Intensive Cases","FA Cases","Total Caseload"]
[null,null,null,null,{"$f":"IF(ISBLANK(C4),\"\",IF(ISBLANK(D4),_xlfn.DAYS(TODAY(),C4),_xlfn.DAYS(D4,C4)))","v":""},null,null,null,null,null,{"$f":"IF(ISBLANK(B4), \"\", COUNTIFS('Service Provision'!$C$4:$C$503, B4, 'Service Provision'!$F$4:$F$503, \"<>\"&\"\", 'Service Provision'!$G$4:$G$503, \"\"))","v":""},{"$f":"IF(ISBLANK(B4), \"\", COUNTIFS('Service Provision'!$C$4:$C$503, B4, 'Service Provision'!$F$4:$F$503, \"<>\"&\"\", 'Service Provision'!$G$4:$G$503, \"<>\"&\"\", 'Service Provision'!$I$4:$I$503, \"\"))","v":""},{"$f":"IF(ISBLANK(B4), \"\", COUNTIFS('Service Provision'!$C$4:$C$503, B4, 'Service Provision'!$F$4:$F$503, \"<>\"&\"\", 'Service Provision'!$G$4:$G$503, \"<>\"&\"\", 'Service Provision'!$I$4:$I$503, \"<>\"&\"\"))","v":""},{"$f":"IF(ISBLANK(B4), \"\", SUM(K4:M4))","v":""}]
[null,null,null,null,{"$f":"IF(ISBLANK(C5),\"\",IF(ISBLANK(D5),_xlfn.DAYS(TODAY(),C5),_xlfn.DAYS(D5,C5)))","v":""},null,null,null,null,null,{"$f":"IF(ISBLANK(B5), \"\", COUNTIFS('Service Provision'!$C$4:$C$503, B5, 'Service Provision'!$F$4:$F$503, \"<>\"&\"\", 'Service Provision'!$G$4:$G$503, \"\"))","v":""},{"$f":"IF(ISBLANK(B5), \"\", COUNTIFS('Service Provision'!$C$4:$C$503, B5, 'Service Provision'!$F$4:$F$503, \"<>\"&\"\", 'Service Provision'!$G$4:$G$503, \"<>\"&\"\", 'Service Provision'!$I$4:$I$503, \"\"))","v":""},{"$f":"IF(ISBLANK(B5), \"\", COUNTIFS('Service Provision'!$C$4:$C$503, B5, 'Service Provision'!$F$4:$F$503, \"<>\"&\"\", 'Service Provision'!$G$4:$G$503, \"<>\"&\"\", 'Service Provision'!$I$4:$I$503, \"<>\"&\"\"))","v":""},{"$f":"IF(ISBLANK(B5), \"\", SUM(K5:M5))","v":""}]
[null,null,null,null,{"$f":"IF(ISBLANK(C6),\"\",IF(ISBLANK(D6),_xlfn.DAYS(TODAY(),C6),_xlfn.DAYS(D6,C6)))","v":""},null,null,null,null,null,{"$f":"IF(ISBLANK(B6), \"\", COUNTIFS('Service Provision'!$C$4:$C$503, B6, 'Service Provision'!$F$4:$F$503, \"<>\"&\"\", 'Service Provision'!$G$4:$G$503, \"\"))","v":""},{"$f":"IF(ISBLANK(B6), \"\", COUNTIFS('Service Provision'!$C$4:$C$503, B6, 'Service Provision'!$F$4:$F$503, \"<>\"&\"\", 'Service Provision'!$G$4:$G$503, \"<>\"&\"\", 'Service Provision'!$I$4:$I$503, \"\"))","v":""},{"$f":"IF(ISBLANK(B6), \"\", COUNTIFS('Service Provision'!$C$4:$C$503, B6, 'Service Provision'!$F$4:$F$503, \"<>\"&\"\", 'Service Provision'!$G$4:$G$503, \"<>\"&\"\", 'Service Provision'!$I$4:$I$503, \"<>\"&\"\"))","v":""},{"$f":"IF(ISBLANK(B6), \"\", SUM(K6:M6))","v":""}]
[null,null,null,null,{"$f":"IF(ISBLANK(C7),\"\",IF(ISBLANK(D7),_xlfn.DAYS(TODAY(),C7),_xlfn.DAYS(D7,C7)))","v":""},null,null,null,null,null,{"$f":"IF(ISBLANK(B7), \"\", COUNTIFS('Service Provision'!$C$4:$C$503, B7, 'Service Provision'!$F$4:$F$503, \"<>\"&\"\", 'Service Provision'!$G$4:$G$503, \"\"))","v":""},{"$f":"IF(ISBLANK(B7), \"\", COUNTIFS('Service Provision'!$C$4:$C$503, B7, 'Service Provision'!$F$4:$F$503, \"<>\"&\"\", 'Service Provision'!$G$4:$G$503, \"<>\"&\"\", 'Service Provision'!$I$4:$I$503, \"\"))","v":""},{"$f":"IF(ISBLANK(B7), \"\", COUNTIFS('Service Provision'!$C$4:$C$503, B7, 'Service Provision'!$F$4:$F$503, \"<>\"&\"\", 'Service Provision'!$G$4:$G$503, \"<>\"&\"\", 'Service Provision'!$I$4:$I$503, \"<>\"&\"\"))","v":""},{"$f":"IF(ISBLANK(B7), \"\", SUM(K7:M7))","v":""}]
[null,null,null,null,{"$f":"IF(ISBLANK(C8),\"\",IF(ISBLANK(D8),_xlfn.DAYS(TODAY(),C8),_xlfn.DAYS(D8,C8)))","v":""},null,null,null,null,null,{"$f":"IF(ISBLANK(B8), \"\", COUNTIFS('Service Provision'!$C$4:$C$503, B8, 'Service Provision'!$F$4:$F$503, \"<>\"&\"\", 'Service Provision'!$G$4:$G$503, \"\"))","v":""},{"$f":"IF(ISBLANK(B8), \"\", COUNTIFS('Service Provision'!$C$4:$C$503, B8, 'Service Provision'!$F$4:$F$503, \"<>\"&\"\", 'Service Provision'!$G$4:$G$503, \"<>\"&\"\", 'Service Provision'!$I$4:$I$503, \"\"))","v":""},{"$f":"IF(ISBLANK(B8), \"\", COUNTIFS('Service Provision'!$C$4:$C$503, B8, 'Service Provision'!$F$4:$F$503, \"<>\"&\"\", 'Service Provision'!$G$4:$G$503, \"<>\"&\"\", 'Service Provision'!$I$4:$I$503, \"<>\"&\"\"))","v":""},{"$f":"IF(ISBLANK(B8), \"\", SUM(K8:M8))","v":""}]
[null,null,null,null,{"$f":"IF(ISBLANK(C9),\"\",IF(ISBLANK(D9),_xlfn.DAYS(TODAY(),C9),_xlfn.DAYS(D9,C9)))","v":""},null,null,null,null,null,{"$f":"IF(ISBLANK(B9), \"\", COUNTIFS('Service Provision'!$C$4:$C$503, B9, 'Service Provision'!$F$4:$F$503, \"<>\"&\"\", 'Service Provision'!$G$4:$G$503, \"\"))","v":""},{"$f":"IF(ISBLANK(B9), \"\", COUNTIFS('Service Provision'!$C$4:$C$503, B9, 'Service Provision'!$F$4:$F$503, \"<>\"&\"\", 'Service Provision'!$G$4:$G$503, \"<>\"&\"\", 'Service Provision'!$I$4:$I$503, \"\"))","v":""},{"$f":"IF(ISBLANK(B9), \"\", COUNTIFS('Service Provision'!$C$4:$C$503, B9, 'Service Provision'!$F$4:$F$503, \"<>\"&\"\", 'Service Provision'!$G$4:$G$503, \"<>\"&\"\", 'Service Provision'!$I$4:$I$503, \"<>\"&\"\"))","v":""},{"$f":"IF(ISBLANK(B9), \"\", SUM(K9:M9))","v":""}]
[null,null,null,null,{"$f":"IF(ISBLANK(C10),\"\",IF(ISBLANK(D10),_xlfn.DAYS(TODAY(),C10),_xlfn.DAYS(D10,C10)))","v":""},null,null,null,null,null,{"$f":"IF(ISBLANK(B10), \"\", COUNTIFS('Service Provision'!$C$4:$C$503, B10, 'Service Provision'!$F$4:$F$503, \"<>\"&\"\", 'Service Provision'!$G$4:$G$503, \"\"))","v":""},{"$f":"IF(ISBLANK(B10), \"\", COUNTIFS('Service Provision'!$C$4:$C$503, B10, 'Service Provision'!$F$4:$F$503, \"<>\"&\"\", 'Service Provision'!$G$4:$G$503, \"<>\"&\"\", 'Service Provision'!$I$4:$I$503, \"\"))","v":""},{"$f":"IF(ISBLANK(B10), \"\", COUNTIFS('Service Provision'!$C$4:$C$503, B10, 'Service Provision'!$F$4:$F$503, \"<>\"&\"\", 'Service Provision'!$G$4:$G$503, \"<>\"&\"\", 'Service Provision'!$I$4:$I$503, \"<>\"&\"\"))","v":""},{"$f":"IF(ISBLANK(B10), \"\", SUM(K10:M10))","v":""}]
[null,null,null,null,{"$f":"IF(ISBLANK(C11),\"\",IF(ISBLANK(D11),_xlfn.DAYS(TODAY(),C11),_xlfn.DAYS(D11,C11)))","v":""},null,null,null,null,null,{"$f":"IF(ISBLANK(B11), \"\", COUNTIFS('Service Provision'!$C$4:$C$503, B11, 'Service Provision'!$F$4:$F$503, \"<>\"&\"\", 'Service Provision'!$G$4:$G$503, \"\"))","v":""},{"$f":"IF(ISBLANK(B11), \"\", COUNTIFS('Service Provision'!$C$4:$C$503, B11, 'Service Provision'!$F$4:$F$503, \"<>\"&\"\", 'Service Provision'!$G$4:$G$503, \"<>\"&\"\", 'Service Provision'!$I$4:$I$503, \"\"))","v":""},{"$f":"IF(ISBLANK(B11), \"\", COUNTIFS('Service Provision'!$C$4:$C$503, B11, 'Service Provision'!$F$4:$F$503, \"<>\"&\"\", 'Service Provision'!$G$4:$G$503, \"<>\"&\"\", 'Service Provision'!$I$4:$I$503, \"<>\"&\"\"))","v":""},{"$f":"IF(ISBLANK(B11), \"\", SUM(K11:M11))","v":""}]
[null,null,null,null,{"$f":"IF(ISBLANK(C12),\"\",IF(ISBLANK(D12),_xlfn.DAYS(TODAY(),C12),_xlfn.DAYS(D12,C12)))","v":""},null,null,null,null,null,{"$f":"IF(ISBLANK(B12), \"\", COUNTIFS('Service Provision'!$C$4:$C$503, B12, 'Service Provision'!$F$4:$F$503, \"<>\"&\"\", 'Service Provision'!$G$4:$G$503, \"\"))","v":""},{"$f":"IF(ISBLANK(B12), \"\", COUNTIFS('Service Provision'!$C$4:$C$503, B12, 'Service Provision'!$F$4:$F$503, \"<>\"&\"\", 'Service Provision'!$G$4:$G$503, \"<>\"&\"\", 'Service Provision'!$I$4:$I$503, \"\"))","v":""},{"$f":"IF(ISBLANK(B12), \"\", COUNTIFS('Service Provision'!$C$4:$C$503, B12, 'Service Provision'!$F$4:$F$503, \"<>\"&\"\", 'Service Provision'!$G$4:$G$503, \"<>\"&\"\", 'Service Provision'!$I$4:$I$503, \"<>\"&\"\"))","v":""},{"$f":"IF(ISBLANK(B12), \"\", SUM(K12:M12))","v":""}]
[null,null,null,null,{"$f":"IF(ISBLANK(C13),\"\",IF(ISBLANK(D13),_xlfn.DAYS(TODAY(),C13),_xlfn.DAYS(D13,C13)))","v":""},null,null,null,null,null,{"$f":"IF(ISBLANK(B13), \"\", COUNTIFS('Service Provision'!$C$4:$C$503, B13, 'Service Provision'!$F$4:$F$503, \"<>\"&\"\", 'Service Provision'!$G$4:$G$503, \"\"))","v":""},{"$f":"IF(ISBLANK(B13), \"\", COUNTIFS('Service Provision'!$C$4:$C$503, B13, 'Service Provision'!$F$4:$F$503, \"<>\"&\"\", 'Service Provision'!$G$4:$G$503, \"<>\"&\"\", 'Service Provision'!$I$4:$I$503, \"\"))","v":""},{"$f":"IF(ISBLANK(B13), \"\", COUNTIFS('Service Provision'!$C$4:$C$503, B13, 'Service Provision'!$F$4:$F$503, \"<>\"&\"\", 'Service Provision'!$G$4:$G$503, \"<>\"&\"\", 'Service Provision'!$I$4:$I$503, \"<>\"&\"\"))","v":""},{"$f":"IF(ISBLANK(B13), \"\", SUM(K13:M13))","v":""}]
[null,null,null,null,{"$f":"IF(ISBLANK(C14),\"\",IF(ISBLANK(D14),_xlfn.DAYS(TODAY(),C14),_xlfn.DAYS(D14,C14)))","v":""},null,null,null,null,null,{"$f":"IF(ISBLANK(B14), \"\", COUNTIFS('Service Provision'!$C$4:$C$503, B14, 'Service Provision'!$F$4:$F$503, \"<>\"&\"\", 'Service Provision'!$G$4:$G$503, \"\"))","v":""},{"$f":"IF(ISBLANK(B14), \"\", COUNTIFS('Service Provision'!$C$4:$C$503, B14, 'Service Provision'!$F$4:$F$503, \"<>\"&\"\", 'Service Provision'!$G$4:$G$503, \"<>\"&\"\", 'Service Provision'!$I$4:$I$503, \"\"))","v":""},{"$f":"IF(ISBLANK(B14), \"\", COUNTIFS('Service Provision'!$C$4:$C$503, B14, 'Service Provision'!$F$4:$F$503, \"<>\"&\"\", 'Service Provision'!$G$4:$G$503, \"<>\"&\"\", 'Service Provision'!$I$4:$I$503, \"<>\"&\"\"))","v":""},{"$f":"IF(ISBLANK(B14), \"\", SUM(K14:M14))","v":""}]
[null,null,null,null,{"$f":"IF(ISBLANK(C15),\"\",IF(ISBLANK(D15),_xlfn.DAYS(TODAY(),C15),_xlfn.DAYS(D15,C15)))","v":""},null,null,null,null,null,{"$f":"IF(ISBLANK(B15), \"\", COUNTIFS('Service Provision'!$C$4:$C$503, B15, 'Service Provision'!$F$4:$F$503, \"<>\"&\"\", 'Service Provision'!$G$4:$G$503, \"\"))","v":""},{"$f":"IF(ISBLANK(B15), \"\", COUNTIFS('Service Provision'!$C$4:$C$503, B15, 'Service Provision'!$F$4:$F$503, \"<>\"&\"\", 'Service Provision'!$G$4:$G$503, \"<>\"&\"\", 'Service Provision'!$I$4:$I$503, \"\"))","v":""},{"$f":"IF(ISBLANK(B15), \"\", COUNTIFS('Service Provision'!$C$4:$C$503, B15, 'Service Provision'!$F$4:$F$503, \"<>\"&\"\", 'Service Provision'!$G$4:$G$503, \"<>\"&\"\", 'Service Provision'!$I$4:$I$503, \"<>\"&\"\"))","v":""},{"$f":"IF(ISBLANK(B15), \"\", SUM(K15:M15))","v":""}]
[null,null,null,null,{"$f":"IF(ISBLANK(C16),\"\",IF(ISBLANK(D16),_xlfn.DAYS(TODAY(),C16),_xlfn.DAYS(D16,C16)))","v":""},null,null,null,null,null,{"$f":"IF(ISBLANK(B16), \"\", COUNTIFS('Service Provision'!$C$4:$C$503, B16, 'Service Provision'!$F$4:$F$503, \"<>\"&\"\", 'Service Provision'!$G$4:$G$503, \"\"))","v":""},{"$f":"IF(ISBLANK(B16), \"\", COUNTIFS('Service Provision'!$C$4:$C$503, B16, 'Service Provision'!$F$4:$F$503, \"<>\"&\"\", 'Service Provision'!$G$4:$G$503, \"<>\"&\"\", 'Service Provision'!$I$4:$I$503, \"\"))","v":""},{"$f":"IF(ISBLANK(B16), \"\", COUNTIFS('Service Provision'!$C$4:$C$503, B16, 'Service Provision'!$F$4:$F$503, \"<>\"&\"\", 'Service Provision'!$G$4:$G$503, \"<>\"&\"\", 'Service Provision'!$I$4:$I$503, \"<>\"&\"\"))","v":""},{"$f":"IF(ISBLANK(B16), \"\", SUM(K16:M16))","v":""}]
[null,null,null,null,{"$f":"IF(ISBLANK(C17),\"\",IF(ISBLANK(D17),_xlfn.DAYS(TODAY(),C17),_xlfn.DAYS(D17,C17)))","v":""},null,null,null,null,null,{"$f":"IF(ISBLANK(B17), \"\", COUNTIFS('Service Provision'!$C$4:$C$503, B17, 'Service Provision'!$F$4:$F$503, \"<>\"&\"\", 'Service Provision'!$G$4:$G$503, \"\"))","v":""},{"$f":"IF(ISBLANK(B17), \"\", COUNTIFS('Service Provision'!$C$4:$C$503, B17, 'Service Provision'!$F$4:$F$503, \"<>\"&\"\", 'Service Provision'!$G$4:$G$503, \"<>\"&\"\", 'Service Provision'!$I$4:$I$503, \"\"))","v":""},{"$f":"IF(ISBLANK(B17), \"\", COUNTIFS('Service Provision'!$C$4:$C$503, B17, 'Service Provision'!$F$4:$F$503, \"<>\"&\"\", 'Service Provision'!$G$4:$G$503, \"<>\"&\"\", 'Service Provision'!$I$4:$I$503, \"<>\"&\"\"))","v":""},{"$f":"IF(ISBLANK(B17), \"\", SUM(K17:M17))","v":""}]
[null,null,null,null,{"$f":"IF(ISBLANK(C18),\"\",IF(ISBLANK(D18),_xlfn.DAYS(TODAY(),C18),_xlfn.DAYS(D18,C18)))","v":""},null,null,null,null,null,{"$f":"IF(ISBLANK(B18), \"\", COUNTIFS('Service Provision'!$C$4:$C$503, B18, 'Service Provision'!$F$4:$F$503, \"<>\"&\"\", 'Service Provision'!$G$4:$G$503, \"\"))","v":""},{"$f":"IF(ISBLANK(B18), \"\", COUNTIFS('Service Provision'!$C$4:$C$503, B18, 'Service Provision'!$F$4:$F$503, \"<>\"&\"\", 'Service Provision'!$G$4:$G$503, \"<>\"&\"\", 'Service Provision'!$I$4:$I$503, \"\"))","v":""},{"$f":"IF(ISBLANK(B18), \"\", COUNTIFS('Service Provision'!$C$4:$C$503, B18, 'Service Provision'!$F$4:$F$503, \"<>\"&\"\", 'Service Provision'!$G$4:$G$503, \"<>\"&\"\", 'Service Provision'!$I$4:$I$503, \"<>\"&\"\"))","v":""},{"$f":"IF(ISBLANK(B18), \"\", SUM(K18:M18))","v":""}]
[null,null,null,null,{"$f":"IF(ISBLANK(C19),\"\",IF(ISBLANK(D19),_xlfn.DAYS(TODAY(),C19),_xlfn.DAYS(D19,C19)))","v":""},null,null,null,null,null,{"$f":"IF(ISBLANK(B19), \"\", COUNTIFS('Service Provision'!$C$4:$C$503, B19, 'Service Provision'!$F$4:$F$503, \"<>\"&\"\", 'Service Provision'!$G$4:$G$503, \"\"))","v":""},{"$f":"IF(ISBLANK(B19), \"\", COUNTIFS('Service Provision'!$C$4:$C$503, B19, 'Service Provision'!$F$4:$F$503, \"<>\"&\"\", 'Service Provision'!$G$4:$G$503, \"<>\"&\"\", 'Service Provision'!$I$4:$I$503, \"\"))","v":""},{"$f":"IF(ISBLANK(B19), \"\", COUNTIFS('Service Provision'!$C$4:$C$503, B19, 'Service Provision'!$F$4:$F$503, \"<>\"&\"\", 'Service Provision'!$G$4:$G$503, \"<>\"&\"\", 'Service Provision'!$I$4:$I$503, \"<>\"&\"\"))","v":""},{"$f":"IF(ISBLANK(B19), \"\", SUM(K19:M19))","v":""}]
[null,null,null,null,{"$f":"IF(ISBLANK(C20),\"\",IF(ISBLANK(D20),_xlfn.DAYS(TODAY(),C20),_xlfn.DAYS(D20,C20)))","v":""},null,null,null,null,null,{"$f":"IF(ISBLANK(B20), \"\", COUNTIFS('Service Provision'!$C$4:$C$503, B20, 'Service Provision'!$F$4:$F$503, \"<>\"&\"\", 'Service Provision'!$G$4:$G$503, \"\"))","v":""},{"$f":"IF(ISBLANK(B20), \"\", COUNTIFS('Service Provision'!$C$4:$C$503, B20, 'Service Provision'!$F$4:$F$503, \"<>\"&\"\", 'Service Provision'!$G$4:$G$503, \"<>\"&\"\", 'Service Provision'!$I$4:$I$503, \"\"))","v":""},{"$f":"IF(ISBLANK(B20), \"\", COUNTIFS('Service Provision'!$C$4:$C$503, B20, 'Service Provision'!$F$4:$F$503, \"<>\"&\"\", 'Service Provision'!$G$4:$G$503, \"<>\"&\"\", 'Service Provision'!$I$4:$I$503, \"<>\"&\"\"))","v":""},{"$f":"IF(ISBLANK(B20), \"\", SUM(K20:M20))","v":""}]
[null,null,null,null,{"$f":"IF(ISBLANK(C21),\"\",IF(ISBLANK(D21),_xlfn.DAYS(TODAY(),C21),_xlfn.DAYS(D21,C21)))","v":""},null,null,null,null,null,{"$f":"IF(ISBLANK(B21), \"\", COUNTIFS('Service Provision'!$C$4:$C$503, B21, 'Service Provision'!$F$4:$F$503, \"<>\"&\"\", 'Service Provision'!$G$4:$G$503, \"\"))","v":""},{"$f":"IF(ISBLANK(B21), \"\", COUNTIFS('Service Provision'!$C$4:$C$503, B21, 'Service Provision'!$F$4:$F$503, \"<>\"&\"\", 'Service Provision'!$G$4:$G$503, \"<>\"&\"\", 'Service Provision'!$I$4:$I$503, \"\"))","v":""},{"$f":"IF(ISBLANK(B21), \"\", COUNTIFS('Service Provision'!$C$4:$C$503, B21, 'Service Provision'!$F$4:$F$503, \"<>\"&\"\", 'Service Provision'!$G$4:$G$503, \"<>\"&\"\", 'Service Provision'!$I$4:$I$503, \"<>\"&\"\"))","v":""},{"$f":"IF(ISBLANK(B21), \"\", SUM(K21:M21))","v":""}]
[null,null,null,null,{"$f":"IF(ISBLANK(C22),\"\",IF(ISBLANK(D22),_xlfn.DAYS(TODAY(),C22),_xlfn.DAYS(D22,C22)))","v":""},null,null,null,null,null,{"$f":"IF(ISBLANK(B22), \"\", COUNTIFS('Service Provision'!$C$4:$C$503, B22, 'Service Provision'!$F$4:$F$503, \"<>\"&\"\", 'Service Provision'!$G$4:$G$503, \"\"))","v":""},{"$f":"IF(ISBLANK(B22), \"\", COUNTIFS('Service Provision'!$C$4:$C$503, B22, 'Service Provision'!$F$4:$F$503, \"<>\"&\"\", 'Service Provision'!$G$4:$G$503, \"<>\"&\"\", 'Service Provision'!$I$4:$I$503, \"\"))","v":""},{"$f":"IF(ISBLANK(B22), \"\", COUNTIFS('Service Provision'!$C$4:$C$503, B22, 'Service Provision'!$F$4:$F$503, \"<>\"&\"\", 'Service Provision'!$G$4:$G$503, \"<>\"&\"\", 'Service Provision'!$I$4:$I$503, \"<>\"&\"\"))","v":""},{"$f":"IF(ISBLANK(B22), \"\", SUM(K22:M22))","v":""}]
[null,null,null,null,{"$f":"IF(ISBLANK(C23),\"\",IF(ISBLANK(D23),_xlfn.DAYS(TODAY(),C23),_xlfn.DAYS(D23,C23)))","v":""},null,null,null,null,null,{"$f":"IF(ISBLANK(B23), \"\", COUNTIFS('Service Provision'!$C$4:$C$503, B23, 'Service Provision'!$F$4:$F$503, \"<>\"&\"\", 'Service Provision'!$G$4:$G$503, \"\"))","v":""},{"$f":"IF(ISBLANK(B23), \"\", COUNTIFS('Service Provision'!$C$4:$C$503, B23, 'Service Provision'!$F$4:$F$503, \"<>\"&\"\", 'Service Provision'!$G$4:$G$503, \"<>\"&\"\", 'Service Provision'!$I$4:$I$503, \"\"))","v":""},{"$f":"IF(ISBLANK(B23), \"\", COUNTIFS('Service Provision'!$C$4:$C$503, B23, 'Service Provision'!$F$4:$F$503, \"<>\"&\"\", 'Service Provision'!$G$4:$G$503, \"<>\"&\"\", 'Service Provision'!$I$4:$I$503, \"<>\"&\"\"))","v":""},{"$f":"IF(ISBLANK(B23), \"\", SUM(K23:M23))","v":""}]
[null,null,null,null,{"$f":"IF(ISBLANK(C24),\"\",IF(ISBLANK(D24),_xlfn.DAYS(TODAY(),C24),_xlfn.DAYS(D24,C24)))","v":""},null,null,null,null,null,{"$f":"IF(ISBLANK(B24), \"\", COUNTIFS('Service Provision'!$C$4:$C$503, B24, 'Service Provision'!$F$4:$F$503, \"<>\"&\"\", 'Service Provision'!$G$4:$G$503, \"\"))","v":""},{"$f":"IF(ISBLANK(B24), \"\", COUNTIFS('Service Provision'!$C$4:$C$503, B24, 'Service Provision'!$F$4:$F$503, \"<>\"&\"\", 'Service Provision'!$G$4:$G$503, \"<>\"&\"\", 'Service Provision'!$I$4:$I$503, \"\"))","v":""},{"$f":"IF(ISBLANK(B24), \"\", COUNTIFS('Service Provision'!$C$4:$C$503, B24, 'Service Provision'!$F$4:$F$503, \"<>\"&\"\", 'Service Provision'!$G$4:$G$503, \"<>\"&\"\", 'Service Provision'!$I$4:$I$503, \"<>\"&\"\"))","v":""},{"$f":"IF(ISBLANK(B24), \"\", SUM(K24:M24))","v":""}]
[null,null,null,null,{"$f":"IF(ISBLANK(C25),\"\",IF(ISBLANK(D25),_xlfn.DAYS(TODAY(),C25),_xlfn.DAYS(D25,C25)))","v":""},null,null,null,null,null,{"$f":"IF(ISBLANK(B25), \"\", COUNTIFS('Service Provision'!$C$4:$C$503, B25, 'Service Provision'!$F$4:$F$503, \"<>\"&\"\", 'Service Provision'!$G$4:$G$503, \"\"))","v":""},{"$f":"IF(ISBLANK(B25), \"\", COUNTIFS('Service Provision'!$C$4:$C$503, B25, 'Service Provision'!$F$4:$F$503, \"<>\"&\"\", 'Service Provision'!$G$4:$G$503, \"<>\"&\"\", 'Service Provision'!$I$4:$I$503, \"\"))","v":""},{"$f":"IF(ISBLANK(B25), \"\", COUNTIFS('Service Provision'!$C$4:$C$503, B25, 'Service Provision'!$F$4:$F$503, \"<>\"&\"\", 'Service Provision'!$G$4:$G$503, \"<>\"&\"\", 'Service Provision'!$I$4:$I$503, \"<>\"&\"\"))","v":""},{"$f":"IF(ISBLANK(B25), \"\", SUM(K25:M25))","v":""}]
[null,null,null,null,{"$f":"IF(ISBLANK(C26),\"\",IF(ISBLANK(D26),_xlfn.DAYS(TODAY(),C26),_xlfn.DAYS(D26,C26)))","v":""},null,null,null,null,null,{"$f":"IF(ISBLANK(B26), \"\", COUNTIFS('Service Provision'!$C$4:$C$503, B26, 'Service Provision'!$F$4:$F$503, \"<>\"&\"\", 'Service Provision'!$G$4:$G$503, \"\"))","v":""},{"$f":"IF(ISBLANK(B26), \"\", COUNTIFS('Service Provision'!$C$4:$C$503, B26, 'Service Provision'!$F$4:$F$503, \"<>\"&\"\", 'Service Provision'!$G$4:$G$503, \"<>\"&\"\", 'Service Provision'!$I$4:$I$503, \"\"))","v":""},{"$f":"IF(ISBLANK(B26), \"\", COUNTIFS('Service Provision'!$C$4:$C$503, B26, 'Service Provision'!$F$4:$F$503, \"<>\"&\"\", 'Service Provision'!$G$4:$G$503, \"<>\"&\"\", 'Service Provision'!$I$4:$I$503, \"<>\"&\"\"))","v":""},{"$f":"IF(ISBLANK(B26), \"\", SUM(K26:M26))","v":""}]
[null,null,null,null,{"$f":"IF(ISBLANK(C27),\"\",IF(ISBLANK(D27),_xlfn.DAYS(TODAY(),C27),_xlfn.DAYS(D27,C27)))","v":""},null,null,null,null,null,{"$f":"IF(ISBLANK(B27), \"\", COUNTIFS('Service Provision'!$C$4:$C$503, B27, 'Service Provision'!$F$4:$F$503, \"<>\"&\"\", 'Service Provision'!$G$4:$G$503, \"\"))","v":""},{"$f":"IF(ISBLANK(B27), \"\", COUNTIFS('Service Provision'!$C$4:$C$503, B27, 'Service Provision'!$F$4:$F$503, \"<>\"&\"\", 'Service Provision'!$G$4:$G$503, \"<>\"&\"\", 'Service Provision'!$I$4:$I$503, \"\"))","v":""},{"$f":"IF(ISBLANK(B27), \"\", COUNTIFS('Service Provision'!$C$4:$C$503, B27, 'Service Provision'!$F$4:$F$503, \"<>\"&\"\", 'Service Provision'!$G$4:$G$503, \"<>\"&\"\", 'Service Provision'!$I$4:$I$503, \"<>\"&\"\"))","v":""},{"$f":"IF(ISBLANK(B27), \"\", SUM(K27:M27))","v":""}]
[null,null,null,null,{"$f":"IF(ISBLANK(C28),\"\",IF(ISBLANK(D28),_xlfn.DAYS(TODAY(),C28),_xlfn.DAYS(D28,C28)))","v":""},null,null,null,null,null,{"$f":"IF(ISBLANK(B28), \"\", COUNTIFS('Service Provision'!$C$4:$C$503, B28, 'Service Provision'!$F$4:$F$503, \"<>\"&\"\", 'Service Provision'!$G$4:$G$503, \"\"))","v":""},{"$f":"IF(ISBLANK(B28), \"\", COUNTIFS('Service Provision'!$C$4:$C$503, B28, 'Service Provision'!$F$4:$F$503, \"<>\"&\"\", 'Service Provision'!$G$4:$G$503, \"<>\"&\"\", 'Service Provision'!$I$4:$I$503, \"\"))","v":""},{"$f":"IF(ISBLANK(B28), \"\", COUNTIFS('Service Provision'!$C$4:$C$503, B28, 'Service Provision'!$F$4:$F$503, \"<>\"&\"\", 'Service Provision'!$G$4:$G$503, \"<>\"&\"\", 'Service Provision'!$I$4:$I$503, \"<>\"&\"\"))","v":""},{"$f":"IF(ISBLANK(B28), \"\", SUM(K28:M28))","v":""}]
[null,null,null,null,{"$f":"IF(ISBLANK(C29),\"\",IF(ISBLANK(D29),_xlfn.DAYS(TODAY(),C29),_xlfn.DAYS(D29,C29)))","v":""},null,null,null,null,null,{"$f":"IF(ISBLANK(B29), \"\", COUNTIFS('Service Provision'!$C$4:$C$503, B29, 'Service Provision'!$F$4:$F$503, \"<>\"&\"\", 'Service Provision'!$G$4:$G$503, \"\"))","v":""},{"$f":"IF(ISBLANK(B29), \"\", COUNTIFS('Service Provision'!$C$4:$C$503, B29, 'Service Provision'!$F$4:$F$503, \"<>\"&\"\", 'Service Provision'!$G$4:$G$503, \"<>\"&\"\", 'Service Provision'!$I$4:$I$503, \"\"))","v":""},{"$f":"IF(ISBLANK(B29), \"\", COUNTIFS('Service Provision'!$C$4:$C$503, B29, 'Service Provision'!$F$4:$F$503, \"<>\"&\"\", 'Service Provision'!$G$4:$G$503, \"<>\"&\"\", 'Service Provision'!$I$4:$I$503, \"<>\"&\"\"))","v":""},{"$f":"IF(ISBLANK(B29), \"\", SUM(K29:M29))","v":""}]
[null,null,null,null,{"$f":"IF(ISBLANK(C30),\"\",IF(ISBLANK(D30),_xlfn.DAYS(TODAY(),C30),_xlfn.DAYS(D30,C30)))","v":""},null,null,null,null,null,{"$f":"IF(ISBLANK(B30), \"\", COUNTIFS('Service Provision'!$C$4:$C$503, B30, 'Service Provision'!$F$4:$F$503, \"<>\"&\"\", 'Service Provision'!$G$4:$G$503, \"\"))","v":""},{"$f":"IF(ISBLANK(B30), \"\", COUNTIFS('Service Provision'!$C$4:$C$503, B30, 'Service Provision'!$F$4:$F$503, \"<>\"&\"\", 'Service Provision'!$G$4:$G$503, \"<>\"&\"\", 'Service Provision'!$I$4:$I$503, \"\"))","v":""},{"$f":"IF(ISBLANK(B30), \"\", COUNTIFS('Service Provision'!$C$4:$C$503, B30, 'Service Provision'!$F$4:$F$503, \"<>\"&\"\", 'Service Provision'!$G$4:$G$503, \"<>\"&\"\", 'Service Provision'!$I$4:$I$503, \"<>\"&\"\"))","v":""},{"$f":"IF(ISBLANK(B30), \"\", SUM(K30:M30))","v":""}]
[null,null,null,null,{"$f":"IF(ISBLANK(C31),\"\",IF(ISBLANK(D31),_xlfn.DAYS(TODAY(),C31),_xlfn.DAYS(D31,C31)))","v":""},null,null,null,null,null,{"$f":"IF(ISBLANK(B31), \"\", COUNTIFS('Service Provision'!$C$4:$C$503, B31, 'Service Provision'!$F$4:$F$503, \"<>\"&\"\", 'Service Provision'!$G$4:$G$503, \"\"))","v":""},{"$f":"IF(ISBLANK(B31), \"\", COUNTIFS('Service Provision'!$C$4:$C$503, B31, 'Service Provision'!$F$4:$F$503, \"<>\"&\"\", 'Service Provision'!$G$4:$G$503, \"<>\"&\"\", 'Service Provision'!$I$4:$I$503, \"\"))","v":""},{"$f":"IF(ISBLANK(B31), \"\", COUNTIFS('Service Provision'!$C$4:$C$503, B31, 'Service Provision'!$F$4:$F$503, \"<>\"&\"\", 'Service Provision'!$G$4:$G$503, \"<>\"&\"\", 'Service Provision'!$I$4:$I$503, \"<>\"&\"\"))","v":""},{"$f":"IF(ISBLANK(B31), \"\", SUM(K31:M31))","v":""}]
[null,null,null,null,{"$f":"IF(ISBLANK(C32),\"\",IF(ISBLANK(D32),_xlfn.DAYS(TODAY(),C32),_xlfn.DAYS(D32,C32)))","v":""},null,null,null,null,null,{"$f":"IF(ISBLANK(B32), \"\", COUNTIFS('Service Provision'!$C$4:$C$503, B32, 'Service Provision'!$F$4:$F$503, \"<>\"&\"\", 'Service Provision'!$G$4:$G$503, \"\"))","v":""},{"$f":"IF(ISBLANK(B32), \"\", COUNTIFS('Service Provision'!$C$4:$C$503, B32, 'Service Provision'!$F$4:$F$503, \"<>\"&\"\", 'Service Provision'!$G$4:$G$503, \"<>\"&\"\", 'Service Provision'!$I$4:$I$503, \"\"))","v":""},{"$f":"IF(ISBLANK(B32), \"\", COUNTIFS('Service Provision'!$C$4:$C$503, B32, 'Service Provision'!$F$4:$F$503, \"<>\"&\"\", 'Service Provision'!$G$4:$G$503, \"<>\"&\"\", 'Service Provision'!$I$4:$I$503, \"<>\"&\"\"))","v":""},{"$f":"IF(ISBLANK(B32), \"\", SUM(K32:M32))","v":""}]
[null,null,null,null,{"$f":"IF(ISBLANK(C33),\"\",IF(ISBLANK(D33),_xlfn.DAYS(TODAY(),C33),_xlfn.DAYS(D33,C33)))","v":""},null,null,null,null,null,{"$f":"IF(ISBLANK(B33), \"\", COUNTIFS('Service Provision'!$C$4:$C$503, B33, 'Service Provision'!$F$4:$F$503, \"<>\"&\"\", 'Service Provision'!$G$4:$G$503, \"\"))","v":""},{"$f":"IF(ISBLANK(B33), \"\", COUNTIFS('Service Provision'!$C$4:$C$503, B33, 'Service Provision'!$F$4:$F$503, \"<>\"&\"\", 'Service Provision'!$G$4:$G$503, \"<>\"&\"\", 'Service Provision'!$I$4:$I$503, \"\"))","v":""},{"$f":"IF(ISBLANK(B33), \"\", COUNTIFS('Service Provision'!$C$4:$C$503, B33, 'Service Provision'!$F$4:$F$503, \"<>\"&\"\", 'Service Provision'!$G$4:$G$503, \"<>\"&\"\", 'Service Provision'!$I$4:$I$503, \"<>\"&\"\"))","v":""},{"$f":"IF(ISBLANK(B33), \"\", SUM(K33:M33))","v":""}]
[null,null,null,null,{"$f":"IF(ISBLANK(C34),\"\",IF(ISBLANK(D34),_xlfn.DAYS(TODAY(),C34),_xlfn.DAYS(D34,C34)))","v":""},null,null,null,null,null,{"$f":"IF(ISBLANK(B34), \"\", COUNTIFS('Service Provision'!$C$4:$C$503, B34, 'Service Provision'!$F$4:$F$503, \"<>\"&\"\", 'Service Provision'!$G$4:$G$503, \"\"))","v":""},{"$f":"IF(ISBLANK(B34), \"\", COUNTIFS('Service Provision'!$C$4:$C$503, B34, 'Service Provision'!$F$4:$F$503, \"<>\"&\"\", 'Service Provision'!$G$4:$G$503, \"<>\"&\"\", 'Service Provision'!$I$4:$I$503, \"\"))","v":""},{"$f":"IF(ISBLANK(B34), \"\", COUNTIFS('Service Provision'!$C$4:$C$503, B34, 'Service Provision'!$F$4:$F$503, \"<>\"&\"\", 'Service Provision'!$G$4:$G$503, \"<>\"&\"\", 'Service Provision'!$I$4:$I$503, \"<>\"&\"\"))","v":""},{"$f":"IF(ISBLANK(B34), \"\", SUM(K34:M34))","v":""}]
[null,null,null,null,{"$f":"IF(ISBLANK(C35),\"\",IF(ISBLANK(D35),_xlfn.DAYS(TODAY(),C35),_xlfn.DAYS(D35,C35)))","v":""},null,null,null,null,null,{"$f":"IF(ISBLANK(B35), \"\", COUNTIFS('Service Provision'!$C$4:$C$503, B35, 'Service Provision'!$F$4:$F$503, \"<>\"&\"\", 'Service Provision'!$G$4:$G$503, \"\"))","v":""},{"$f":"IF(ISBLANK(B35), \"\", COUNTIFS('Service Provision'!$C$4:$C$503, B35, 'Service Provision'!$F$4:$F$503, \"<>\"&\"\", 'Service Provision'!$G$4:$G$503, \"<>\"&\"\", 'Service Provision'!$I$4:$I$503, \"\"))","v":""},{"$f":"IF(ISBLANK(B35), \"\", COUNTIFS('Service Provision'!$C$4:$C$503, B35, 'Service Provision'!$F$4:$F$503, \"<>\"&\"\", 'Service Provision'!$G$4:$G$503, \"<>\"&\"\", 'Service Provision'!$I$4:$I$503, \"<>\"&\"\"))","v":""},{"$f":"IF(ISBLANK(B35), \"\", SUM(K35:M35))","v":""}]
[null,null,null,null,{"$f":"IF(ISBLANK(C36),\"\",IF(ISBLANK(D36),_xlfn.DAYS(TODAY(),C36),_xlfn.DAYS(D36,C36)))","v":""},null,null,null,null,null,{"$f":"IF(ISBLANK(B36), \"\", COUNTIFS('Service Provision'!$C$4:$C$503, B36, 'Service Provision'!$F$4:$F$503, \"<>\"&\"\", 'Service Provision'!$G$4:$G$503, \"\"))","v":""},{"$f":"IF(ISBLANK(B36), \"\", COUNTIFS('Service Provision'!$C$4:$C$503, B36, 'Service Provision'!$F$4:$F$503, \"<>\"&\"\", 'Service Provision'!$G$4:$G$503, \"<>\"&\"\", 'Service Provision'!$I$4:$I$503, \"\"))","v":""},{"$f":"IF(ISBLANK(B36), \"\", COUNTIFS('Service Provision'!$C$4:$C$503, B36, 'Service Provision'!$F$4:$F$503, \"<>\"&\"\", 'Service Provision'!$G$4:$G$503, \"<>\"&\"\", 'Service Provision'!$I$4:$I$503, \"<>\"&\"\"))","v":""},{"$f":"IF(ISBLANK(B36), \"\", SUM(K36:M36))","v":""}]
[null,null,null,null,{"$f":"IF(ISBLANK(C37),\"\",IF(ISBLANK(D37),_xlfn.DAYS(TODAY(),C37),_xlfn.DAYS(D37,C37)))","v":""},null,null,null,null,null,{"$f":"IF(ISBLANK(B37), \"\", COUNTIFS('Service Provision'!$C$4:$C$503, B37, 'Service Provision'!$F$4:$F$503, \"<>\"&\"\", 'Service Provision'!$G$4:$G$503, \"\"))","v":""},{"$f":"IF(ISBLANK(B37), \"\", COUNTIFS('Service Provision'!$C$4:$C$503, B37, 'Service Provision'!$F$4:$F$503, \"<>\"&\"\", 'Service Provision'!$G$4:$G$503, \"<>\"&\"\", 'Service Provision'!$I$4:$I$503, \"\"))","v":""},{"$f":"IF(ISBLANK(B37), \"\", COUNTIFS('Service Provision'!$C$4:$C$503, B37, 'Service Provision'!$F$4:$F$503, \"<>\"&\"\", 'Service Provision'!$G$4:$G$503, \"<>\"&\"\", 'Service Provision'!$I$4:$I$503, \"<>\"&\"\"))","v":""},{"$f":"IF(ISBLANK(B37), \"\", SUM(K37:M37))","v":""}]
[null,null,null,null,{"$f":"IF(ISBLANK(C38),\"\",IF(ISBLANK(D38),_xlfn.DAYS(TODAY(),C38),_xlfn.DAYS(D38,C38)))","v":""},null,null,null,null,null,{"$f":"IF(ISBLANK(B38), \"\", COUNTIFS('Service Provision'!$C$4:$C$503, B38, 'Service Provision'!$F$4:$F$503, \"<>\"&\"\", 'Service Provision'!$G$4:$G$503, \"\"))","v":""},{"$f":"IF(ISBLANK(B38), \"\", COUNTIFS('Service Provision'!$C$4:$C$503, B38, 'Service Provision'!$F$4:$F$503, \"<>\"&\"\", 'Service Provision'!$G$4:$G$503, \"<>\"&\"\", 'Service Provision'!$I$4:$I$503, \"\"))","v":""},{"$f":"IF(ISBLANK(B38), \"\", COUNTIFS('Service Provision'!$C$4:$C$503, B38, 'Service Provision'!$F$4:$F$503, \"<>\"&\"\", 'Service Provision'!$G$4:$G$503, \"<>\"&\"\", 'Service Provision'!$I$4:$I$503, \"<>\"&\"\"))","v":""},{"$f":"IF(ISBLANK(B38), \"\", SUM(K38:M38))","v":""}]
[null,null,null,null,{"$f":"IF(ISBLANK(C39),\"\",IF(ISBLANK(D39),_xlfn.DAYS(TODAY(),C39),_xlfn.DAYS(D39,C39)))","v":""},null,null,null,null,null,{"$f":"IF(ISBLANK(B39), \"\", COUNTIFS('Service Provision'!$C$4:$C$503, B39, 'Service Provision'!$F$4:$F$503, \"<>\"&\"\", 'Service Provision'!$G$4:$G$503, \"\"))","v":""},{"$f":"IF(ISBLANK(B39), \"\", COUNTIFS('Service Provision'!$C$4:$C$503, B39, 'Service Provision'!$F$4:$F$503, \"<>\"&\"\", 'Service Provision'!$G$4:$G$503, \"<>\"&\"\", 'Service Provision'!$I$4:$I$503, \"\"))","v":""},{"$f":"IF(ISBLANK(B39), \"\", COUNTIFS('Service Provision'!$C$4:$C$503, B39, 'Service Provision'!$F$4:$F$503, \"<>\"&\"\", 'Service Provision'!$G$4:$G$503, \"<>\"&\"\", 'Service Provision'!$I$4:$I$503, \"<>\"&\"\"))","v":""},{"$f":"IF(ISBLANK(B39), \"\", SUM(K39:M39))","v":""}]
[null,null,null,null,{"$f":"IF(ISBLANK(C40),\"\",IF(ISBLANK(D40),_xlfn.DAYS(TODAY(),C40),_xlfn.DAYS(D40,C40)))","v":""},null,null,null,null,null,{"$f":"IF(ISBLANK(B40), \"\", COUNTIFS('Service Provision'!$C$4:$C$503, B40, 'Service Provision'!$F$4:$F$503, \"<>\"&\"\", 'Service Provision'!$G$4:$G$503, \"\"))","v":""},{"$f":"IF(ISBLANK(B40), \"\", COUNTIFS('Service Provision'!$C$4:$C$503, B40, 'Service Provision'!$F$4:$F$503, \"<>\"&\"\", 'Service Provision'!$G$4:$G$503, \"<>\"&\"\", 'Service Provision'!$I$4:$I$503, \"\"))","v":""},{"$f":"IF(ISBLANK(B40), \"\", COUNTIFS('Service Provision'!$C$4:$C$503, B40, 'Service Provision'!$F$4:$F$503, \"<>\"&\"\", 'Service Provision'!$G$4:$G$503, \"<>\"&\"\", 'Service Provision'!$I$4:$I$503, \"<>\"&\"\"))","v":""},{"$f":"IF(ISBLANK(B40), \"\", SUM(K40:M40))","v":""}]
[null,null,null,null,{"$f":"IF(ISBLANK(C41),\"\",IF(ISBLANK(D41),_xlfn.DAYS(TODAY(),C41),_xlfn.DAYS(D41,C41)))","v":""},null,null,null,null,null,{"$f":"IF(ISBLANK(B41), \"\", COUNTIFS('Service Provision'!$C$4:$C$503, B41, 'Service Provision'!$F$4:$F$503, \"<>\"&\"\", 'Service Provision'!$G$4:$G$503, \"\"))","v":""},{"$f":"IF(ISBLANK(B41), \"\", COUNTIFS('Service Provision'!$C$4:$C$503, B41, 'Service Provision'!$F$4:$F$503, \"<>\"&\"\", 'Service Provision'!$G$4:$G$503, \"<>\"&\"\", 'Service Provision'!$I$4:$I$503, \"\"))","v":""},{"$f":"IF(ISBLANK(B41), \"\", COUNTIFS('Service Provision'!$C$4:$C$503, B41, 'Service Provision'!$F$4:$F$503, \"<>\"&\"\", 'Service Provision'!$G$4:$G$503, \"<>\"&\"\", 'Service Provision'!$I$4:$I$503, \"<>\"&\"\"))","v":""},{"$f":"IF(ISBLANK(B41), \"\", SUM(K41:M41))","v":""}]
[null,null,null,null,{"$f":"IF(ISBLANK(C42),\"\",IF(ISBLANK(D42),_xlfn.DAYS(TODAY(),C42),_xlfn.DAYS(D42,C42)))","v":""},null,null,null,null,null,{"$f":"IF(ISBLANK(B42), \"\", COUNTIFS('Service Provision'!$C$4:$C$503, B42, 'Service Provision'!$F$4:$F$503, \"<>\"&\"\", 'Service Provision'!$G$4:$G$503, \"\"))","v":""},{"$f":"IF(ISBLANK(B42), \"\", COUNTIFS('Service Provision'!$C$4:$C$503, B42, 'Service Provision'!$F$4:$F$503, \"<>\"&\"\", 'Service Provision'!$G$4:$G$503, \"<>\"&\"\", 'Service Provision'!$I$4:$I$503, \"\"))","v":""},{"$f":"IF(ISBLANK(B42), \"\", COUNTIFS('Service Provision'!$C$4:$C$503, B42, 'Service Provision'!$F$4:$F$503, \"<>\"&\"\", 'Service Provision'!$G$4:$G$503, \"<>\"&\"\", 'Service Provision'!$I$4:$I$503, \"<>\"&\"\"))","v":""},{"$f":"IF(ISBLANK(B42), \"\", SUM(K42:M42))","v":""}]
[null,null,null,null,{"$f":"IF(ISBLANK(C43),\"\",IF(ISBLANK(D43),_xlfn.DAYS(TODAY(),C43),_xlfn.DAYS(D43,C43)))","v":""},null,null,null,null,null,{"$f":"IF(ISBLANK(B43), \"\", COUNTIFS('Service Provision'!$C$4:$C$503, B43, 'Service Provision'!$F$4:$F$503, \"<>\"&\"\", 'Service Provision'!$G$4:$G$503, \"\"))","v":""},{"$f":"IF(ISBLANK(B43), \"\", COUNTIFS('Service Provision'!$C$4:$C$503, B43, 'Service Provision'!$F$4:$F$503, \"<>\"&\"\", 'Service Provision'!$G$4:$G$503, \"<>\"&\"\", 'Service Provision'!$I$4:$I$503, \"\"))","v":""},{"$f":"IF(ISBLANK(B43), \"\", COUNTIFS('Service Provision'!$C$4:$C$503, B43, 'Service Provision'!$F$4:$F$503, \"<>\"&\"\", 'Service Provision'!$G$4:$G$503, \"<>\"&\"\", 'Service Provision'!$I$4:$I$503, \"<>\"&\"\"))","v":""},{"$f":"IF(ISBLANK(B43), \"\", SUM(K43:M43))","v":""}]
[null,null,null,null,{"$f":"IF(ISBLANK(C44),\"\",IF(ISBLANK(D44),_xlfn.DAYS(TODAY(),C44),_xlfn.DAYS(D44,C44)))","v":""},null,null,null,null,null,{"$f":"IF(ISBLANK(B44), \"\", COUNTIFS('Service Provision'!$C$4:$C$503, B44, 'Service Provision'!$F$4:$F$503, \"<>\"&\"\", 'Service Provision'!$G$4:$G$503, \"\"))","v":""},{"$f":"IF(ISBLANK(B44), \"\", COUNTIFS('Service Provision'!$C$4:$C$503, B44, 'Service Provision'!$F$4:$F$503, \"<>\"&\"\", 'Service Provision'!$G$4:$G$503, \"<>\"&\"\", 'Service Provision'!$I$4:$I$503, \"\"))","v":""},{"$f":"IF(ISBLANK(B44), \"\", COUNTIFS('Service Provision'!$C$4:$C$503, B44, 'Service Provision'!$F$4:$F$503, \"<>\"&\"\", 'Service Provision'!$G$4:$G$503, \"<>\"&\"\", 'Service Provision'!$I$4:$I$503, \"<>\"&\"\"))","v":""},{"$f":"IF(ISBLANK(B44), \"\", SUM(K44:M44))","v":""}]
[null,null,null,null,{"$f":"IF(ISBLANK(C45),\"\",IF(ISBLANK(D45),_xlfn.DAYS(TODAY(),C45),_xlfn.DAYS(D45,C45)))","v":""},null,null,null,null,null,{"$f":"IF(ISBLANK(B45), \"\", COUNTIFS('Service Provision'!$C$4:$C$503, B45, 'Service Provision'!$F$4:$F$503, \"<>\"&\"\", 'Service Provision'!$G$4:$G$503, \"\"))","v":""},{"$f":"IF(ISBLANK(B45), \"\", COUNTIFS('Service Provision'!$C$4:$C$503, B45, 'Service Provision'!$F$4:$F$503, \"<>\"&\"\", 'Service Provision'!$G$4:$G$503, \"<>\"&\"\", 'Service Provision'!$I$4:$I$503, \"\"))","v":""},{"$f":"IF(ISBLANK(B45), \"\", COUNTIFS('Service Provision'!$C$4:$C$503, B45, 'Service Provision'!$F$4:$F$503, \"<>\"&\"\", 'Service Provision'!$G$4:$G$503, \"<>\"&\"\", 'Service Provision'!$I$4:$I$503, \"<>\"&\"\"))","v":""},{"$f":"IF(ISBLANK(B45), \"\", SUM(K45:M45))","v":""}]
[null,null,null,null,{"$f":"IF(ISBLANK(C46),\"\",IF(ISBLANK(D46),_xlfn.DAYS(TODAY(),C46),_xlfn.DAYS(D46,C46)))","v":""},null,null,null,null,null,{"$f":"IF(ISBLANK(B46), \"\", COUNTIFS('Service Provision'!$C$4:$C$503, B46, 'Service Provision'!$F$4:$F$503, \"<>\"&\"\", 'Service Provision'!$G$4:$G$503, \"\"))","v":""},{"$f":"IF(ISBLANK(B46), \"\", COUNTIFS('Service Provision'!$C$4:$C$503, B46, 'Service Provision'!$F$4:$F$503, \"<>\"&\"\", 'Service Provision'!$G$4:$G$503, \"<>\"&\"\", 'Service Provision'!$I$4:$I$503, \"\"))","v":""},{"$f":"IF(ISBLANK(B46), \"\", COUNTIFS('Service Provision'!$C$4:$C$503, B46, 'Service Provision'!$F$4:$F$503, \"<>\"&\"\", 'Service Provision'!$G$4:$G$503, \"<>\"&\"\", 'Service Provision'!$I$4:$I$503, \"<>\"&\"\"))","v":""},{"$f":"IF(ISBLANK(B46), \"\", SUM(K46:M46))","v":""}]
[null,null,null,null,{"$f":"IF(ISBLANK(C47),\"\",IF(ISBLANK(D47),_xlfn.DAYS(TODAY(),C47),_xlfn.DAYS(D47,C47)))","v":""},null,null,null,null,null,{"$f":"IF(ISBLANK(B47), \"\", COUNTIFS('Service Provision'!$C$4:$C$503, B47, 'Service Provision'!$F$4:$F$503, \"<>\"&\"\", 'Service Provision'!$G$4:$G$503, \"\"))","v":""},{"$f":"IF(ISBLANK(B47), \"\", COUNTIFS('Service Provision'!$C$4:$C$503, B47, 'Service Provision'!$F$4:$F$503, \"<>\"&\"\", 'Service Provision'!$G$4:$G$503, \"<>\"&\"\", 'Service Provision'!$I$4:$I$503, \"\"))","v":""},{"$f":"IF(ISBLANK(B47), \"\", COUNTIFS('Service Provision'!$C$4:$C$503, B47, 'Service Provision'!$F$4:$F$503, \"<>\"&\"\", 'Service Provision'!$G$4:$G$503, \"<>\"&\"\", 'Service Provision'!$I$4:$I$503, \"<>\"&\"\"))","v":""},{"$f":"IF(ISBLANK(B47), \"\", SUM(K47:M47))","v":""}]
[null,null,null,null,{"$f":"IF(ISBLANK(C48),\"\",IF(ISBLANK(D48),_xlfn.DAYS(TODAY(),C48),_xlfn.DAYS(D48,C48)))","v":""},null,null,null,null,null,{"$f":"IF(ISBLANK(B48), \"\", COUNTIFS('Service Provision'!$C$4:$C$503, B48, 'Service Provision'!$F$4:$F$503, \"<>\"&\"\", 'Service Provision'!$G$4:$G$503, \"\"))","v":""},{"$f":"IF(ISBLANK(B48), \"\", COUNTIFS('Service Provision'!$C$4:$C$503, B48, 'Service Provision'!$F$4:$F$503, \"<>\"&\"\", 'Service Provision'!$G$4:$G$503, \"<>\"&\"\", 'Service Provision'!$I$4:$I$503, \"\"))","v":""},{"$f":"IF(ISBLANK(B48), \"\", COUNTIFS('Service Provision'!$C$4:$C$503, B48, 'Service Provision'!$F$4:$F$503, \"<>\"&\"\", 'Service Provision'!$G$4:$G$503, \"<>\"&\"\", 'Service Provision'!$I$4:$I$503, \"<>\"&\"\"))","v":""},{"$f":"IF(ISBLANK(B48), \"\", SUM(K48:M48))","v":""}]
[null,null,null,null,{"$f":"IF(ISBLANK(C49),\"\",IF(ISBLANK(D49),_xlfn.DAYS(TODAY(),C49),_xlfn.DAYS(D49,C49)))","v":""},null,null,null,null,null,{"$f":"IF(ISBLANK(B49), \"\", COUNTIFS('Service Provision'!$C$4:$C$503, B49, 'Service Provision'!$F$4:$F$503, \"<>\"&\"\", 'Service Provision'!$G$4:$G$503, \"\"))","v":""},{"$f":"IF(ISBLANK(B49), \"\", COUNTIFS('Service Provision'!$C$4:$C$503, B49, 'Service Provision'!$F$4:$F$503, \"<>\"&\"\", 'Service Provision'!$G$4:$G$503, \"<>\"&\"\", 'Service Provision'!$I$4:$I$503, \"\"))","v":""},{"$f":"IF(ISBLANK(B49), \"\", COUNTIFS('Service Provision'!$C$4:$C$503, B49, 'Service Provision'!$F$4:$F$503, \"<>\"&\"\", 'Service Provision'!$G$4:$G$503, \"<>\"&\"\", 'Service Provision'!$I$4:$I$503, \"<>\"&\"\"))","v":""},{"$f":"IF(ISBLANK(B49), \"\", SUM(K49:M49))","v":""}]
[null,null,null,null,{"$f":"IF(ISBLANK(C50),\"\",IF(ISBLANK(D50),_xlfn.DAYS(TODAY(),C50),_xlfn.DAYS(D50,C50)))","v":""},null,null,null,null,null,{"$f":"IF(ISBLANK(B50), \"\", COUNTIFS('Service Provision'!$C$4:$C$503, B50, 'Service Provision'!$F$4:$F$503, \"<>\"&\"\", 'Service Provision'!$G$4:$G$503, \"\"))","v":""},{"$f":"IF(ISBLANK(B50), \"\", COUNTIFS('Service Provision'!$C$4:$C$503, B50, 'Service Provision'!$F$4:$F$503, \"<>\"&\"\", 'Service Provision'!$G$4:$G$503, \"<>\"&\"\", 'Service Provision'!$I$4:$I$503, \"\"))","v":""},{"$f":"IF(ISBLANK(B50), \"\", COUNTIFS('Service Provision'!$C$4:$C$503, B50, 'Service Provision'!$F$4:$F$503, \"<>\"&\"\", 'Service Provision'!$G$4:$G$503, \"<>\"&\"\", 'Service Provision'!$I$4:$I$503, \"<>\"&\"\"))","v":""},{"$f":"IF(ISBLANK(B50), \"\", SUM(K50:M50))","v":""}]
[null,null,null,null,{"$f":"IF(ISBLANK(C51),\"\",IF(ISBLANK(D51),_xlfn.DAYS(TODAY(),C51),_xlfn.DAYS(D51,C51)))","v":""},null,null,null,null,null,{"$f":"IF(ISBLANK(B51), \"\", COUNTIFS('Service Provision'!$C$4:$C$503, B51, 'Service Provision'!$F$4:$F$503, \"<>\"&\"\", 'Service Provision'!$G$4:$G$503, \"\"))","v":""},{"$f":"IF(ISBLANK(B51), \"\", COUNTIFS('Service Provision'!$C$4:$C$503, B51, 'Service Provision'!$F$4:$F$503, \"<>\"&\"\", 'Service Provision'!$G$4:$G$503, \"<>\"&\"\", 'Service Provision'!$I$4:$I$503, \"\"))","v":""},{"$f":"IF(ISBLANK(B51), \"\", COUNTIFS('Service Provision'!$C$4:$C$503, B51, 'Service Provision'!$F$4:$F$503, \"<>\"&\"\", 'Service Provision'!$G$4:$G$503, \"<>\"&\"\", 'Service Provision'!$I$4:$I$503, \"<>\"&\"\"))","v":""},{"$f":"IF(ISBLANK(B51), \"\", SUM(K51:M51))","v":""}]
[null,null,null,null,{"$f":"IF(ISBLANK(C52),\"\",IF(ISBLANK(D52),_xlfn.DAYS(TODAY(),C52),_xlfn.DAYS(D52,C52)))","v":""},null,null,null,null,null,{"$f":"IF(ISBLANK(B52), \"\", COUNTIFS('Service Provision'!$C$4:$C$503, B52, 'Service Provision'!$F$4:$F$503, \"<>\"&\"\", 'Service Provision'!$G$4:$G$503, \"\"))","v":""},{"$f":"IF(ISBLANK(B52), \"\", COUNTIFS('Service Provision'!$C$4:$C$503, B52, 'Service Provision'!$F$4:$F$503, \"<>\"&\"\", 'Service Provision'!$G$4:$G$503, \"<>\"&\"\", 'Service Provision'!$I$4:$I$503, \"\"))","v":""},{"$f":"IF(ISBLANK(B52), \"\", COUNTIFS('Service Provision'!$C$4:$C$503, B52, 'Service Provision'!$F$4:$F$503, \"<>\"&\"\", 'Service Provision'!$G$4:$G$503, \"<>\"&\"\", 'Service Provision'!$I$4:$I$503, \"<>\"&\"\"))","v":""},{"$f":"IF(ISBLANK(B52), \"\", SUM(K52:M52))","v":""}]
[null,null,null,null,{"$f":"IF(ISBLANK(C53),\"\",IF(ISBLANK(D53),_xlfn.DAYS(TODAY(),C53),_xlfn.DAYS(D53,C53)))","v":""},null,null,null,null,null,{"$f":"IF(ISBLANK(B53), \"\", COUNTIFS('Service Provision'!$C$4:$C$503, B53, 'Service Provision'!$F$4:$F$503, \"<>\"&\"\", 'Service Provision'!$G$4:$G$503, \"\"))","v":""},{"$f":"IF(ISBLANK(B53), \"\", COUNTIFS('Service Provision'!$C$4:$C$503, B53, 'Service Provision'!$F$4:$F$503, \"<>\"&\"\", 'Service Provision'!$G$4:$G$503, \"<>\"&\"\", 'Service Provision'!$I$4:$I$503, \"\"))","v":""},{"$f":"IF(ISBLANK(B53), \"\", COUNTIFS('Service Provision'!$C$4:$C$503, B53, 'Service Provision'!$F$4:$F$503, \"<>\"&\"\", 'Service Provision'!$G$4:$G$503, \"<>\"&\"\", 'Service Provision'!$I$4:$I$503, \"<>\"&\"\"))","v":""},{"$f":"IF(ISBLANK(B53), \"\", SUM(K53:M53))","v":""}]
[null,{"$f":"COUNTA(B4:B53)","v":0},null,null,{"$f":"IFERROR(ROUNDDOWN(AVERAGE(E4:E53), 0),\"\")","v":""},null,null,null,null,null,{"$f":"SUM(K4:K53)","v":0},{"$f":"SUM(L4:L53)","v":0},{"$f":"SUM(M4:M53)","v":0},{"$f":"SUM(N4:N53)","v":0}]
[null,null,null,null,{"$f":"IFERROR(DATEDIF(0,E54,\"Y\")&\" year(s), \"&DATEDIF(0,E54,\"ym\")&\" month(s), \"&DATEDIF(0,E54,\"md\")&\" day(s)\",\"\")","v":""}]
[null,null,null,null,{"$f":"IFERROR(AVERAGE(E4:E53),\"\")","v":""},null,null,null,null,null,null,null,null,"CASES v1.4 - 7/2024"]
[null,null,null,null,null,null,null,null,null,null,null,null," Comprehensive Assessment of Supported Employment Service (CASES) companion guide","AVAILABLE HERE"]

{"sheet":"Employer Relations","index":4,"n_rows":57,"n_cols":12,"rows_kept":57,"cut":false,"hidden":false,"merged":[]}
[null,null,null,"Contact Information",null,null,null,null,null,"Employer Relations"]
[null,null,null,null,"YES","NO",null,1,2,3,4,5]
[null,"Organization","Employer/Supervisor Name","Contact Information","Initial Contact Date","Job Developer Making Contact","Last Survey Date","# of Consumers at Location","Satisfaction with Service","Satisfaction with Job Coach","Satisfaction With Employee","Future Reference"]
[]
[]
[]
[]
[]
[]
[]
[]
[]
[]
[]
[]
[]
[]
[]
[]
[]
[]
[]
[]
[]
[]
[]
[]
[]
[]
[]
[]
[]
[]
[]
[]
[]
[]
[]
[]
[]
[]
[]
[]
[]
[]
[]
[]
[]
[]
[]
[]
[]
[]
[null,{"$f":"COUNTA(B4:B53)","v":0},null,null,null,null,null,null,{"$f":"IFERROR(AVERAGE(I4:I53)/5, \"\")","v":""},{"$f":"IFERROR(AVERAGE(J4:J53)/5, \"\")","v":""},{"$f":"IFERROR(AVERAGE(K4:K53)/5, \"\")","v":""},{"$f":"IFERROR(COUNTIF(L4:L53, \"YES\")/COUNTA(L4:L53), \"\")","v":""}]
[]
[null,null,null,null,null,null,null,null,null,null,null,"CASES v1.4 - 7/2024"]
[null,null,null,null,null,null,null,null,null,null," Comprehensive Assessment of Supported Employment Service (CASES) companion guide","AVAILABLE HERE"]

{"sheet":"Closed Case Archive","index":5,"n_rows":510,"n_cols":20,"rows_kept":510,"cut":false,"hidden":false,"merged":[]}
[null,null,null,null,null,null,null,null,null,null,null,null,null,null,null,"Closed Case Archive"]
[null,null,null,null,null,null,null,null,null,null,null,null,null,null,null,null,null,null,"Y","N"]
[null,"Consumer","County","Closed Case (Y/N)","Referral Date","Employment Start Date","Unemployed Period (Days)","Follow Along Transition Date","Job Stabilization Period (Days)","# of  Re-stabilization Attempts","Employment Terminated","Case Closed Date","Currently Employed","Retention Period (Days)","Funding Source","Units/Hours Allotted","Units/Hours Used","Units/Hours Remaining","% Complete","# of Vouchers Used"]
[null,null,null,null,null,null,{"$f":"IF(COUNTIF(D4,\"N\"),\"\",IF(ISBLANK(E4),\"\",IF(ISBLANK(F4),IF(ISBLANK(L4), _xlfn.DAYS(TODAY(),E4), _xlfn.DAYS(L4,E4)), _xlfn.DAYS(F4,E4))))","v":""},null,{"$f":"IF(COUNTIF(D4,\"N\"),\"\",IF(ISBLANK(F4),\"\",IF(ISBLANK(H4),IF(ISBLANK(K4),_xlfn.DAYS(TODAY(),F4),_xlfn.DAYS(K4,F4)),_xlfn.DAYS(H4,F4))))","v":""},null,null,null,{"$f":"IF(COUNTIF(D4,\"N\"),\"ON HOLD\",IF(ISBLANK(K4),IF(ISBLANK(E4),\"\",IF(ISBLANK(F4),\"NO\",\"YES\")),\"NO\"))","v":""},{"$f":"IF(COUNTIF(D4,\"N\"),\"\",IF(ISBLANK(F4),\"\",IF(ISBLANK(K4),_xlfn.DAYS(TODAY(),F4),_xlfn.DAYS(K4,F4))))","v":""},null,null,null,{"$f":"IF(ISBLANK(P4), \"\", P4-Q4)","v":""},{"$f":"IF(ISBLANK(Q4), \"\", Q4/P4)","v":""}]
[null,null,null,null,null,null,{"$f":"IF(COUNTIF(D5,\"N\"),\"\",IF(ISBLANK(E5),\"\",IF(ISBLANK(F5),IF(ISBLANK(L5), _xlfn.DAYS(TODAY(),E5), _xlfn.DAYS(L5,E5)), _xlfn.DAYS(F5,E5))))","v":""},null,{"$f":"IF(COUNTIF(D5,\"N\"),\"\",IF(ISBLANK(F5),\"\",IF(ISBLANK(H5),IF(ISBLANK(K5),_xlfn.DAYS(TODAY(),F5),_xlfn.DAYS(K5,F5)),_xlfn.DAYS(H5,F5))))","v":""},null,null,null,{"$f":"IF(COUNTIF(D5,\"N\"),\"ON HOLD\",IF(ISBLANK(K5),IF(ISBLANK(E5),\"\",IF(ISBLANK(F5),\"NO\",\"YES\")),\"NO\"))","v":""},{"$f":"IF(COUNTIF(D5,\"N\"),\"\",IF(ISBLANK(F5),\"\",IF(ISBLANK(K5),_xlfn.DAYS(TODAY(),F5),_xlfn.DAYS(K5,F5))))","v":""},null,null,null,{"$f":"IF(ISBLANK(P5), \"\", P5-Q5)","v":""},{"$f":"IF(ISBLANK(Q5), \"\", Q5/P5)","v":""}]
[null,null,null,null,null,null,{"$f":"IF(COUNTIF(D6,\"N\"),\"\",IF(ISBLANK(E6),\"\",IF(ISBLANK(F6),IF(ISBLANK(L6), _xlfn.DAYS(TODAY(),E6), _xlfn.DAYS(L6,E6)), _xlfn.DAYS(F6,E6))))","v":""},null,{"$f":"IF(COUNTIF(D6,\"N\"),\"\",IF(ISBLANK(F6),\"\",IF(ISBLANK(H6),IF(ISBLANK(K6),_xlfn.DAYS(TODAY(),F6),_xlfn.DAYS(K6,F6)),_xlfn.DAYS(H6,F6))))","v":""},null,null,null,{"$f":"IF(COUNTIF(D6,\"N\"),\"ON HOLD\",IF(ISBLANK(K6),IF(ISBLANK(E6),\"\",IF(ISBLANK(F6),\"NO\",\"YES\")),\"NO\"))","v":""},{"$f":"IF(COUNTIF(D6,\"N\"),\"\",IF(ISBLANK(F6),\"\",IF(ISBLANK(K6),_xlfn.DAYS(TODAY(),F6),_xlfn.DAYS(K6,F6))))","v":""},null,null,null,{"$f":"IF(ISBLANK(P6), \"\", P6-Q6)","v":""},{"$f":"IF(ISBLANK(Q6), \"\", Q6/P6)","v":""}]
[null,null,null,null,null,null,{"$f":"IF(COUNTIF(D7,\"N\"),\"\",IF(ISBLANK(E7),\"\",IF(ISBLANK(F7),IF(ISBLANK(L7), _xlfn.DAYS(TODAY(),E7), _xlfn.DAYS(L7,E7)), _xlfn.DAYS(F7,E7))))","v":""},null,{"$f":"IF(COUNTIF(D7,\"N\"),\"\",IF(ISBLANK(F7),\"\",IF(ISBLANK(H7),IF(ISBLANK(K7),_xlfn.DAYS(TODAY(),F7),_xlfn.DAYS(K7,F7)),_xlfn.DAYS(H7,F7))))","v":""},null,null,null,{"$f":"IF(COUNTIF(D7,\"N\"),\"ON HOLD\",IF(ISBLANK(K7),IF(ISBLANK(E7),\"\",IF(ISBLANK(F7),\"NO\",\"YES\")),\"NO\"))","v":""},{"$f":"IF(COUNTIF(D7,\"N\"),\"\",IF(ISBLANK(F7),\"\",IF(ISBLANK(K7),_xlfn.DAYS(TODAY(),F7),_xlfn.DAYS(K7,F7))))","v":""},null,null,null,{"$f":"IF(ISBLANK(P7), \"\", P7-Q7)","v":""},{"$f":"IF(ISBLANK(Q7), \"\", Q7/P7)","v":""}]
[null,null,null,null,null,null,{"$f":"IF(COUNTIF(D8,\"N\"),\"\",IF(ISBLANK(E8),\"\",IF(ISBLANK(F8),IF(ISBLANK(L8), _xlfn.DAYS(TODAY(),E8), _xlfn.DAYS(L8,E8)), _xlfn.DAYS(F8,E8))))","v":""},null,{"$f":"IF(COUNTIF(D8,\"N\"),\"\",IF(ISBLANK(F8),\"\",IF(ISBLANK(H8),IF(ISBLANK(K8),_xlfn.DAYS(TODAY(),F8),_xlfn.DAYS(K8,F8)),_xlfn.DAYS(H8,F8))))","v":""},null,null,null,{"$f":"IF(COUNTIF(D8,\"N\"),\"ON HOLD\",IF(ISBLANK(K8),IF(ISBLANK(E8),\"\",IF(ISBLANK(F8),\"NO\",\"YES\")),\"NO\"))","v":""},{"$f":"IF(COUNTIF(D8,\"N\"),\"\",IF(ISBLANK(F8),\"\",IF(ISBLANK(K8),_xlfn.DAYS(TODAY(),F8),_xlfn.DAYS(K8,F8))))","v":""},null,null,null,{"$f":"IF(ISBLANK(P8), \"\", P8-Q8)","v":""},{"$f":"IF(ISBLANK(Q8), \"\", Q8/P8)","v":""}]
[null,null,null,null,null,null,{"$f":"IF(COUNTIF(D9,\"N\"),\"\",IF(ISBLANK(E9),\"\",IF(ISBLANK(F9),IF(ISBLANK(L9), _xlfn.DAYS(TODAY(),E9), _xlfn.DAYS(L9,E9)), _xlfn.DAYS(F9,E9))))","v":""},null,{"$f":"IF(COUNTIF(D9,\"N\"),\"\",IF(ISBLANK(F9),\"\",IF(ISBLANK(H9),IF(ISBLANK(K9),_xlfn.DAYS(TODAY(),F9),_xlfn.DAYS(K9,F9)),_xlfn.DAYS(H9,F9))))","v":""},null,null,null,{"$f":"IF(COUNTIF(D9,\"N\"),\"ON HOLD\",IF(ISBLANK(K9),IF(ISBLANK(E9),\"\",IF(ISBLANK(F9),\"NO\",\"YES\")),\"NO\"))","v":""},{"$f":"IF(COUNTIF(D9,\"N\"),\"\",IF(ISBLANK(F9),\"\",IF(ISBLANK(K9),_xlfn.DAYS(TODAY(),F9),_xlfn.DAYS(K9,F9))))","v":""},null,null,null,{"$f":"IF(ISBLANK(P9), \"\", P9-Q9)","v":""},{"$f":"IF(ISBLANK(Q9), \"\", Q9/P9)","v":""}]
[null,null,null,null,null,null,{"$f":"IF(COUNTIF(D10,\"N\"),\"\",IF(ISBLANK(E10),\"\",IF(ISBLANK(F10),IF(ISBLANK(L10), _xlfn.DAYS(TODAY(),E10), _xlfn.DAYS(L10,E10)), _xlfn.DAYS(F10,E10))))","v":""},null,{"$f":"IF(COUNTIF(D10,\"N\"),\"\",IF(ISBLANK(F10),\"\",IF(ISBLANK(H10),IF(ISBLANK(K10),_xlfn.DAYS(TODAY(),F10),_xlfn.DAYS(K10,F10)),_xlfn.DAYS(H10,F10))))","v":""},null,null,null,{"$f":"IF(COUNTIF(D10,\"N\"),\"ON HOLD\",IF(ISBLANK(K10),IF(ISBLANK(E10),\"\",IF(ISBLANK(F10),\"NO\",\"YES\")),\"NO\"))","v":""},{"$f":"IF(COUNTIF(D10,\"N\"),\"\",IF(ISBLANK(F10),\"\",IF(ISBLANK(K10),_xlfn.DAYS(TODAY(),F10),_xlfn.DAYS(K10,F10))))","v":""},null,null,null,{"$f":"IF(ISBLANK(P10), \"\", P10-Q10)","v":""},{"$f":"IF(ISBLANK(Q10), \"\", Q10/P10)","v":""}]
[null,null,null,null,null,null,{"$f":"IF(COUNTIF(D11,\"N\"),\"\",IF(ISBLANK(E11),\"\",IF(ISBLANK(F11),IF(ISBLANK(L11), _xlfn.DAYS(TODAY(),E11), _xlfn.DAYS(L11,E11)), _xlfn.DAYS(F11,E11))))","v":""},null,{"$f":"IF(COUNTIF(D11,\"N\"),\"\",IF(ISBLANK(F11),\"\",IF(ISBLANK(H11),IF(ISBLANK(K11),_xlfn.DAYS(TODAY(),F11),_xlfn.DAYS(K11,F11)),_xlfn.DAYS(H11,F11))))","v":""},null,null,null,{"$f":"IF(COUNTIF(D11,\"N\"),\"ON HOLD\",IF(ISBLANK(K11),IF(ISBLANK(E11),\"\",IF(ISBLANK(F11),\"NO\",\"YES\")),\"NO\"))","v":""},{"$f":"IF(COUNTIF(D11,\"N\"),\"\",IF(ISBLANK(F11),\"\",IF(ISBLANK(K11),_xlfn.DAYS(TODAY(),F11),_xlfn.DAYS(K11,F11))))","v":""},null,null,null,{"$f":"IF(ISBLANK(P11), \"\", P11-Q11)","v":""},{"$f":"IF(ISBLANK(Q11), \"\", Q11/P11)","v":""}]
[null,null,null,null,null,null,{"$f":"IF(COUNTIF(D12,\"N\"),\"\",IF(ISBLANK(E12),\"\",IF(ISBLANK(F12),IF(ISBLANK(L12), _xlfn.DAYS(TODAY(),E12), _xlfn.DAYS(L12,E12)), _xlfn.DAYS(F12,E12))))","v":""},null,{"$f":"IF(COUNTIF(D12,\"N\"),\"\",IF(ISBLANK(F12),\"\",IF(ISBLANK(H12),IF(ISBLANK(K12),_xlfn.DAYS(TODAY(),F12),_xlfn.DAYS(K12,F12)),_xlfn.DAYS(H12,F12))))","v":""},null,null,null,{"$f":"IF(COUNTIF(D12,\"N\"),\"ON HOLD\",IF(ISBLANK(K12),IF(ISBLANK(E12),\"\",IF(ISBLANK(F12),\"NO\",\"YES\")),\"NO\"))","v":""},{"$f":"IF(COUNTIF(D12,\"N\"),\"\",IF(ISBLANK(F12),\"\",IF(ISBLANK(K12),_xlfn.DAYS(TODAY(),F12),_xlfn.DAYS(K12,F12))))","v":""},null,null,null,{"$f":"IF(ISBLANK(P12), \"\", P12-Q12)","v":""},{"$f":"IF(ISBLANK(Q12), \"\", Q12/P12)","v":""}]
[null,null,null,null,null,null,{"$f":"IF(COUNTIF(D13,\"N\"),\"\",IF(ISBLANK(E13),\"\",IF(ISBLANK(F13),IF(ISBLANK(L13), _xlfn.DAYS(TODAY(),E13), _xlfn.DAYS(L13,E13)), _xlfn.DAYS(F13,E13))))","v":""},null,{"$f":"IF(COUNTIF(D13,\"N\"),\"\",IF(ISBLANK(F13),\"\",IF(ISBLANK(H13),IF(ISBLANK(K13),_xlfn.DAYS(TODAY(),F13),_xlfn.DAYS(K13,F13)),_xlfn.DAYS(H13,F13))))","v":""},null,null,null,{"$f":"IF(COUNTIF(D13,\"N\"),\"ON HOLD\",IF(ISBLANK(K13),IF(ISBLANK(E13),\"\",IF(ISBLANK(F13),\"NO\",\"YES\")),\"NO\"))","v":""},{"$f":"IF(COUNTIF(D13,\"N\"),\"\",IF(ISBLANK(F13),\"\",IF(ISBLANK(K13),_xlfn.DAYS(TODAY(),F13),_xlfn.DAYS(K13,F13))))","v":""},null,null,null,{"$f":"IF(ISBLANK(P13), \"\", P13-Q13)","v":""},{"$f":"IF(ISBLANK(Q13), \"\", Q13/P13)","v":""}]
[null,null,null,null,null,null,{"$f":"IF(COUNTIF(D14,\"N\"),\"\",IF(ISBLANK(E14),\"\",IF(ISBLANK(F14),IF(ISBLANK(L14), _xlfn.DAYS(TODAY(),E14), _xlfn.DAYS(L14,E14)), _xlfn.DAYS(F14,E14))))","v":""},null,{"$f":"IF(COUNTIF(D14,\"N\"),\"\",IF(ISBLANK(F14),\"\",IF(ISBLANK(H14),IF(ISBLANK(K14),_xlfn.DAYS(TODAY(),F14),_xlfn.DAYS(K14,F14)),_xlfn.DAYS(H14,F14))))","v":""},null,null,null,{"$f":"IF(COUNTIF(D14,\"N\"),\"ON HOLD\",IF(ISBLANK(K14),IF(ISBLANK(E14),\"\",IF(ISBLANK(F14),\"NO\",\"YES\")),\"NO\"))","v":""},{"$f":"IF(COUNTIF(D14,\"N\"),\"\",IF(ISBLANK(F14),\"\",IF(ISBLANK(K14),_xlfn.DAYS(TODAY(),F14),_xlfn.DAYS(K14,F14))))","v":""},null,null,null,{"$f":"IF(ISBLANK(P14), \"\", P14-Q14)","v":""},{"$f":"IF(ISBLANK(Q14), \"\", Q14/P14)","v":""}]
[null,null,null,null,null,null,{"$f":"IF(COUNTIF(D15,\"N\"),\"\",IF(ISBLANK(E15),\"\",IF(ISBLANK(F15),IF(ISBLANK(L15), _xlfn.DAYS(TODAY(),E15), _xlfn.DAYS(L15,E15)), _xlfn.DAYS(F15,E15))))","v":""},null,{"$f":"IF(COUNTIF(D15,\"N\"),\"\",IF(ISBLANK(F15),\"\",IF(ISBLANK(H15),IF(ISBLANK(K15),_xlfn.DAYS(TODAY(),F15),_xlfn.DAYS(K15,F15)),_xlfn.DAYS(H15,F15))))","v":""},null,null,null,{"$f":"IF(COUNTIF(D15,\"N\"),\"ON HOLD\",IF(ISBLANK(K15),IF(ISBLANK(E15),\"\",IF(ISBLANK(F15),\"NO\",\"YES\")),\"NO\"))","v":""},{"$f":"IF(COUNTIF(D15,\"N\"),\"\",IF(ISBLANK(F15),\"\",IF(ISBLANK(K15),_xlfn.DAYS(TODAY(),F15),_xlfn.DAYS(K15,F15))))","v":""},null,null,null,{"$f":"IF(ISBLANK(P15), \"\", P15-Q15)","v":""},{"$f":"IF(ISBLANK(Q15), \"\", Q15/P15)","v":""}]
[null,null,null,null,null,null,{"$f":"IF(COUNTIF(D16,\"N\"),\"\",IF(ISBLANK(E16),\"\",IF(ISBLANK(F16),IF(ISBLANK(L16), _xlfn.DAYS(TODAY(),E16), _xlfn.DAYS(L16,E16)), _xlfn.DAYS(F16,E16))))","v":""},null,{"$f":"IF(COUNTIF(D16,\"N\"),\"\",IF(ISBLANK(F16),\"\",IF(ISBLANK(H16),IF(ISBLANK(K16),_xlfn.DAYS(TODAY(),F16),_xlfn.DAYS(K16,F16)),_xlfn.DAYS(H16,F16))))","v":""},null,null,null,{"$f":"IF(COUNTIF(D16,\"N\"),\"ON HOLD\",IF(ISBLANK(K16),IF(ISBLANK(E16),\"\",IF(ISBLANK(F16),\"NO\",\"YES\")),\"NO\"))","v":""},{"$f":"IF(COUNTIF(D16,\"N\"),\"\",IF(ISBLANK(F16),\"\",IF(ISBLANK(K16),_xlfn.DAYS(TODAY(),F16),_xlfn.DAYS(K16,F16))))","v":""},null,null,null,{"$f":"IF(ISBLANK(P16), \"\", P16-Q16)","v":""},{"$f":"IF(ISBLANK(Q16), \"\", Q16/P16)","v":""}]
[null,null,null,null,null,null,{"$f":"IF(COUNTIF(D17,\"N\"),\"\",IF(ISBLANK(E17),\"\",IF(ISBLANK(F17),IF(ISBLANK(L17), _xlfn.DAYS(TODAY(),E17), _xlfn.DAYS(L17,E17)), _xlfn.DAYS(F17,E17))))","v":""},null,{"$f":"IF(COUNTIF(D17,\"N\"),\"\",IF(ISBLANK(F17),\"\",IF(ISBLANK(H17),IF(ISBLANK(K17),_xlfn.DAYS(TODAY(),F17),_xlfn.DAYS(K17,F17)),_xlfn.DAYS(H17,F17))))","v":""},null,null,null,{"$f":"IF(COUNTIF(D17,\"N\"),\"ON HOLD\",IF(ISBLANK(K17),IF(ISBLANK(E17),\"\",IF(ISBLANK(F17),\"NO\",\"YES\")),\"NO\"))","v":""},{"$f":"IF(COUNTIF(D17,\"N\"),\"\",IF(ISBLANK(F17),\"\",IF(ISBLANK(K17),_xlfn.DAYS(TODAY(),F17),_xlfn.DAYS(K17,F17))))","v":""},null,null,null,{"$f":"IF(ISBLANK(P17), \"\", P17-Q17)","v":""},{"$f":"IF(ISBLANK(Q17), \"\", Q17/P17)","v":""}]
[null,null,null,null,null,null,{"$f":"IF(COUNTIF(D18,\"N\"),\"\",IF(ISBLANK(E18),\"\",IF(ISBLANK(F18),IF(ISBLANK(L18), _xlfn.DAYS(TODAY(),E18), _xlfn.DAYS(L18,E18)), _xlfn.DAYS(F18,E18))))","v":""},null,{"$f":"IF(COUNTIF(D18,\"N\"),\"\",IF(ISBLANK(F18),\"\",IF(ISBLANK(H18),IF(ISBLANK(K18),_xlfn.DAYS(TODAY(),F18),_xlfn.DAYS(K18,F18)),_xlfn.DAYS(H18,F18))))","v":""},null,null,null,{"$f":"IF(COUNTIF(D18,\"N\"),\"ON HOLD\",IF(ISBLANK(K18),IF(ISBLANK(E18),\"\",IF(ISBLANK(F18),\"NO\",\"YES\")),\"NO\"))","v":""},{"$f":"IF(COUNTIF(D18,\"N\"),\"\",IF(ISBLANK(F18),\"\",IF(ISBLANK(K18),_xlfn.DAYS(TODAY(),F18),_xlfn.DAYS(K18,F18))))","v":""},null,null,null,{"$f":"IF(ISBLANK(P18), \"\", P18-Q18)","v":""},{"$f":"IF(ISBLANK(Q18), \"\", Q18/P18)","v":""}]
[null,null,null,null,null,null,{"$f":"IF(COUNTIF(D19,\"N\"),\"\",IF(ISBLANK(E19),\"\",IF(ISBLANK(F19),IF(ISBLANK(L19), _xlfn.DAYS(TODAY(),E19), _xlfn.DAYS(L19,E19)), _xlfn.DAYS(F19,E19))))","v":""},null,{"$f":"IF(COUNTIF(D19,\"N\"),\"\",IF(ISBLANK(F19),\"\",IF(ISBLANK(H19),IF(ISBLANK(K19),_xlfn.DAYS(TODAY(),F19),_xlfn.DAYS(K19,F19)),_xlfn.DAYS(H19,F19))))","v":""},null,null,null,{"$f":"IF(COUNTIF(D19,\"N\"),\"ON HOLD\",IF(ISBLANK(K19),IF(ISBLANK(E19),\"\",IF(ISBLANK(F19),\"NO\",\"YES\")),\"NO\"))","v":""},{"$f":"IF(COUNTIF(D19,\"N\"),\"\",IF(ISBLANK(F19),\"\",IF(ISBLANK(K19),_xlfn.DAYS(TODAY(),F19),_xlfn.DAYS(K19,F19))))","v":""},null,null,null,{"$f":"IF(ISBLANK(P19), \"\", P19-Q19)","v":""},{"$f":"IF(ISBLANK(Q19), \"\", Q19/P19)","v":""}]
[null,null,null,null,null,null,{"$f":"IF(COUNTIF(D20,\"N\"),\"\",IF(ISBLANK(E20),\"\",IF(ISBLANK(F20),IF(ISBLANK(L20), _xlfn.DAYS(TODAY(),E20), _xlfn.DAYS(L20,E20)), _xlfn.DAYS(F20,E20))))","v":""},null,{"$f":"IF(COUNTIF(D20,\"N\"),\"\",IF(ISBLANK(F20),\"\",IF(ISBLANK(H20),IF(ISBLANK(K20),_xlfn.DAYS(TODAY(),F20),_xlfn.DAYS(K20,F20)),_xlfn.DAYS(H20,F20))))","v":""},null,null,null,{"$f":"IF(COUNTIF(D20,\"N\"),\"ON HOLD\",IF(ISBLANK(K20),IF(ISBLANK(E20),\"\",IF(ISBLANK(F20),\"NO\",\"YES\")),\"NO\"))","v":""},{"$f":"IF(COUNTIF(D20,\"N\"),\"\",IF(ISBLANK(F20),\"\",IF(ISBLANK(K20),_xlfn.DAYS(TODAY(),F20),_xlfn.DAYS(K20,F20))))","v":""},null,null,null,{"$f":"IF(ISBLANK(P20), \"\", P20-Q20)","v":""},{"$f":"IF(ISBLANK(Q20), \"\", Q20/P20)","v":""}]
[null,null,null,null,null,null,{"$f":"IF(COUNTIF(D21,\"N\"),\"\",IF(ISBLANK(E21),\"\",IF(ISBLANK(F21),IF(ISBLANK(L21), _xlfn.DAYS(TODAY(),E21), _xlfn.DAYS(L21,E21)), _xlfn.DAYS(F21,E21))))","v":""},null,{"$f":"IF(COUNTIF(D21,\"N\"),\"\",IF(ISBLANK(F21),\"\",IF(ISBLANK(H21),IF(ISBLANK(K21),_xlfn.DAYS(TODAY(),F21),_xlfn.DAYS(K21,F21)),_xlfn.DAYS(H21,F21))))","v":""},null,null,null,{"$f":"IF(COUNTIF(D21,\"N\"),\"ON HOLD\",IF(ISBLANK(K21),IF(ISBLANK(E21),\"\",IF(ISBLANK(F21),\"NO\",\"YES\")),\"NO\"))","v":""},{"$f":"IF(COUNTIF(D21,\"N\"),\"\",IF(ISBLANK(F21),\"\",IF(ISBLANK(K21),_xlfn.DAYS(TODAY(),F21),_xlfn.DAYS(K21,F21))))","v":""},null,null,null,{"$f":"IF(ISBLANK(P21), \"\", P21-Q21)","v":""},{"$f":"IF(ISBLANK(Q21), \"\", Q21/P21)","v":""}]
[null,null,null,null,null,null,{"$f":"IF(COUNTIF(D22,\"N\"),\"\",IF(ISBLANK(E22),\"\",IF(ISBLANK(F22),IF(ISBLANK(L22), _xlfn.DAYS(TODAY(),E22), _xlfn.DAYS(L22,E22)), _xlfn.DAYS(F22,E22))))","v":""},null,{"$f":"IF(COUNTIF(D22,\"N\"),\"\",IF(ISBLANK(F22),\"\",IF(ISBLANK(H22),IF(ISBLANK(K22),_xlfn.DAYS(TODAY(),F22),_xlfn.DAYS(K22,F22)),_xlfn.DAYS(H22,F22))))","v":""},null,null,null,{"$f":"IF(COUNTIF(D22,\"N\"),\"ON HOLD\",IF(ISBLANK(K22),IF(ISBLANK(E22),\"\",IF(ISBLANK(F22),\"NO\",\"YES\")),\"NO\"))","v":""},{"$f":"IF(COUNTIF(D22,\"N\"),\"\",IF(ISBLANK(F22),\"\",IF(ISBLANK(K22),_xlfn.DAYS(TODAY(),F22),_xlfn.DAYS(K22,F22))))","v":""},null,null,null,{"$f":"IF(ISBLANK(P22), \"\", P22-Q22)","v":""},{"$f":"IF(ISBLANK(Q22), \"\", Q22/P22)","v":""}]
[null,null,null,null,null,null,{"$f":"IF(COUNTIF(D23,\"N\"),\"\",IF(ISBLANK(E23),\"\",IF(ISBLANK(F23),IF(ISBLANK(L23), _xlfn.DAYS(TODAY(),E23), _xlfn.DAYS(L23,E23)), _xlfn.DAYS(F23,E23))))","v":""},null,{"$f":"IF(COUNTIF(D23,\"N\"),\"\",IF(ISBLANK(F23),\"\",IF(ISBLANK(H23),IF(ISBLANK(K23),_xlfn.DAYS(TODAY(),F23),_xlfn.DAYS(K23,F23)),_xlfn.DAYS(H23,F23))))","v":""},null,null,null,{"$f":"IF(COUNTIF(D23,\"N\"),\"ON HOLD\",IF(ISBLANK(K23),IF(ISBLANK(E23),\"\",IF(ISBLANK(F23),\"NO\",\"YES\")),\"NO\"))","v":""},{"$f":"IF(COUNTIF(D23,\"N\"),\"\",IF(ISBLANK(F23),\"\",IF(ISBLANK(K23),_xlfn.DAYS(TODAY(),F23),_xlfn.DAYS(K23,F23))))","v":""},null,null,null,{"$f":"IF(ISBLANK(P23), \"\", P23-Q23)","v":""},{"$f":"IF(ISBLANK(Q23), \"\", Q23/P23)","v":""}]
[null,null,null,null,null,null,{"$f":"IF(COUNTIF(D24,\"N\"),\"\",IF(ISBLANK(E24),\"\",IF(ISBLANK(F24),IF(ISBLANK(L24), _xlfn.DAYS(TODAY(),E24), _xlfn.DAYS(L24,E24)), _xlfn.DAYS(F24,E24))))","v":""},null,{"$f":"IF(COUNTIF(D24,\"N\"),\"\",IF(ISBLANK(F24),\"\",IF(ISBLANK(H24),IF(ISBLANK(K24),_xlfn.DAYS(TODAY(),F24),_xlfn.DAYS(K24,F24)),_xlfn.DAYS(H24,F24))))","v":""},null,null,null,{"$f":"IF(COUNTIF(D24,\"N\"),\"ON HOLD\",IF(ISBLANK(K24),IF(ISBLANK(E24),\"\",IF(ISBLANK(F24),\"NO\",\"YES\")),\"NO\"))","v":""},{"$f":"IF(COUNTIF(D24,\"N\"),\"\",IF(ISBLANK(F24),\"\",IF(ISBLANK(K24),_xlfn.DAYS(TODAY(),F24),_xlfn.DAYS(K24,F24))))","v":""},null,null,null,{"$f":"IF(ISBLANK(P24), \"\", P24-Q24)","v":""},{"$f":"IF(ISBLANK(Q24), \"\", Q24/P24)","v":""}]
[null,null,null,null,null,null,{"$f":"IF(COUNTIF(D25,\"N\"),\"\",IF(ISBLANK(E25),\"\",IF(ISBLANK(F25),IF(ISBLANK(L25), _xlfn.DAYS(TODAY(),E25), _xlfn.DAYS(L25,E25)), _xlfn.DAYS(F25,E25))))","v":""},null,{"$f":"IF(COUNTIF(D25,\"N\"),\"\",IF(ISBLANK(F25),\"\",IF(ISBLANK(H25),IF(ISBLANK(K25),_xlfn.DAYS(TODAY(),F25),_xlfn.DAYS(K25,F25)),_xlfn.DAYS(H25,F25))))","v":""},null,null,null,{"$f":"IF(COUNTIF(D25,\"N\"),\"ON HOLD\",IF(ISBLANK(K25),IF(ISBLANK(E25),\"\",IF(ISBLANK(F25),\"NO\",\"YES\")),\"NO\"))","v":""},{"$f":"IF(COUNTIF(D25,\"N\"),\"\",IF(ISBLANK(F25),\"\",IF(ISBLANK(K25),_xlfn.DAYS(TODAY(),F25),_xlfn.DAYS(K25,F25))))","v":""},null,null,null,{"$f":"IF(ISBLANK(P25), \"\", P25-Q25)","v":""},{"$f":"IF(ISBLANK(Q25), \"\", Q25/P25)","v":""}]
[null,null,null,null,null,null,{"$f":"IF(COUNTIF(D26,\"N\"),\"\",IF(ISBLANK(E26),\"\",IF(ISBLANK(F26),IF(ISBLANK(L26), _xlfn.DAYS(TODAY(),E26), _xlfn.DAYS(L26,E26)), _xlfn.DAYS(F26,E26))))","v":""},null,{"$f":"IF(COUNTIF(D26,\"N\"),\"\",IF(ISBLANK(F26),\"\",IF(ISBLANK(H26),IF(ISBLANK(K26),_xlfn.DAYS(TODAY(),F26),_xlfn.DAYS(K26,F26)),_xlfn.DAYS(H26,F26))))","v":""},null,null,null,{"$f":"IF(COUNTIF(D26,\"N\"),\"ON HOLD\",IF(ISBLANK(K26),IF(ISBLANK(E26),\"\",IF(ISBLANK(F26),\"NO\",\"YES\")),\"NO\"))","v":""},{"$f":"IF(COUNTIF(D26,\"N\"),\"\",IF(ISBLANK(F26),\"\",IF(ISBLANK(K26),_xlfn.DAYS(TODAY(),F26),_xlfn.DAYS(K26,F26))))","v":""},null,null,null,{"$f":"IF(ISBLANK(P26), \"\", P26-Q26)","v":""},{"$f":"IF(ISBLANK(Q26), \"\", Q26/P26)","v":""}]
[null,null,null,null,null,null,{"$f":"IF(COUNTIF(D27,\"N\"),\"\",IF(ISBLANK(E27),\"\",IF(ISBLANK(F27),IF(ISBLANK(L27), _xlfn.DAYS(TODAY(),E27), _xlfn.DAYS(L27,E27)), _xlfn.DAYS(F27,E27))))","v":""},null,{"$f":"IF(COUNTIF(D27,\"N\"),\"\",IF(ISBLANK(F27),\"\",IF(ISBLANK(H27),IF(ISBLANK(K27),_xlfn.DAYS(TODAY(),F27),_xlfn.DAYS(K27,F27)),_xlfn.DAYS(H27,F27))))","v":""},null,null,null,{"$f":"IF(COUNTIF(D27,\"N\"),\"ON HOLD\",IF(ISBLANK(K27),IF(ISBLANK(E27),\"\",IF(ISBLANK(F27),\"NO\",\"YES\")),\"NO\"))","v":""},{"$f":"IF(COUNTIF(D27,\"N\"),\"\",IF(ISBLANK(F27),\"\",IF(ISBLANK(K27),_xlfn.DAYS(TODAY(),F27),_xlfn.DAYS(K27,F27))))","v":""},null,null,null,{"$f":"IF(ISBLANK(P27), \"\", P27-Q27)","v":""},{"$f":"IF(ISBLANK(Q27), \"\", Q27/P27)","v":""}]
[null,null,null,null,null,null,{"$f":"IF(COUNTIF(D28,\"N\"),\"\",IF(ISBLANK(E28),\"\",IF(ISBLANK(F28),IF(ISBLANK(L28), _xlfn.DAYS(TODAY(),E28), _xlfn.DAYS(L28,E28)), _xlfn.DAYS(F28,E28))))","v":""},null,{"$f":"IF(COUNTIF(D28,\"N\"),\"\",IF(ISBLANK(F28),\"\",IF(ISBLANK(H28),IF(ISBLANK(K28),_xlfn.DAYS(TODAY(),F28),_xlfn.DAYS(K28,F28)),_xlfn.DAYS(H28,F28))))","v":""},null,null,null,{"$f":"IF(COUNTIF(D28,\"N\"),\"ON HOLD\",IF(ISBLANK(K28),IF(ISBLANK(E28),\"\",IF(ISBLANK(F28),\"NO\",\"YES\")),\"NO\"))","v":""},{"$f":"IF(COUNTIF(D28,\"N\"),\"\",IF(ISBLANK(F28),\"\",IF(ISBLANK(K28),_xlfn.DAYS(TODAY(),F28),_xlfn.DAYS(K28,F28))))","v":""},null,null,null,{"$f":"IF(ISBLANK(P28), \"\", P28-Q28)","v":""},{"$f":"IF(ISBLANK(Q28), \"\", Q28/P28)","v":""}]
[null,null,null,null,null,null,{"$f":"IF(COUNTIF(D29,\"N\"),\"\",IF(ISBLANK(E29),\"\",IF(ISBLANK(F29),IF(ISBLANK(L29), _xlfn.DAYS(TODAY(),E29), _xlfn.DAYS(L29,E29)), _xlfn.DAYS(F29,E29))))","v":""},null,{"$f":"IF(COUNTIF(D29,\"N\"),\"\",IF(ISBLANK(F29),\"\",IF(ISBLANK(H29),IF(ISBLANK(K29),_xlfn.DAYS(TODAY(),F29),_xlfn.DAYS(K29,F29)),_xlfn.DAYS(H29,F29))))","v":""},null,null,null,{"$f":"IF(COUNTIF(D29,\"N\"),\"ON HOLD\",IF(ISBLANK(K29),IF(ISBLANK(E29),\"\",IF(ISBLANK(F29),\"NO\",\"YES\")),\"NO\"))","v":""},{"$f":"IF(COUNTIF(D29,\"N\"),\"\",IF(ISBLANK(F29),\"\",IF(ISBLANK(K29),_xlfn.DAYS(TODAY(),F29),_xlfn.DAYS(K29,F29))))","v":""},null,null,null,{"$f":"IF(ISBLANK(P29), \"\", P29-Q29)","v":""},{"$f":"IF(ISBLANK(Q29), \"\", Q29/P29)","v":""}]
[null,null,null,null,null,null,{"$f":"IF(COUNTIF(D30,\"N\"),\"\",IF(ISBLANK(E30),\"\",IF(ISBLANK(F30),IF(ISBLANK(L30), _xlfn.DAYS(TODAY(),E30), _xlfn.DAYS(L30,E30)), _xlfn.DAYS(F30,E30))))","v":""},null,{"$f":"IF(COUNTIF(D30,\"N\"),\"\",IF(ISBLANK(F30),\"\",IF(ISBLANK(H30),IF(ISBLANK(K30),_xlfn.DAYS(TODAY(),F30),_xlfn.DAYS(K30,F30)),_xlfn.DAYS(H30,F30))))","v":""},null,null,null,{"$f":"IF(COUNTIF(D30,\"N\"),\"ON HOLD\",IF(ISBLANK(K30),IF(ISBLANK(E30),\"\",IF(ISBLANK(F30),\"NO\",\"YES\")),\"NO\"))","v":""},{"$f":"IF(COUNTIF(D30,\"N\"),\"\",IF(ISBLANK(F30),\"\",IF(ISBLANK(K30),_xlfn.DAYS(TODAY(),F30),_xlfn.DAYS(K30,F30))))","v":""},null,null,null,{"$f":"IF(ISBLANK(P30), \"\", P30-Q30)","v":""},{"$f":"IF(ISBLANK(Q30), \"\", Q30/P30)","v":""}]
[null,null,null,null,null,null,{"$f":"IF(COUNTIF(D31,\"N\"),\"\",IF(ISBLANK(E31),\"\",IF(ISBLANK(F31),IF(ISBLANK(L31), _xlfn.DAYS(TODAY(),E31), _xlfn.DAYS(L31,E31)), _xlfn.DAYS(F31,E31))))","v":""},null,{"$f":"IF(COUNTIF(D31,\"N\"),\"\",IF(ISBLANK(F31),\"\",IF(ISBLANK(H31),IF(ISBLANK(K31),_xlfn.DAYS(TODAY(),F31),_xlfn.DAYS(K31,F31)),_xlfn.DAYS(H31,F31))))","v":""},null,null,null,{"$f":"IF(COUNTIF(D31,\"N\"),\"ON HOLD\",IF(ISBLANK(K31),IF(ISBLANK(E31),\"\",IF(ISBLANK(F31),\"NO\",\"YES\")),\"NO\"))","v":""},{"$f":"IF(COUNTIF(D31,\"N\"),\"\",IF(ISBLANK(F31),\"\",IF(ISBLANK(K31),_xlfn.DAYS(TODAY(),F31),_xlfn.DAYS(K31,F31))))","v":""},null,null,null,{"$f":"IF(ISBLANK(P31), \"\", P31-Q31)","v":""},{"$f":"IF(ISBLANK(Q31), \"\", Q31/P31)","v":""}]
[null,null,null,null,null,null,{"$f":"IF(COUNTIF(D32,\"N\"),\"\",IF(ISBLANK(E32),\"\",IF(ISBLANK(F32),IF(ISBLANK(L32), _xlfn.DAYS(TODAY(),E32), _xlfn.DAYS(L32,E32)), _xlfn.DAYS(F32,E32))))","v":""},null,{"$f":"IF(COUNTIF(D32,\"N\"),\"\",IF(ISBLANK(F32),\"\",IF(ISBLANK(H32),IF(ISBLANK(K32),_xlfn.DAYS(TODAY(),F32),_xlfn.DAYS(K32,F32)),_xlfn.DAYS(H32,F32))))","v":""},null,null,null,{"$f":"IF(COUNTIF(D32,\"N\"),\"ON HOLD\",IF(ISBLANK(K32),IF(ISBLANK(E32),\"\",IF(ISBLANK(F32),\"NO\",\"YES\")),\"NO\"))","v":""},{"$f":"IF(COUNTIF(D32,\"N\"),\"\",IF(ISBLANK(F32),\"\",IF(ISBLANK(K32),_xlfn.DAYS(TODAY(),F32),_xlfn.DAYS(K32,F32))))","v":""},null,null,null,{"$f":"IF(ISBLANK(P32), \"\", P32-Q32)","v":""},{"$f":"IF(ISBLANK(Q32), \"\", Q32/P32)","v":""}]
[null,null,null,null,null,null,{"$f":"IF(COUNTIF(D33,\"N\"),\"\",IF(ISBLANK(E33),\"\",IF(ISBLANK(F33),IF(ISBLANK(L33), _xlfn.DAYS(TODAY(),E33), _xlfn.DAYS(L33,E33)), _xlfn.DAYS(F33,E33))))","v":""},null,{"$f":"IF(COUNTIF(D33,\"N\"),\"\",IF(ISBLANK(F33),\"\",IF(ISBLANK(H33),IF(ISBLANK(K33),_xlfn.DAYS(TODAY(),F33),_xlfn.DAYS(K33,F33)),_xlfn.DAYS(H33,F33))))","v":""},null,null,null,{"$f":"IF(COUNTIF(D33,\"N\"),\"ON HOLD\",IF(ISBLANK(K33),IF(ISBLANK(E33),\"\",IF(ISBLANK(F33),\"NO\",\"YES\")),\"NO\"))","v":""},{"$f":"IF(COUNTIF(D33,\"N\"),\"\",IF(ISBLANK(F33),\"\",IF(ISBLANK(K33),_xlfn.DAYS(TODAY(),F33),_xlfn.DAYS(K33,F33))))","v":""},null,null,null,{"$f":"IF(ISBLANK(P33), \"\", P33-Q33)","v":""},{"$f":"IF(ISBLANK(Q33), \"\", Q33/P33)","v":""}]
[null,null,null,null,null,null,{"$f":"IF(COUNTIF(D34,\"N\"),\"\",IF(ISBLANK(E34),\"\",IF(ISBLANK(F34),IF(ISBLANK(L34), _xlfn.DAYS(TODAY(),E34), _xlfn.DAYS(L34,E34)), _xlfn.DAYS(F34,E34))))","v":""},null,{"$f":"IF(COUNTIF(D34,\"N\"),\"\",IF(ISBLANK(F34),\"\",IF(ISBLANK(H34),IF(ISBLANK(K34),_xlfn.DAYS(TODAY(),F34),_xlfn.DAYS(K34,F34)),_xlfn.DAYS(H34,F34))))","v":""},null,null,null,{"$f":"IF(COUNTIF(D34,\"N\"),\"ON HOLD\",IF(ISBLANK(K34),IF(ISBLANK(E34),\"\",IF(ISBLANK(F34),\"NO\",\"YES\")),\"NO\"))","v":""},{"$f":"IF(COUNTIF(D34,\"N\"),\"\",IF(ISBLANK(F34),\"\",IF(ISBLANK(K34),_xlfn.DAYS(TODAY(),F34),_xlfn.DAYS(K34,F34))))","v":""},null,null,null,{"$f":"IF(ISBLANK(P34), \"\", P34-Q34)","v":""},{"$f":"IF(ISBLANK(Q34), \"\", Q34/P34)","v":""}]
[null,null,null,null,null,null,{"$f":"IF(COUNTIF(D35,\"N\"),\"\",IF(ISBLANK(E35),\"\",IF(ISBLANK(F35),IF(ISBLANK(L35), _xlfn.DAYS(TODAY(),E35), _xlfn.DAYS(L35,E35)), _xlfn.DAYS(F35,E35))))","v":""},null,{"$f":"IF(COUNTIF(D35,\"N\"),\"\",IF(ISBLANK(F35),\"\",IF(ISBLANK(H35),IF(ISBLANK(K35),_xlfn.DAYS(TODAY(),F35),_xlfn.DAYS(K35,F35)),_xlfn.DAYS(H35,F35))))","v":""},null,null,null,{"$f":"IF(COUNTIF(D35,\"N\"),\"ON HOLD\",IF(ISBLANK(K35),IF(ISBLANK(E35),\"\",IF(ISBLANK(F35),\"NO\",\"YES\")),\"NO\"))","v":""},{"$f":"IF(COUNTIF(D35,\"N\"),\"\",IF(ISBLANK(F35),\"\",IF(ISBLANK(K35),_xlfn.DAYS(TODAY(),F35),_xlfn.DAYS(K35,F35))))","v":""},null,null,null,{"$f":"IF(ISBLANK(P35), \"\", P35-Q35)","v":""},{"$f":"IF(ISBLANK(Q35), \"\", Q35/P35)","v":""}]
[null,null,null,null,null,null,{"$f":"IF(COUNTIF(D36,\"N\"),\"\",IF(ISBLANK(E36),\"\",IF(ISBLANK(F36),IF(ISBLANK(L36), _xlfn.DAYS(TODAY(),E36), _xlfn.DAYS(L36,E36)), _xlfn.DAYS(F36,E36))))","v":""},null,{"$f":"IF(COUNTIF(D36,\"N\"),\"\",IF(ISBLANK(F36),\"\",IF(ISBLANK(H36),IF(ISBLANK(K36),_xlfn.DAYS(TODAY(),F36),_xlfn.DAYS(K36,F36)),_xlfn.DAYS(H36,F36))))","v":""},null,null,null,{"$f":"IF(COUNTIF(D36,\"N\"),\"ON HOLD\",IF(ISBLANK(K36),IF(ISBLANK(E36),\"\",IF(ISBLANK(F36),\"NO\",\"YES\")),\"NO\"))","v":""},{"$f":"IF(COUNTIF(D36,\"N\"),\"\",IF(ISBLANK(F36),\"\",IF(ISBLANK(K36),_xlfn.DAYS(TODAY(),F36),_xlfn.DAYS(K36,F36))))","v":""},null,null,null,{"$f":"IF(ISBLANK(P36), \"\", P36-Q36)","v":""},{"$f":"IF(ISBLANK(Q36), \"\", Q36/P36)","v":""}]
[null,null,null,null,null,null,{"$f":"IF(COUNTIF(D37,\"N\"),\"\",IF(ISBLANK(E37),\"\",IF(ISBLANK(F37),IF(ISBLANK(L37), _xlfn.DAYS(TODAY(),E37), _xlfn.DAYS(L37,E37)), _xlfn.DAYS(F37,E37))))","v":""},null,{"$f":"IF(COUNTIF(D37,\"N\"),\"\",IF(ISBLANK(F37),\"\",IF(ISBLANK(H37),IF(ISBLANK(K37),_xlfn.DAYS(TODAY(),F37),_xlfn.DAYS(K37,F37)),_xlfn.DAYS(H37,F37))))","v":""},null,null,null,{"$f":"IF(COUNTIF(D37,\"N\"),\"ON HOLD\",IF(ISBLANK(K37),IF(ISBLANK(E37),\"\",IF(ISBLANK(F37),\"NO\",\"YES\")),\"NO\"))","v":""},{"$f":"IF(COUNTIF(D37,\"N\"),\"\",IF(ISBLANK(F37),\"\",IF(ISBLANK(K37),_xlfn.DAYS(TODAY(),F37),_xlfn.DAYS(K37,F37))))","v":""},null,null,null,{"$f":"IF(ISBLANK(P37), \"\", P37-Q37)","v":""},{"$f":"IF(ISBLANK(Q37), \"\", Q37/P37)","v":""}]
[null,null,null,null,null,null,{"$f":"IF(COUNTIF(D38,\"N\"),\"\",IF(ISBLANK(E38),\"\",IF(ISBLANK(F38),IF(ISBLANK(L38), _xlfn.DAYS(TODAY(),E38), _xlfn.DAYS(L38,E38)), _xlfn.DAYS(F38,E38))))","v":""},null,{"$f":"IF(COUNTIF(D38,\"N\"),\"\",IF(ISBLANK(F38),\"\",IF(ISBLANK(H38),IF(ISBLANK(K38),_xlfn.DAYS(TODAY(),F38),_xlfn.DAYS(K38,F38)),_xlfn.DAYS(H38,F38))))","v":""},null,null,null,{"$f":"IF(COUNTIF(D38,\"N\"),\"ON HOLD\",IF(ISBLANK(K38),IF(ISBLANK(E38),\"\",IF(ISBLANK(F38),\"NO\",\"YES\")),\"NO\"))","v":""},{"$f":"IF(COUNTIF(D38,\"N\"),\"\",IF(ISBLANK(F38),\"\",IF(ISBLANK(K38),_xlfn.DAYS(TODAY(),F38),_xlfn.DAYS(K38,F38))))","v":""},null,null,null,{"$f":"IF(ISBLANK(P38), \"\", P38-Q38)","v":""},{"$f":"IF(ISBLANK(Q38), \"\", Q38/P38)","v":""}]
[null,null,null,null,null,null,{"$f":"IF(COUNTIF(D39,\"N\"),\"\",IF(ISBLANK(E39),\"\",IF(ISBLANK(F39),IF(ISBLANK(L39), _xlfn.DAYS(TODAY(),E39), _xlfn.DAYS(L39,E39)), _xlfn.DAYS(F39,E39))))","v":""},null,{"$f":"IF(COUNTIF(D39,\"N\"),\"\",IF(ISBLANK(F39),\"\",IF(ISBLANK(H39),IF(ISBLANK(K39),_xlfn.DAYS(TODAY(),F39),_xlfn.DAYS(K39,F39)),_xlfn.DAYS(H39,F39))))","v":""},null,null,null,{"$f":"IF(COUNTIF(D39,\"N\"),\"ON HOLD\",IF(ISBLANK(K39),IF(ISBLANK(E39),\"\",IF(ISBLANK(F39),\"NO\",\"YES\")),\"NO\"))","v":""},{"$f":"IF(COUNTIF(D39,\"N\"),\"\",IF(ISBLANK(F39),\"\",IF(ISBLANK(K39),_xlfn.DAYS(TODAY(),F39),_xlfn.DAYS(K39,F39))))","v":""},null,null,null,{"$f":"IF(ISBLANK(P39), \"\", P39-Q39)","v":""},{"$f":"IF(ISBLANK(Q39), \"\", Q39/P39)","v":""}]
[null,null,null,null,null,null,{"$f":"IF(COUNTIF(D40,\"N\"),\"\",IF(ISBLANK(E40),\"\",IF(ISBLANK(F40),IF(ISBLANK(L40), _xlfn.DAYS(TODAY(),E40), _xlfn.DAYS(L40,E40)), _xlfn.DAYS(F40,E40))))","v":""},null,{"$f":"IF(COUNTIF(D40,\"N\"),\"\",IF(ISBLANK(F40),\"\",IF(ISBLANK(H40),IF(ISBLANK(K40),_xlfn.DAYS(TODAY(),F40),_xlfn.DAYS(K40,F40)),_xlfn.DAYS(H40,F40))))","v":""},null,null,null,{"$f":"IF(COUNTIF(D40,\"N\"),\"ON HOLD\",IF(ISBLANK(K40),IF(ISBLANK(E40),\"\",IF(ISBLANK(F40),\"NO\",\"YES\")),\"NO\"))","v":""},{"$f":"IF(COUNTIF(D40,\"N\"),\"\",IF(ISBLANK(F40),\"\",IF(ISBLANK(K40),_xlfn.DAYS(TODAY(),F40),_xlfn.DAYS(K40,F40))))","v":""},null,null,null,{"$f":"IF(ISBLANK(P40), \"\", P40-Q40)","v":""},{"$f":"IF(ISBLANK(Q40), \"\", Q40/P40)","v":""}]
[null,null,null,null,null,null,{"$f":"IF(COUNTIF(D41,\"N\"),\"\",IF(ISBLANK(E41),\"\",IF(ISBLANK(F41),IF(ISBLANK(L41), _xlfn.DAYS(TODAY(),E41), _xlfn.DAYS(L41,E41)), _xlfn.DAYS(F41,E41))))","v":""},null,{"$f":"IF(COUNTIF(D41,\"N\"),\"\",IF(ISBLANK(F41),\"\",IF(ISBLANK(H41),IF(ISBLANK(K41),_xlfn.DAYS(TODAY(),F41),_xlfn.DAYS(K41,F41)),_xlfn.DAYS(H41,F41))))","v":""},null,null,null,{"$f":"IF(COUNTIF(D41,\"N\"),\"ON HOLD\",IF(ISBLANK(K41),IF(ISBLANK(E41),\"\",IF(ISBLANK(F41),\"NO\",\"YES\")),\"NO\"))","v":""},{"$f":"IF(COUNTIF(D41,\"N\"),\"\",IF(ISBLANK(F41),\"\",IF(ISBLANK(K41),_xlfn.DAYS(TODAY(),F41),_xlfn.DAYS(K41,F41))))","v":""},null,null,null,{"$f":"IF(ISBLANK(P41), \"\", P41-Q41)","v":""},{"$f":"IF(ISBLANK(Q41), \"\", Q41/P41)","v":""}]
[null,null,null,null,null,null,{"$f":"IF(COUNTIF(D42,\"N\"),\"\",IF(ISBLANK(E42),\"\",IF(ISBLANK(F42),IF(ISBLANK(L42), _xlfn.DAYS(TODAY(),E42), _xlfn.DAYS(L42,E42)), _xlfn.DAYS(F42,E42))))","v":""},null,{"$f":"IF(COUNTIF(D42,\"N\"),\"\",IF(ISBLANK(F42),\"\",IF(ISBLANK(H42),IF(ISBLANK(K42),_xlfn.DAYS(TODAY(),F42),_xlfn.DAYS(K42,F42)),_xlfn.DAYS(H42,F42))))","v":""},null,null,null,{"$f":"IF(COUNTIF(D42,\"N\"),\"ON HOLD\",IF(ISBLANK(K42),IF(ISBLANK(E42),\"\",IF(ISBLANK(F42),\"NO\",\"YES\")),\"NO\"))","v":""},{"$f":"IF(COUNTIF(D42,\"N\"),\"\",IF(ISBLANK(F42),\"\",IF(ISBLANK(K42),_xlfn.DAYS(TODAY(),F42),_xlfn.DAYS(K42,F42))))","v":""},null,null,null,{"$f":"IF(ISBLANK(P42), \"\", P42-Q42)","v":""},{"$f":"IF(ISBLANK(Q42), \"\", Q42/P42)","v":""}]
[null,null,null,null,null,null,{"$f":"IF(COUNTIF(D43,\"N\"),\"\",IF(ISBLANK(E43),\"\",IF(ISBLANK(F43),IF(ISBLANK(L43), _xlfn.DAYS(TODAY(),E43), _xlfn.DAYS(L43,E43)), _xlfn.DAYS(F43,E43))))","v":""},null,{"$f":"IF(COUNTIF(D43,\"N\"),\"\",IF(ISBLANK(F43),\"\",IF(ISBLANK(H43),IF(ISBLANK(K43),_xlfn.DAYS(TODAY(),F43),_xlfn.DAYS(K43,F43)),_xlfn.DAYS(H43,F43))))","v":""},null,null,null,{"$f":"IF(COUNTIF(D43,\"N\"),\"ON HOLD\",IF(ISBLANK(K43),IF(ISBLANK(E43),\"\",IF(ISBLANK(F43),\"NO\",\"YES\")),\"NO\"))","v":""},{"$f":"IF(COUNTIF(D43,\"N\"),\"\",IF(ISBLANK(F43),\"\",IF(ISBLANK(K43),_xlfn.DAYS(TODAY(),F43),_xlfn.DAYS(K43,F43))))","v":""},null,null,null,{"$f":"IF(ISBLANK(P43), \"\", P43-Q43)","v":""},{"$f":"IF(ISBLANK(Q43), \"\", Q43/P43)","v":""}]
[null,null,null,null,null,null,{"$f":"IF(COUNTIF(D44,\"N\"),\"\",IF(ISBLANK(E44),\"\",IF(ISBLANK(F44),IF(ISBLANK(L44), _xlfn.DAYS(TODAY(),E44), _xlfn.DAYS(L44,E44)), _xlfn.DAYS(F44,E44))))","v":""},null,{"$f":"IF(COUNTIF(D44,\"N\"),\"\",IF(ISBLANK(F44),\"\",IF(ISBLANK(H44),IF(ISBLANK(K44),_xlfn.DAYS(TODAY(),F44),_xlfn.DAYS(K44,F44)),_xlfn.DAYS(H44,F44))))","v":""},null,null,null,{"$f":"IF(COUNTIF(D44,\"N\"),\"ON HOLD\",IF(ISBLANK(K44),IF(ISBLANK(E44),\"\",IF(ISBLANK(F44),\"NO\",\"YES\")),\"NO\"))","v":""},{"$f":"IF(COUNTIF(D44,\"N\"),\"\",IF(ISBLANK(F44),\"\",IF(ISBLANK(K44),_xlfn.DAYS(TODAY(),F44),_xlfn.DAYS(K44,F44))))","v":""},null,null,null,{"$f":"IF(ISBLANK(P44), \"\", P44-Q44)","v":""},{"$f":"IF(ISBLANK(Q44), \"\", Q44/P44)","v":""}]
[null,null,null,null,null,null,{"$f":"IF(COUNTIF(D45,\"N\"),\"\",IF(ISBLANK(E45),\"\",IF(ISBLANK(F45),IF(ISBLANK(L45), _xlfn.DAYS(TODAY(),E45), _xlfn.DAYS(L45,E45)), _xlfn.DAYS(F45,E45))))","v":""},null,{"$f":"IF(COUNTIF(D45,\"N\"),\"\",IF(ISBLANK(F45),\"\",IF(ISBLANK(H45),IF(ISBLANK(K45),_xlfn.DAYS(TODAY(),F45),_xlfn.DAYS(K45,F45)),_xlfn.DAYS(H45,F45))))","v":""},null,null,null,{"$f":"IF(COUNTIF(D45,\"N\"),\"ON HOLD\",IF(ISBLANK(K45),IF(ISBLANK(E45),\"\",IF(ISBLANK(F45),\"NO\",\"YES\")),\"NO\"))","v":""},{"$f":"IF(COUNTIF(D45,\"N\"),\"\",IF(ISBLANK(F45),\"\",IF(ISBLANK(K45),_xlfn.DAYS(TODAY(),F45),_xlfn.DAYS(K45,F45))))","v":""},null,null,null,{"$f":"IF(ISBLANK(P45), \"\", P45-Q45)","v":""},{"$f":"IF(ISBLANK(Q45), \"\", Q45/P45)","v":""}]
[null,null,null,null,null,null,{"$f":"IF(COUNTIF(D46,\"N\"),\"\",IF(ISBLANK(E46),\"\",IF(ISBLANK(F46),IF(ISBLANK(L46), _xlfn.DAYS(TODAY(),E46), _xlfn.DAYS(L46,E46)), _xlfn.DAYS(F46,E46))))","v":""},null,{"$f":"IF(COUNTIF(D46,\"N\"),\"\",IF(ISBLANK(F46),\"\",IF(ISBLANK(H46),IF(ISBLANK(K46),_xlfn.DAYS(TODAY(),F46),_xlfn.DAYS(K46,F46)),_xlfn.DAYS(H46,F46))))","v":""},null,null,null,{"$f":"IF(COUNTIF(D46,\"N\"),\"ON HOLD\",IF(ISBLANK(K46),IF(ISBLANK(E46),\"\",IF(ISBLANK(F46),\"NO\",\"YES\")),\"NO\"))","v":""},{"$f":"IF(COUNTIF(D46,\"N\"),\"\",IF(ISBLANK(F46),\"\",IF(ISBLANK(K46),_xlfn.DAYS(TODAY(),F46),_xlfn.DAYS(K46,F46))))","v":""},null,null,null,{"$f":"IF(ISBLANK(P46), \"\", P46-Q46)","v":""},{"$f":"IF(ISBLANK(Q46), \"\", Q46/P46)","v":""}]
[null,null,null,null,null,null,{"$f":"IF(COUNTIF(D47,\"N\"),\"\",IF(ISBLANK(E47),\"\",IF(ISBLANK(F47),IF(ISBLANK(L47), _xlfn.DAYS(TODAY(),E47), _xlfn.DAYS(L47,E47)), _xlfn.DAYS(F47,E47))))","v":""},null,{"$f":"IF(COUNTIF(D47,\"N\"),\"\",IF(ISBLANK(F47),\"\",IF(ISBLANK(H47),IF(ISBLANK(K47),_xlfn.DAYS(TODAY(),F47),_xlfn.DAYS(K47,F47)),_xlfn.DAYS(H47,F47))))","v":""},null,null,null,{"$f":"IF(COUNTIF(D47,\"N\"),\"ON HOLD\",IF(ISBLANK(K47),IF(ISBLANK(E47),\"\",IF(ISBLANK(F47),\"NO\",\"YES\")),\"NO\"))","v":""},{"$f":"IF(COUNTIF(D47,\"N\"),\"\",IF(ISBLANK(F47),\"\",IF(ISBLANK(K47),_xlfn.DAYS(TODAY(),F47),_xlfn.DAYS(K47,F47))))","v":""},null,null,null,{"$f":"IF(ISBLANK(P47), \"\", P47-Q47)","v":""},{"$f":"IF(ISBLANK(Q47), \"\", Q47/P47)","v":""}]
[null,null,null,null,null,null,{"$f":"IF(COUNTIF(D48,\"N\"),\"\",IF(ISBLANK(E48),\"\",IF(ISBLANK(F48),IF(ISBLANK(L48), _xlfn.DAYS(TODAY(),E48), _xlfn.DAYS(L48,E48)), _xlfn.DAYS(F48,E48))))","v":""},null,{"$f":"IF(COUNTIF(D48,\"N\"),\"\",IF(ISBLANK(F48),\"\",IF(ISBLANK(H48),IF(ISBLANK(K48),_xlfn.DAYS(TODAY(),F48),_xlfn.DAYS(K48,F48)),_xlfn.DAYS(H48,F48))))","v":""},null,null,null,{"$f":"IF(COUNTIF(D48,\"N\"),\"ON HOLD\",IF(ISBLANK(K48),IF(ISBLANK(E48),\"\",IF(ISBLANK(F48),\"NO\",\"YES\")),\"NO\"))","v":""},{"$f":"IF(COUNTIF(D48,\"N\"),\"\",IF(ISBLANK(F48),\"\",IF(ISBLANK(K48),_xlfn.DAYS(TODAY(),F48),_xlfn.DAYS(K48,F48))))","v":""},null,null,null,{"$f":"IF(ISBLANK(P48), \"\", P48-Q48)","v":""},{"$f":"IF(ISBLANK(Q48), \"\", Q48/P48)","v":""}]
[null,null,null,null,null,null,{"$f":"IF(COUNTIF(D49,\"N\"),\"\",IF(ISBLANK(E49),\"\",IF(ISBLANK(F49),IF(ISBLANK(L49), _xlfn.DAYS(TODAY(),E49), _xlfn.DAYS(L49,E49)), _xlfn.DAYS(F49,E49))))","v":""},null,{"$f":"IF(COUNTIF(D49,\"N\"),\"\",IF(ISBLANK(F49),\"\",IF(ISBLANK(H49),IF(ISBLANK(K49),_xlfn.DAYS(TODAY(),F49),_xlfn.DAYS(K49,F49)),_xlfn.DAYS(H49,F49))))","v":""},null,null,null,{"$f":"IF(COUNTIF(D49,\"N\"),\"ON HOLD\",IF(ISBLANK(K49),IF(ISBLANK(E49),\"\",IF(ISBLANK(F49),\"NO\",\"YES\")),\"NO\"))","v":""},{"$f":"IF(COUNTIF(D49,\"N\"),\"\",IF(ISBLANK(F49),\"\",IF(ISBLANK(K49),_xlfn.DAYS(TODAY(),F49),_xlfn.DAYS(K49,F49))))","v":""},null,null,null,{"$f":"IF(ISBLANK(P49), \"\", P49-Q49)","v":""},{"$f":"IF(ISBLANK(Q49), \"\", Q49/P49)","v":""}]
[null,null,null,null,null,null,{"$f":"IF(COUNTIF(D50,\"N\"),\"\",IF(ISBLANK(E50),\"\",IF(ISBLANK(F50),IF(ISBLANK(L50), _xlfn.DAYS(TODAY(),E50), _xlfn.DAYS(L50,E50)), _xlfn.DAYS(F50,E50))))","v":""},null,{"$f":"IF(COUNTIF(D50,\"N\"),\"\",IF(ISBLANK(F50),\"\",IF(ISBLANK(H50),IF(ISBLANK(K50),_xlfn.DAYS(TODAY(),F50),_xlfn.DAYS(K50,F50)),_xlfn.DAYS(H50,F50))))","v":""},null,null,null,{"$f":"IF(COUNTIF(D50,\"N\"),\"ON HOLD\",IF(ISBLANK(K50),IF(ISBLANK(E50),\"\",IF(ISBLANK(F50),\"NO\",\"YES\")),\"NO\"))","v":""},{"$f":"IF(COUNTIF(D50,\"N\"),\"\",IF(ISBLANK(F50),\"\",IF(ISBLANK(K50),_xlfn.DAYS(TODAY(),F50),_xlfn.DAYS(K50,F50))))","v":""},null,null,null,{"$f":"IF(ISBLANK(P50), \"\", P50-Q50)","v":""},{"$f":"IF(ISBLANK(Q50), \"\", Q50/P50)","v":""}]
[null,null,null,null,null,null,{"$f":"IF(COUNTIF(D51,\"N\"),\"\",IF(ISBLANK(E51),\"\",IF(ISBLANK(F51),IF(ISBLANK(L51), _xlfn.DAYS(TODAY(),E51), _xlfn.DAYS(L51,E51)), _xlfn.DAYS(F51,E51))))","v":""},null,{"$f":"IF(COUNTIF(D51,\"N\"),\"\",IF(ISBLANK(F51),\"\",IF(ISBLANK(H51),IF(ISBLANK(K51),_xlfn.DAYS(TODAY(),F51),_xlfn.DAYS(K51,F51)),_xlfn.DAYS(H51,F51))))","v":""},null,null,null,{"$f":"IF(COUNTIF(D51,\"N\"),\"ON HOLD\",IF(ISBLANK(K51),IF(ISBLANK(E51),\"\",IF(ISBLANK(F51),\"NO\",\"YES\")),\"NO\"))","v":""},{"$f":"IF(COUNTIF(D51,\"N\"),\"\",IF(ISBLANK(F51),\"\",IF(ISBLANK(K51),_xlfn.DAYS(TODAY(),F51),_xlfn.DAYS(K51,F51))))","v":""},null,null,null,{"$f":"IF(ISBLANK(P51), \"\", P51-Q51)","v":""},{"$f":"IF(ISBLANK(Q51), \"\", Q51/P51)","v":""}]
[null,null,null,null,null,null,{"$f":"IF(COUNTIF(D52,\"N\"),\"\",IF(ISBLANK(E52),\"\",IF(ISBLANK(F52),IF(ISBLANK(L52), _xlfn.DAYS(TODAY(),E52), _xlfn.DAYS(L52,E52)), _xlfn.DAYS(F52,E52))))","v":""},null,{"$f":"IF(COUNTIF(D52,\"N\"),\"\",IF(ISBLANK(F52),\"\",IF(ISBLANK(H52),IF(ISBLANK(K52),_xlfn.DAYS(TODAY(),F52),_xlfn.DAYS(K52,F52)),_xlfn.DAYS(H52,F52))))","v":""},null,null,null,{"$f":"IF(COUNTIF(D52,\"N\"),\"ON HOLD\",IF(ISBLANK(K52),IF(ISBLANK(E52),\"\",IF(ISBLANK(F52),\"NO\",\"YES\")),\"NO\"))","v":""},{"$f":"IF(COUNTIF(D52,\"N\"),\"\",IF(ISBLANK(F52),\"\",IF(ISBLANK(K52),_xlfn.DAYS(TODAY(),F52),_xlfn.DAYS(K52,F52))))","v":""},null,null,null,{"$f":"IF(ISBLANK(P52), \"\", P52-Q52)","v":""},{"$f":"IF(ISBLANK(Q52), \"\", Q52/P52)","v":""}]
[null,null,null,null,null,null,{"$f":"IF(COUNTIF(D53,\"N\"),\"\",IF(ISBLANK(E53),\"\",IF(ISBLANK(F53),IF(ISBLANK(L53), _xlfn.DAYS(TODAY(),E53), _xlfn.DAYS(L53,E53)), _xlfn.DAYS(F53,E53))))","v":""},null,{"$f":"IF(COUNTIF(D53,\"N\"),\"\",IF(ISBLANK(F53),\"\",IF(ISBLANK(H53),IF(ISBLANK(K53),_xlfn.DAYS(TODAY(),F53),_xlfn.DAYS(K53,F53)),_xlfn.DAYS(H53,F53))))","v":""},null,null,null,{"$f":"IF(COUNTIF(D53,\"N\"),\"ON HOLD\",IF(ISBLANK(K53),IF(ISBLANK(E53),\"\",IF(ISBLANK(F53),\"NO\",\"YES\")),\"NO\"))","v":""},{"$f":"IF(COUNTIF(D53,\"N\"),\"\",IF(ISBLANK(F53),\"\",IF(ISBLANK(K53),_xlfn.DAYS(TODAY(),F53),_xlfn.DAYS(K53,F53))))","v":""},null,null,null,{"$f":"IF(ISBLANK(P53), \"\", P53-Q53)","v":""},{"$f":"IF(ISBLANK(Q53), \"\", Q53/P53)","v":""}]
[null,null,null,null,null,null,{"$f":"IF(COUNTIF(D54,\"N\"),\"\",IF(ISBLANK(E54),\"\",IF(ISBLANK(F54),IF(ISBLANK(L54), _xlfn.DAYS(TODAY(),E54), _xlfn.DAYS(L54,E54)), _xlfn.DAYS(F54,E54))))","v":""},null,{"$f":"IF(COUNTIF(D54,\"N\"),\"\",IF(ISBLANK(F54),\"\",IF(ISBLANK(H54),IF(ISBLANK(K54),_xlfn.DAYS(TODAY(),F54),_xlfn.DAYS(K54,F54)),_xlfn.DAYS(H54,F54))))","v":""},null,null,null,{"$f":"IF(COUNTIF(D54,\"N\"),\"ON HOLD\",IF(ISBLANK(K54),IF(ISBLANK(E54),\"\",IF(ISBLANK(F54),\"NO\",\"YES\")),\"NO\"))","v":""},{"$f":"IF(COUNTIF(D54,\"N\"),\"\",IF(ISBLANK(F54),\"\",IF(ISBLANK(K54),_xlfn.DAYS(TODAY(),F54),_xlfn.DAYS(K54,F54))))","v":""},null,null,null,{"$f":"IF(ISBLANK(P54), \"\", P54-Q54)","v":""},{"$f":"IF(ISBLANK(Q54), \"\", Q54/P54)","v":""}]
[null,null,null,null,null,null,{"$f":"IF(COUNTIF(D55,\"N\"),\"\",IF(ISBLANK(E55),\"\",IF(ISBLANK(F55),IF(ISBLANK(L55), _xlfn.DAYS(TODAY(),E55), _xlfn.DAYS(L55,E55)), _xlfn.DAYS(F55,E55))))","v":""},null,{"$f":"IF(COUNTIF(D55,\"N\"),\"\",IF(ISBLANK(F55),\"\",IF(ISBLANK(H55),IF(ISBLANK(K55),_xlfn.DAYS(TODAY(),F55),_xlfn.DAYS(K55,F55)),_xlfn.DAYS(H55,F55))))","v":""},null,null,null,{"$f":"IF(COUNTIF(D55,\"N\"),\"ON HOLD\",IF(ISBLANK(K55),IF(ISBLANK(E55),\"\",IF(ISBLANK(F55),\"NO\",\"YES\")),\"NO\"))","v":""},{"$f":"IF(COUNTIF(D55,\"N\"),\"\",IF(ISBLANK(F55),\"\",IF(ISBLANK(K55),_xlfn.DAYS(TODAY(),F55),_xlfn.DAYS(K55,F55))))","v":""},null,null,null,{"$f":"IF(ISBLANK(P55), \"\", P55-Q55)","v":""},{"$f":"IF(ISBLANK(Q55), \"\", Q55/P55)","v":""}]
[null,null,null,null,null,null,{"$f":"IF(COUNTIF(D56,\"N\"),\"\",IF(ISBLANK(E56),\"\",IF(ISBLANK(F56),IF(ISBLANK(L56), _xlfn.DAYS(TODAY(),E56), _xlfn.DAYS(L56,E56)), _xlfn.DAYS(F56,E56))))","v":""},null,{"$f":"IF(COUNTIF(D56,\"N\"),\"\",IF(ISBLANK(F56),\"\",IF(ISBLANK(H56),IF(ISBLANK(K56),_xlfn.DAYS(TODAY(),F56),_xlfn.DAYS(K56,F56)),_xlfn.DAYS(H56,F56))))","v":""},null,null,null,{"$f":"IF(COUNTIF(D56,\"N\"),\"ON HOLD\",IF(ISBLANK(K56),IF(ISBLANK(E56),\"\",IF(ISBLANK(F56),\"NO\",\"YES\")),\"NO\"))","v":""},{"$f":"IF(COUNTIF(D56,\"N\"),\"\",IF(ISBLANK(F56),\"\",IF(ISBLANK(K56),_xlfn.DAYS(TODAY(),F56),_xlfn.DAYS(K56,F56))))","v":""},null,null,null,{"$f":"IF(ISBLANK(P56), \"\", P56-Q56)","v":""},{"$f":"IF(ISBLANK(Q56), \"\", Q56/P56)","v":""}]
[null,null,null,null,null,null,{"$f":"IF(COUNTIF(D57,\"N\"),\"\",IF(ISBLANK(E57),\"\",IF(ISBLANK(F57),IF(ISBLANK(L57), _xlfn.DAYS(TODAY(),E57), _xlfn.DAYS(L57,E57)), _xlfn.DAYS(F57,E57))))","v":""},null,{"$f":"IF(COUNTIF(D57,\"N\"),\"\",IF(ISBLANK(F57),\"\",IF(ISBLANK(H57),IF(ISBLANK(K57),_xlfn.DAYS(TODAY(),F57),_xlfn.DAYS(K57,F57)),_xlfn.DAYS(H57,F57))))","v":""},null,null,null,{"$f":"IF(COUNTIF(D57,\"N\"),\"ON HOLD\",IF(ISBLANK(K57),IF(ISBLANK(E57),\"\",IF(ISBLANK(F57),\"NO\",\"YES\")),\"NO\"))","v":""},{"$f":"IF(COUNTIF(D57,\"N\"),\"\",IF(ISBLANK(F57),\"\",IF(ISBLANK(K57),_xlfn.DAYS(TODAY(),F57),_xlfn.DAYS(K57,F57))))","v":""},null,null,null,{"$f":"IF(ISBLANK(P57), \"\", P57-Q57)","v":""},{"$f":"IF(ISBLANK(Q57), \"\", Q57/P57)","v":""}]
[null,null,null,null,null,null,{"$f":"IF(COUNTIF(D58,\"N\"),\"\",IF(ISBLANK(E58),\"\",IF(ISBLANK(F58),IF(ISBLANK(L58), _xlfn.DAYS(TODAY(),E58), _xlfn.DAYS(L58,E58)), _xlfn.DAYS(F58,E58))))","v":""},null,{"$f":"IF(COUNTIF(D58,\"N\"),\"\",IF(ISBLANK(F58),\"\",IF(ISBLANK(H58),IF(ISBLANK(K58),_xlfn.DAYS(TODAY(),F58),_xlfn.DAYS(K58,F58)),_xlfn.DAYS(H58,F58))))","v":""},null,null,null,{"$f":"IF(COUNTIF(D58,\"N\"),\"ON HOLD\",IF(ISBLANK(K58),IF(ISBLANK(E58),\"\",IF(ISBLANK(F58),\"NO\",\"YES\")),\"NO\"))","v":""},{"$f":"IF(COUNTIF(D58,\"N\"),\"\",IF(ISBLANK(F58),\"\",IF(ISBLANK(K58),_xlfn.DAYS(TODAY(),F58),_xlfn.DAYS(K58,F58))))","v":""},null,null,null,{"$f":"IF(ISBLANK(P58), \"\", P58-Q58)","v":""},{"$f":"IF(ISBLANK(Q58), \"\", Q58/P58)","v":""}]
[null,null,null,null,null,null,{"$f":"IF(COUNTIF(D59,\"N\"),\"\",IF(ISBLANK(E59),\"\",IF(ISBLANK(F59),IF(ISBLANK(L59), _xlfn.DAYS(TODAY(),E59), _xlfn.DAYS(L59,E59)), _xlfn.DAYS(F59,E59))))","v":""},null,{"$f":"IF(COUNTIF(D59,\"N\"),\"\",IF(ISBLANK(F59),\"\",IF(ISBLANK(H59),IF(ISBLANK(K59),_xlfn.DAYS(TODAY(),F59),_xlfn.DAYS(K59,F59)),_xlfn.DAYS(H59,F59))))","v":""},null,null,null,{"$f":"IF(COUNTIF(D59,\"N\"),\"ON HOLD\",IF(ISBLANK(K59),IF(ISBLANK(E59),\"\",IF(ISBLANK(F59),\"NO\",\"YES\")),\"NO\"))","v":""},{"$f":"IF(COUNTIF(D59,\"N\"),\"\",IF(ISBLANK(F59),\"\",IF(ISBLANK(K59),_xlfn.DAYS(TODAY(),F59),_xlfn.DAYS(K59,F59))))","v":""},null,null,null,{"$f":"IF(ISBLANK(P59), \"\", P59-Q59)","v":""},{"$f":"IF(ISBLANK(Q59), \"\", Q59/P59)","v":""}]
[null,null,null,null,null,null,{"$f":"IF(COUNTIF(D60,\"N\"),\"\",IF(ISBLANK(E60),\"\",IF(ISBLANK(F60),IF(ISBLANK(L60), _xlfn.DAYS(TODAY(),E60), _xlfn.DAYS(L60,E60)), _xlfn.DAYS(F60,E60))))","v":""},null,{"$f":"IF(COUNTIF(D60,\"N\"),\"\",IF(ISBLANK(F60),\"\",IF(ISBLANK(H60),IF(ISBLANK(K60),_xlfn.DAYS(TODAY(),F60),_xlfn.DAYS(K60,F60)),_xlfn.DAYS(H60,F60))))","v":""},null,null,null,{"$f":"IF(COUNTIF(D60,\"N\"),\"ON HOLD\",IF(ISBLANK(K60),IF(ISBLANK(E60),\"\",IF(ISBLANK(F60),\"NO\",\"YES\")),\"NO\"))","v":""},{"$f":"IF(COUNTIF(D60,\"N\"),\"\",IF(ISBLANK(F60),\"\",IF(ISBLANK(K60),_xlfn.DAYS(TODAY(),F60),_xlfn.DAYS(K60,F60))))","v":""},null,null,null,{"$f":"IF(ISBLANK(P60), \"\", P60-Q60)","v":""},{"$f":"IF(ISBLANK(Q60), \"\", Q60/P60)","v":""}]
[null,null,null,null,null,null,{"$f":"IF(COUNTIF(D61,\"N\"),\"\",IF(ISBLANK(E61),\"\",IF(ISBLANK(F61),IF(ISBLANK(L61), _xlfn.DAYS(TODAY(),E61), _xlfn.DAYS(L61,E61)), _xlfn.DAYS(F61,E61))))","v":""},null,{"$f":"IF(COUNTIF(D61,\"N\"),\"\",IF(ISBLANK(F61),\"\",IF(ISBLANK(H61),IF(ISBLANK(K61),_xlfn.DAYS(TODAY(),F61),_xlfn.DAYS(K61,F61)),_xlfn.DAYS(H61,F61))))","v":""},null,null,null,{"$f":"IF(COUNTIF(D61,\"N\"),\"ON HOLD\",IF(ISBLANK(K61),IF(ISBLANK(E61),\"\",IF(ISBLANK(F61),\"NO\",\"YES\")),\"NO\"))","v":""},{"$f":"IF(COUNTIF(D61,\"N\"),\"\",IF(ISBLANK(F61),\"\",IF(ISBLANK(K61),_xlfn.DAYS(TODAY(),F61),_xlfn.DAYS(K61,F61))))","v":""},null,null,null,{"$f":"IF(ISBLANK(P61), \"\", P61-Q61)","v":""},{"$f":"IF(ISBLANK(Q61), \"\", Q61/P61)","v":""}]
[null,null,null,null,null,null,{"$f":"IF(COUNTIF(D62,\"N\"),\"\",IF(ISBLANK(E62),\"\",IF(ISBLANK(F62),IF(ISBLANK(L62), _xlfn.DAYS(TODAY(),E62), _xlfn.DAYS(L62,E62)), _xlfn.DAYS(F62,E62))))","v":""},null,{"$f":"IF(COUNTIF(D62,\"N\"),\"\",IF(ISBLANK(F62),\"\",IF(ISBLANK(H62),IF(ISBLANK(K62),_xlfn.DAYS(TODAY(),F62),_xlfn.DAYS(K62,F62)),_xlfn.DAYS(H62,F62))))","v":""},null,null,null,{"$f":"IF(COUNTIF(D62,\"N\"),\"ON HOLD\",IF(ISBLANK(K62),IF(ISBLANK(E62),\"\",IF(ISBLANK(F62),\"NO\",\"YES\")),\"NO\"))","v":""},{"$f":"IF(COUNTIF(D62,\"N\"),\"\",IF(ISBLANK(F62),\"\",IF(ISBLANK(K62),_xlfn.DAYS(TODAY(),F62),_xlfn.DAYS(K62,F62))))","v":""},null,null,null,{"$f":"IF(ISBLANK(P62), \"\", P62-Q62)","v":""},{"$f":"IF(ISBLANK(Q62), \"\", Q62/P62)","v":""}]
[null,null,null,null,null,null,{"$f":"IF(COUNTIF(D63,\"N\"),\"\",IF(ISBLANK(E63),\"\",IF(ISBLANK(F63),IF(ISBLANK(L63), _xlfn.DAYS(TODAY(),E63), _xlfn.DAYS(L63,E63)), _xlfn.DAYS(F63,E63))))","v":""},null,{"$f":"IF(COUNTIF(D63,\"N\"),\"\",IF(ISBLANK(F63),\"\",IF(ISBLANK(H63),IF(ISBLANK(K63),_xlfn.DAYS(TODAY(),F63),_xlfn.DAYS(K63,F63)),_xlfn.DAYS(H63,F63))))","v":""},null,null,null,{"$f":"IF(COUNTIF(D63,\"N\"),\"ON HOLD\",IF(ISBLANK(K63),IF(ISBLANK(E63),\"\",IF(ISBLANK(F63),\"NO\",\"YES\")),\"NO\"))","v":""},{"$f":"IF(COUNTIF(D63,\"N\"),\"\",IF(ISBLANK(F63),\"\",IF(ISBLANK(K63),_xlfn.DAYS(TODAY(),F63),_xlfn.DAYS(K63,F63))))","v":""},null,null,null,{"$f":"IF(ISBLANK(P63), \"\", P63-Q63)","v":""},{"$f":"IF(ISBLANK(Q63), \"\", Q63/P63)","v":""}]
[null,null,null,null,null,null,{"$f":"IF(COUNTIF(D64,\"N\"),\"\",IF(ISBLANK(E64),\"\",IF(ISBLANK(F64),IF(ISBLANK(L64), _xlfn.DAYS(TODAY(),E64), _xlfn.DAYS(L64,E64)), _xlfn.DAYS(F64,E64))))","v":""},null,{"$f":"IF(COUNTIF(D64,\"N\"),\"\",IF(ISBLANK(F64),\"\",IF(ISBLANK(H64),IF(ISBLANK(K64),_xlfn.DAYS(TODAY(),F64),_xlfn.DAYS(K64,F64)),_xlfn.DAYS(H64,F64))))","v":""},null,null,null,{"$f":"IF(COUNTIF(D64,\"N\"),\"ON HOLD\",IF(ISBLANK(K64),IF(ISBLANK(E64),\"\",IF(ISBLANK(F64),\"NO\",\"YES\")),\"NO\"))","v":""},{"$f":"IF(COUNTIF(D64,\"N\"),\"\",IF(ISBLANK(F64),\"\",IF(ISBLANK(K64),_xlfn.DAYS(TODAY(),F64),_xlfn.DAYS(K64,F64))))","v":""},null,null,null,{"$f":"IF(ISBLANK(P64), \"\", P64-Q64)","v":""},{"$f":"IF(ISBLANK(Q64), \"\", Q64/P64)","v":""}]
[null,null,null,null,null,null,{"$f":"IF(COUNTIF(D65,\"N\"),\"\",IF(ISBLANK(E65),\"\",IF(ISBLANK(F65),IF(ISBLANK(L65), _xlfn.DAYS(TODAY(),E65), _xlfn.DAYS(L65,E65)), _xlfn.DAYS(F65,E65))))","v":""},null,{"$f":"IF(COUNTIF(D65,\"N\"),\"\",IF(ISBLANK(F65),\"\",IF(ISBLANK(H65),IF(ISBLANK(K65),_xlfn.DAYS(TODAY(),F65),_xlfn.DAYS(K65,F65)),_xlfn.DAYS(H65,F65))))","v":""},null,null,null,{"$f":"IF(COUNTIF(D65,\"N\"),\"ON HOLD\",IF(ISBLANK(K65),IF(ISBLANK(E65),\"\",IF(ISBLANK(F65),\"NO\",\"YES\")),\"NO\"))","v":""},{"$f":"IF(COUNTIF(D65,\"N\"),\"\",IF(ISBLANK(F65),\"\",IF(ISBLANK(K65),_xlfn.DAYS(TODAY(),F65),_xlfn.DAYS(K65,F65))))","v":""},null,null,null,{"$f":"IF(ISBLANK(P65), \"\", P65-Q65)","v":""},{"$f":"IF(ISBLANK(Q65), \"\", Q65/P65)","v":""}]
[null,null,null,null,null,null,{"$f":"IF(COUNTIF(D66,\"N\"),\"\",IF(ISBLANK(E66),\"\",IF(ISBLANK(F66),IF(ISBLANK(L66), _xlfn.DAYS(TODAY(),E66), _xlfn.DAYS(L66,E66)), _xlfn.DAYS(F66,E66))))","v":""},null,{"$f":"IF(COUNTIF(D66,\"N\"),\"\",IF(ISBLANK(F66),\"\",IF(ISBLANK(H66),IF(ISBLANK(K66),_xlfn.DAYS(TODAY(),F66),_xlfn.DAYS(K66,F66)),_xlfn.DAYS(H66,F66))))","v":""},null,null,null,{"$f":"IF(COUNTIF(D66,\"N\"),\"ON HOLD\",IF(ISBLANK(K66),IF(ISBLANK(E66),\"\",IF(ISBLANK(F66),\"NO\",\"YES\")),\"NO\"))","v":""},{"$f":"IF(COUNTIF(D66,\"N\"),\"\",IF(ISBLANK(F66),\"\",IF(ISBLANK(K66),_xlfn.DAYS(TODAY(),F66),_xlfn.DAYS(K66,F66))))","v":""},null,null,null,{"$f":"IF(ISBLANK(P66), \"\", P66-Q66)","v":""},{"$f":"IF(ISBLANK(Q66), \"\", Q66/P66)","v":""}]
[null,null,null,null,null,null,{"$f":"IF(COUNTIF(D67,\"N\"),\"\",IF(ISBLANK(E67),\"\",IF(ISBLANK(F67),IF(ISBLANK(L67), _xlfn.DAYS(TODAY(),E67), _xlfn.DAYS(L67,E67)), _xlfn.DAYS(F67,E67))))","v":""},null,{"$f":"IF(COUNTIF(D67,\"N\"),\"\",IF(ISBLANK(F67),\"\",IF(ISBLANK(H67),IF(ISBLANK(K67),_xlfn.DAYS(TODAY(),F67),_xlfn.DAYS(K67,F67)),_xlfn.DAYS(H67,F67))))","v":""},null,null,null,{"$f":"IF(COUNTIF(D67,\"N\"),\"ON HOLD\",IF(ISBLANK(K67),IF(ISBLANK(E67),\"\",IF(ISBLANK(F67),\"NO\",\"YES\")),\"NO\"))","v":""},{"$f":"IF(COUNTIF(D67,\"N\"),\"\",IF(ISBLANK(F67),\"\",IF(ISBLANK(K67),_xlfn.DAYS(TODAY(),F67),_xlfn.DAYS(K67,F67))))","v":""},null,null,null,{"$f":"IF(ISBLANK(P67), \"\", P67-Q67)","v":""},{"$f":"IF(ISBLANK(Q67), \"\", Q67/P67)","v":""}]
[null,null,null,null,null,null,{"$f":"IF(COUNTIF(D68,\"N\"),\"\",IF(ISBLANK(E68),\"\",IF(ISBLANK(F68),IF(ISBLANK(L68), _xlfn.DAYS(TODAY(),E68), _xlfn.DAYS(L68,E68)), _xlfn.DAYS(F68,E68))))","v":""},null,{"$f":"IF(COUNTIF(D68,\"N\"),\"\",IF(ISBLANK(F68),\"\",IF(ISBLANK(H68),IF(ISBLANK(K68),_xlfn.DAYS(TODAY(),F68),_xlfn.DAYS(K68,F68)),_xlfn.DAYS(H68,F68))))","v":""},null,null,null,{"$f":"IF(COUNTIF(D68,\"N\"),\"ON HOLD\",IF(ISBLANK(K68),IF(ISBLANK(E68),\"\",IF(ISBLANK(F68),\"NO\",\"YES\")),\"NO\"))","v":""},{"$f":"IF(COUNTIF(D68,\"N\"),\"\",IF(ISBLANK(F68),\"\",IF(ISBLANK(K68),_xlfn.DAYS(TODAY(),F68),_xlfn.DAYS(K68,F68))))","v":""},null,null,null,{"$f":"IF(ISBLANK(P68), \"\", P68-Q68)","v":""},{"$f":"IF(ISBLANK(Q68), \"\", Q68/P68)","v":""}]
[null,null,null,null,null,null,{"$f":"IF(COUNTIF(D69,\"N\"),\"\",IF(ISBLANK(E69),\"\",IF(ISBLANK(F69),IF(ISBLANK(L69), _xlfn.DAYS(TODAY(),E69), _xlfn.DAYS(L69,E69)), _xlfn.DAYS(F69,E69))))","v":""},null,{"$f":"IF(COUNTIF(D69,\"N\"),\"\",IF(ISBLANK(F69),\"\",IF(ISBLANK(H69),IF(ISBLANK(K69),_xlfn.DAYS(TODAY(),F69),_xlfn.DAYS(K69,F69)),_xlfn.DAYS(H69,F69))))","v":""},null,null,null,{"$f":"IF(COUNTIF(D69,\"N\"),\"ON HOLD\",IF(ISBLANK(K69),IF(ISBLANK(E69),\"\",IF(ISBLANK(F69),\"NO\",\"YES\")),\"NO\"))","v":""},{"$f":"IF(COUNTIF(D69,\"N\"),\"\",IF(ISBLANK(F69),\"\",IF(ISBLANK(K69),_xlfn.DAYS(TODAY(),F69),_xlfn.DAYS(K69,F69))))","v":""},null,null,null,{"$f":"IF(ISBLANK(P69), \"\", P69-Q69)","v":""},{"$f":"IF(ISBLANK(Q69), \"\", Q69/P69)","v":""}]
[null,null,null,null,null,null,{"$f":"IF(COUNTIF(D70,\"N\"),\"\",IF(ISBLANK(E70),\"\",IF(ISBLANK(F70),IF(ISBLANK(L70), _xlfn.DAYS(TODAY(),E70), _xlfn.DAYS(L70,E70)), _xlfn.DAYS(F70,E70))))","v":""},null,{"$f":"IF(COUNTIF(D70,\"N\"),\"\",IF(ISBLANK(F70),\"\",IF(ISBLANK(H70),IF(ISBLANK(K70),_xlfn.DAYS(TODAY(),F70),_xlfn.DAYS(K70,F70)),_xlfn.DAYS(H70,F70))))","v":""},null,null,null,{"$f":"IF(COUNTIF(D70,\"N\"),\"ON HOLD\",IF(ISBLANK(K70),IF(ISBLANK(E70),\"\",IF(ISBLANK(F70),\"NO\",\"YES\")),\"NO\"))","v":""},{"$f":"IF(COUNTIF(D70,\"N\"),\"\",IF(ISBLANK(F70),\"\",IF(ISBLANK(K70),_xlfn.DAYS(TODAY(),F70),_xlfn.DAYS(K70,F70))))","v":""},null,null,null,{"$f":"IF(ISBLANK(P70), \"\", P70-Q70)","v":""},{"$f":"IF(ISBLANK(Q70), \"\", Q70/P70)","v":""}]
[null,null,null,null,null,null,{"$f":"IF(COUNTIF(D71,\"N\"),\"\",IF(ISBLANK(E71),\"\",IF(ISBLANK(F71),IF(ISBLANK(L71), _xlfn.DAYS(TODAY(),E71), _xlfn.DAYS(L71,E71)), _xlfn.DAYS(F71,E71))))","v":""},null,{"$f":"IF(COUNTIF(D71,\"N\"),\"\",IF(ISBLANK(F71),\"\",IF(ISBLANK(H71),IF(ISBLANK(K71),_xlfn.DAYS(TODAY(),F71),_xlfn.DAYS(K71,F71)),_xlfn.DAYS(H71,F71))))","v":""},null,null,null,{"$f":"IF(COUNTIF(D71,\"N\"),\"ON HOLD\",IF(ISBLANK(K71),IF(ISBLANK(E71),\"\",IF(ISBLANK(F71),\"NO\",\"YES\")),\"NO\"))","v":""},{"$f":"IF(COUNTIF(D71,\"N\"),\"\",IF(ISBLANK(F71),\"\",IF(ISBLANK(K71),_xlfn.DAYS(TODAY(),F71),_xlfn.DAYS(K71,F71))))","v":""},null,null,null,{"$f":"IF(ISBLANK(P71), \"\", P71-Q71)","v":""},{"$f":"IF(ISBLANK(Q71), \"\", Q71/P71)","v":""}]
[null,null,null,null,null,null,{"$f":"IF(COUNTIF(D72,\"N\"),\"\",IF(ISBLANK(E72),\"\",IF(ISBLANK(F72),IF(ISBLANK(L72), _xlfn.DAYS(TODAY(),E72), _xlfn.DAYS(L72,E72)), _xlfn.DAYS(F72,E72))))","v":""},null,{"$f":"IF(COUNTIF(D72,\"N\"),\"\",IF(ISBLANK(F72),\"\",IF(ISBLANK(H72),IF(ISBLANK(K72),_xlfn.DAYS(TODAY(),F72),_xlfn.DAYS(K72,F72)),_xlfn.DAYS(H72,F72))))","v":""},null,null,null,{"$f":"IF(COUNTIF(D72,\"N\"),\"ON HOLD\",IF(ISBLANK(K72),IF(ISBLANK(E72),\"\",IF(ISBLANK(F72),\"NO\",\"YES\")),\"NO\"))","v":""},{"$f":"IF(COUNTIF(D72,\"N\"),\"\",IF(ISBLANK(F72),\"\",IF(ISBLANK(K72),_xlfn.DAYS(TODAY(),F72),_xlfn.DAYS(K72,F72))))","v":""},null,null,null,{"$f":"IF(ISBLANK(P72), \"\", P72-Q72)","v":""},{"$f":"IF(ISBLANK(Q72), \"\", Q72/P72)","v":""}]
[null,null,null,null,null,null,{"$f":"IF(COUNTIF(D73,\"N\"),\"\",IF(ISBLANK(E73),\"\",IF(ISBLANK(F73),IF(ISBLANK(L73), _xlfn.DAYS(TODAY(),E73), _xlfn.DAYS(L73,E73)), _xlfn.DAYS(F73,E73))))","v":""},null,{"$f":"IF(COUNTIF(D73,\"N\"),\"\",IF(ISBLANK(F73),\"\",IF(ISBLANK(H73),IF(ISBLANK(K73),_xlfn.DAYS(TODAY(),F73),_xlfn.DAYS(K73,F73)),_xlfn.DAYS(H73,F73))))","v":""},null,null,null,{"$f":"IF(COUNTIF(D73,\"N\"),\"ON HOLD\",IF(ISBLANK(K73),IF(ISBLANK(E73),\"\",IF(ISBLANK(F73),\"NO\",\"YES\")),\"NO\"))","v":""},{"$f":"IF(COUNTIF(D73,\"N\"),\"\",IF(ISBLANK(F73),\"\",IF(ISBLANK(K73),_xlfn.DAYS(TODAY(),F73),_xlfn.DAYS(K73,F73))))","v":""},null,null,null,{"$f":"IF(ISBLANK(P73), \"\", P73-Q73)","v":""},{"$f":"IF(ISBLANK(Q73), \"\", Q73/P73)","v":""}]
[null,null,null,null,null,null,{"$f":"IF(COUNTIF(D74,\"N\"),\"\",IF(ISBLANK(E74),\"\",IF(ISBLANK(F74),IF(ISBLANK(L74), _xlfn.DAYS(TODAY(),E74), _xlfn.DAYS(L74,E74)), _xlfn.DAYS(F74,E74))))","v":""},null,{"$f":"IF(COUNTIF(D74,\"N\"),\"\",IF(ISBLANK(F74),\"\",IF(ISBLANK(H74),IF(ISBLANK(K74),_xlfn.DAYS(TODAY(),F74),_xlfn.DAYS(K74,F74)),_xlfn.DAYS(H74,F74))))","v":""},null,null,null,{"$f":"IF(COUNTIF(D74,\"N\"),\"ON HOLD\",IF(ISBLANK(K74),IF(ISBLANK(E74),\"\",IF(ISBLANK(F74),\"NO\",\"YES\")),\"NO\"))","v":""},{"$f":"IF(COUNTIF(D74,\"N\"),\"\",IF(ISBLANK(F74),\"\",IF(ISBLANK(K74),_xlfn.DAYS(TODAY(),F74),_xlfn.DAYS(K74,F74))))","v":""},null,null,null,{"$f":"IF(ISBLANK(P74), \"\", P74-Q74)","v":""},{"$f":"IF(ISBLANK(Q74), \"\", Q74/P74)","v":""}]
[null,null,null,null,null,null,{"$f":"IF(COUNTIF(D75,\"N\"),\"\",IF(ISBLANK(E75),\"\",IF(ISBLANK(F75),IF(ISBLANK(L75), _xlfn.DAYS(TODAY(),E75), _xlfn.DAYS(L75,E75)), _xlfn.DAYS(F75,E75))))","v":""},null,{"$f":"IF(COUNTIF(D75,\"N\"),\"\",IF(ISBLANK(F75),\"\",IF(ISBLANK(H75),IF(ISBLANK(K75),_xlfn.DAYS(TODAY(),F75),_xlfn.DAYS(K75,F75)),_xlfn.DAYS(H75,F75))))","v":""},null,null,null,{"$f":"IF(COUNTIF(D75,\"N\"),\"ON HOLD\",IF(ISBLANK(K75),IF(ISBLANK(E75),\"\",IF(ISBLANK(F75),\"NO\",\"YES\")),\"NO\"))","v":""},{"$f":"IF(COUNTIF(D75,\"N\"),\"\",IF(ISBLANK(F75),\"\",IF(ISBLANK(K75),_xlfn.DAYS(TODAY(),F75),_xlfn.DAYS(K75,F75))))","v":""},null,null,null,{"$f":"IF(ISBLANK(P75), \"\", P75-Q75)","v":""},{"$f":"IF(ISBLANK(Q75), \"\", Q75/P75)","v":""}]
[null,null,null,null,null,null,{"$f":"IF(COUNTIF(D76,\"N\"),\"\",IF(ISBLANK(E76),\"\",IF(ISBLANK(F76),IF(ISBLANK(L76), _xlfn.DAYS(TODAY(),E76), _xlfn.DAYS(L76,E76)), _xlfn.DAYS(F76,E76))))","v":""},null,{"$f":"IF(COUNTIF(D76,\"N\"),\"\",IF(ISBLANK(F76),\"\",IF(ISBLANK(H76),IF(ISBLANK(K76),_xlfn.DAYS(TODAY(),F76),_xlfn.DAYS(K76,F76)),_xlfn.DAYS(H76,F76))))","v":""},null,null,null,{"$f":"IF(COUNTIF(D76,\"N\"),\"ON HOLD\",IF(ISBLANK(K76),IF(ISBLANK(E76),\"\",IF(ISBLANK(F76),\"NO\",\"YES\")),\"NO\"))","v":""},{"$f":"IF(COUNTIF(D76,\"N\"),\"\",IF(ISBLANK(F76),\"\",IF(ISBLANK(K76),_xlfn.DAYS(TODAY(),F76),_xlfn.DAYS(K76,F76))))","v":""},null,null,null,{"$f":"IF(ISBLANK(P76), \"\", P76-Q76)","v":""},{"$f":"IF(ISBLANK(Q76), \"\", Q76/P76)","v":""}]
[null,null,null,null,null,null,{"$f":"IF(COUNTIF(D77,\"N\"),\"\",IF(ISBLANK(E77),\"\",IF(ISBLANK(F77),IF(ISBLANK(L77), _xlfn.DAYS(TODAY(),E77), _xlfn.DAYS(L77,E77)), _xlfn.DAYS(F77,E77))))","v":""},null,{"$f":"IF(COUNTIF(D77,\"N\"),\"\",IF(ISBLANK(F77),\"\",IF(ISBLANK(H77),IF(ISBLANK(K77),_xlfn.DAYS(TODAY(),F77),_xlfn.DAYS(K77,F77)),_xlfn.DAYS(H77,F77))))","v":""},null,null,null,{"$f":"IF(COUNTIF(D77,\"N\"),\"ON HOLD\",IF(ISBLANK(K77),IF(ISBLANK(E77),\"\",IF(ISBLANK(F77),\"NO\",\"YES\")),\"NO\"))","v":""},{"$f":"IF(COUNTIF(D77,\"N\"),\"\",IF(ISBLANK(F77),\"\",IF(ISBLANK(K77),_xlfn.DAYS(TODAY(),F77),_xlfn.DAYS(K77,F77))))","v":""},null,null,null,{"$f":"IF(ISBLANK(P77), \"\", P77-Q77)","v":""},{"$f":"IF(ISBLANK(Q77), \"\", Q77/P77)","v":""}]
[null,null,null,null,null,null,{"$f":"IF(COUNTIF(D78,\"N\"),\"\",IF(ISBLANK(E78),\"\",IF(ISBLANK(F78),IF(ISBLANK(L78), _xlfn.DAYS(TODAY(),E78), _xlfn.DAYS(L78,E78)), _xlfn.DAYS(F78,E78))))","v":""},null,{"$f":"IF(COUNTIF(D78,\"N\"),\"\",IF(ISBLANK(F78),\"\",IF(ISBLANK(H78),IF(ISBLANK(K78),_xlfn.DAYS(TODAY(),F78),_xlfn.DAYS(K78,F78)),_xlfn.DAYS(H78,F78))))","v":""},null,null,null,{"$f":"IF(COUNTIF(D78,\"N\"),\"ON HOLD\",IF(ISBLANK(K78),IF(ISBLANK(E78),\"\",IF(ISBLANK(F78),\"NO\",\"YES\")),\"NO\"))","v":""},{"$f":"IF(COUNTIF(D78,\"N\"),\"\",IF(ISBLANK(F78),\"\",IF(ISBLANK(K78),_xlfn.DAYS(TODAY(),F78),_xlfn.DAYS(K78,F78))))","v":""},null,null,null,{"$f":"IF(ISBLANK(P78), \"\", P78-Q78)","v":""},{"$f":"IF(ISBLANK(Q78), \"\", Q78/P78)","v":""}]
[null,null,null,null,null,null,{"$f":"IF(COUNTIF(D79,\"N\"),\"\",IF(ISBLANK(E79),\"\",IF(ISBLANK(F79),IF(ISBLANK(L79), _xlfn.DAYS(TODAY(),E79), _xlfn.DAYS(L79,E79)), _xlfn.DAYS(F79,E79))))","v":""},null,{"$f":"IF(COUNTIF(D79,\"N\"),\"\",IF(ISBLANK(F79),\"\",IF(ISBLANK(H79),IF(ISBLANK(K79),_xlfn.DAYS(TODAY(),F79),_xlfn.DAYS(K79,F79)),_xlfn.DAYS(H79,F79))))","v":""},null,null,null,{"$f":"IF(COUNTIF(D79,\"N\"),\"ON HOLD\",IF(ISBLANK(K79),IF(ISBLANK(E79),\"\",IF(ISBLANK(F79),\"NO\",\"YES\")),\"NO\"))","v":""},{"$f":"IF(COUNTIF(D79,\"N\"),\"\",IF(ISBLANK(F79),\"\",IF(ISBLANK(K79),_xlfn.DAYS(TODAY(),F79),_xlfn.DAYS(K79,F79))))","v":""},null,null,null,{"$f":"IF(ISBLANK(P79), \"\", P79-Q79)","v":""},{"$f":"IF(ISBLANK(Q79), \"\", Q79/P79)","v":""}]
[null,null,null,null,null,null,{"$f":"IF(COUNTIF(D80,\"N\"),\"\",IF(ISBLANK(E80),\"\",IF(ISBLANK(F80),IF(ISBLANK(L80), _xlfn.DAYS(TODAY(),E80), _xlfn.DAYS(L80,E80)), _xlfn.DAYS(F80,E80))))","v":""},null,{"$f":"IF(COUNTIF(D80,\"N\"),\"\",IF(ISBLANK(F80),\"\",IF(ISBLANK(H80),IF(ISBLANK(K80),_xlfn.DAYS(TODAY(),F80),_xlfn.DAYS(K80,F80)),_xlfn.DAYS(H80,F80))))","v":""},null,null,null,{"$f":"IF(COUNTIF(D80,\"N\"),\"ON HOLD\",IF(ISBLANK(K80),IF(ISBLANK(E80),\"\",IF(ISBLANK(F80),\"NO\",\"YES\")),\"NO\"))","v":""},{"$f":"IF(COUNTIF(D80,\"N\"),\"\",IF(ISBLANK(F80),\"\",IF(ISBLANK(K80),_xlfn.DAYS(TODAY(),F80),_xlfn.DAYS(K80,F80))))","v":""},null,null,null,{"$f":"IF(ISBLANK(P80), \"\", P80-Q80)","v":""},{"$f":"IF(ISBLANK(Q80), \"\", Q80/P80)","v":""}]
[null,null,null,null,null,null,{"$f":"IF(COUNTIF(D81,\"N\"),\"\",IF(ISBLANK(E81),\"\",IF(ISBLANK(F81),IF(ISBLANK(L81), _xlfn.DAYS(TODAY(),E81), _xlfn.DAYS(L81,E81)), _xlfn.DAYS(F81,E81))))","v":""},null,{"$f":"IF(COUNTIF(D81,\"N\"),\"\",IF(ISBLANK(F81),\"\",IF(ISBLANK(H81),IF(ISBLANK(K81),_xlfn.DAYS(TODAY(),F81),_xlfn.DAYS(K81,F81)),_xlfn.DAYS(H81,F81))))","v":""},null,null,null,{"$f":"IF(COUNTIF(D81,\"N\"),\"ON HOLD\",IF(ISBLANK(K81),IF(ISBLANK(E81),\"\",IF(ISBLANK(F81),\"NO\",\"YES\")),\"NO\"))","v":""},{"$f":"IF(COUNTIF(D81,\"N\"),\"\",IF(ISBLANK(F81),\"\",IF(ISBLANK(K81),_xlfn.DAYS(TODAY(),F81),_xlfn.DAYS(K81,F81))))","v":""},null,null,null,{"$f":"IF(ISBLANK(P81), \"\", P81-Q81)","v":""},{"$f":"IF(ISBLANK(Q81), \"\", Q81/P81)","v":""}]
[null,null,null,null,null,null,{"$f":"IF(COUNTIF(D82,\"N\"),\"\",IF(ISBLANK(E82),\"\",IF(ISBLANK(F82),IF(ISBLANK(L82), _xlfn.DAYS(TODAY(),E82), _xlfn.DAYS(L82,E82)), _xlfn.DAYS(F82,E82))))","v":""},null,{"$f":"IF(COUNTIF(D82,\"N\"),\"\",IF(ISBLANK(F82),\"\",IF(ISBLANK(H82),IF(ISBLANK(K82),_xlfn.DAYS(TODAY(),F82),_xlfn.DAYS(K82,F82)),_xlfn.DAYS(H82,F82))))","v":""},null,null,null,{"$f":"IF(COUNTIF(D82,\"N\"),\"ON HOLD\",IF(ISBLANK(K82),IF(ISBLANK(E82),\"\",IF(ISBLANK(F82),\"NO\",\"YES\")),\"NO\"))","v":""},{"$f":"IF(COUNTIF(D82,\"N\"),\"\",IF(ISBLANK(F82),\"\",IF(ISBLANK(K82),_xlfn.DAYS(TODAY(),F82),_xlfn.DAYS(K82,F82))))","v":""},null,null,null,{"$f":"IF(ISBLANK(P82), \"\", P82-Q82)","v":""},{"$f":"IF(ISBLANK(Q82), \"\", Q82/P82)","v":""}]
[null,null,null,null,null,null,{"$f":"IF(COUNTIF(D83,\"N\"),\"\",IF(ISBLANK(E83),\"\",IF(ISBLANK(F83),IF(ISBLANK(L83), _xlfn.DAYS(TODAY(),E83), _xlfn.DAYS(L83,E83)), _xlfn.DAYS(F83,E83))))","v":""},null,{"$f":"IF(COUNTIF(D83,\"N\"),\"\",IF(ISBLANK(F83),\"\",IF(ISBLANK(H83),IF(ISBLANK(K83),_xlfn.DAYS(TODAY(),F83),_xlfn.DAYS(K83,F83)),_xlfn.DAYS(H83,F83))))","v":""},null,null,null,{"$f":"IF(COUNTIF(D83,\"N\"),\"ON HOLD\",IF(ISBLANK(K83),IF(ISBLANK(E83),\"\",IF(ISBLANK(F83),\"NO\",\"YES\")),\"NO\"))","v":""},{"$f":"IF(COUNTIF(D83,\"N\"),\"\",IF(ISBLANK(F83),\"\",IF(ISBLANK(K83),_xlfn.DAYS(TODAY(),F83),_xlfn.DAYS(K83,F83))))","v":""},null,null,null,{"$f":"IF(ISBLANK(P83), \"\", P83-Q83)","v":""},{"$f":"IF(ISBLANK(Q83), \"\", Q83/P83)","v":""}]
[null,null,null,null,null,null,{"$f":"IF(COUNTIF(D84,\"N\"),\"\",IF(ISBLANK(E84),\"\",IF(ISBLANK(F84),IF(ISBLANK(L84), _xlfn.DAYS(TODAY(),E84), _xlfn.DAYS(L84,E84)), _xlfn.DAYS(F84,E84))))","v":""},null,{"$f":"IF(COUNTIF(D84,\"N\"),\"\",IF(ISBLANK(F84),\"\",IF(ISBLANK(H84),IF(ISBLANK(K84),_xlfn.DAYS(TODAY(),F84),_xlfn.DAYS(K84,F84)),_xlfn.DAYS(H84,F84))))","v":""},null,null,null,{"$f":"IF(COUNTIF(D84,\"N\"),\"ON HOLD\",IF(ISBLANK(K84),IF(ISBLANK(E84),\"\",IF(ISBLANK(F84),\"NO\",\"YES\")),\"NO\"))","v":""},{"$f":"IF(COUNTIF(D84,\"N\"),\"\",IF(ISBLANK(F84),\"\",IF(ISBLANK(K84),_xlfn.DAYS(TODAY(),F84),_xlfn.DAYS(K84,F84))))","v":""},null,null,null,{"$f":"IF(ISBLANK(P84), \"\", P84-Q84)","v":""},{"$f":"IF(ISBLANK(Q84), \"\", Q84/P84)","v":""}]
[null,null,null,null,null,null,{"$f":"IF(COUNTIF(D85,\"N\"),\"\",IF(ISBLANK(E85),\"\",IF(ISBLANK(F85),IF(ISBLANK(L85), _xlfn.DAYS(TODAY(),E85), _xlfn.DAYS(L85,E85)), _xlfn.DAYS(F85,E85))))","v":""},null,{"$f":"IF(COUNTIF(D85,\"N\"),\"\",IF(ISBLANK(F85),\"\",IF(ISBLANK(H85),IF(ISBLANK(K85),_xlfn.DAYS(TODAY(),F85),_xlfn.DAYS(K85,F85)),_xlfn.DAYS(H85,F85))))","v":""},null,null,null,{"$f":"IF(COUNTIF(D85,\"N\"),\"ON HOLD\",IF(ISBLANK(K85),IF(ISBLANK(E85),\"\",IF(ISBLANK(F85),\"NO\",\"YES\")),\"NO\"))","v":""},{"$f":"IF(COUNTIF(D85,\"N\"),\"\",IF(ISBLANK(F85),\"\",IF(ISBLANK(K85),_xlfn.DAYS(TODAY(),F85),_xlfn.DAYS(K85,F85))))","v":""},null,null,null,{"$f":"IF(ISBLANK(P85), \"\", P85-Q85)","v":""},{"$f":"IF(ISBLANK(Q85), \"\", Q85/P85)","v":""}]
[null,null,null,null,null,null,{"$f":"IF(COUNTIF(D86,\"N\"),\"\",IF(ISBLANK(E86),\"\",IF(ISBLANK(F86),IF(ISBLANK(L86), _xlfn.DAYS(TODAY(),E86), _xlfn.DAYS(L86,E86)), _xlfn.DAYS(F86,E86))))","v":""},null,{"$f":"IF(COUNTIF(D86,\"N\"),\"\",IF(ISBLANK(F86),\"\",IF(ISBLANK(H86),IF(ISBLANK(K86),_xlfn.DAYS(TODAY(),F86),_xlfn.DAYS(K86,F86)),_xlfn.DAYS(H86,F86))))","v":""},null,null,null,{"$f":"IF(COUNTIF(D86,\"N\"),\"ON HOLD\",IF(ISBLANK(K86),IF(ISBLANK(E86),\"\",IF(ISBLANK(F86),\"NO\",\"YES\")),\"NO\"))","v":""},{"$f":"IF(COUNTIF(D86,\"N\"),\"\",IF(ISBLANK(F86),\"\",IF(ISBLANK(K86),_xlfn.DAYS(TODAY(),F86),_xlfn.DAYS(K86,F86))))","v":""},null,null,null,{"$f":"IF(ISBLANK(P86), \"\", P86-Q86)","v":""},{"$f":"IF(ISBLANK(Q86), \"\", Q86/P86)","v":""}]
[null,null,null,null,null,null,{"$f":"IF(COUNTIF(D87,\"N\"),\"\",IF(ISBLANK(E87),\"\",IF(ISBLANK(F87),IF(ISBLANK(L87), _xlfn.DAYS(TODAY(),E87), _xlfn.DAYS(L87,E87)), _xlfn.DAYS(F87,E87))))","v":""},null,{"$f":"IF(COUNTIF(D87,\"N\"),\"\",IF(ISBLANK(F87),\"\",IF(ISBLANK(H87),IF(ISBLANK(K87),_xlfn.DAYS(TODAY(),F87),_xlfn.DAYS(K87,F87)),_xlfn.DAYS(H87,F87))))","v":""},null,null,null,{"$f":"IF(COUNTIF(D87,\"N\"),\"ON HOLD\",IF(ISBLANK(K87),IF(ISBLANK(E87),\"\",IF(ISBLANK(F87),\"NO\",\"YES\")),\"NO\"))","v":""},{"$f":"IF(COUNTIF(D87,\"N\"),\"\",IF(ISBLANK(F87),\"\",IF(ISBLANK(K87),_xlfn.DAYS(TODAY(),F87),_xlfn.DAYS(K87,F87))))","v":""},null,null,null,{"$f":"IF(ISBLANK(P87), \"\", P87-Q87)","v":""},{"$f":"IF(ISBLANK(Q87), \"\", Q87/P87)","v":""}]
[null,null,null,null,null,null,{"$f":"IF(COUNTIF(D88,\"N\"),\"\",IF(ISBLANK(E88),\"\",IF(ISBLANK(F88),IF(ISBLANK(L88), _xlfn.DAYS(TODAY(),E88), _xlfn.DAYS(L88,E88)), _xlfn.DAYS(F88,E88))))","v":""},null,{"$f":"IF(COUNTIF(D88,\"N\"),\"\",IF(ISBLANK(F88),\"\",IF(ISBLANK(H88),IF(ISBLANK(K88),_xlfn.DAYS(TODAY(),F88),_xlfn.DAYS(K88,F88)),_xlfn.DAYS(H88,F88))))","v":""},null,null,null,{"$f":"IF(COUNTIF(D88,\"N\"),\"ON HOLD\",IF(ISBLANK(K88),IF(ISBLANK(E88),\"\",IF(ISBLANK(F88),\"NO\",\"YES\")),\"NO\"))","v":""},{"$f":"IF(COUNTIF(D88,\"N\"),\"\",IF(ISBLANK(F88),\"\",IF(ISBLANK(K88),_xlfn.DAYS(TODAY(),F88),_xlfn.DAYS(K88,F88))))","v":""},null,null,null,{"$f":"IF(ISBLANK(P88), \"\", P88-Q88)","v":""},{"$f":"IF(ISBLANK(Q88), \"\", Q88/P88)","v":""}]
[null,null,null,null,null,null,{"$f":"IF(COUNTIF(D89,\"N\"),\"\",IF(ISBLANK(E89),\"\",IF(ISBLANK(F89),IF(ISBLANK(L89), _xlfn.DAYS(TODAY(),E89), _xlfn.DAYS(L89,E89)), _xlfn.DAYS(F89,E89))))","v":""},null,{"$f":"IF(COUNTIF(D89,\"N\"),\"\",IF(ISBLANK(F89),\"\",IF(ISBLANK(H89),IF(ISBLANK(K89),_xlfn.DAYS(TODAY(),F89),_xlfn.DAYS(K89,F89)),_xlfn.DAYS(H89,F89))))","v":""},null,null,null,{"$f":"IF(COUNTIF(D89,\"N\"),\"ON HOLD\",IF(ISBLANK(K89),IF(ISBLANK(E89),\"\",IF(ISBLANK(F89),\"NO\",\"YES\")),\"NO\"))","v":""},{"$f":"IF(COUNTIF(D89,\"N\"),\"\",IF(ISBLANK(F89),\"\",IF(ISBLANK(K89),_xlfn.DAYS(TODAY(),F89),_xlfn.DAYS(K89,F89))))","v":""},null,null,null,{"$f":"IF(ISBLANK(P89), \"\", P89-Q89)","v":""},{"$f":"IF(ISBLANK(Q89), \"\", Q89/P89)","v":""}]
[null,null,null,null,null,null,{"$f":"IF(COUNTIF(D90,\"N\"),\"\",IF(ISBLANK(E90),\"\",IF(ISBLANK(F90),IF(ISBLANK(L90), _xlfn.DAYS(TODAY(),E90), _xlfn.DAYS(L90,E90)), _xlfn.DAYS(F90,E90))))","v":""},null,{"$f":"IF(COUNTIF(D90,\"N\"),\"\",IF(ISBLANK(F90),\"\",IF(ISBLANK(H90),IF(ISBLANK(K90),_xlfn.DAYS(TODAY(),F90),_xlfn.DAYS(K90,F90)),_xlfn.DAYS(H90,F90))))","v":""},null,null,null,{"$f":"IF(COUNTIF(D90,\"N\"),\"ON HOLD\",IF(ISBLANK(K90),IF(ISBLANK(E90),\"\",IF(ISBLANK(F90),\"NO\",\"YES\")),\"NO\"))","v":""},{"$f":"IF(COUNTIF(D90,\"N\"),\"\",IF(ISBLANK(F90),\"\",IF(ISBLANK(K90),_xlfn.DAYS(TODAY(),F90),_xlfn.DAYS(K90,F90))))","v":""},null,null,null,{"$f":"IF(ISBLANK(P90), \"\", P90-Q90)","v":""},{"$f":"IF(ISBLANK(Q90), \"\", Q90/P90)","v":""}]
[null,null,null,null,null,null,{"$f":"IF(COUNTIF(D91,\"N\"),\"\",IF(ISBLANK(E91),\"\",IF(ISBLANK(F91),IF(ISBLANK(L91), _xlfn.DAYS(TODAY(),E91), _xlfn.DAYS(L91,E91)), _xlfn.DAYS(F91,E91))))","v":""},null,{"$f":"IF(COUNTIF(D91,\"N\"),\"\",IF(ISBLANK(F91),\"\",IF(ISBLANK(H91),IF(ISBLANK(K91),_xlfn.DAYS(TODAY(),F91),_xlfn.DAYS(K91,F91)),_xlfn.DAYS(H91,F91))))","v":""},null,null,null,{"$f":"IF(COUNTIF(D91,\"N\"),\"ON HOLD\",IF(ISBLANK(K91),IF(ISBLANK(E91),\"\",IF(ISBLANK(F91),\"NO\",\"YES\")),\"NO\"))","v":""},{"$f":"IF(COUNTIF(D91,\"N\"),\"\",IF(ISBLANK(F91),\"\",IF(ISBLANK(K91),_xlfn.DAYS(TODAY(),F91),_xlfn.DAYS(K91,F91))))","v":""},null,null,null,{"$f":"IF(ISBLANK(P91), \"\", P91-Q91)","v":""},{"$f":"IF(ISBLANK(Q91), \"\", Q91/P91)","v":""}]
[null,null,null,null,null,null,{"$f":"IF(COUNTIF(D92,\"N\"),\"\",IF(ISBLANK(E92),\"\",IF(ISBLANK(F92),IF(ISBLANK(L92), _xlfn.DAYS(TODAY(),E92), _xlfn.DAYS(L92,E92)), _xlfn.DAYS(F92,E92))))","v":""},null,{"$f":"IF(COUNTIF(D92,\"N\"),\"\",IF(ISBLANK(F92),\"\",IF(ISBLANK(H92),IF(ISBLANK(K92),_xlfn.DAYS(TODAY(),F92),_xlfn.DAYS(K92,F92)),_xlfn.DAYS(H92,F92))))","v":""},null,null,null,{"$f":"IF(COUNTIF(D92,\"N\"),\"ON HOLD\",IF(ISBLANK(K92),IF(ISBLANK(E92),\"\",IF(ISBLANK(F92),\"NO\",\"YES\")),\"NO\"))","v":""},{"$f":"IF(COUNTIF(D92,\"N\"),\"\",IF(ISBLANK(F92),\"\",IF(ISBLANK(K92),_xlfn.DAYS(TODAY(),F92),_xlfn.DAYS(K92,F92))))","v":""},null,null,null,{"$f":"IF(ISBLANK(P92), \"\", P92-Q92)","v":""},{"$f":"IF(ISBLANK(Q92), \"\", Q92/P92)","v":""}]
[null,null,null,null,null,null,{"$f":"IF(COUNTIF(D93,\"N\"),\"\",IF(ISBLANK(E93),\"\",IF(ISBLANK(F93),IF(ISBLANK(L93), _xlfn.DAYS(TODAY(),E93), _xlfn.DAYS(L93,E93)), _xlfn.DAYS(F93,E93))))","v":""},null,{"$f":"IF(COUNTIF(D93,\"N\"),\"\",IF(ISBLANK(F93),\"\",IF(ISBLANK(H93),IF(ISBLANK(K93),_xlfn.DAYS(TODAY(),F93),_xlfn.DAYS(K93,F93)),_xlfn.DAYS(H93,F93))))","v":""},null,null,null,{"$f":"IF(COUNTIF(D93,\"N\"),\"ON HOLD\",IF(ISBLANK(K93),IF(ISBLANK(E93),\"\",IF(ISBLANK(F93),\"NO\",\"YES\")),\"NO\"))","v":""},{"$f":"IF(COUNTIF(D93,\"N\"),\"\",IF(ISBLANK(F93),\"\",IF(ISBLANK(K93),_xlfn.DAYS(TODAY(),F93),_xlfn.DAYS(K93,F93))))","v":""},null,null,null,{"$f":"IF(ISBLANK(P93), \"\", P93-Q93)","v":""},{"$f":"IF(ISBLANK(Q93), \"\", Q93/P93)","v":""}]
[null,null,null,null,null,null,{"$f":"IF(COUNTIF(D94,\"N\"),\"\",IF(ISBLANK(E94),\"\",IF(ISBLANK(F94),IF(ISBLANK(L94), _xlfn.DAYS(TODAY(),E94), _xlfn.DAYS(L94,E94)), _xlfn.DAYS(F94,E94))))","v":""},null,{"$f":"IF(COUNTIF(D94,\"N\"),\"\",IF(ISBLANK(F94),\"\",IF(ISBLANK(H94),IF(ISBLANK(K94),_xlfn.DAYS(TODAY(),F94),_xlfn.DAYS(K94,F94)),_xlfn.DAYS(H94,F94))))","v":""},null,null,null,{"$f":"IF(COUNTIF(D94,\"N\"),\"ON HOLD\",IF(ISBLANK(K94),IF(ISBLANK(E94),\"\",IF(ISBLANK(F94),\"NO\",\"YES\")),\"NO\"))","v":""},{"$f":"IF(COUNTIF(D94,\"N\"),\"\",IF(ISBLANK(F94),\"\",IF(ISBLANK(K94),_xlfn.DAYS(TODAY(),F94),_xlfn.DAYS(K94,F94))))","v":""},null,null,null,{"$f":"IF(ISBLANK(P94), \"\", P94-Q94)","v":""},{"$f":"IF(ISBLANK(Q94), \"\", Q94/P94)","v":""}]
[null,null,null,null,null,null,{"$f":"IF(COUNTIF(D95,\"N\"),\"\",IF(ISBLANK(E95),\"\",IF(ISBLANK(F95),IF(ISBLANK(L95), _xlfn.DAYS(TODAY(),E95), _xlfn.DAYS(L95,E95)), _xlfn.DAYS(F95,E95))))","v":""},null,{"$f":"IF(COUNTIF(D95,\"N\"),\"\",IF(ISBLANK(F95),\"\",IF(ISBLANK(H95),IF(ISBLANK(K95),_xlfn.DAYS(TODAY(),F95),_xlfn.DAYS(K95,F95)),_xlfn.DAYS(H95,F95))))","v":""},null,null,null,{"$f":"IF(COUNTIF(D95,\"N\"),\"ON HOLD\",IF(ISBLANK(K95),IF(ISBLANK(E95),\"\",IF(ISBLANK(F95),\"NO\",\"YES\")),\"NO\"))","v":""},{"$f":"IF(COUNTIF(D95,\"N\"),\"\",IF(ISBLANK(F95),\"\",IF(ISBLANK(K95),_xlfn.DAYS(TODAY(),F95),_xlfn.DAYS(K95,F95))))","v":""},null,null,null,{"$f":"IF(ISBLANK(P95), \"\", P95-Q95)","v":""},{"$f":"IF(ISBLANK(Q95), \"\", Q95/P95)","v":""}]
[null,null,null,null,null,null,{"$f":"IF(COUNTIF(D96,\"N\"),\"\",IF(ISBLANK(E96),\"\",IF(ISBLANK(F96),IF(ISBLANK(L96), _xlfn.DAYS(TODAY(),E96), _xlfn.DAYS(L96,E96)), _xlfn.DAYS(F96,E96))))","v":""},null,{"$f":"IF(COUNTIF(D96,\"N\"),\"\",IF(ISBLANK(F96),\"\",IF(ISBLANK(H96),IF(ISBLANK(K96),_xlfn.DAYS(TODAY(),F96),_xlfn.DAYS(K96,F96)),_xlfn.DAYS(H96,F96))))","v":""},null,null,null,{"$f":"IF(COUNTIF(D96,\"N\"),\"ON HOLD\",IF(ISBLANK(K96),IF(ISBLANK(E96),\"\",IF(ISBLANK(F96),\"NO\",\"YES\")),\"NO\"))","v":""},{"$f":"IF(COUNTIF(D96,\"N\"),\"\",IF(ISBLANK(F96),\"\",IF(ISBLANK(K96),_xlfn.DAYS(TODAY(),F96),_xlfn.DAYS(K96,F96))))","v":""},null,null,null,{"$f":"IF(ISBLANK(P96), \"\", P96-Q96)","v":""},{"$f":"IF(ISBLANK(Q96), \"\", Q96/P96)","v":""}]
[null,null,null,null,null,null,{"$f":"IF(COUNTIF(D97,\"N\"),\"\",IF(ISBLANK(E97),\"\",IF(ISBLANK(F97),IF(ISBLANK(L97), _xlfn.DAYS(TODAY(),E97), _xlfn.DAYS(L97,E97)), _xlfn.DAYS(F97,E97))))","v":""},null,{"$f":"IF(COUNTIF(D97,\"N\"),\"\",IF(ISBLANK(F97),\"\",IF(ISBLANK(H97),IF(ISBLANK(K97),_xlfn.DAYS(TODAY(),F97),_xlfn.DAYS(K97,F97)),_xlfn.DAYS(H97,F97))))","v":""},null,null,null,{"$f":"IF(COUNTIF(D97,\"N\"),\"ON HOLD\",IF(ISBLANK(K97),IF(ISBLANK(E97),\"\",IF(ISBLANK(F97),\"NO\",\"YES\")),\"NO\"))","v":""},{"$f":"IF(COUNTIF(D97,\"N\"),\"\",IF(ISBLANK(F97),\"\",IF(ISBLANK(K97),_xlfn.DAYS(TODAY(),F97),_xlfn.DAYS(K97,F97))))","v":""},null,null,null,{"$f":"IF(ISBLANK(P97), \"\", P97-Q97)","v":""},{"$f":"IF(ISBLANK(Q97), \"\", Q97/P97)","v":""}]
[null,null,null,null,null,null,{"$f":"IF(COUNTIF(D98,\"N\"),\"\",IF(ISBLANK(E98),\"\",IF(ISBLANK(F98),IF(ISBLANK(L98), _xlfn.DAYS(TODAY(),E98), _xlfn.DAYS(L98,E98)), _xlfn.DAYS(F98,E98))))","v":""},null,{"$f":"IF(COUNTIF(D98,\"N\"),\"\",IF(ISBLANK(F98),\"\",IF(ISBLANK(H98),IF(ISBLANK(K98),_xlfn.DAYS(TODAY(),F98),_xlfn.DAYS(K98,F98)),_xlfn.DAYS(H98,F98))))","v":""},null,null,null,{"$f":"IF(COUNTIF(D98,\"N\"),\"ON HOLD\",IF(ISBLANK(K98),IF(ISBLANK(E98),\"\",IF(ISBLANK(F98),\"NO\",\"YES\")),\"NO\"))","v":""},{"$f":"IF(COUNTIF(D98,\"N\"),\"\",IF(ISBLANK(F98),\"\",IF(ISBLANK(K98),_xlfn.DAYS(TODAY(),F98),_xlfn.DAYS(K98,F98))))","v":""},null,null,null,{"$f":"IF(ISBLANK(P98), \"\", P98-Q98)","v":""},{"$f":"IF(ISBLANK(Q98), \"\", Q98/P98)","v":""}]
[null,null,null,null,null,null,{"$f":"IF(COUNTIF(D99,\"N\"),\"\",IF(ISBLANK(E99),\"\",IF(ISBLANK(F99),IF(ISBLANK(L99), _xlfn.DAYS(TODAY(),E99), _xlfn.DAYS(L99,E99)), _xlfn.DAYS(F99,E99))))","v":""},null,{"$f":"IF(COUNTIF(D99,\"N\"),\"\",IF(ISBLANK(F99),\"\",IF(ISBLANK(H99),IF(ISBLANK(K99),_xlfn.DAYS(TODAY(),F99),_xlfn.DAYS(K99,F99)),_xlfn.DAYS(H99,F99))))","v":""},null,null,null,{"$f":"IF(COUNTIF(D99,\"N\"),\"ON HOLD\",IF(ISBLANK(K99),IF(ISBLANK(E99),\"\",IF(ISBLANK(F99),\"NO\",\"YES\")),\"NO\"))","v":""},{"$f":"IF(COUNTIF(D99,\"N\"),\"\",IF(ISBLANK(F99),\"\",IF(ISBLANK(K99),_xlfn.DAYS(TODAY(),F99),_xlfn.DAYS(K99,F99))))","v":""},null,null,null,{"$f":"IF(ISBLANK(P99), \"\", P99-Q99)","v":""},{"$f":"IF(ISBLANK(Q99), \"\", Q99/P99)","v":""}]
[null,null,null,null,null,null,{"$f":"IF(COUNTIF(D100,\"N\"),\"\",IF(ISBLANK(E100),\"\",IF(ISBLANK(F100),IF(ISBLANK(L100), _xlfn.DAYS(TODAY(),E100), _xlfn.DAYS(L100,E100)), _xlfn.DAYS(F100,E100))))","v":""},null,{"$f":"IF(COUNTIF(D100,\"N\"),\"\",IF(ISBLANK(F100),\"\",IF(ISBLANK(H100),IF(ISBLANK(K100),_xlfn.DAYS(TODAY(),F100),_xlfn.DAYS(K100,F100)),_xlfn.DAYS(H100,F100))))","v":""},null,null,null,{"$f":"IF(COUNTIF(D100,\"N\"),\"ON HOLD\",IF(ISBLANK(K100),IF(ISBLANK(E100),\"\",IF(ISBLANK(F100),\"NO\",\"YES\")),\"NO\"))","v":""},{"$f":"IF(COUNTIF(D100,\"N\"),\"\",IF(ISBLANK(F100),\"\",IF(ISBLANK(K100),_xlfn.DAYS(TODAY(),F100),_xlfn.DAYS(K100,F100))))","v":""},null,null,null,{"$f":"IF(ISBLANK(P100), \"\", P100-Q100)","v":""},{"$f":"IF(ISBLANK(Q100), \"\", Q100/P100)","v":""}]
[null,null,null,null,null,null,{"$f":"IF(COUNTIF(D101,\"N\"),\"\",IF(ISBLANK(E101),\"\",IF(ISBLANK(F101),IF(ISBLANK(L101), _xlfn.DAYS(TODAY(),E101), _xlfn.DAYS(L101,E101)), _xlfn.DAYS(F101,E101))))","v":""},null,{"$f":"IF(COUNTIF(D101,\"N\"),\"\",IF(ISBLANK(F101),\"\",IF(ISBLANK(H101),IF(ISBLANK(K101),_xlfn.DAYS(TODAY(),F101),_xlfn.DAYS(K101,F101)),_xlfn.DAYS(H101,F101))))","v":""},null,null,null,{"$f":"IF(COUNTIF(D101,\"N\"),\"ON HOLD\",IF(ISBLANK(K101),IF(ISBLANK(E101),\"\",IF(ISBLANK(F101),\"NO\",\"YES\")),\"NO\"))","v":""},{"$f":"IF(COUNTIF(D101,\"N\"),\"\",IF(ISBLANK(F101),\"\",IF(ISBLANK(K101),_xlfn.DAYS(TODAY(),F101),_xlfn.DAYS(K101,F101))))","v":""},null,null,null,{"$f":"IF(ISBLANK(P101), \"\", P101-Q101)","v":""},{"$f":"IF(ISBLANK(Q101), \"\", Q101/P101)","v":""}]
[null,null,null,null,null,null,{"$f":"IF(COUNTIF(D102,\"N\"),\"\",IF(ISBLANK(E102),\"\",IF(ISBLANK(F102),IF(ISBLANK(L102), _xlfn.DAYS(TODAY(),E102), _xlfn.DAYS(L102,E102)), _xlfn.DAYS(F102,E102))))","v":""},null,{"$f":"IF(COUNTIF(D102,\"N\"),\"\",IF(ISBLANK(F102),\"\",IF(ISBLANK(H102),IF(ISBLANK(K102),_xlfn.DAYS(TODAY(),F102),_xlfn.DAYS(K102,F102)),_xlfn.DAYS(H102,F102))))","v":""},null,null,null,{"$f":"IF(COUNTIF(D102,\"N\"),\"ON HOLD\",IF(ISBLANK(K102),IF(ISBLANK(E102),\"\",IF(ISBLANK(F102),\"NO\",\"YES\")),\"NO\"))","v":""},{"$f":"IF(COUNTIF(D102,\"N\"),\"\",IF(ISBLANK(F102),\"\",IF(ISBLANK(K102),_xlfn.DAYS(TODAY(),F102),_xlfn.DAYS(K102,F102))))","v":""},null,null,null,{"$f":"IF(ISBLANK(P102), \"\", P102-Q102)","v":""},{"$f":"IF(ISBLANK(Q102), \"\", Q102/P102)","v":""}]
[null,null,null,null,null,null,{"$f":"IF(COUNTIF(D103,\"N\"),\"\",IF(ISBLANK(E103),\"\",IF(ISBLANK(F103),IF(ISBLANK(L103), _xlfn.DAYS(TODAY(),E103), _xlfn.DAYS(L103,E103)), _xlfn.DAYS(F103,E103))))","v":""},null,{"$f":"IF(COUNTIF(D103,\"N\"),\"\",IF(ISBLANK(F103),\"\",IF(ISBLANK(H103),IF(ISBLANK(K103),_xlfn.DAYS(TODAY(),F103),_xlfn.DAYS(K103,F103)),_xlfn.DAYS(H103,F103))))","v":""},null,null,null,{"$f":"IF(COUNTIF(D103,\"N\"),\"ON HOLD\",IF(ISBLANK(K103),IF(ISBLANK(E103),\"\",IF(ISBLANK(F103),\"NO\",\"YES\")),\"NO\"))","v":""},{"$f":"IF(COUNTIF(D103,\"N\"),\"\",IF(ISBLANK(F103),\"\",IF(ISBLANK(K103),_xlfn.DAYS(TODAY(),F103),_xlfn.DAYS(K103,F103))))","v":""},null,null,null,{"$f":"IF(ISBLANK(P103), \"\", P103-Q103)","v":""},{"$f":"IF(ISBLANK(Q103), \"\", Q103/P103)","v":""}]
[null,null,null,null,null,null,{"$f":"IF(COUNTIF(D104,\"N\"),\"\",IF(ISBLANK(E104),\"\",IF(ISBLANK(F104),IF(ISBLANK(L104), _xlfn.DAYS(TODAY(),E104), _xlfn.DAYS(L104,E104)), _xlfn.DAYS(F104,E104))))","v":""},null,{"$f":"IF(COUNTIF(D104,\"N\"),\"\",IF(ISBLANK(F104),\"\",IF(ISBLANK(H104),IF(ISBLANK(K104),_xlfn.DAYS(TODAY(),F104),_xlfn.DAYS(K104,F104)),_xlfn.DAYS(H104,F104))))","v":""},null,null,null,{"$f":"IF(COUNTIF(D104,\"N\"),\"ON HOLD\",IF(ISBLANK(K104),IF(ISBLANK(E104),\"\",IF(ISBLANK(F104),\"NO\",\"YES\")),\"NO\"))","v":""},{"$f":"IF(COUNTIF(D104,\"N\"),\"\",IF(ISBLANK(F104),\"\",IF(ISBLANK(K104),_xlfn.DAYS(TODAY(),F104),_xlfn.DAYS(K104,F104))))","v":""},null,null,null,{"$f":"IF(ISBLANK(P104), \"\", P104-Q104)","v":""},{"$f":"IF(ISBLANK(Q104), \"\", Q104/P104)","v":""}]
[null,null,null,null,null,null,{"$f":"IF(COUNTIF(D105,\"N\"),\"\",IF(ISBLANK(E105),\"\",IF(ISBLANK(F105),IF(ISBLANK(L105), _xlfn.DAYS(TODAY(),E105), _xlfn.DAYS(L105,E105)), _xlfn.DAYS(F105,E105))))","v":""},null,{"$f":"IF(COUNTIF(D105,\"N\"),\"\",IF(ISBLANK(F105),\"\",IF(ISBLANK(H105),IF(ISBLANK(K105),_xlfn.DAYS(TODAY(),F105),_xlfn.DAYS(K105,F105)),_xlfn.DAYS(H105,F105))))","v":""},null,null,null,{"$f":"IF(COUNTIF(D105,\"N\"),\"ON HOLD\",IF(ISBLANK(K105),IF(ISBLANK(E105),\"\",IF(ISBLANK(F105),\"NO\",\"YES\")),\"NO\"))","v":""},{"$f":"IF(COUNTIF(D105,\"N\"),\"\",IF(ISBLANK(F105),\"\",IF(ISBLANK(K105),_xlfn.DAYS(TODAY(),F105),_xlfn.DAYS(K105,F105))))","v":""},null,null,null,{"$f":"IF(ISBLANK(P105), \"\", P105-Q105)","v":""},{"$f":"IF(ISBLANK(Q105), \"\", Q105/P105)","v":""}]
[null,null,null,null,null,null,{"$f":"IF(COUNTIF(D106,\"N\"),\"\",IF(ISBLANK(E106),\"\",IF(ISBLANK(F106),IF(ISBLANK(L106), _xlfn.DAYS(TODAY(),E106), _xlfn.DAYS(L106,E106)), _xlfn.DAYS(F106,E106))))","v":""},null,{"$f":"IF(COUNTIF(D106,\"N\"),\"\",IF(ISBLANK(F106),\"\",IF(ISBLANK(H106),IF(ISBLANK(K106),_xlfn.DAYS(TODAY(),F106),_xlfn.DAYS(K106,F106)),_xlfn.DAYS(H106,F106))))","v":""},null,null,null,{"$f":"IF(COUNTIF(D106,\"N\"),\"ON HOLD\",IF(ISBLANK(K106),IF(ISBLANK(E106),\"\",IF(ISBLANK(F106),\"NO\",\"YES\")),\"NO\"))","v":""},{"$f":"IF(COUNTIF(D106,\"N\"),\"\",IF(ISBLANK(F106),\"\",IF(ISBLANK(K106),_xlfn.DAYS(TODAY(),F106),_xlfn.DAYS(K106,F106))))","v":""},null,null,null,{"$f":"IF(ISBLANK(P106), \"\", P106-Q106)","v":""},{"$f":"IF(ISBLANK(Q106), \"\", Q106/P106)","v":""}]
[null,null,null,null,null,null,{"$f":"IF(COUNTIF(D107,\"N\"),\"\",IF(ISBLANK(E107),\"\",IF(ISBLANK(F107),IF(ISBLANK(L107), _xlfn.DAYS(TODAY(),E107), _xlfn.DAYS(L107,E107)), _xlfn.DAYS(F107,E107))))","v":""},null,{"$f":"IF(COUNTIF(D107,\"N\"),\"\",IF(ISBLANK(F107),\"\",IF(ISBLANK(H107),IF(ISBLANK(K107),_xlfn.DAYS(TODAY(),F107),_xlfn.DAYS(K107,F107)),_xlfn.DAYS(H107,F107))))","v":""},null,null,null,{"$f":"IF(COUNTIF(D107,\"N\"),\"ON HOLD\",IF(ISBLANK(K107),IF(ISBLANK(E107),\"\",IF(ISBLANK(F107),\"NO\",\"YES\")),\"NO\"))","v":""},{"$f":"IF(COUNTIF(D107,\"N\"),\"\",IF(ISBLANK(F107),\"\",IF(ISBLANK(K107),_xlfn.DAYS(TODAY(),F107),_xlfn.DAYS(K107,F107))))","v":""},null,null,null,{"$f":"IF(ISBLANK(P107), \"\", P107-Q107)","v":""},{"$f":"IF(ISBLANK(Q107), \"\", Q107/P107)","v":""}]
[null,null,null,null,null,null,{"$f":"IF(COUNTIF(D108,\"N\"),\"\",IF(ISBLANK(E108),\"\",IF(ISBLANK(F108),IF(ISBLANK(L108), _xlfn.DAYS(TODAY(),E108), _xlfn.DAYS(L108,E108)), _xlfn.DAYS(F108,E108))))","v":""},null,{"$f":"IF(COUNTIF(D108,\"N\"),\"\",IF(ISBLANK(F108),\"\",IF(ISBLANK(H108),IF(ISBLANK(K108),_xlfn.DAYS(TODAY(),F108),_xlfn.DAYS(K108,F108)),_xlfn.DAYS(H108,F108))))","v":""},null,null,null,{"$f":"IF(COUNTIF(D108,\"N\"),\"ON HOLD\",IF(ISBLANK(K108),IF(ISBLANK(E108),\"\",IF(ISBLANK(F108),\"NO\",\"YES\")),\"NO\"))","v":""},{"$f":"IF(COUNTIF(D108,\"N\"),\"\",IF(ISBLANK(F108),\"\",IF(ISBLANK(K108),_xlfn.DAYS(TODAY(),F108),_xlfn.DAYS(K108,F108))))","v":""},null,null,null,{"$f":"IF(ISBLANK(P108), \"\", P108-Q108)","v":""},{"$f":"IF(ISBLANK(Q108), \"\", Q108/P108)","v":""}]
[null,null,null,null,null,null,{"$f":"IF(COUNTIF(D109,\"N\"),\"\",IF(ISBLANK(E109),\"\",IF(ISBLANK(F109),IF(ISBLANK(L109), _xlfn.DAYS(TODAY(),E109), _xlfn.DAYS(L109,E109)), _xlfn.DAYS(F109,E109))))","v":""},null,{"$f":"IF(COUNTIF(D109,\"N\"),\"\",IF(ISBLANK(F109),\"\",IF(ISBLANK(H109),IF(ISBLANK(K109),_xlfn.DAYS(TODAY(),F109),_xlfn.DAYS(K109,F109)),_xlfn.DAYS(H109,F109))))","v":""},null,null,null,{"$f":"IF(COUNTIF(D109,\"N\"),\"ON HOLD\",IF(ISBLANK(K109),IF(ISBLANK(E109),\"\",IF(ISBLANK(F109),\"NO\",\"YES\")),\"NO\"))","v":""},{"$f":"IF(COUNTIF(D109,\"N\"),\"\",IF(ISBLANK(F109),\"\",IF(ISBLANK(K109),_xlfn.DAYS(TODAY(),F109),_xlfn.DAYS(K109,F109))))","v":""},null,null,null,{"$f":"IF(ISBLANK(P109), \"\", P109-Q109)","v":""},{"$f":"IF(ISBLANK(Q109), \"\", Q109/P109)","v":""}]
[null,null,null,null,null,null,{"$f":"IF(COUNTIF(D110,\"N\"),\"\",IF(ISBLANK(E110),\"\",IF(ISBLANK(F110),IF(ISBLANK(L110), _xlfn.DAYS(TODAY(),E110), _xlfn.DAYS(L110,E110)), _xlfn.DAYS(F110,E110))))","v":""},null,{"$f":"IF(COUNTIF(D110,\"N\"),\"\",IF(ISBLANK(F110),\"\",IF(ISBLANK(H110),IF(ISBLANK(K110),_xlfn.DAYS(TODAY(),F110),_xlfn.DAYS(K110,F110)),_xlfn.DAYS(H110,F110))))","v":""},null,null,null,{"$f":"IF(COUNTIF(D110,\"N\"),\"ON HOLD\",IF(ISBLANK(K110),IF(ISBLANK(E110),\"\",IF(ISBLANK(F110),\"NO\",\"YES\")),\"NO\"))","v":""},{"$f":"IF(COUNTIF(D110,\"N\"),\"\",IF(ISBLANK(F110),\"\",IF(ISBLANK(K110),_xlfn.DAYS(TODAY(),F110),_xlfn.DAYS(K110,F110))))","v":""},null,null,null,{"$f":"IF(ISBLANK(P110), \"\", P110-Q110)","v":""},{"$f":"IF(ISBLANK(Q110), \"\", Q110/P110)","v":""}]
[null,null,null,null,null,null,{"$f":"IF(COUNTIF(D111,\"N\"),\"\",IF(ISBLANK(E111),\"\",IF(ISBLANK(F111),IF(ISBLANK(L111), _xlfn.DAYS(TODAY(),E111), _xlfn.DAYS(L111,E111)), _xlfn.DAYS(F111,E111))))","v":""},null,{"$f":"IF(COUNTIF(D111,\"N\"),\"\",IF(ISBLANK(F111),\"\",IF(ISBLANK(H111),IF(ISBLANK(K111),_xlfn.DAYS(TODAY(),F111),_xlfn.DAYS(K111,F111)),_xlfn.DAYS(H111,F111))))","v":""},null,null,null,{"$f":"IF(COUNTIF(D111,\"N\"),\"ON HOLD\",IF(ISBLANK(K111),IF(ISBLANK(E111),\"\",IF(ISBLANK(F111),\"NO\",\"YES\")),\"NO\"))","v":""},{"$f":"IF(COUNTIF(D111,\"N\"),\"\",IF(ISBLANK(F111),\"\",IF(ISBLANK(K111),_xlfn.DAYS(TODAY(),F111),_xlfn.DAYS(K111,F111))))","v":""},null,null,null,{"$f":"IF(ISBLANK(P111), \"\", P111-Q111)","v":""},{"$f":"IF(ISBLANK(Q111), \"\", Q111/P111)","v":""}]
[null,null,null,null,null,null,{"$f":"IF(COUNTIF(D112,\"N\"),\"\",IF(ISBLANK(E112),\"\",IF(ISBLANK(F112),IF(ISBLANK(L112), _xlfn.DAYS(TODAY(),E112), _xlfn.DAYS(L112,E112)), _xlfn.DAYS(F112,E112))))","v":""},null,{"$f":"IF(COUNTIF(D112,\"N\"),\"\",IF(ISBLANK(F112),\"\",IF(ISBLANK(H112),IF(ISBLANK(K112),_xlfn.DAYS(TODAY(),F112),_xlfn.DAYS(K112,F112)),_xlfn.DAYS(H112,F112))))","v":""},null,null,null,{"$f":"IF(COUNTIF(D112,\"N\"),\"ON HOLD\",IF(ISBLANK(K112),IF(ISBLANK(E112),\"\",IF(ISBLANK(F112),\"NO\",\"YES\")),\"NO\"))","v":""},{"$f":"IF(COUNTIF(D112,\"N\"),\"\",IF(ISBLANK(F112),\"\",IF(ISBLANK(K112),_xlfn.DAYS(TODAY(),F112),_xlfn.DAYS(K112,F112))))","v":""},null,null,null,{"$f":"IF(ISBLANK(P112), \"\", P112-Q112)","v":""},{"$f":"IF(ISBLANK(Q112), \"\", Q112/P112)","v":""}]
[null,null,null,null,null,null,{"$f":"IF(COUNTIF(D113,\"N\"),\"\",IF(ISBLANK(E113),\"\",IF(ISBLANK(F113),IF(ISBLANK(L113), _xlfn.DAYS(TODAY(),E113), _xlfn.DAYS(L113,E113)), _xlfn.DAYS(F113,E113))))","v":""},null,{"$f":"IF(COUNTIF(D113,\"N\"),\"\",IF(ISBLANK(F113),\"\",IF(ISBLANK(H113),IF(ISBLANK(K113),_xlfn.DAYS(TODAY(),F113),_xlfn.DAYS(K113,F113)),_xlfn.DAYS(H113,F113))))","v":""},null,null,null,{"$f":"IF(COUNTIF(D113,\"N\"),\"ON HOLD\",IF(ISBLANK(K113),IF(ISBLANK(E113),\"\",IF(ISBLANK(F113),\"NO\",\"YES\")),\"NO\"))","v":""},{"$f":"IF(COUNTIF(D113,\"N\"),\"\",IF(ISBLANK(F113),\"\",IF(ISBLANK(K113),_xlfn.DAYS(TODAY(),F113),_xlfn.DAYS(K113,F113))))","v":""},null,null,null,{"$f":"IF(ISBLANK(P113), \"\", P113-Q113)","v":""},{"$f":"IF(ISBLANK(Q113), \"\", Q113/P113)","v":""}]
[null,null,null,null,null,null,{"$f":"IF(COUNTIF(D114,\"N\"),\"\",IF(ISBLANK(E114),\"\",IF(ISBLANK(F114),IF(ISBLANK(L114), _xlfn.DAYS(TODAY(),E114), _xlfn.DAYS(L114,E114)), _xlfn.DAYS(F114,E114))))","v":""},null,{"$f":"IF(COUNTIF(D114,\"N\"),\"\",IF(ISBLANK(F114),\"\",IF(ISBLANK(H114),IF(ISBLANK(K114),_xlfn.DAYS(TODAY(),F114),_xlfn.DAYS(K114,F114)),_xlfn.DAYS(H114,F114))))","v":""},null,null,null,{"$f":"IF(COUNTIF(D114,\"N\"),\"ON HOLD\",IF(ISBLANK(K114),IF(ISBLANK(E114),\"\",IF(ISBLANK(F114),\"NO\",\"YES\")),\"NO\"))","v":""},{"$f":"IF(COUNTIF(D114,\"N\"),\"\",IF(ISBLANK(F114),\"\",IF(ISBLANK(K114),_xlfn.DAYS(TODAY(),F114),_xlfn.DAYS(K114,F114))))","v":""},null,null,null,{"$f":"IF(ISBLANK(P114), \"\", P114-Q114)","v":""},{"$f":"IF(ISBLANK(Q114), \"\", Q114/P114)","v":""}]
[null,null,null,null,null,null,{"$f":"IF(COUNTIF(D115,\"N\"),\"\",IF(ISBLANK(E115),\"\",IF(ISBLANK(F115),IF(ISBLANK(L115), _xlfn.DAYS(TODAY(),E115), _xlfn.DAYS(L115,E115)), _xlfn.DAYS(F115,E115))))","v":""},null,{"$f":"IF(COUNTIF(D115,\"N\"),\"\",IF(ISBLANK(F115),\"\",IF(ISBLANK(H115),IF(ISBLANK(K115),_xlfn.DAYS(TODAY(),F115),_xlfn.DAYS(K115,F115)),_xlfn.DAYS(H115,F115))))","v":""},null,null,null,{"$f":"IF(COUNTIF(D115,\"N\"),\"ON HOLD\",IF(ISBLANK(K115),IF(ISBLANK(E115),\"\",IF(ISBLANK(F115),\"NO\",\"YES\")),\"NO\"))","v":""},{"$f":"IF(COUNTIF(D115,\"N\"),\"\",IF(ISBLANK(F115),\"\",IF(ISBLANK(K115),_xlfn.DAYS(TODAY(),F115),_xlfn.DAYS(K115,F115))))","v":""},null,null,null,{"$f":"IF(ISBLANK(P115), \"\", P115-Q115)","v":""},{"$f":"IF(ISBLANK(Q115), \"\", Q115/P115)","v":""}]
[null,null,null,null,null,null,{"$f":"IF(COUNTIF(D116,\"N\"),\"\",IF(ISBLANK(E116),\"\",IF(ISBLANK(F116),IF(ISBLANK(L116), _xlfn.DAYS(TODAY(),E116), _xlfn.DAYS(L116,E116)), _xlfn.DAYS(F116,E116))))","v":""},null,{"$f":"IF(COUNTIF(D116,\"N\"),\"\",IF(ISBLANK(F116),\"\",IF(ISBLANK(H116),IF(ISBLANK(K116),_xlfn.DAYS(TODAY(),F116),_xlfn.DAYS(K116,F116)),_xlfn.DAYS(H116,F116))))","v":""},null,null,null,{"$f":"IF(COUNTIF(D116,\"N\"),\"ON HOLD\",IF(ISBLANK(K116),IF(ISBLANK(E116),\"\",IF(ISBLANK(F116),\"NO\",\"YES\")),\"NO\"))","v":""},{"$f":"IF(COUNTIF(D116,\"N\"),\"\",IF(ISBLANK(F116),\"\",IF(ISBLANK(K116),_xlfn.DAYS(TODAY(),F116),_xlfn.DAYS(K116,F116))))","v":""},null,null,null,{"$f":"IF(ISBLANK(P116), \"\", P116-Q116)","v":""},{"$f":"IF(ISBLANK(Q116), \"\", Q116/P116)","v":""}]
[null,null,null,null,null,null,{"$f":"IF(COUNTIF(D117,\"N\"),\"\",IF(ISBLANK(E117),\"\",IF(ISBLANK(F117),IF(ISBLANK(L117), _xlfn.DAYS(TODAY(),E117), _xlfn.DAYS(L117,E117)), _xlfn.DAYS(F117,E117))))","v":""},null,{"$f":"IF(COUNTIF(D117,\"N\"),\"\",IF(ISBLANK(F117),\"\",IF(ISBLANK(H117),IF(ISBLANK(K117),_xlfn.DAYS(TODAY(),F117),_xlfn.DAYS(K117,F117)),_xlfn.DAYS(H117,F117))))","v":""},null,null,null,{"$f":"IF(COUNTIF(D117,\"N\"),\"ON HOLD\",IF(ISBLANK(K117),IF(ISBLANK(E117),\"\",IF(ISBLANK(F117),\"NO\",\"YES\")),\"NO\"))","v":""},{"$f":"IF(COUNTIF(D117,\"N\"),\"\",IF(ISBLANK(F117),\"\",IF(ISBLANK(K117),_xlfn.DAYS(TODAY(),F117),_xlfn.DAYS(K117,F117))))","v":""},null,null,null,{"$f":"IF(ISBLANK(P117), \"\", P117-Q117)","v":""},{"$f":"IF(ISBLANK(Q117), \"\", Q117/P117)","v":""}]
[null,null,null,null,null,null,{"$f":"IF(COUNTIF(D118,\"N\"),\"\",IF(ISBLANK(E118),\"\",IF(ISBLANK(F118),IF(ISBLANK(L118), _xlfn.DAYS(TODAY(),E118), _xlfn.DAYS(L118,E118)), _xlfn.DAYS(F118,E118))))","v":""},null,{"$f":"IF(COUNTIF(D118,\"N\"),\"\",IF(ISBLANK(F118),\"\",IF(ISBLANK(H118),IF(ISBLANK(K118),_xlfn.DAYS(TODAY(),F118),_xlfn.DAYS(K118,F118)),_xlfn.DAYS(H118,F118))))","v":""},null,null,null,{"$f":"IF(COUNTIF(D118,\"N\"),\"ON HOLD\",IF(ISBLANK(K118),IF(ISBLANK(E118),\"\",IF(ISBLANK(F118),\"NO\",\"YES\")),\"NO\"))","v":""},{"$f":"IF(COUNTIF(D118,\"N\"),\"\",IF(ISBLANK(F118),\"\",IF(ISBLANK(K118),_xlfn.DAYS(TODAY(),F118),_xlfn.DAYS(K118,F118))))","v":""},null,null,null,{"$f":"IF(ISBLANK(P118), \"\", P118-Q118)","v":""},{"$f":"IF(ISBLANK(Q118), \"\", Q118/P118)","v":""}]
[null,null,null,null,null,null,{"$f":"IF(COUNTIF(D119,\"N\"),\"\",IF(ISBLANK(E119),\"\",IF(ISBLANK(F119),IF(ISBLANK(L119), _xlfn.DAYS(TODAY(),E119), _xlfn.DAYS(L119,E119)), _xlfn.DAYS(F119,E119))))","v":""},null,{"$f":"IF(COUNTIF(D119,\"N\"),\"\",IF(ISBLANK(F119),\"\",IF(ISBLANK(H119),IF(ISBLANK(K119),_xlfn.DAYS(TODAY(),F119),_xlfn.DAYS(K119,F119)),_xlfn.DAYS(H119,F119))))","v":""},null,null,null,{"$f":"IF(COUNTIF(D119,\"N\"),\"ON HOLD\",IF(ISBLANK(K119),IF(ISBLANK(E119),\"\",IF(ISBLANK(F119),\"NO\",\"YES\")),\"NO\"))","v":""},{"$f":"IF(COUNTIF(D119,\"N\"),\"\",IF(ISBLANK(F119),\"\",IF(ISBLANK(K119),_xlfn.DAYS(TODAY(),F119),_xlfn.DAYS(K119,F119))))","v":""},null,null,null,{"$f":"IF(ISBLANK(P119), \"\", P119-Q119)","v":""},{"$f":"IF(ISBLANK(Q119), \"\", Q119/P119)","v":""}]
[null,null,null,null,null,null,{"$f":"IF(COUNTIF(D120,\"N\"),\"\",IF(ISBLANK(E120),\"\",IF(ISBLANK(F120),IF(ISBLANK(L120), _xlfn.DAYS(TODAY(),E120), _xlfn.DAYS(L120,E120)), _xlfn.DAYS(F120,E120))))","v":""},null,{"$f":"IF(COUNTIF(D120,\"N\"),\"\",IF(ISBLANK(F120),\"\",IF(ISBLANK(H120),IF(ISBLANK(K120),_xlfn.DAYS(TODAY(),F120),_xlfn.DAYS(K120,F120)),_xlfn.DAYS(H120,F120))))","v":""},null,null,null,{"$f":"IF(COUNTIF(D120,\"N\"),\"ON HOLD\",IF(ISBLANK(K120),IF(ISBLANK(E120),\"\",IF(ISBLANK(F120),\"NO\",\"YES\")),\"NO\"))","v":""},{"$f":"IF(COUNTIF(D120,\"N\"),\"\",IF(ISBLANK(F120),\"\",IF(ISBLANK(K120),_xlfn.DAYS(TODAY(),F120),_xlfn.DAYS(K120,F120))))","v":""},null,null,null,{"$f":"IF(ISBLANK(P120), \"\", P120-Q120)","v":""},{"$f":"IF(ISBLANK(Q120), \"\", Q120/P120)","v":""}]
[null,null,null,null,null,null,{"$f":"IF(COUNTIF(D121,\"N\"),\"\",IF(ISBLANK(E121),\"\",IF(ISBLANK(F121),IF(ISBLANK(L121), _xlfn.DAYS(TODAY(),E121), _xlfn.DAYS(L121,E121)), _xlfn.DAYS(F121,E121))))","v":""},null,{"$f":"IF(COUNTIF(D121,\"N\"),\"\",IF(ISBLANK(F121),\"\",IF(ISBLANK(H121),IF(ISBLANK(K121),_xlfn.DAYS(TODAY(),F121),_xlfn.DAYS(K121,F121)),_xlfn.DAYS(H121,F121))))","v":""},null,null,null,{"$f":"IF(COUNTIF(D121,\"N\"),\"ON HOLD\",IF(ISBLANK(K121),IF(ISBLANK(E121),\"\",IF(ISBLANK(F121),\"NO\",\"YES\")),\"NO\"))","v":""},{"$f":"IF(COUNTIF(D121,\"N\"),\"\",IF(ISBLANK(F121),\"\",IF(ISBLANK(K121),_xlfn.DAYS(TODAY(),F121),_xlfn.DAYS(K121,F121))))","v":""},null,null,null,{"$f":"IF(ISBLANK(P121), \"\", P121-Q121)","v":""},{"$f":"IF(ISBLANK(Q121), \"\", Q121/P121)","v":""}]
[null,null,null,null,null,null,{"$f":"IF(COUNTIF(D122,\"N\"),\"\",IF(ISBLANK(E122),\"\",IF(ISBLANK(F122),IF(ISBLANK(L122), _xlfn.DAYS(TODAY(),E122), _xlfn.DAYS(L122,E122)), _xlfn.DAYS(F122,E122))))","v":""},null,{"$f":"IF(COUNTIF(D122,\"N\"),\"\",IF(ISBLANK(F122),\"\",IF(ISBLANK(H122),IF(ISBLANK(K122),_xlfn.DAYS(TODAY(),F122),_xlfn.DAYS(K122,F122)),_xlfn.DAYS(H122,F122))))","v":""},null,null,null,{"$f":"IF(COUNTIF(D122,\"N\"),\"ON HOLD\",IF(ISBLANK(K122),IF(ISBLANK(E122),\"\",IF(ISBLANK(F122),\"NO\",\"YES\")),\"NO\"))","v":""},{"$f":"IF(COUNTIF(D122,\"N\"),\"\",IF(ISBLANK(F122),\"\",IF(ISBLANK(K122),_xlfn.DAYS(TODAY(),F122),_xlfn.DAYS(K122,F122))))","v":""},null,null,null,{"$f":"IF(ISBLANK(P122), \"\", P122-Q122)","v":""},{"$f":"IF(ISBLANK(Q122), \"\", Q122/P122)","v":""}]
[null,null,null,null,null,null,{"$f":"IF(COUNTIF(D123,\"N\"),\"\",IF(ISBLANK(E123),\"\",IF(ISBLANK(F123),IF(ISBLANK(L123), _xlfn.DAYS(TODAY(),E123), _xlfn.DAYS(L123,E123)), _xlfn.DAYS(F123,E123))))","v":""},null,{"$f":"IF(COUNTIF(D123,\"N\"),\"\",IF(ISBLANK(F123),\"\",IF(ISBLANK(H123),IF(ISBLANK(K123),_xlfn.DAYS(TODAY(),F123),_xlfn.DAYS(K123,F123)),_xlfn.DAYS(H123,F123))))","v":""},null,null,null,{"$f":"IF(COUNTIF(D123,\"N\"),\"ON HOLD\",IF(ISBLANK(K123),IF(ISBLANK(E123),\"\",IF(ISBLANK(F123),\"NO\",\"YES\")),\"NO\"))","v":""},{"$f":"IF(COUNTIF(D123,\"N\"),\"\",IF(ISBLANK(F123),\"\",IF(ISBLANK(K123),_xlfn.DAYS(TODAY(),F123),_xlfn.DAYS(K123,F123))))","v":""},null,null,null,{"$f":"IF(ISBLANK(P123), \"\", P123-Q123)","v":""},{"$f":"IF(ISBLANK(Q123), \"\", Q123/P123)","v":""}]
[null,null,null,null,null,null,{"$f":"IF(COUNTIF(D124,\"N\"),\"\",IF(ISBLANK(E124),\"\",IF(ISBLANK(F124),IF(ISBLANK(L124), _xlfn.DAYS(TODAY(),E124), _xlfn.DAYS(L124,E124)), _xlfn.DAYS(F124,E124))))","v":""},null,{"$f":"IF(COUNTIF(D124,\"N\"),\"\",IF(ISBLANK(F124),\"\",IF(ISBLANK(H124),IF(ISBLANK(K124),_xlfn.DAYS(TODAY(),F124),_xlfn.DAYS(K124,F124)),_xlfn.DAYS(H124,F124))))","v":""},null,null,null,{"$f":"IF(COUNTIF(D124,\"N\"),\"ON HOLD\",IF(ISBLANK(K124),IF(ISBLANK(E124),\"\",IF(ISBLANK(F124),\"NO\",\"YES\")),\"NO\"))","v":""},{"$f":"IF(COUNTIF(D124,\"N\"),\"\",IF(ISBLANK(F124),\"\",IF(ISBLANK(K124),_xlfn.DAYS(TODAY(),F124),_xlfn.DAYS(K124,F124))))","v":""},null,null,null,{"$f":"IF(ISBLANK(P124), \"\", P124-Q124)","v":""},{"$f":"IF(ISBLANK(Q124), \"\", Q124/P124)","v":""}]
[null,null,null,null,null,null,{"$f":"IF(COUNTIF(D125,\"N\"),\"\",IF(ISBLANK(E125),\"\",IF(ISBLANK(F125),IF(ISBLANK(L125), _xlfn.DAYS(TODAY(),E125), _xlfn.DAYS(L125,E125)), _xlfn.DAYS(F125,E125))))","v":""},null,{"$f":"IF(COUNTIF(D125,\"N\"),\"\",IF(ISBLANK(F125),\"\",IF(ISBLANK(H125),IF(ISBLANK(K125),_xlfn.DAYS(TODAY(),F125),_xlfn.DAYS(K125,F125)),_xlfn.DAYS(H125,F125))))","v":""},null,null,null,{"$f":"IF(COUNTIF(D125,\"N\"),\"ON HOLD\",IF(ISBLANK(K125),IF(ISBLANK(E125),\"\",IF(ISBLANK(F125),\"NO\",\"YES\")),\"NO\"))","v":""},{"$f":"IF(COUNTIF(D125,\"N\"),\"\",IF(ISBLANK(F125),\"\",IF(ISBLANK(K125),_xlfn.DAYS(TODAY(),F125),_xlfn.DAYS(K125,F125))))","v":""},null,null,null,{"$f":"IF(ISBLANK(P125), \"\", P125-Q125)","v":""},{"$f":"IF(ISBLANK(Q125), \"\", Q125/P125)","v":""}]
[null,null,null,null,null,null,{"$f":"IF(COUNTIF(D126,\"N\"),\"\",IF(ISBLANK(E126),\"\",IF(ISBLANK(F126),IF(ISBLANK(L126), _xlfn.DAYS(TODAY(),E126), _xlfn.DAYS(L126,E126)), _xlfn.DAYS(F126,E126))))","v":""},null,{"$f":"IF(COUNTIF(D126,\"N\"),\"\",IF(ISBLANK(F126),\"\",IF(ISBLANK(H126),IF(ISBLANK(K126),_xlfn.DAYS(TODAY(),F126),_xlfn.DAYS(K126,F126)),_xlfn.DAYS(H126,F126))))","v":""},null,null,null,{"$f":"IF(COUNTIF(D126,\"N\"),\"ON HOLD\",IF(ISBLANK(K126),IF(ISBLANK(E126),\"\",IF(ISBLANK(F126),\"NO\",\"YES\")),\"NO\"))","v":""},{"$f":"IF(COUNTIF(D126,\"N\"),\"\",IF(ISBLANK(F126),\"\",IF(ISBLANK(K126),_xlfn.DAYS(TODAY(),F126),_xlfn.DAYS(K126,F126))))","v":""},null,null,null,{"$f":"IF(ISBLANK(P126), \"\", P126-Q126)","v":""},{"$f":"IF(ISBLANK(Q126), \"\", Q126/P126)","v":""}]
[null,null,null,null,null,null,{"$f":"IF(COUNTIF(D127,\"N\"),\"\",IF(ISBLANK(E127),\"\",IF(ISBLANK(F127),IF(ISBLANK(L127), _xlfn.DAYS(TODAY(),E127), _xlfn.DAYS(L127,E127)), _xlfn.DAYS(F127,E127))))","v":""},null,{"$f":"IF(COUNTIF(D127,\"N\"),\"\",IF(ISBLANK(F127),\"\",IF(ISBLANK(H127),IF(ISBLANK(K127),_xlfn.DAYS(TODAY(),F127),_xlfn.DAYS(K127,F127)),_xlfn.DAYS(H127,F127))))","v":""},null,null,null,{"$f":"IF(COUNTIF(D127,\"N\"),\"ON HOLD\",IF(ISBLANK(K127),IF(ISBLANK(E127),\"\",IF(ISBLANK(F127),\"NO\",\"YES\")),\"NO\"))","v":""},{"$f":"IF(COUNTIF(D127,\"N\"),\"\",IF(ISBLANK(F127),\"\",IF(ISBLANK(K127),_xlfn.DAYS(TODAY(),F127),_xlfn.DAYS(K127,F127))))","v":""},null,null,null,{"$f":"IF(ISBLANK(P127), \"\", P127-Q127)","v":""},{"$f":"IF(ISBLANK(Q127), \"\", Q127/P127)","v":""}]
[null,null,null,null,null,null,{"$f":"IF(COUNTIF(D128,\"N\"),\"\",IF(ISBLANK(E128),\"\",IF(ISBLANK(F128),IF(ISBLANK(L128), _xlfn.DAYS(TODAY(),E128), _xlfn.DAYS(L128,E128)), _xlfn.DAYS(F128,E128))))","v":""},null,{"$f":"IF(COUNTIF(D128,\"N\"),\"\",IF(ISBLANK(F128),\"\",IF(ISBLANK(H128),IF(ISBLANK(K128),_xlfn.DAYS(TODAY(),F128),_xlfn.DAYS(K128,F128)),_xlfn.DAYS(H128,F128))))","v":""},null,null,null,{"$f":"IF(COUNTIF(D128,\"N\"),\"ON HOLD\",IF(ISBLANK(K128),IF(ISBLANK(E128),\"\",IF(ISBLANK(F128),\"NO\",\"YES\")),\"NO\"))","v":""},{"$f":"IF(COUNTIF(D128,\"N\"),\"\",IF(ISBLANK(F128),\"\",IF(ISBLANK(K128),_xlfn.DAYS(TODAY(),F128),_xlfn.DAYS(K128,F128))))","v":""},null,null,null,{"$f":"IF(ISBLANK(P128), \"\", P128-Q128)","v":""},{"$f":"IF(ISBLANK(Q128), \"\", Q128/P128)","v":""}]
[null,null,null,null,null,null,{"$f":"IF(COUNTIF(D129,\"N\"),\"\",IF(ISBLANK(E129),\"\",IF(ISBLANK(F129),IF(ISBLANK(L129), _xlfn.DAYS(TODAY(),E129), _xlfn.DAYS(L129,E129)), _xlfn.DAYS(F129,E129))))","v":""},null,{"$f":"IF(COUNTIF(D129,\"N\"),\"\",IF(ISBLANK(F129),\"\",IF(ISBLANK(H129),IF(ISBLANK(K129),_xlfn.DAYS(TODAY(),F129),_xlfn.DAYS(K129,F129)),_xlfn.DAYS(H129,F129))))","v":""},null,null,null,{"$f":"IF(COUNTIF(D129,\"N\"),\"ON HOLD\",IF(ISBLANK(K129),IF(ISBLANK(E129),\"\",IF(ISBLANK(F129),\"NO\",\"YES\")),\"NO\"))","v":""},{"$f":"IF(COUNTIF(D129,\"N\"),\"\",IF(ISBLANK(F129),\"\",IF(ISBLANK(K129),_xlfn.DAYS(TODAY(),F129),_xlfn.DAYS(K129,F129))))","v":""},null,null,null,{"$f":"IF(ISBLANK(P129), \"\", P129-Q129)","v":""},{"$f":"IF(ISBLANK(Q129), \"\", Q129/P129)","v":""}]
[null,null,null,null,null,null,{"$f":"IF(COUNTIF(D130,\"N\"),\"\",IF(ISBLANK(E130),\"\",IF(ISBLANK(F130),IF(ISBLANK(L130), _xlfn.DAYS(TODAY(),E130), _xlfn.DAYS(L130,E130)), _xlfn.DAYS(F130,E130))))","v":""},null,{"$f":"IF(COUNTIF(D130,\"N\"),\"\",IF(ISBLANK(F130),\"\",IF(ISBLANK(H130),IF(ISBLANK(K130),_xlfn.DAYS(TODAY(),F130),_xlfn.DAYS(K130,F130)),_xlfn.DAYS(H130,F130))))","v":""},null,null,null,{"$f":"IF(COUNTIF(D130,\"N\"),\"ON HOLD\",IF(ISBLANK(K130),IF(ISBLANK(E130),\"\",IF(ISBLANK(F130),\"NO\",\"YES\")),\"NO\"))","v":""},{"$f":"IF(COUNTIF(D130,\"N\"),\"\",IF(ISBLANK(F130),\"\",IF(ISBLANK(K130),_xlfn.DAYS(TODAY(),F130),_xlfn.DAYS(K130,F130))))","v":""},null,null,null,{"$f":"IF(ISBLANK(P130), \"\", P130-Q130)","v":""},{"$f":"IF(ISBLANK(Q130), \"\", Q130/P130)","v":""}]
[null,null,null,null,null,null,{"$f":"IF(COUNTIF(D131,\"N\"),\"\",IF(ISBLANK(E131),\"\",IF(ISBLANK(F131),IF(ISBLANK(L131), _xlfn.DAYS(TODAY(),E131), _xlfn.DAYS(L131,E131)), _xlfn.DAYS(F131,E131))))","v":""},null,{"$f":"IF(COUNTIF(D131,\"N\"),\"\",IF(ISBLANK(F131),\"\",IF(ISBLANK(H131),IF(ISBLANK(K131),_xlfn.DAYS(TODAY(),F131),_xlfn.DAYS(K131,F131)),_xlfn.DAYS(H131,F131))))","v":""},null,null,null,{"$f":"IF(COUNTIF(D131,\"N\"),\"ON HOLD\",IF(ISBLANK(K131),IF(ISBLANK(E131),\"\",IF(ISBLANK(F131),\"NO\",\"YES\")),\"NO\"))","v":""},{"$f":"IF(COUNTIF(D131,\"N\"),\"\",IF(ISBLANK(F131),\"\",IF(ISBLANK(K131),_xlfn.DAYS(TODAY(),F131),_xlfn.DAYS(K131,F131))))","v":""},null,null,null,{"$f":"IF(ISBLANK(P131), \"\", P131-Q131)","v":""},{"$f":"IF(ISBLANK(Q131), \"\", Q131/P131)","v":""}]
[null,null,null,null,null,null,{"$f":"IF(COUNTIF(D132,\"N\"),\"\",IF(ISBLANK(E132),\"\",IF(ISBLANK(F132),IF(ISBLANK(L132), _xlfn.DAYS(TODAY(),E132), _xlfn.DAYS(L132,E132)), _xlfn.DAYS(F132,E132))))","v":""},null,{"$f":"IF(COUNTIF(D132,\"N\"),\"\",IF(ISBLANK(F132),\"\",IF(ISBLANK(H132),IF(ISBLANK(K132),_xlfn.DAYS(TODAY(),F132),_xlfn.DAYS(K132,F132)),_xlfn.DAYS(H132,F132))))","v":""},null,null,null,{"$f":"IF(COUNTIF(D132,\"N\"),\"ON HOLD\",IF(ISBLANK(K132),IF(ISBLANK(E132),\"\",IF(ISBLANK(F132),\"NO\",\"YES\")),\"NO\"))","v":""},{"$f":"IF(COUNTIF(D132,\"N\"),\"\",IF(ISBLANK(F132),\"\",IF(ISBLANK(K132),_xlfn.DAYS(TODAY(),F132),_xlfn.DAYS(K132,F132))))","v":""},null,null,null,{"$f":"IF(ISBLANK(P132), \"\", P132-Q132)","v":""},{"$f":"IF(ISBLANK(Q132), \"\", Q132/P132)","v":""}]
[null,null,null,null,null,null,{"$f":"IF(COUNTIF(D133,\"N\"),\"\",IF(ISBLANK(E133),\"\",IF(ISBLANK(F133),IF(ISBLANK(L133), _xlfn.DAYS(TODAY(),E133), _xlfn.DAYS(L133,E133)), _xlfn.DAYS(F133,E133))))","v":""},null,{"$f":"IF(COUNTIF(D133,\"N\"),\"\",IF(ISBLANK(F133),\"\",IF(ISBLANK(H133),IF(ISBLANK(K133),_xlfn.DAYS(TODAY(),F133),_xlfn.DAYS(K133,F133)),_xlfn.DAYS(H133,F133))))","v":""},null,null,null,{"$f":"IF(COUNTIF(D133,\"N\"),\"ON HOLD\",IF(ISBLANK(K133),IF(ISBLANK(E133),\"\",IF(ISBLANK(F133),\"NO\",\"YES\")),\"NO\"))","v":""},{"$f":"IF(COUNTIF(D133,\"N\"),\"\",IF(ISBLANK(F133),\"\",IF(ISBLANK(K133),_xlfn.DAYS(TODAY(),F133),_xlfn.DAYS(K133,F133))))","v":""},null,null,null,{"$f":"IF(ISBLANK(P133), \"\", P133-Q133)","v":""},{"$f":"IF(ISBLANK(Q133), \"\", Q133/P133)","v":""}]
[null,null,null,null,null,null,{"$f":"IF(COUNTIF(D134,\"N\"),\"\",IF(ISBLANK(E134),\"\",IF(ISBLANK(F134),IF(ISBLANK(L134), _xlfn.DAYS(TODAY(),E134), _xlfn.DAYS(L134,E134)), _xlfn.DAYS(F134,E134))))","v":""},null,{"$f":"IF(COUNTIF(D134,\"N\"),\"\",IF(ISBLANK(F134),\"\",IF(ISBLANK(H134),IF(ISBLANK(K134),_xlfn.DAYS(TODAY(),F134),_xlfn.DAYS(K134,F134)),_xlfn.DAYS(H134,F134))))","v":""},null,null,null,{"$f":"IF(COUNTIF(D134,\"N\"),\"ON HOLD\",IF(ISBLANK(K134),IF(ISBLANK(E134),\"\",IF(ISBLANK(F134),\"NO\",\"YES\")),\"NO\"))","v":""},{"$f":"IF(COUNTIF(D134,\"N\"),\"\",IF(ISBLANK(F134),\"\",IF(ISBLANK(K134),_xlfn.DAYS(TODAY(),F134),_xlfn.DAYS(K134,F134))))","v":""},null,null,null,{"$f":"IF(ISBLANK(P134), \"\", P134-Q134)","v":""},{"$f":"IF(ISBLANK(Q134), \"\", Q134/P134)","v":""}]
[null,null,null,null,null,null,{"$f":"IF(COUNTIF(D135,\"N\"),\"\",IF(ISBLANK(E135),\"\",IF(ISBLANK(F135),IF(ISBLANK(L135), _xlfn.DAYS(TODAY(),E135), _xlfn.DAYS(L135,E135)), _xlfn.DAYS(F135,E135))))","v":""},null,{"$f":"IF(COUNTIF(D135,\"N\"),\"\",IF(ISBLANK(F135),\"\",IF(ISBLANK(H135),IF(ISBLANK(K135),_xlfn.DAYS(TODAY(),F135),_xlfn.DAYS(K135,F135)),_xlfn.DAYS(H135,F135))))","v":""},null,null,null,{"$f":"IF(COUNTIF(D135,\"N\"),\"ON HOLD\",IF(ISBLANK(K135),IF(ISBLANK(E135),\"\",IF(ISBLANK(F135),\"NO\",\"YES\")),\"NO\"))","v":""},{"$f":"IF(COUNTIF(D135,\"N\"),\"\",IF(ISBLANK(F135),\"\",IF(ISBLANK(K135),_xlfn.DAYS(TODAY(),F135),_xlfn.DAYS(K135,F135))))","v":""},null,null,null,{"$f":"IF(ISBLANK(P135), \"\", P135-Q135)","v":""},{"$f":"IF(ISBLANK(Q135), \"\", Q135/P135)","v":""}]
[null,null,null,null,null,null,{"$f":"IF(COUNTIF(D136,\"N\"),\"\",IF(ISBLANK(E136),\"\",IF(ISBLANK(F136),IF(ISBLANK(L136), _xlfn.DAYS(TODAY(),E136), _xlfn.DAYS(L136,E136)), _xlfn.DAYS(F136,E136))))","v":""},null,{"$f":"IF(COUNTIF(D136,\"N\"),\"\",IF(ISBLANK(F136),\"\",IF(ISBLANK(H136),IF(ISBLANK(K136),_xlfn.DAYS(TODAY(),F136),_xlfn.DAYS(K136,F136)),_xlfn.DAYS(H136,F136))))","v":""},null,null,null,{"$f":"IF(COUNTIF(D136,\"N\"),\"ON HOLD\",IF(ISBLANK(K136),IF(ISBLANK(E136),\"\",IF(ISBLANK(F136),\"NO\",\"YES\")),\"NO\"))","v":""},{"$f":"IF(COUNTIF(D136,\"N\"),\"\",IF(ISBLANK(F136),\"\",IF(ISBLANK(K136),_xlfn.DAYS(TODAY(),F136),_xlfn.DAYS(K136,F136))))","v":""},null,null,null,{"$f":"IF(ISBLANK(P136), \"\", P136-Q136)","v":""},{"$f":"IF(ISBLANK(Q136), \"\", Q136/P136)","v":""}]
[null,null,null,null,null,null,{"$f":"IF(COUNTIF(D137,\"N\"),\"\",IF(ISBLANK(E137),\"\",IF(ISBLANK(F137),IF(ISBLANK(L137), _xlfn.DAYS(TODAY(),E137), _xlfn.DAYS(L137,E137)), _xlfn.DAYS(F137,E137))))","v":""},null,{"$f":"IF(COUNTIF(D137,\"N\"),\"\",IF(ISBLANK(F137),\"\",IF(ISBLANK(H137),IF(ISBLANK(K137),_xlfn.DAYS(TODAY(),F137),_xlfn.DAYS(K137,F137)),_xlfn.DAYS(H137,F137))))","v":""},null,null,null,{"$f":"IF(COUNTIF(D137,\"N\"),\"ON HOLD\",IF(ISBLANK(K137),IF(ISBLANK(E137),\"\",IF(ISBLANK(F137),\"NO\",\"YES\")),\"NO\"))","v":""},{"$f":"IF(COUNTIF(D137,\"N\"),\"\",IF(ISBLANK(F137),\"\",IF(ISBLANK(K137),_xlfn.DAYS(TODAY(),F137),_xlfn.DAYS(K137,F137))))","v":""},null,null,null,{"$f":"IF(ISBLANK(P137), \"\", P137-Q137)","v":""},{"$f":"IF(ISBLANK(Q137), \"\", Q137/P137)","v":""}]
[null,null,null,null,null,null,{"$f":"IF(COUNTIF(D138,\"N\"),\"\",IF(ISBLANK(E138),\"\",IF(ISBLANK(F138),IF(ISBLANK(L138), _xlfn.DAYS(TODAY(),E138), _xlfn.DAYS(L138,E138)), _xlfn.DAYS(F138,E138))))","v":""},null,{"$f":"IF(COUNTIF(D138,\"N\"),\"\",IF(ISBLANK(F138),\"\",IF(ISBLANK(H138),IF(ISBLANK(K138),_xlfn.DAYS(TODAY(),F138),_xlfn.DAYS(K138,F138)),_xlfn.DAYS(H138,F138))))","v":""},null,null,null,{"$f":"IF(COUNTIF(D138,\"N\"),\"ON HOLD\",IF(ISBLANK(K138),IF(ISBLANK(E138),\"\",IF(ISBLANK(F138),\"NO\",\"YES\")),\"NO\"))","v":""},{"$f":"IF(COUNTIF(D138,\"N\"),\"\",IF(ISBLANK(F138),\"\",IF(ISBLANK(K138),_xlfn.DAYS(TODAY(),F138),_xlfn.DAYS(K138,F138))))","v":""},null,null,null,{"$f":"IF(ISBLANK(P138), \"\", P138-Q138)","v":""},{"$f":"IF(ISBLANK(Q138), \"\", Q138/P138)","v":""}]
[null,null,null,null,null,null,{"$f":"IF(COUNTIF(D139,\"N\"),\"\",IF(ISBLANK(E139),\"\",IF(ISBLANK(F139),IF(ISBLANK(L139), _xlfn.DAYS(TODAY(),E139), _xlfn.DAYS(L139,E139)), _xlfn.DAYS(F139,E139))))","v":""},null,{"$f":"IF(COUNTIF(D139,\"N\"),\"\",IF(ISBLANK(F139),\"\",IF(ISBLANK(H139),IF(ISBLANK(K139),_xlfn.DAYS(TODAY(),F139),_xlfn.DAYS(K139,F139)),_xlfn.DAYS(H139,F139))))","v":""},null,null,null,{"$f":"IF(COUNTIF(D139,\"N\"),\"ON HOLD\",IF(ISBLANK(K139),IF(ISBLANK(E139),\"\",IF(ISBLANK(F139),\"NO\",\"YES\")),\"NO\"))","v":""},{"$f":"IF(COUNTIF(D139,\"N\"),\"\",IF(ISBLANK(F139),\"\",IF(ISBLANK(K139),_xlfn.DAYS(TODAY(),F139),_xlfn.DAYS(K139,F139))))","v":""},null,null,null,{"$f":"IF(ISBLANK(P139), \"\", P139-Q139)","v":""},{"$f":"IF(ISBLANK(Q139), \"\", Q139/P139)","v":""}]
[null,null,null,null,null,null,{"$f":"IF(COUNTIF(D140,\"N\"),\"\",IF(ISBLANK(E140),\"\",IF(ISBLANK(F140),IF(ISBLANK(L140), _xlfn.DAYS(TODAY(),E140), _xlfn.DAYS(L140,E140)), _xlfn.DAYS(F140,E140))))","v":""},null,{"$f":"IF(COUNTIF(D140,\"N\"),\"\",IF(ISBLANK(F140),\"\",IF(ISBLANK(H140),IF(ISBLANK(K140),_xlfn.DAYS(TODAY(),F140),_xlfn.DAYS(K140,F140)),_xlfn.DAYS(H140,F140))))","v":""},null,null,null,{"$f":"IF(COUNTIF(D140,\"N\"),\"ON HOLD\",IF(ISBLANK(K140),IF(ISBLANK(E140),\"\",IF(ISBLANK(F140),\"NO\",\"YES\")),\"NO\"))","v":""},{"$f":"IF(COUNTIF(D140,\"N\"),\"\",IF(ISBLANK(F140),\"\",IF(ISBLANK(K140),_xlfn.DAYS(TODAY(),F140),_xlfn.DAYS(K140,F140))))","v":""},null,null,null,{"$f":"IF(ISBLANK(P140), \"\", P140-Q140)","v":""},{"$f":"IF(ISBLANK(Q140), \"\", Q140/P140)","v":""}]
[null,null,null,null,null,null,{"$f":"IF(COUNTIF(D141,\"N\"),\"\",IF(ISBLANK(E141),\"\",IF(ISBLANK(F141),IF(ISBLANK(L141), _xlfn.DAYS(TODAY(),E141), _xlfn.DAYS(L141,E141)), _xlfn.DAYS(F141,E141))))","v":""},null,{"$f":"IF(COUNTIF(D141,\"N\"),\"\",IF(ISBLANK(F141),\"\",IF(ISBLANK(H141),IF(ISBLANK(K141),_xlfn.DAYS(TODAY(),F141),_xlfn.DAYS(K141,F141)),_xlfn.DAYS(H141,F141))))","v":""},null,null,null,{"$f":"IF(COUNTIF(D141,\"N\"),\"ON HOLD\",IF(ISBLANK(K141),IF(ISBLANK(E141),\"\",IF(ISBLANK(F141),\"NO\",\"YES\")),\"NO\"))","v":""},{"$f":"IF(COUNTIF(D141,\"N\"),\"\",IF(ISBLANK(F141),\"\",IF(ISBLANK(K141),_xlfn.DAYS(TODAY(),F141),_xlfn.DAYS(K141,F141))))","v":""},null,null,null,{"$f":"IF(ISBLANK(P141), \"\", P141-Q141)","v":""},{"$f":"IF(ISBLANK(Q141), \"\", Q141/P141)","v":""}]
[null,null,null,null,null,null,{"$f":"IF(COUNTIF(D142,\"N\"),\"\",IF(ISBLANK(E142),\"\",IF(ISBLANK(F142),IF(ISBLANK(L142), _xlfn.DAYS(TODAY(),E142), _xlfn.DAYS(L142,E142)), _xlfn.DAYS(F142,E142))))","v":""},null,{"$f":"IF(COUNTIF(D142,\"N\"),\"\",IF(ISBLANK(F142),\"\",IF(ISBLANK(H142),IF(ISBLANK(K142),_xlfn.DAYS(TODAY(),F142),_xlfn.DAYS(K142,F142)),_xlfn.DAYS(H142,F142))))","v":""},null,null,null,{"$f":"IF(COUNTIF(D142,\"N\"),\"ON HOLD\",IF(ISBLANK(K142),IF(ISBLANK(E142),\"\",IF(ISBLANK(F142),\"NO\",\"YES\")),\"NO\"))","v":""},{"$f":"IF(COUNTIF(D142,\"N\"),\"\",IF(ISBLANK(F142),\"\",IF(ISBLANK(K142),_xlfn.DAYS(TODAY(),F142),_xlfn.DAYS(K142,F142))))","v":""},null,null,null,{"$f":"IF(ISBLANK(P142), \"\", P142-Q142)","v":""},{"$f":"IF(ISBLANK(Q142), \"\", Q142/P142)","v":""}]
[null,null,null,null,null,null,{"$f":"IF(COUNTIF(D143,\"N\"),\"\",IF(ISBLANK(E143),\"\",IF(ISBLANK(F143),IF(ISBLANK(L143), _xlfn.DAYS(TODAY(),E143), _xlfn.DAYS(L143,E143)), _xlfn.DAYS(F143,E143))))","v":""},null,{"$f":"IF(COUNTIF(D143,\"N\"),\"\",IF(ISBLANK(F143),\"\",IF(ISBLANK(H143),IF(ISBLANK(K143),_xlfn.DAYS(TODAY(),F143),_xlfn.DAYS(K143,F143)),_xlfn.DAYS(H143,F143))))","v":""},null,null,null,{"$f":"IF(COUNTIF(D143,\"N\"),\"ON HOLD\",IF(ISBLANK(K143),IF(ISBLANK(E143),\"\",IF(ISBLANK(F143),\"NO\",\"YES\")),\"NO\"))","v":""},{"$f":"IF(COUNTIF(D143,\"N\"),\"\",IF(ISBLANK(F143),\"\",IF(ISBLANK(K143),_xlfn.DAYS(TODAY(),F143),_xlfn.DAYS(K143,F143))))","v":""},null,null,null,{"$f":"IF(ISBLANK(P143), \"\", P143-Q143)","v":""},{"$f":"IF(ISBLANK(Q143), \"\", Q143/P143)","v":""}]
[null,null,null,null,null,null,{"$f":"IF(COUNTIF(D144,\"N\"),\"\",IF(ISBLANK(E144),\"\",IF(ISBLANK(F144),IF(ISBLANK(L144), _xlfn.DAYS(TODAY(),E144), _xlfn.DAYS(L144,E144)), _xlfn.DAYS(F144,E144))))","v":""},null,{"$f":"IF(COUNTIF(D144,\"N\"),\"\",IF(ISBLANK(F144),\"\",IF(ISBLANK(H144),IF(ISBLANK(K144),_xlfn.DAYS(TODAY(),F144),_xlfn.DAYS(K144,F144)),_xlfn.DAYS(H144,F144))))","v":""},null,null,null,{"$f":"IF(COUNTIF(D144,\"N\"),\"ON HOLD\",IF(ISBLANK(K144),IF(ISBLANK(E144),\"\",IF(ISBLANK(F144),\"NO\",\"YES\")),\"NO\"))","v":""},{"$f":"IF(COUNTIF(D144,\"N\"),\"\",IF(ISBLANK(F144),\"\",IF(ISBLANK(K144),_xlfn.DAYS(TODAY(),F144),_xlfn.DAYS(K144,F144))))","v":""},null,null,null,{"$f":"IF(ISBLANK(P144), \"\", P144-Q144)","v":""},{"$f":"IF(ISBLANK(Q144), \"\", Q144/P144)","v":""}]
[null,null,null,null,null,null,{"$f":"IF(COUNTIF(D145,\"N\"),\"\",IF(ISBLANK(E145),\"\",IF(ISBLANK(F145),IF(ISBLANK(L145), _xlfn.DAYS(TODAY(),E145), _xlfn.DAYS(L145,E145)), _xlfn.DAYS(F145,E145))))","v":""},null,{"$f":"IF(COUNTIF(D145,\"N\"),\"\",IF(ISBLANK(F145),\"\",IF(ISBLANK(H145),IF(ISBLANK(K145),_xlfn.DAYS(TODAY(),F145),_xlfn.DAYS(K145,F145)),_xlfn.DAYS(H145,F145))))","v":""},null,null,null,{"$f":"IF(COUNTIF(D145,\"N\"),\"ON HOLD\",IF(ISBLANK(K145),IF(ISBLANK(E145),\"\",IF(ISBLANK(F145),\"NO\",\"YES\")),\"NO\"))","v":""},{"$f":"IF(COUNTIF(D145,\"N\"),\"\",IF(ISBLANK(F145),\"\",IF(ISBLANK(K145),_xlfn.DAYS(TODAY(),F145),_xlfn.DAYS(K145,F145))))","v":""},null,null,null,{"$f":"IF(ISBLANK(P145), \"\", P145-Q145)","v":""},{"$f":"IF(ISBLANK(Q145), \"\", Q145/P145)","v":""}]
[null,null,null,null,null,null,{"$f":"IF(COUNTIF(D146,\"N\"),\"\",IF(ISBLANK(E146),\"\",IF(ISBLANK(F146),IF(ISBLANK(L146), _xlfn.DAYS(TODAY(),E146), _xlfn.DAYS(L146,E146)), _xlfn.DAYS(F146,E146))))","v":""},null,{"$f":"IF(COUNTIF(D146,\"N\"),\"\",IF(ISBLANK(F146),\"\",IF(ISBLANK(H146),IF(ISBLANK(K146),_xlfn.DAYS(TODAY(),F146),_xlfn.DAYS(K146,F146)),_xlfn.DAYS(H146,F146))))","v":""},null,null,null,{"$f":"IF(COUNTIF(D146,\"N\"),\"ON HOLD\",IF(ISBLANK(K146),IF(ISBLANK(E146),\"\",IF(ISBLANK(F146),\"NO\",\"YES\")),\"NO\"))","v":""},{"$f":"IF(COUNTIF(D146,\"N\"),\"\",IF(ISBLANK(F146),\"\",IF(ISBLANK(K146),_xlfn.DAYS(TODAY(),F146),_xlfn.DAYS(K146,F146))))","v":""},null,null,null,{"$f":"IF(ISBLANK(P146), \"\", P146-Q146)","v":""},{"$f":"IF(ISBLANK(Q146), \"\", Q146/P146)","v":""}]
[null,null,null,null,null,null,{"$f":"IF(COUNTIF(D147,\"N\"),\"\",IF(ISBLANK(E147),\"\",IF(ISBLANK(F147),IF(ISBLANK(L147), _xlfn.DAYS(TODAY(),E147), _xlfn.DAYS(L147,E147)), _xlfn.DAYS(F147,E147))))","v":""},null,{"$f":"IF(COUNTIF(D147,\"N\"),\"\",IF(ISBLANK(F147),\"\",IF(ISBLANK(H147),IF(ISBLANK(K147),_xlfn.DAYS(TODAY(),F147),_xlfn.DAYS(K147,F147)),_xlfn.DAYS(H147,F147))))","v":""},null,null,null,{"$f":"IF(COUNTIF(D147,\"N\"),\"ON HOLD\",IF(ISBLANK(K147),IF(ISBLANK(E147),\"\",IF(ISBLANK(F147),\"NO\",\"YES\")),\"NO\"))","v":""},{"$f":"IF(COUNTIF(D147,\"N\"),\"\",IF(ISBLANK(F147),\"\",IF(ISBLANK(K147),_xlfn.DAYS(TODAY(),F147),_xlfn.DAYS(K147,F147))))","v":""},null,null,null,{"$f":"IF(ISBLANK(P147), \"\", P147-Q147)","v":""},{"$f":"IF(ISBLANK(Q147), \"\", Q147/P147)","v":""}]
[null,null,null,null,null,null,{"$f":"IF(COUNTIF(D148,\"N\"),\"\",IF(ISBLANK(E148),\"\",IF(ISBLANK(F148),IF(ISBLANK(L148), _xlfn.DAYS(TODAY(),E148), _xlfn.DAYS(L148,E148)), _xlfn.DAYS(F148,E148))))","v":""},null,{"$f":"IF(COUNTIF(D148,\"N\"),\"\",IF(ISBLANK(F148),\"\",IF(ISBLANK(H148),IF(ISBLANK(K148),_xlfn.DAYS(TODAY(),F148),_xlfn.DAYS(K148,F148)),_xlfn.DAYS(H148,F148))))","v":""},null,null,null,{"$f":"IF(COUNTIF(D148,\"N\"),\"ON HOLD\",IF(ISBLANK(K148),IF(ISBLANK(E148),\"\",IF(ISBLANK(F148),\"NO\",\"YES\")),\"NO\"))","v":""},{"$f":"IF(COUNTIF(D148,\"N\"),\"\",IF(ISBLANK(F148),\"\",IF(ISBLANK(K148),_xlfn.DAYS(TODAY(),F148),_xlfn.DAYS(K148,F148))))","v":""},null,null,null,{"$f":"IF(ISBLANK(P148), \"\", P148-Q148)","v":""},{"$f":"IF(ISBLANK(Q148), \"\", Q148/P148)","v":""}]
[null,null,null,null,null,null,{"$f":"IF(COUNTIF(D149,\"N\"),\"\",IF(ISBLANK(E149),\"\",IF(ISBLANK(F149),IF(ISBLANK(L149), _xlfn.DAYS(TODAY(),E149), _xlfn.DAYS(L149,E149)), _xlfn.DAYS(F149,E149))))","v":""},null,{"$f":"IF(COUNTIF(D149,\"N\"),\"\",IF(ISBLANK(F149),\"\",IF(ISBLANK(H149),IF(ISBLANK(K149),_xlfn.DAYS(TODAY(),F149),_xlfn.DAYS(K149,F149)),_xlfn.DAYS(H149,F149))))","v":""},null,null,null,{"$f":"IF(COUNTIF(D149,\"N\"),\"ON HOLD\",IF(ISBLANK(K149),IF(ISBLANK(E149),\"\",IF(ISBLANK(F149),\"NO\",\"YES\")),\"NO\"))","v":""},{"$f":"IF(COUNTIF(D149,\"N\"),\"\",IF(ISBLANK(F149),\"\",IF(ISBLANK(K149),_xlfn.DAYS(TODAY(),F149),_xlfn.DAYS(K149,F149))))","v":""},null,null,null,{"$f":"IF(ISBLANK(P149), \"\", P149-Q149)","v":""},{"$f":"IF(ISBLANK(Q149), \"\", Q149/P149)","v":""}]
[null,null,null,null,null,null,{"$f":"IF(COUNTIF(D150,\"N\"),\"\",IF(ISBLANK(E150),\"\",IF(ISBLANK(F150),IF(ISBLANK(L150), _xlfn.DAYS(TODAY(),E150), _xlfn.DAYS(L150,E150)), _xlfn.DAYS(F150,E150))))","v":""},null,{"$f":"IF(COUNTIF(D150,\"N\"),\"\",IF(ISBLANK(F150),\"\",IF(ISBLANK(H150),IF(ISBLANK(K150),_xlfn.DAYS(TODAY(),F150),_xlfn.DAYS(K150,F150)),_xlfn.DAYS(H150,F150))))","v":""},null,null,null,{"$f":"IF(COUNTIF(D150,\"N\"),\"ON HOLD\",IF(ISBLANK(K150),IF(ISBLANK(E150),\"\",IF(ISBLANK(F150),\"NO\",\"YES\")),\"NO\"))","v":""},{"$f":"IF(COUNTIF(D150,\"N\"),\"\",IF(ISBLANK(F150),\"\",IF(ISBLANK(K150),_xlfn.DAYS(TODAY(),F150),_xlfn.DAYS(K150,F150))))","v":""},null,null,null,{"$f":"IF(ISBLANK(P150), \"\", P150-Q150)","v":""},{"$f":"IF(ISBLANK(Q150), \"\", Q150/P150)","v":""}]
[null,null,null,null,null,null,{"$f":"IF(COUNTIF(D151,\"N\"),\"\",IF(ISBLANK(E151),\"\",IF(ISBLANK(F151),IF(ISBLANK(L151), _xlfn.DAYS(TODAY(),E151), _xlfn.DAYS(L151,E151)), _xlfn.DAYS(F151,E151))))","v":""},null,{"$f":"IF(COUNTIF(D151,\"N\"),\"\",IF(ISBLANK(F151),\"\",IF(ISBLANK(H151),IF(ISBLANK(K151),_xlfn.DAYS(TODAY(),F151),_xlfn.DAYS(K151,F151)),_xlfn.DAYS(H151,F151))))","v":""},null,null,null,{"$f":"IF(COUNTIF(D151,\"N\"),\"ON HOLD\",IF(ISBLANK(K151),IF(ISBLANK(E151),\"\",IF(ISBLANK(F151),\"NO\",\"YES\")),\"NO\"))","v":""},{"$f":"IF(COUNTIF(D151,\"N\"),\"\",IF(ISBLANK(F151),\"\",IF(ISBLANK(K151),_xlfn.DAYS(TODAY(),F151),_xlfn.DAYS(K151,F151))))","v":""},null,null,null,{"$f":"IF(ISBLANK(P151), \"\", P151-Q151)","v":""},{"$f":"IF(ISBLANK(Q151), \"\", Q151/P151)","v":""}]
[null,null,null,null,null,null,{"$f":"IF(COUNTIF(D152,\"N\"),\"\",IF(ISBLANK(E152),\"\",IF(ISBLANK(F152),IF(ISBLANK(L152), _xlfn.DAYS(TODAY(),E152), _xlfn.DAYS(L152,E152)), _xlfn.DAYS(F152,E152))))","v":""},null,{"$f":"IF(COUNTIF(D152,\"N\"),\"\",IF(ISBLANK(F152),\"\",IF(ISBLANK(H152),IF(ISBLANK(K152),_xlfn.DAYS(TODAY(),F152),_xlfn.DAYS(K152,F152)),_xlfn.DAYS(H152,F152))))","v":""},null,null,null,{"$f":"IF(COUNTIF(D152,\"N\"),\"ON HOLD\",IF(ISBLANK(K152),IF(ISBLANK(E152),\"\",IF(ISBLANK(F152),\"NO\",\"YES\")),\"NO\"))","v":""},{"$f":"IF(COUNTIF(D152,\"N\"),\"\",IF(ISBLANK(F152),\"\",IF(ISBLANK(K152),_xlfn.DAYS(TODAY(),F152),_xlfn.DAYS(K152,F152))))","v":""},null,null,null,{"$f":"IF(ISBLANK(P152), \"\", P152-Q152)","v":""},{"$f":"IF(ISBLANK(Q152), \"\", Q152/P152)","v":""}]
[null,null,null,null,null,null,{"$f":"IF(COUNTIF(D153,\"N\"),\"\",IF(ISBLANK(E153),\"\",IF(ISBLANK(F153),IF(ISBLANK(L153), _xlfn.DAYS(TODAY(),E153), _xlfn.DAYS(L153,E153)), _xlfn.DAYS(F153,E153))))","v":""},null,{"$f":"IF(COUNTIF(D153,\"N\"),\"\",IF(ISBLANK(F153),\"\",IF(ISBLANK(H153),IF(ISBLANK(K153),_xlfn.DAYS(TODAY(),F153),_xlfn.DAYS(K153,F153)),_xlfn.DAYS(H153,F153))))","v":""},null,null,null,{"$f":"IF(COUNTIF(D153,\"N\"),\"ON HOLD\",IF(ISBLANK(K153),IF(ISBLANK(E153),\"\",IF(ISBLANK(F153),\"NO\",\"YES\")),\"NO\"))","v":""},{"$f":"IF(COUNTIF(D153,\"N\"),\"\",IF(ISBLANK(F153),\"\",IF(ISBLANK(K153),_xlfn.DAYS(TODAY(),F153),_xlfn.DAYS(K153,F153))))","v":""},null,null,null,{"$f":"IF(ISBLANK(P153), \"\", P153-Q153)","v":""},{"$f":"IF(ISBLANK(Q153), \"\", Q153/P153)","v":""}]
[null,null,null,null,null,null,{"$f":"IF(COUNTIF(D154,\"N\"),\"\",IF(ISBLANK(E154),\"\",IF(ISBLANK(F154),IF(ISBLANK(L154), _xlfn.DAYS(TODAY(),E154), _xlfn.DAYS(L154,E154)), _xlfn.DAYS(F154,E154))))","v":""},null,{"$f":"IF(COUNTIF(D154,\"N\"),\"\",IF(ISBLANK(F154),\"\",IF(ISBLANK(H154),IF(ISBLANK(K154),_xlfn.DAYS(TODAY(),F154),_xlfn.DAYS(K154,F154)),_xlfn.DAYS(H154,F154))))","v":""},null,null,null,{"$f":"IF(COUNTIF(D154,\"N\"),\"ON HOLD\",IF(ISBLANK(K154),IF(ISBLANK(E154),\"\",IF(ISBLANK(F154),\"NO\",\"YES\")),\"NO\"))","v":""},{"$f":"IF(COUNTIF(D154,\"N\"),\"\",IF(ISBLANK(F154),\"\",IF(ISBLANK(K154),_xlfn.DAYS(TODAY(),F154),_xlfn.DAYS(K154,F154))))","v":""},null,null,null,{"$f":"IF(ISBLANK(P154), \"\", P154-Q154)","v":""},{"$f":"IF(ISBLANK(Q154), \"\", Q154/P154)","v":""}]
[null,null,null,null,null,null,{"$f":"IF(COUNTIF(D155,\"N\"),\"\",IF(ISBLANK(E155),\"\",IF(ISBLANK(F155),IF(ISBLANK(L155), _xlfn.DAYS(TODAY(),E155), _xlfn.DAYS(L155,E155)), _xlfn.DAYS(F155,E155))))","v":""},null,{"$f":"IF(COUNTIF(D155,\"N\"),\"\",IF(ISBLANK(F155),\"\",IF(ISBLANK(H155),IF(ISBLANK(K155),_xlfn.DAYS(TODAY(),F155),_xlfn.DAYS(K155,F155)),_xlfn.DAYS(H155,F155))))","v":""},null,null,null,{"$f":"IF(COUNTIF(D155,\"N\"),\"ON HOLD\",IF(ISBLANK(K155),IF(ISBLANK(E155),\"\",IF(ISBLANK(F155),\"NO\",\"YES\")),\"NO\"))","v":""},{"$f":"IF(COUNTIF(D155,\"N\"),\"\",IF(ISBLANK(F155),\"\",IF(ISBLANK(K155),_xlfn.DAYS(TODAY(),F155),_xlfn.DAYS(K155,F155))))","v":""},null,null,null,{"$f":"IF(ISBLANK(P155), \"\", P155-Q155)","v":""},{"$f":"IF(ISBLANK(Q155), \"\", Q155/P155)","v":""}]
[null,null,null,null,null,null,{"$f":"IF(COUNTIF(D156,\"N\"),\"\",IF(ISBLANK(E156),\"\",IF(ISBLANK(F156),IF(ISBLANK(L156), _xlfn.DAYS(TODAY(),E156), _xlfn.DAYS(L156,E156)), _xlfn.DAYS(F156,E156))))","v":""},null,{"$f":"IF(COUNTIF(D156,\"N\"),\"\",IF(ISBLANK(F156),\"\",IF(ISBLANK(H156),IF(ISBLANK(K156),_xlfn.DAYS(TODAY(),F156),_xlfn.DAYS(K156,F156)),_xlfn.DAYS(H156,F156))))","v":""},null,null,null,{"$f":"IF(COUNTIF(D156,\"N\"),\"ON HOLD\",IF(ISBLANK(K156),IF(ISBLANK(E156),\"\",IF(ISBLANK(F156),\"NO\",\"YES\")),\"NO\"))","v":""},{"$f":"IF(COUNTIF(D156,\"N\"),\"\",IF(ISBLANK(F156),\"\",IF(ISBLANK(K156),_xlfn.DAYS(TODAY(),F156),_xlfn.DAYS(K156,F156))))","v":""},null,null,null,{"$f":"IF(ISBLANK(P156), \"\", P156-Q156)","v":""},{"$f":"IF(ISBLANK(Q156), \"\", Q156/P156)","v":""}]
[null,null,null,null,null,null,{"$f":"IF(COUNTIF(D157,\"N\"),\"\",IF(ISBLANK(E157),\"\",IF(ISBLANK(F157),IF(ISBLANK(L157), _xlfn.DAYS(TODAY(),E157), _xlfn.DAYS(L157,E157)), _xlfn.DAYS(F157,E157))))","v":""},null,{"$f":"IF(COUNTIF(D157,\"N\"),\"\",IF(ISBLANK(F157),\"\",IF(ISBLANK(H157),IF(ISBLANK(K157),_xlfn.DAYS(TODAY(),F157),_xlfn.DAYS(K157,F157)),_xlfn.DAYS(H157,F157))))","v":""},null,null,null,{"$f":"IF(COUNTIF(D157,\"N\"),\"ON HOLD\",IF(ISBLANK(K157),IF(ISBLANK(E157),\"\",IF(ISBLANK(F157),\"NO\",\"YES\")),\"NO\"))","v":""},{"$f":"IF(COUNTIF(D157,\"N\"),\"\",IF(ISBLANK(F157),\"\",IF(ISBLANK(K157),_xlfn.DAYS(TODAY(),F157),_xlfn.DAYS(K157,F157))))","v":""},null,null,null,{"$f":"IF(ISBLANK(P157), \"\", P157-Q157)","v":""},{"$f":"IF(ISBLANK(Q157), \"\", Q157/P157)","v":""}]
[null,null,null,null,null,null,{"$f":"IF(COUNTIF(D158,\"N\"),\"\",IF(ISBLANK(E158),\"\",IF(ISBLANK(F158),IF(ISBLANK(L158), _xlfn.DAYS(TODAY(),E158), _xlfn.DAYS(L158,E158)), _xlfn.DAYS(F158,E158))))","v":""},null,{"$f":"IF(COUNTIF(D158,\"N\"),\"\",IF(ISBLANK(F158),\"\",IF(ISBLANK(H158),IF(ISBLANK(K158),_xlfn.DAYS(TODAY(),F158),_xlfn.DAYS(K158,F158)),_xlfn.DAYS(H158,F158))))","v":""},null,null,null,{"$f":"IF(COUNTIF(D158,\"N\"),\"ON HOLD\",IF(ISBLANK(K158),IF(ISBLANK(E158),\"\",IF(ISBLANK(F158),\"NO\",\"YES\")),\"NO\"))","v":""},{"$f":"IF(COUNTIF(D158,\"N\"),\"\",IF(ISBLANK(F158),\"\",IF(ISBLANK(K158),_xlfn.DAYS(TODAY(),F158),_xlfn.DAYS(K158,F158))))","v":""},null,null,null,{"$f":"IF(ISBLANK(P158), \"\", P158-Q158)","v":""},{"$f":"IF(ISBLANK(Q158), \"\", Q158/P158)","v":""}]
[null,null,null,null,null,null,{"$f":"IF(COUNTIF(D159,\"N\"),\"\",IF(ISBLANK(E159),\"\",IF(ISBLANK(F159),IF(ISBLANK(L159), _xlfn.DAYS(TODAY(),E159), _xlfn.DAYS(L159,E159)), _xlfn.DAYS(F159,E159))))","v":""},null,{"$f":"IF(COUNTIF(D159,\"N\"),\"\",IF(ISBLANK(F159),\"\",IF(ISBLANK(H159),IF(ISBLANK(K159),_xlfn.DAYS(TODAY(),F159),_xlfn.DAYS(K159,F159)),_xlfn.DAYS(H159,F159))))","v":""},null,null,null,{"$f":"IF(COUNTIF(D159,\"N\"),\"ON HOLD\",IF(ISBLANK(K159),IF(ISBLANK(E159),\"\",IF(ISBLANK(F159),\"NO\",\"YES\")),\"NO\"))","v":""},{"$f":"IF(COUNTIF(D159,\"N\"),\"\",IF(ISBLANK(F159),\"\",IF(ISBLANK(K159),_xlfn.DAYS(TODAY(),F159),_xlfn.DAYS(K159,F159))))","v":""},null,null,null,{"$f":"IF(ISBLANK(P159), \"\", P159-Q159)","v":""},{"$f":"IF(ISBLANK(Q159), \"\", Q159/P159)","v":""}]
[null,null,null,null,null,null,{"$f":"IF(COUNTIF(D160,\"N\"),\"\",IF(ISBLANK(E160),\"\",IF(ISBLANK(F160),IF(ISBLANK(L160), _xlfn.DAYS(TODAY(),E160), _xlfn.DAYS(L160,E160)), _xlfn.DAYS(F160,E160))))","v":""},null,{"$f":"IF(COUNTIF(D160,\"N\"),\"\",IF(ISBLANK(F160),\"\",IF(ISBLANK(H160),IF(ISBLANK(K160),_xlfn.DAYS(TODAY(),F160),_xlfn.DAYS(K160,F160)),_xlfn.DAYS(H160,F160))))","v":""},null,null,null,{"$f":"IF(COUNTIF(D160,\"N\"),\"ON HOLD\",IF(ISBLANK(K160),IF(ISBLANK(E160),\"\",IF(ISBLANK(F160),\"NO\",\"YES\")),\"NO\"))","v":""},{"$f":"IF(COUNTIF(D160,\"N\"),\"\",IF(ISBLANK(F160),\"\",IF(ISBLANK(K160),_xlfn.DAYS(TODAY(),F160),_xlfn.DAYS(K160,F160))))","v":""},null,null,null,{"$f":"IF(ISBLANK(P160), \"\", P160-Q160)","v":""},{"$f":"IF(ISBLANK(Q160), \"\", Q160/P160)","v":""}]
[null,null,null,null,null,null,{"$f":"IF(COUNTIF(D161,\"N\"),\"\",IF(ISBLANK(E161),\"\",IF(ISBLANK(F161),IF(ISBLANK(L161), _xlfn.DAYS(TODAY(),E161), _xlfn.DAYS(L161,E161)), _xlfn.DAYS(F161,E161))))","v":""},null,{"$f":"IF(COUNTIF(D161,\"N\"),\"\",IF(ISBLANK(F161),\"\",IF(ISBLANK(H161),IF(ISBLANK(K161),_xlfn.DAYS(TODAY(),F161),_xlfn.DAYS(K161,F161)),_xlfn.DAYS(H161,F161))))","v":""},null,null,null,{"$f":"IF(COUNTIF(D161,\"N\"),\"ON HOLD\",IF(ISBLANK(K161),IF(ISBLANK(E161),\"\",IF(ISBLANK(F161),\"NO\",\"YES\")),\"NO\"))","v":""},{"$f":"IF(COUNTIF(D161,\"N\"),\"\",IF(ISBLANK(F161),\"\",IF(ISBLANK(K161),_xlfn.DAYS(TODAY(),F161),_xlfn.DAYS(K161,F161))))","v":""},null,null,null,{"$f":"IF(ISBLANK(P161), \"\", P161-Q161)","v":""},{"$f":"IF(ISBLANK(Q161), \"\", Q161/P161)","v":""}]
[null,null,null,null,null,null,{"$f":"IF(COUNTIF(D162,\"N\"),\"\",IF(ISBLANK(E162),\"\",IF(ISBLANK(F162),IF(ISBLANK(L162), _xlfn.DAYS(TODAY(),E162), _xlfn.DAYS(L162,E162)), _xlfn.DAYS(F162,E162))))","v":""},null,{"$f":"IF(COUNTIF(D162,\"N\"),\"\",IF(ISBLANK(F162),\"\",IF(ISBLANK(H162),IF(ISBLANK(K162),_xlfn.DAYS(TODAY(),F162),_xlfn.DAYS(K162,F162)),_xlfn.DAYS(H162,F162))))","v":""},null,null,null,{"$f":"IF(COUNTIF(D162,\"N\"),\"ON HOLD\",IF(ISBLANK(K162),IF(ISBLANK(E162),\"\",IF(ISBLANK(F162),\"NO\",\"YES\")),\"NO\"))","v":""},{"$f":"IF(COUNTIF(D162,\"N\"),\"\",IF(ISBLANK(F162),\"\",IF(ISBLANK(K162),_xlfn.DAYS(TODAY(),F162),_xlfn.DAYS(K162,F162))))","v":""},null,null,null,{"$f":"IF(ISBLANK(P162), \"\", P162-Q162)","v":""},{"$f":"IF(ISBLANK(Q162), \"\", Q162/P162)","v":""}]
[null,null,null,null,null,null,{"$f":"IF(COUNTIF(D163,\"N\"),\"\",IF(ISBLANK(E163),\"\",IF(ISBLANK(F163),IF(ISBLANK(L163), _xlfn.DAYS(TODAY(),E163), _xlfn.DAYS(L163,E163)), _xlfn.DAYS(F163,E163))))","v":""},null,{"$f":"IF(COUNTIF(D163,\"N\"),\"\",IF(ISBLANK(F163),\"\",IF(ISBLANK(H163),IF(ISBLANK(K163),_xlfn.DAYS(TODAY(),F163),_xlfn.DAYS(K163,F163)),_xlfn.DAYS(H163,F163))))","v":""},null,null,null,{"$f":"IF(COUNTIF(D163,\"N\"),\"ON HOLD\",IF(ISBLANK(K163),IF(ISBLANK(E163),\"\",IF(ISBLANK(F163),\"NO\",\"YES\")),\"NO\"))","v":""},{"$f":"IF(COUNTIF(D163,\"N\"),\"\",IF(ISBLANK(F163),\"\",IF(ISBLANK(K163),_xlfn.DAYS(TODAY(),F163),_xlfn.DAYS(K163,F163))))","v":""},null,null,null,{"$f":"IF(ISBLANK(P163), \"\", P163-Q163)","v":""},{"$f":"IF(ISBLANK(Q163), \"\", Q163/P163)","v":""}]
[null,null,null,null,null,null,{"$f":"IF(COUNTIF(D164,\"N\"),\"\",IF(ISBLANK(E164),\"\",IF(ISBLANK(F164),IF(ISBLANK(L164), _xlfn.DAYS(TODAY(),E164), _xlfn.DAYS(L164,E164)), _xlfn.DAYS(F164,E164))))","v":""},null,{"$f":"IF(COUNTIF(D164,\"N\"),\"\",IF(ISBLANK(F164),\"\",IF(ISBLANK(H164),IF(ISBLANK(K164),_xlfn.DAYS(TODAY(),F164),_xlfn.DAYS(K164,F164)),_xlfn.DAYS(H164,F164))))","v":""},null,null,null,{"$f":"IF(COUNTIF(D164,\"N\"),\"ON HOLD\",IF(ISBLANK(K164),IF(ISBLANK(E164),\"\",IF(ISBLANK(F164),\"NO\",\"YES\")),\"NO\"))","v":""},{"$f":"IF(COUNTIF(D164,\"N\"),\"\",IF(ISBLANK(F164),\"\",IF(ISBLANK(K164),_xlfn.DAYS(TODAY(),F164),_xlfn.DAYS(K164,F164))))","v":""},null,null,null,{"$f":"IF(ISBLANK(P164), \"\", P164-Q164)","v":""},{"$f":"IF(ISBLANK(Q164), \"\", Q164/P164)","v":""}]
[null,null,null,null,null,null,{"$f":"IF(COUNTIF(D165,\"N\"),\"\",IF(ISBLANK(E165),\"\",IF(ISBLANK(F165),IF(ISBLANK(L165), _xlfn.DAYS(TODAY(),E165), _xlfn.DAYS(L165,E165)), _xlfn.DAYS(F165,E165))))","v":""},null,{"$f":"IF(COUNTIF(D165,\"N\"),\"\",IF(ISBLANK(F165),\"\",IF(ISBLANK(H165),IF(ISBLANK(K165),_xlfn.DAYS(TODAY(),F165),_xlfn.DAYS(K165,F165)),_xlfn.DAYS(H165,F165))))","v":""},null,null,null,{"$f":"IF(COUNTIF(D165,\"N\"),\"ON HOLD\",IF(ISBLANK(K165),IF(ISBLANK(E165),\"\",IF(ISBLANK(F165),\"NO\",\"YES\")),\"NO\"))","v":""},{"$f":"IF(COUNTIF(D165,\"N\"),\"\",IF(ISBLANK(F165),\"\",IF(ISBLANK(K165),_xlfn.DAYS(TODAY(),F165),_xlfn.DAYS(K165,F165))))","v":""},null,null,null,{"$f":"IF(ISBLANK(P165), \"\", P165-Q165)","v":""},{"$f":"IF(ISBLANK(Q165), \"\", Q165/P165)","v":""}]
[null,null,null,null,null,null,{"$f":"IF(COUNTIF(D166,\"N\"),\"\",IF(ISBLANK(E166),\"\",IF(ISBLANK(F166),IF(ISBLANK(L166), _xlfn.DAYS(TODAY(),E166), _xlfn.DAYS(L166,E166)), _xlfn.DAYS(F166,E166))))","v":""},null,{"$f":"IF(COUNTIF(D166,\"N\"),\"\",IF(ISBLANK(F166),\"\",IF(ISBLANK(H166),IF(ISBLANK(K166),_xlfn.DAYS(TODAY(),F166),_xlfn.DAYS(K166,F166)),_xlfn.DAYS(H166,F166))))","v":""},null,null,null,{"$f":"IF(COUNTIF(D166,\"N\"),\"ON HOLD\",IF(ISBLANK(K166),IF(ISBLANK(E166),\"\",IF(ISBLANK(F166),\"NO\",\"YES\")),\"NO\"))","v":""},{"$f":"IF(COUNTIF(D166,\"N\"),\"\",IF(ISBLANK(F166),\"\",IF(ISBLANK(K166),_xlfn.DAYS(TODAY(),F166),_xlfn.DAYS(K166,F166))))","v":""},null,null,null,{"$f":"IF(ISBLANK(P166), \"\", P166-Q166)","v":""},{"$f":"IF(ISBLANK(Q166), \"\", Q166/P166)","v":""}]
[null,null,null,null,null,null,{"$f":"IF(COUNTIF(D167,\"N\"),\"\",IF(ISBLANK(E167),\"\",IF(ISBLANK(F167),IF(ISBLANK(L167), _xlfn.DAYS(TODAY(),E167), _xlfn.DAYS(L167,E167)), _xlfn.DAYS(F167,E167))))","v":""},null,{"$f":"IF(COUNTIF(D167,\"N\"),\"\",IF(ISBLANK(F167),\"\",IF(ISBLANK(H167),IF(ISBLANK(K167),_xlfn.DAYS(TODAY(),F167),_xlfn.DAYS(K167,F167)),_xlfn.DAYS(H167,F167))))","v":""},null,null,null,{"$f":"IF(COUNTIF(D167,\"N\"),\"ON HOLD\",IF(ISBLANK(K167),IF(ISBLANK(E167),\"\",IF(ISBLANK(F167),\"NO\",\"YES\")),\"NO\"))","v":""},{"$f":"IF(COUNTIF(D167,\"N\"),\"\",IF(ISBLANK(F167),\"\",IF(ISBLANK(K167),_xlfn.DAYS(TODAY(),F167),_xlfn.DAYS(K167,F167))))","v":""},null,null,null,{"$f":"IF(ISBLANK(P167), \"\", P167-Q167)","v":""},{"$f":"IF(ISBLANK(Q167), \"\", Q167/P167)","v":""}]
[null,null,null,null,null,null,{"$f":"IF(COUNTIF(D168,\"N\"),\"\",IF(ISBLANK(E168),\"\",IF(ISBLANK(F168),IF(ISBLANK(L168), _xlfn.DAYS(TODAY(),E168), _xlfn.DAYS(L168,E168)), _xlfn.DAYS(F168,E168))))","v":""},null,{"$f":"IF(COUNTIF(D168,\"N\"),\"\",IF(ISBLANK(F168),\"\",IF(ISBLANK(H168),IF(ISBLANK(K168),_xlfn.DAYS(TODAY(),F168),_xlfn.DAYS(K168,F168)),_xlfn.DAYS(H168,F168))))","v":""},null,null,null,{"$f":"IF(COUNTIF(D168,\"N\"),\"ON HOLD\",IF(ISBLANK(K168),IF(ISBLANK(E168),\"\",IF(ISBLANK(F168),\"NO\",\"YES\")),\"NO\"))","v":""},{"$f":"IF(COUNTIF(D168,\"N\"),\"\",IF(ISBLANK(F168),\"\",IF(ISBLANK(K168),_xlfn.DAYS(TODAY(),F168),_xlfn.DAYS(K168,F168))))","v":""},null,null,null,{"$f":"IF(ISBLANK(P168), \"\", P168-Q168)","v":""},{"$f":"IF(ISBLANK(Q168), \"\", Q168/P168)","v":""}]
[null,null,null,null,null,null,{"$f":"IF(COUNTIF(D169,\"N\"),\"\",IF(ISBLANK(E169),\"\",IF(ISBLANK(F169),IF(ISBLANK(L169), _xlfn.DAYS(TODAY(),E169), _xlfn.DAYS(L169,E169)), _xlfn.DAYS(F169,E169))))","v":""},null,{"$f":"IF(COUNTIF(D169,\"N\"),\"\",IF(ISBLANK(F169),\"\",IF(ISBLANK(H169),IF(ISBLANK(K169),_xlfn.DAYS(TODAY(),F169),_xlfn.DAYS(K169,F169)),_xlfn.DAYS(H169,F169))))","v":""},null,null,null,{"$f":"IF(COUNTIF(D169,\"N\"),\"ON HOLD\",IF(ISBLANK(K169),IF(ISBLANK(E169),\"\",IF(ISBLANK(F169),\"NO\",\"YES\")),\"NO\"))","v":""},{"$f":"IF(COUNTIF(D169,\"N\"),\"\",IF(ISBLANK(F169),\"\",IF(ISBLANK(K169),_xlfn.DAYS(TODAY(),F169),_xlfn.DAYS(K169,F169))))","v":""},null,null,null,{"$f":"IF(ISBLANK(P169), \"\", P169-Q169)","v":""},{"$f":"IF(ISBLANK(Q169), \"\", Q169/P169)","v":""}]
[null,null,null,null,null,null,{"$f":"IF(COUNTIF(D170,\"N\"),\"\",IF(ISBLANK(E170),\"\",IF(ISBLANK(F170),IF(ISBLANK(L170), _xlfn.DAYS(TODAY(),E170), _xlfn.DAYS(L170,E170)), _xlfn.DAYS(F170,E170))))","v":""},null,{"$f":"IF(COUNTIF(D170,\"N\"),\"\",IF(ISBLANK(F170),\"\",IF(ISBLANK(H170),IF(ISBLANK(K170),_xlfn.DAYS(TODAY(),F170),_xlfn.DAYS(K170,F170)),_xlfn.DAYS(H170,F170))))","v":""},null,null,null,{"$f":"IF(COUNTIF(D170,\"N\"),\"ON HOLD\",IF(ISBLANK(K170),IF(ISBLANK(E170),\"\",IF(ISBLANK(F170),\"NO\",\"YES\")),\"NO\"))","v":""},{"$f":"IF(COUNTIF(D170,\"N\"),\"\",IF(ISBLANK(F170),\"\",IF(ISBLANK(K170),_xlfn.DAYS(TODAY(),F170),_xlfn.DAYS(K170,F170))))","v":""},null,null,null,{"$f":"IF(ISBLANK(P170), \"\", P170-Q170)","v":""},{"$f":"IF(ISBLANK(Q170), \"\", Q170/P170)","v":""}]
[null,null,null,null,null,null,{"$f":"IF(COUNTIF(D171,\"N\"),\"\",IF(ISBLANK(E171),\"\",IF(ISBLANK(F171),IF(ISBLANK(L171), _xlfn.DAYS(TODAY(),E171), _xlfn.DAYS(L171,E171)), _xlfn.DAYS(F171,E171))))","v":""},null,{"$f":"IF(COUNTIF(D171,\"N\"),\"\",IF(ISBLANK(F171),\"\",IF(ISBLANK(H171),IF(ISBLANK(K171),_xlfn.DAYS(TODAY(),F171),_xlfn.DAYS(K171,F171)),_xlfn.DAYS(H171,F171))))","v":""},null,null,null,{"$f":"IF(COUNTIF(D171,\"N\"),\"ON HOLD\",IF(ISBLANK(K171),IF(ISBLANK(E171),\"\",IF(ISBLANK(F171),\"NO\",\"YES\")),\"NO\"))","v":""},{"$f":"IF(COUNTIF(D171,\"N\"),\"\",IF(ISBLANK(F171),\"\",IF(ISBLANK(K171),_xlfn.DAYS(TODAY(),F171),_xlfn.DAYS(K171,F171))))","v":""},null,null,null,{"$f":"IF(ISBLANK(P171), \"\", P171-Q171)","v":""},{"$f":"IF(ISBLANK(Q171), \"\", Q171/P171)","v":""}]
[null,null,null,null,null,null,{"$f":"IF(COUNTIF(D172,\"N\"),\"\",IF(ISBLANK(E172),\"\",IF(ISBLANK(F172),IF(ISBLANK(L172), _xlfn.DAYS(TODAY(),E172), _xlfn.DAYS(L172,E172)), _xlfn.DAYS(F172,E172))))","v":""},null,{"$f":"IF(COUNTIF(D172,\"N\"),\"\",IF(ISBLANK(F172),\"\",IF(ISBLANK(H172),IF(ISBLANK(K172),_xlfn.DAYS(TODAY(),F172),_xlfn.DAYS(K172,F172)),_xlfn.DAYS(H172,F172))))","v":""},null,null,null,{"$f":"IF(COUNTIF(D172,\"N\"),\"ON HOLD\",IF(ISBLANK(K172),IF(ISBLANK(E172),\"\",IF(ISBLANK(F172),\"NO\",\"YES\")),\"NO\"))","v":""},{"$f":"IF(COUNTIF(D172,\"N\"),\"\",IF(ISBLANK(F172),\"\",IF(ISBLANK(K172),_xlfn.DAYS(TODAY(),F172),_xlfn.DAYS(K172,F172))))","v":""},null,null,null,{"$f":"IF(ISBLANK(P172), \"\", P172-Q172)","v":""},{"$f":"IF(ISBLANK(Q172), \"\", Q172/P172)","v":""}]
[null,null,null,null,null,null,{"$f":"IF(COUNTIF(D173,\"N\"),\"\",IF(ISBLANK(E173),\"\",IF(ISBLANK(F173),IF(ISBLANK(L173), _xlfn.DAYS(TODAY(),E173), _xlfn.DAYS(L173,E173)), _xlfn.DAYS(F173,E173))))","v":""},null,{"$f":"IF(COUNTIF(D173,\"N\"),\"\",IF(ISBLANK(F173),\"\",IF(ISBLANK(H173),IF(ISBLANK(K173),_xlfn.DAYS(TODAY(),F173),_xlfn.DAYS(K173,F173)),_xlfn.DAYS(H173,F173))))","v":""},null,null,null,{"$f":"IF(COUNTIF(D173,\"N\"),\"ON HOLD\",IF(ISBLANK(K173),IF(ISBLANK(E173),\"\",IF(ISBLANK(F173),\"NO\",\"YES\")),\"NO\"))","v":""},{"$f":"IF(COUNTIF(D173,\"N\"),\"\",IF(ISBLANK(F173),\"\",IF(ISBLANK(K173),_xlfn.DAYS(TODAY(),F173),_xlfn.DAYS(K173,F173))))","v":""},null,null,null,{"$f":"IF(ISBLANK(P173), \"\", P173-Q173)","v":""},{"$f":"IF(ISBLANK(Q173), \"\", Q173/P173)","v":""}]
[null,null,null,null,null,null,{"$f":"IF(COUNTIF(D174,\"N\"),\"\",IF(ISBLANK(E174),\"\",IF(ISBLANK(F174),IF(ISBLANK(L174), _xlfn.DAYS(TODAY(),E174), _xlfn.DAYS(L174,E174)), _xlfn.DAYS(F174,E174))))","v":""},null,{"$f":"IF(COUNTIF(D174,\"N\"),\"\",IF(ISBLANK(F174),\"\",IF(ISBLANK(H174),IF(ISBLANK(K174),_xlfn.DAYS(TODAY(),F174),_xlfn.DAYS(K174,F174)),_xlfn.DAYS(H174,F174))))","v":""},null,null,null,{"$f":"IF(COUNTIF(D174,\"N\"),\"ON HOLD\",IF(ISBLANK(K174),IF(ISBLANK(E174),\"\",IF(ISBLANK(F174),\"NO\",\"YES\")),\"NO\"))","v":""},{"$f":"IF(COUNTIF(D174,\"N\"),\"\",IF(ISBLANK(F174),\"\",IF(ISBLANK(K174),_xlfn.DAYS(TODAY(),F174),_xlfn.DAYS(K174,F174))))","v":""},null,null,null,{"$f":"IF(ISBLANK(P174), \"\", P174-Q174)","v":""},{"$f":"IF(ISBLANK(Q174), \"\", Q174/P174)","v":""}]
[null,null,null,null,null,null,{"$f":"IF(COUNTIF(D175,\"N\"),\"\",IF(ISBLANK(E175),\"\",IF(ISBLANK(F175),IF(ISBLANK(L175), _xlfn.DAYS(TODAY(),E175), _xlfn.DAYS(L175,E175)), _xlfn.DAYS(F175,E175))))","v":""},null,{"$f":"IF(COUNTIF(D175,\"N\"),\"\",IF(ISBLANK(F175),\"\",IF(ISBLANK(H175),IF(ISBLANK(K175),_xlfn.DAYS(TODAY(),F175),_xlfn.DAYS(K175,F175)),_xlfn.DAYS(H175,F175))))","v":""},null,null,null,{"$f":"IF(COUNTIF(D175,\"N\"),\"ON HOLD\",IF(ISBLANK(K175),IF(ISBLANK(E175),\"\",IF(ISBLANK(F175),\"NO\",\"YES\")),\"NO\"))","v":""},{"$f":"IF(COUNTIF(D175,\"N\"),\"\",IF(ISBLANK(F175),\"\",IF(ISBLANK(K175),_xlfn.DAYS(TODAY(),F175),_xlfn.DAYS(K175,F175))))","v":""},null,null,null,{"$f":"IF(ISBLANK(P175), \"\", P175-Q175)","v":""},{"$f":"IF(ISBLANK(Q175), \"\", Q175/P175)","v":""}]
[null,null,null,null,null,null,{"$f":"IF(COUNTIF(D176,\"N\"),\"\",IF(ISBLANK(E176),\"\",IF(ISBLANK(F176),IF(ISBLANK(L176), _xlfn.DAYS(TODAY(),E176), _xlfn.DAYS(L176,E176)), _xlfn.DAYS(F176,E176))))","v":""},null,{"$f":"IF(COUNTIF(D176,\"N\"),\"\",IF(ISBLANK(F176),\"\",IF(ISBLANK(H176),IF(ISBLANK(K176),_xlfn.DAYS(TODAY(),F176),_xlfn.DAYS(K176,F176)),_xlfn.DAYS(H176,F176))))","v":""},null,null,null,{"$f":"IF(COUNTIF(D176,\"N\"),\"ON HOLD\",IF(ISBLANK(K176),IF(ISBLANK(E176),\"\",IF(ISBLANK(F176),\"NO\",\"YES\")),\"NO\"))","v":""},{"$f":"IF(COUNTIF(D176,\"N\"),\"\",IF(ISBLANK(F176),\"\",IF(ISBLANK(K176),_xlfn.DAYS(TODAY(),F176),_xlfn.DAYS(K176,F176))))","v":""},null,null,null,{"$f":"IF(ISBLANK(P176), \"\", P176-Q176)","v":""},{"$f":"IF(ISBLANK(Q176), \"\", Q176/P176)","v":""}]
[null,null,null,null,null,null,{"$f":"IF(COUNTIF(D177,\"N\"),\"\",IF(ISBLANK(E177),\"\",IF(ISBLANK(F177),IF(ISBLANK(L177), _xlfn.DAYS(TODAY(),E177), _xlfn.DAYS(L177,E177)), _xlfn.DAYS(F177,E177))))","v":""},null,{"$f":"IF(COUNTIF(D177,\"N\"),\"\",IF(ISBLANK(F177),\"\",IF(ISBLANK(H177),IF(ISBLANK(K177),_xlfn.DAYS(TODAY(),F177),_xlfn.DAYS(K177,F177)),_xlfn.DAYS(H177,F177))))","v":""},null,null,null,{"$f":"IF(COUNTIF(D177,\"N\"),\"ON HOLD\",IF(ISBLANK(K177),IF(ISBLANK(E177),\"\",IF(ISBLANK(F177),\"NO\",\"YES\")),\"NO\"))","v":""},{"$f":"IF(COUNTIF(D177,\"N\"),\"\",IF(ISBLANK(F177),\"\",IF(ISBLANK(K177),_xlfn.DAYS(TODAY(),F177),_xlfn.DAYS(K177,F177))))","v":""},null,null,null,{"$f":"IF(ISBLANK(P177), \"\", P177-Q177)","v":""},{"$f":"IF(ISBLANK(Q177), \"\", Q177/P177)","v":""}]
[null,null,null,null,null,null,{"$f":"IF(COUNTIF(D178,\"N\"),\"\",IF(ISBLANK(E178),\"\",IF(ISBLANK(F178),IF(ISBLANK(L178), _xlfn.DAYS(TODAY(),E178), _xlfn.DAYS(L178,E178)), _xlfn.DAYS(F178,E178))))","v":""},null,{"$f":"IF(COUNTIF(D178,\"N\"),\"\",IF(ISBLANK(F178),\"\",IF(ISBLANK(H178),IF(ISBLANK(K178),_xlfn.DAYS(TODAY(),F178),_xlfn.DAYS(K178,F178)),_xlfn.DAYS(H178,F178))))","v":""},null,null,null,{"$f":"IF(COUNTIF(D178,\"N\"),\"ON HOLD\",IF(ISBLANK(K178),IF(ISBLANK(E178),\"\",IF(ISBLANK(F178),\"NO\",\"YES\")),\"NO\"))","v":""},{"$f":"IF(COUNTIF(D178,\"N\"),\"\",IF(ISBLANK(F178),\"\",IF(ISBLANK(K178),_xlfn.DAYS(TODAY(),F178),_xlfn.DAYS(K178,F178))))","v":""},null,null,null,{"$f":"IF(ISBLANK(P178), \"\", P178-Q178)","v":""},{"$f":"IF(ISBLANK(Q178), \"\", Q178/P178)","v":""}]
[null,null,null,null,null,null,{"$f":"IF(COUNTIF(D179,\"N\"),\"\",IF(ISBLANK(E179),\"\",IF(ISBLANK(F179),IF(ISBLANK(L179), _xlfn.DAYS(TODAY(),E179), _xlfn.DAYS(L179,E179)), _xlfn.DAYS(F179,E179))))","v":""},null,{"$f":"IF(COUNTIF(D179,\"N\"),\"\",IF(ISBLANK(F179),\"\",IF(ISBLANK(H179),IF(ISBLANK(K179),_xlfn.DAYS(TODAY(),F179),_xlfn.DAYS(K179,F179)),_xlfn.DAYS(H179,F179))))","v":""},null,null,null,{"$f":"IF(COUNTIF(D179,\"N\"),\"ON HOLD\",IF(ISBLANK(K179),IF(ISBLANK(E179),\"\",IF(ISBLANK(F179),\"NO\",\"YES\")),\"NO\"))","v":""},{"$f":"IF(COUNTIF(D179,\"N\"),\"\",IF(ISBLANK(F179),\"\",IF(ISBLANK(K179),_xlfn.DAYS(TODAY(),F179),_xlfn.DAYS(K179,F179))))","v":""},null,null,null,{"$f":"IF(ISBLANK(P179), \"\", P179-Q179)","v":""},{"$f":"IF(ISBLANK(Q179), \"\", Q179/P179)","v":""}]
[null,null,null,null,null,null,{"$f":"IF(COUNTIF(D180,\"N\"),\"\",IF(ISBLANK(E180),\"\",IF(ISBLANK(F180),IF(ISBLANK(L180), _xlfn.DAYS(TODAY(),E180), _xlfn.DAYS(L180,E180)), _xlfn.DAYS(F180,E180))))","v":""},null,{"$f":"IF(COUNTIF(D180,\"N\"),\"\",IF(ISBLANK(F180),\"\",IF(ISBLANK(H180),IF(ISBLANK(K180),_xlfn.DAYS(TODAY(),F180),_xlfn.DAYS(K180,F180)),_xlfn.DAYS(H180,F180))))","v":""},null,null,null,{"$f":"IF(COUNTIF(D180,\"N\"),\"ON HOLD\",IF(ISBLANK(K180),IF(ISBLANK(E180),\"\",IF(ISBLANK(F180),\"NO\",\"YES\")),\"NO\"))","v":""},{"$f":"IF(COUNTIF(D180,\"N\"),\"\",IF(ISBLANK(F180),\"\",IF(ISBLANK(K180),_xlfn.DAYS(TODAY(),F180),_xlfn.DAYS(K180,F180))))","v":""},null,null,null,{"$f":"IF(ISBLANK(P180), \"\", P180-Q180)","v":""},{"$f":"IF(ISBLANK(Q180), \"\", Q180/P180)","v":""}]
[null,null,null,null,null,null,{"$f":"IF(COUNTIF(D181,\"N\"),\"\",IF(ISBLANK(E181),\"\",IF(ISBLANK(F181),IF(ISBLANK(L181), _xlfn.DAYS(TODAY(),E181), _xlfn.DAYS(L181,E181)), _xlfn.DAYS(F181,E181))))","v":""},null,{"$f":"IF(COUNTIF(D181,\"N\"),\"\",IF(ISBLANK(F181),\"\",IF(ISBLANK(H181),IF(ISBLANK(K181),_xlfn.DAYS(TODAY(),F181),_xlfn.DAYS(K181,F181)),_xlfn.DAYS(H181,F181))))","v":""},null,null,null,{"$f":"IF(COUNTIF(D181,\"N\"),\"ON HOLD\",IF(ISBLANK(K181),IF(ISBLANK(E181),\"\",IF(ISBLANK(F181),\"NO\",\"YES\")),\"NO\"))","v":""},{"$f":"IF(COUNTIF(D181,\"N\"),\"\",IF(ISBLANK(F181),\"\",IF(ISBLANK(K181),_xlfn.DAYS(TODAY(),F181),_xlfn.DAYS(K181,F181))))","v":""},null,null,null,{"$f":"IF(ISBLANK(P181), \"\", P181-Q181)","v":""},{"$f":"IF(ISBLANK(Q181), \"\", Q181/P181)","v":""}]
[null,null,null,null,null,null,{"$f":"IF(COUNTIF(D182,\"N\"),\"\",IF(ISBLANK(E182),\"\",IF(ISBLANK(F182),IF(ISBLANK(L182), _xlfn.DAYS(TODAY(),E182), _xlfn.DAYS(L182,E182)), _xlfn.DAYS(F182,E182))))","v":""},null,{"$f":"IF(COUNTIF(D182,\"N\"),\"\",IF(ISBLANK(F182),\"\",IF(ISBLANK(H182),IF(ISBLANK(K182),_xlfn.DAYS(TODAY(),F182),_xlfn.DAYS(K182,F182)),_xlfn.DAYS(H182,F182))))","v":""},null,null,null,{"$f":"IF(COUNTIF(D182,\"N\"),\"ON HOLD\",IF(ISBLANK(K182),IF(ISBLANK(E182),\"\",IF(ISBLANK(F182),\"NO\",\"YES\")),\"NO\"))","v":""},{"$f":"IF(COUNTIF(D182,\"N\"),\"\",IF(ISBLANK(F182),\"\",IF(ISBLANK(K182),_xlfn.DAYS(TODAY(),F182),_xlfn.DAYS(K182,F182))))","v":""},null,null,null,{"$f":"IF(ISBLANK(P182), \"\", P182-Q182)","v":""},{"$f":"IF(ISBLANK(Q182), \"\", Q182/P182)","v":""}]
[null,null,null,null,null,null,{"$f":"IF(COUNTIF(D183,\"N\"),\"\",IF(ISBLANK(E183),\"\",IF(ISBLANK(F183),IF(ISBLANK(L183), _xlfn.DAYS(TODAY(),E183), _xlfn.DAYS(L183,E183)), _xlfn.DAYS(F183,E183))))","v":""},null,{"$f":"IF(COUNTIF(D183,\"N\"),\"\",IF(ISBLANK(F183),\"\",IF(ISBLANK(H183),IF(ISBLANK(K183),_xlfn.DAYS(TODAY(),F183),_xlfn.DAYS(K183,F183)),_xlfn.DAYS(H183,F183))))","v":""},null,null,null,{"$f":"IF(COUNTIF(D183,\"N\"),\"ON HOLD\",IF(ISBLANK(K183),IF(ISBLANK(E183),\"\",IF(ISBLANK(F183),\"NO\",\"YES\")),\"NO\"))","v":""},{"$f":"IF(COUNTIF(D183,\"N\"),\"\",IF(ISBLANK(F183),\"\",IF(ISBLANK(K183),_xlfn.DAYS(TODAY(),F183),_xlfn.DAYS(K183,F183))))","v":""},null,null,null,{"$f":"IF(ISBLANK(P183), \"\", P183-Q183)","v":""},{"$f":"IF(ISBLANK(Q183), \"\", Q183/P183)","v":""}]
[null,null,null,null,null,null,{"$f":"IF(COUNTIF(D184,\"N\"),\"\",IF(ISBLANK(E184),\"\",IF(ISBLANK(F184),IF(ISBLANK(L184), _xlfn.DAYS(TODAY(),E184), _xlfn.DAYS(L184,E184)), _xlfn.DAYS(F184,E184))))","v":""},null,{"$f":"IF(COUNTIF(D184,\"N\"),\"\",IF(ISBLANK(F184),\"\",IF(ISBLANK(H184),IF(ISBLANK(K184),_xlfn.DAYS(TODAY(),F184),_xlfn.DAYS(K184,F184)),_xlfn.DAYS(H184,F184))))","v":""},null,null,null,{"$f":"IF(COUNTIF(D184,\"N\"),\"ON HOLD\",IF(ISBLANK(K184),IF(ISBLANK(E184),\"\",IF(ISBLANK(F184),\"NO\",\"YES\")),\"NO\"))","v":""},{"$f":"IF(COUNTIF(D184,\"N\"),\"\",IF(ISBLANK(F184),\"\",IF(ISBLANK(K184),_xlfn.DAYS(TODAY(),F184),_xlfn.DAYS(K184,F184))))","v":""},null,null,null,{"$f":"IF(ISBLANK(P184), \"\", P184-Q184)","v":""},{"$f":"IF(ISBLANK(Q184), \"\", Q184/P184)","v":""}]
[null,null,null,null,null,null,{"$f":"IF(COUNTIF(D185,\"N\"),\"\",IF(ISBLANK(E185),\"\",IF(ISBLANK(F185),IF(ISBLANK(L185), _xlfn.DAYS(TODAY(),E185), _xlfn.DAYS(L185,E185)), _xlfn.DAYS(F185,E185))))","v":""},null,{"$f":"IF(COUNTIF(D185,\"N\"),\"\",IF(ISBLANK(F185),\"\",IF(ISBLANK(H185),IF(ISBLANK(K185),_xlfn.DAYS(TODAY(),F185),_xlfn.DAYS(K185,F185)),_xlfn.DAYS(H185,F185))))","v":""},null,null,null,{"$f":"IF(COUNTIF(D185,\"N\"),\"ON HOLD\",IF(ISBLANK(K185),IF(ISBLANK(E185),\"\",IF(ISBLANK(F185),\"NO\",\"YES\")),\"NO\"))","v":""},{"$f":"IF(COUNTIF(D185,\"N\"),\"\",IF(ISBLANK(F185),\"\",IF(ISBLANK(K185),_xlfn.DAYS(TODAY(),F185),_xlfn.DAYS(K185,F185))))","v":""},null,null,null,{"$f":"IF(ISBLANK(P185), \"\", P185-Q185)","v":""},{"$f":"IF(ISBLANK(Q185), \"\", Q185/P185)","v":""}]
[null,null,null,null,null,null,{"$f":"IF(COUNTIF(D186,\"N\"),\"\",IF(ISBLANK(E186),\"\",IF(ISBLANK(F186),IF(ISBLANK(L186), _xlfn.DAYS(TODAY(),E186), _xlfn.DAYS(L186,E186)), _xlfn.DAYS(F186,E186))))","v":""},null,{"$f":"IF(COUNTIF(D186,\"N\"),\"\",IF(ISBLANK(F186),\"\",IF(ISBLANK(H186),IF(ISBLANK(K186),_xlfn.DAYS(TODAY(),F186),_xlfn.DAYS(K186,F186)),_xlfn.DAYS(H186,F186))))","v":""},null,null,null,{"$f":"IF(COUNTIF(D186,\"N\"),\"ON HOLD\",IF(ISBLANK(K186),IF(ISBLANK(E186),\"\",IF(ISBLANK(F186),\"NO\",\"YES\")),\"NO\"))","v":""},{"$f":"IF(COUNTIF(D186,\"N\"),\"\",IF(ISBLANK(F186),\"\",IF(ISBLANK(K186),_xlfn.DAYS(TODAY(),F186),_xlfn.DAYS(K186,F186))))","v":""},null,null,null,{"$f":"IF(ISBLANK(P186), \"\", P186-Q186)","v":""},{"$f":"IF(ISBLANK(Q186), \"\", Q186/P186)","v":""}]
[null,null,null,null,null,null,{"$f":"IF(COUNTIF(D187,\"N\"),\"\",IF(ISBLANK(E187),\"\",IF(ISBLANK(F187),IF(ISBLANK(L187), _xlfn.DAYS(TODAY(),E187), _xlfn.DAYS(L187,E187)), _xlfn.DAYS(F187,E187))))","v":""},null,{"$f":"IF(COUNTIF(D187,\"N\"),\"\",IF(ISBLANK(F187),\"\",IF(ISBLANK(H187),IF(ISBLANK(K187),_xlfn.DAYS(TODAY(),F187),_xlfn.DAYS(K187,F187)),_xlfn.DAYS(H187,F187))))","v":""},null,null,null,{"$f":"IF(COUNTIF(D187,\"N\"),\"ON HOLD\",IF(ISBLANK(K187),IF(ISBLANK(E187),\"\",IF(ISBLANK(F187),\"NO\",\"YES\")),\"NO\"))","v":""},{"$f":"IF(COUNTIF(D187,\"N\"),\"\",IF(ISBLANK(F187),\"\",IF(ISBLANK(K187),_xlfn.DAYS(TODAY(),F187),_xlfn.DAYS(K187,F187))))","v":""},null,null,null,{"$f":"IF(ISBLANK(P187), \"\", P187-Q187)","v":""},{"$f":"IF(ISBLANK(Q187), \"\", Q187/P187)","v":""}]
[null,null,null,null,null,null,{"$f":"IF(COUNTIF(D188,\"N\"),\"\",IF(ISBLANK(E188),\"\",IF(ISBLANK(F188),IF(ISBLANK(L188), _xlfn.DAYS(TODAY(),E188), _xlfn.DAYS(L188,E188)), _xlfn.DAYS(F188,E188))))","v":""},null,{"$f":"IF(COUNTIF(D188,\"N\"),\"\",IF(ISBLANK(F188),\"\",IF(ISBLANK(H188),IF(ISBLANK(K188),_xlfn.DAYS(TODAY(),F188),_xlfn.DAYS(K188,F188)),_xlfn.DAYS(H188,F188))))","v":""},null,null,null,{"$f":"IF(COUNTIF(D188,\"N\"),\"ON HOLD\",IF(ISBLANK(K188),IF(ISBLANK(E188),\"\",IF(ISBLANK(F188),\"NO\",\"YES\")),\"NO\"))","v":""},{"$f":"IF(COUNTIF(D188,\"N\"),\"\",IF(ISBLANK(F188),\"\",IF(ISBLANK(K188),_xlfn.DAYS(TODAY(),F188),_xlfn.DAYS(K188,F188))))","v":""},null,null,null,{"$f":"IF(ISBLANK(P188), \"\", P188-Q188)","v":""},{"$f":"IF(ISBLANK(Q188), \"\", Q188/P188)","v":""}]
[null,null,null,null,null,null,{"$f":"IF(COUNTIF(D189,\"N\"),\"\",IF(ISBLANK(E189),\"\",IF(ISBLANK(F189),IF(ISBLANK(L189), _xlfn.DAYS(TODAY(),E189), _xlfn.DAYS(L189,E189)), _xlfn.DAYS(F189,E189))))","v":""},null,{"$f":"IF(COUNTIF(D189,\"N\"),\"\",IF(ISBLANK(F189),\"\",IF(ISBLANK(H189),IF(ISBLANK(K189),_xlfn.DAYS(TODAY(),F189),_xlfn.DAYS(K189,F189)),_xlfn.DAYS(H189,F189))))","v":""},null,null,null,{"$f":"IF(COUNTIF(D189,\"N\"),\"ON HOLD\",IF(ISBLANK(K189),IF(ISBLANK(E189),\"\",IF(ISBLANK(F189),\"NO\",\"YES\")),\"NO\"))","v":""},{"$f":"IF(COUNTIF(D189,\"N\"),\"\",IF(ISBLANK(F189),\"\",IF(ISBLANK(K189),_xlfn.DAYS(TODAY(),F189),_xlfn.DAYS(K189,F189))))","v":""},null,null,null,{"$f":"IF(ISBLANK(P189), \"\", P189-Q189)","v":""},{"$f":"IF(ISBLANK(Q189), \"\", Q189/P189)","v":""}]
[null,null,null,null,null,null,{"$f":"IF(COUNTIF(D190,\"N\"),\"\",IF(ISBLANK(E190),\"\",IF(ISBLANK(F190),IF(ISBLANK(L190), _xlfn.DAYS(TODAY(),E190), _xlfn.DAYS(L190,E190)), _xlfn.DAYS(F190,E190))))","v":""},null,{"$f":"IF(COUNTIF(D190,\"N\"),\"\",IF(ISBLANK(F190),\"\",IF(ISBLANK(H190),IF(ISBLANK(K190),_xlfn.DAYS(TODAY(),F190),_xlfn.DAYS(K190,F190)),_xlfn.DAYS(H190,F190))))","v":""},null,null,null,{"$f":"IF(COUNTIF(D190,\"N\"),\"ON HOLD\",IF(ISBLANK(K190),IF(ISBLANK(E190),\"\",IF(ISBLANK(F190),\"NO\",\"YES\")),\"NO\"))","v":""},{"$f":"IF(COUNTIF(D190,\"N\"),\"\",IF(ISBLANK(F190),\"\",IF(ISBLANK(K190),_xlfn.DAYS(TODAY(),F190),_xlfn.DAYS(K190,F190))))","v":""},null,null,null,{"$f":"IF(ISBLANK(P190), \"\", P190-Q190)","v":""},{"$f":"IF(ISBLANK(Q190), \"\", Q190/P190)","v":""}]
[null,null,null,null,null,null,{"$f":"IF(COUNTIF(D191,\"N\"),\"\",IF(ISBLANK(E191),\"\",IF(ISBLANK(F191),IF(ISBLANK(L191), _xlfn.DAYS(TODAY(),E191), _xlfn.DAYS(L191,E191)), _xlfn.DAYS(F191,E191))))","v":""},null,{"$f":"IF(COUNTIF(D191,\"N\"),\"\",IF(ISBLANK(F191),\"\",IF(ISBLANK(H191),IF(ISBLANK(K191),_xlfn.DAYS(TODAY(),F191),_xlfn.DAYS(K191,F191)),_xlfn.DAYS(H191,F191))))","v":""},null,null,null,{"$f":"IF(COUNTIF(D191,\"N\"),\"ON HOLD\",IF(ISBLANK(K191),IF(ISBLANK(E191),\"\",IF(ISBLANK(F191),\"NO\",\"YES\")),\"NO\"))","v":""},{"$f":"IF(COUNTIF(D191,\"N\"),\"\",IF(ISBLANK(F191),\"\",IF(ISBLANK(K191),_xlfn.DAYS(TODAY(),F191),_xlfn.DAYS(K191,F191))))","v":""},null,null,null,{"$f":"IF(ISBLANK(P191), \"\", P191-Q191)","v":""},{"$f":"IF(ISBLANK(Q191), \"\", Q191/P191)","v":""}]
[null,null,null,null,null,null,{"$f":"IF(COUNTIF(D192,\"N\"),\"\",IF(ISBLANK(E192),\"\",IF(ISBLANK(F192),IF(ISBLANK(L192), _xlfn.DAYS(TODAY(),E192), _xlfn.DAYS(L192,E192)), _xlfn.DAYS(F192,E192))))","v":""},null,{"$f":"IF(COUNTIF(D192,\"N\"),\"\",IF(ISBLANK(F192),\"\",IF(ISBLANK(H192),IF(ISBLANK(K192),_xlfn.DAYS(TODAY(),F192),_xlfn.DAYS(K192,F192)),_xlfn.DAYS(H192,F192))))","v":""},null,null,null,{"$f":"IF(COUNTIF(D192,\"N\"),\"ON HOLD\",IF(ISBLANK(K192),IF(ISBLANK(E192),\"\",IF(ISBLANK(F192),\"NO\",\"YES\")),\"NO\"))","v":""},{"$f":"IF(COUNTIF(D192,\"N\"),\"\",IF(ISBLANK(F192),\"\",IF(ISBLANK(K192),_xlfn.DAYS(TODAY(),F192),_xlfn.DAYS(K192,F192))))","v":""},null,null,null,{"$f":"IF(ISBLANK(P192), \"\", P192-Q192)","v":""},{"$f":"IF(ISBLANK(Q192), \"\", Q192/P192)","v":""}]
[null,null,null,null,null,null,{"$f":"IF(COUNTIF(D193,\"N\"),\"\",IF(ISBLANK(E193),\"\",IF(ISBLANK(F193),IF(ISBLANK(L193), _xlfn.DAYS(TODAY(),E193), _xlfn.DAYS(L193,E193)), _xlfn.DAYS(F193,E193))))","v":""},null,{"$f":"IF(COUNTIF(D193,\"N\"),\"\",IF(ISBLANK(F193),\"\",IF(ISBLANK(H193),IF(ISBLANK(K193),_xlfn.DAYS(TODAY(),F193),_xlfn.DAYS(K193,F193)),_xlfn.DAYS(H193,F193))))","v":""},null,null,null,{"$f":"IF(COUNTIF(D193,\"N\"),\"ON HOLD\",IF(ISBLANK(K193),IF(ISBLANK(E193),\"\",IF(ISBLANK(F193),\"NO\",\"YES\")),\"NO\"))","v":""},{"$f":"IF(COUNTIF(D193,\"N\"),\"\",IF(ISBLANK(F193),\"\",IF(ISBLANK(K193),_xlfn.DAYS(TODAY(),F193),_xlfn.DAYS(K193,F193))))","v":""},null,null,null,{"$f":"IF(ISBLANK(P193), \"\", P193-Q193)","v":""},{"$f":"IF(ISBLANK(Q193), \"\", Q193/P193)","v":""}]
[null,null,null,null,null,null,{"$f":"IF(COUNTIF(D194,\"N\"),\"\",IF(ISBLANK(E194),\"\",IF(ISBLANK(F194),IF(ISBLANK(L194), _xlfn.DAYS(TODAY(),E194), _xlfn.DAYS(L194,E194)), _xlfn.DAYS(F194,E194))))","v":""},null,{"$f":"IF(COUNTIF(D194,\"N\"),\"\",IF(ISBLANK(F194),\"\",IF(ISBLANK(H194),IF(ISBLANK(K194),_xlfn.DAYS(TODAY(),F194),_xlfn.DAYS(K194,F194)),_xlfn.DAYS(H194,F194))))","v":""},null,null,null,{"$f":"IF(COUNTIF(D194,\"N\"),\"ON HOLD\",IF(ISBLANK(K194),IF(ISBLANK(E194),\"\",IF(ISBLANK(F194),\"NO\",\"YES\")),\"NO\"))","v":""},{"$f":"IF(COUNTIF(D194,\"N\"),\"\",IF(ISBLANK(F194),\"\",IF(ISBLANK(K194),_xlfn.DAYS(TODAY(),F194),_xlfn.DAYS(K194,F194))))","v":""},null,null,null,{"$f":"IF(ISBLANK(P194), \"\", P194-Q194)","v":""},{"$f":"IF(ISBLANK(Q194), \"\", Q194/P194)","v":""}]
[null,null,null,null,null,null,{"$f":"IF(COUNTIF(D195,\"N\"),\"\",IF(ISBLANK(E195),\"\",IF(ISBLANK(F195),IF(ISBLANK(L195), _xlfn.DAYS(TODAY(),E195), _xlfn.DAYS(L195,E195)), _xlfn.DAYS(F195,E195))))","v":""},null,{"$f":"IF(COUNTIF(D195,\"N\"),\"\",IF(ISBLANK(F195),\"\",IF(ISBLANK(H195),IF(ISBLANK(K195),_xlfn.DAYS(TODAY(),F195),_xlfn.DAYS(K195,F195)),_xlfn.DAYS(H195,F195))))","v":""},null,null,null,{"$f":"IF(COUNTIF(D195,\"N\"),\"ON HOLD\",IF(ISBLANK(K195),IF(ISBLANK(E195),\"\",IF(ISBLANK(F195),\"NO\",\"YES\")),\"NO\"))","v":""},{"$f":"IF(COUNTIF(D195,\"N\"),\"\",IF(ISBLANK(F195),\"\",IF(ISBLANK(K195),_xlfn.DAYS(TODAY(),F195),_xlfn.DAYS(K195,F195))))","v":""},null,null,null,{"$f":"IF(ISBLANK(P195), \"\", P195-Q195)","v":""},{"$f":"IF(ISBLANK(Q195), \"\", Q195/P195)","v":""}]
[null,null,null,null,null,null,{"$f":"IF(COUNTIF(D196,\"N\"),\"\",IF(ISBLANK(E196),\"\",IF(ISBLANK(F196),IF(ISBLANK(L196), _xlfn.DAYS(TODAY(),E196), _xlfn.DAYS(L196,E196)), _xlfn.DAYS(F196,E196))))","v":""},null,{"$f":"IF(COUNTIF(D196,\"N\"),\"\",IF(ISBLANK(F196),\"\",IF(ISBLANK(H196),IF(ISBLANK(K196),_xlfn.DAYS(TODAY(),F196),_xlfn.DAYS(K196,F196)),_xlfn.DAYS(H196,F196))))","v":""},null,null,null,{"$f":"IF(COUNTIF(D196,\"N\"),\"ON HOLD\",IF(ISBLANK(K196),IF(ISBLANK(E196),\"\",IF(ISBLANK(F196),\"NO\",\"YES\")),\"NO\"))","v":""},{"$f":"IF(COUNTIF(D196,\"N\"),\"\",IF(ISBLANK(F196),\"\",IF(ISBLANK(K196),_xlfn.DAYS(TODAY(),F196),_xlfn.DAYS(K196,F196))))","v":""},null,null,null,{"$f":"IF(ISBLANK(P196), \"\", P196-Q196)","v":""},{"$f":"IF(ISBLANK(Q196), \"\", Q196/P196)","v":""}]
[null,null,null,null,null,null,{"$f":"IF(COUNTIF(D197,\"N\"),\"\",IF(ISBLANK(E197),\"\",IF(ISBLANK(F197),IF(ISBLANK(L197), _xlfn.DAYS(TODAY(),E197), _xlfn.DAYS(L197,E197)), _xlfn.DAYS(F197,E197))))","v":""},null,{"$f":"IF(COUNTIF(D197,\"N\"),\"\",IF(ISBLANK(F197),\"\",IF(ISBLANK(H197),IF(ISBLANK(K197),_xlfn.DAYS(TODAY(),F197),_xlfn.DAYS(K197,F197)),_xlfn.DAYS(H197,F197))))","v":""},null,null,null,{"$f":"IF(COUNTIF(D197,\"N\"),\"ON HOLD\",IF(ISBLANK(K197),IF(ISBLANK(E197),\"\",IF(ISBLANK(F197),\"NO\",\"YES\")),\"NO\"))","v":""},{"$f":"IF(COUNTIF(D197,\"N\"),\"\",IF(ISBLANK(F197),\"\",IF(ISBLANK(K197),_xlfn.DAYS(TODAY(),F197),_xlfn.DAYS(K197,F197))))","v":""},null,null,null,{"$f":"IF(ISBLANK(P197), \"\", P197-Q197)","v":""},{"$f":"IF(ISBLANK(Q197), \"\", Q197/P197)","v":""}]
[null,null,null,null,null,null,{"$f":"IF(COUNTIF(D198,\"N\"),\"\",IF(ISBLANK(E198),\"\",IF(ISBLANK(F198),IF(ISBLANK(L198), _xlfn.DAYS(TODAY(),E198), _xlfn.DAYS(L198,E198)), _xlfn.DAYS(F198,E198))))","v":""},null,{"$f":"IF(COUNTIF(D198,\"N\"),\"\",IF(ISBLANK(F198),\"\",IF(ISBLANK(H198),IF(ISBLANK(K198),_xlfn.DAYS(TODAY(),F198),_xlfn.DAYS(K198,F198)),_xlfn.DAYS(H198,F198))))","v":""},null,null,null,{"$f":"IF(COUNTIF(D198,\"N\"),\"ON HOLD\",IF(ISBLANK(K198),IF(ISBLANK(E198),\"\",IF(ISBLANK(F198),\"NO\",\"YES\")),\"NO\"))","v":""},{"$f":"IF(COUNTIF(D198,\"N\"),\"\",IF(ISBLANK(F198),\"\",IF(ISBLANK(K198),_xlfn.DAYS(TODAY(),F198),_xlfn.DAYS(K198,F198))))","v":""},null,null,null,{"$f":"IF(ISBLANK(P198), \"\", P198-Q198)","v":""},{"$f":"IF(ISBLANK(Q198), \"\", Q198/P198)","v":""}]
[null,null,null,null,null,null,{"$f":"IF(COUNTIF(D199,\"N\"),\"\",IF(ISBLANK(E199),\"\",IF(ISBLANK(F199),IF(ISBLANK(L199), _xlfn.DAYS(TODAY(),E199), _xlfn.DAYS(L199,E199)), _xlfn.DAYS(F199,E199))))","v":""},null,{"$f":"IF(COUNTIF(D199,\"N\"),\"\",IF(ISBLANK(F199),\"\",IF(ISBLANK(H199),IF(ISBLANK(K199),_xlfn.DAYS(TODAY(),F199),_xlfn.DAYS(K199,F199)),_xlfn.DAYS(H199,F199))))","v":""},null,null,null,{"$f":"IF(COUNTIF(D199,\"N\"),\"ON HOLD\",IF(ISBLANK(K199),IF(ISBLANK(E199),\"\",IF(ISBLANK(F199),\"NO\",\"YES\")),\"NO\"))","v":""},{"$f":"IF(COUNTIF(D199,\"N\"),\"\",IF(ISBLANK(F199),\"\",IF(ISBLANK(K199),_xlfn.DAYS(TODAY(),F199),_xlfn.DAYS(K199,F199))))","v":""},null,null,null,{"$f":"IF(ISBLANK(P199), \"\", P199-Q199)","v":""},{"$f":"IF(ISBLANK(Q199), \"\", Q199/P199)","v":""}]
[null,null,null,null,null,null,{"$f":"IF(COUNTIF(D200,\"N\"),\"\",IF(ISBLANK(E200),\"\",IF(ISBLANK(F200),IF(ISBLANK(L200), _xlfn.DAYS(TODAY(),E200), _xlfn.DAYS(L200,E200)), _xlfn.DAYS(F200,E200))))","v":""},null,{"$f":"IF(COUNTIF(D200,\"N\"),\"\",IF(ISBLANK(F200),\"\",IF(ISBLANK(H200),IF(ISBLANK(K200),_xlfn.DAYS(TODAY(),F200),_xlfn.DAYS(K200,F200)),_xlfn.DAYS(H200,F200))))","v":""},null,null,null,{"$f":"IF(COUNTIF(D200,\"N\"),\"ON HOLD\",IF(ISBLANK(K200),IF(ISBLANK(E200),\"\",IF(ISBLANK(F200),\"NO\",\"YES\")),\"NO\"))","v":""},{"$f":"IF(COUNTIF(D200,\"N\"),\"\",IF(ISBLANK(F200),\"\",IF(ISBLANK(K200),_xlfn.DAYS(TODAY(),F200),_xlfn.DAYS(K200,F200))))","v":""},null,null,null,{"$f":"IF(ISBLANK(P200), \"\", P200-Q200)","v":""},{"$f":"IF(ISBLANK(Q200), \"\", Q200/P200)","v":""}]
[null,null,null,null,null,null,{"$f":"IF(COUNTIF(D201,\"N\"),\"\",IF(ISBLANK(E201),\"\",IF(ISBLANK(F201),IF(ISBLANK(L201), _xlfn.DAYS(TODAY(),E201), _xlfn.DAYS(L201,E201)), _xlfn.DAYS(F201,E201))))","v":""},null,{"$f":"IF(COUNTIF(D201,\"N\"),\"\",IF(ISBLANK(F201),\"\",IF(ISBLANK(H201),IF(ISBLANK(K201),_xlfn.DAYS(TODAY(),F201),_xlfn.DAYS(K201,F201)),_xlfn.DAYS(H201,F201))))","v":""},null,null,null,{"$f":"IF(COUNTIF(D201,\"N\"),\"ON HOLD\",IF(ISBLANK(K201),IF(ISBLANK(E201),\"\",IF(ISBLANK(F201),\"NO\",\"YES\")),\"NO\"))","v":""},{"$f":"IF(COUNTIF(D201,\"N\"),\"\",IF(ISBLANK(F201),\"\",IF(ISBLANK(K201),_xlfn.DAYS(TODAY(),F201),_xlfn.DAYS(K201,F201))))","v":""},null,null,null,{"$f":"IF(ISBLANK(P201), \"\", P201-Q201)","v":""},{"$f":"IF(ISBLANK(Q201), \"\", Q201/P201)","v":""}]
[null,null,null,null,null,null,{"$f":"IF(COUNTIF(D202,\"N\"),\"\",IF(ISBLANK(E202),\"\",IF(ISBLANK(F202),IF(ISBLANK(L202), _xlfn.DAYS(TODAY(),E202), _xlfn.DAYS(L202,E202)), _xlfn.DAYS(F202,E202))))","v":""},null,{"$f":"IF(COUNTIF(D202,\"N\"),\"\",IF(ISBLANK(F202),\"\",IF(ISBLANK(H202),IF(ISBLANK(K202),_xlfn.DAYS(TODAY(),F202),_xlfn.DAYS(K202,F202)),_xlfn.DAYS(H202,F202))))","v":""},null,null,null,{"$f":"IF(COUNTIF(D202,\"N\"),\"ON HOLD\",IF(ISBLANK(K202),IF(ISBLANK(E202),\"\",IF(ISBLANK(F202),\"NO\",\"YES\")),\"NO\"))","v":""},{"$f":"IF(COUNTIF(D202,\"N\"),\"\",IF(ISBLANK(F202),\"\",IF(ISBLANK(K202),_xlfn.DAYS(TODAY(),F202),_xlfn.DAYS(K202,F202))))","v":""},null,null,null,{"$f":"IF(ISBLANK(P202), \"\", P202-Q202)","v":""},{"$f":"IF(ISBLANK(Q202), \"\", Q202/P202)","v":""}]
[null,null,null,null,null,null,{"$f":"IF(COUNTIF(D203,\"N\"),\"\",IF(ISBLANK(E203),\"\",IF(ISBLANK(F203),IF(ISBLANK(L203), _xlfn.DAYS(TODAY(),E203), _xlfn.DAYS(L203,E203)), _xlfn.DAYS(F203,E203))))","v":""},null,{"$f":"IF(COUNTIF(D203,\"N\"),\"\",IF(ISBLANK(F203),\"\",IF(ISBLANK(H203),IF(ISBLANK(K203),_xlfn.DAYS(TODAY(),F203),_xlfn.DAYS(K203,F203)),_xlfn.DAYS(H203,F203))))","v":""},null,null,null,{"$f":"IF(COUNTIF(D203,\"N\"),\"ON HOLD\",IF(ISBLANK(K203),IF(ISBLANK(E203),\"\",IF(ISBLANK(F203),\"NO\",\"YES\")),\"NO\"))","v":""},{"$f":"IF(COUNTIF(D203,\"N\"),\"\",IF(ISBLANK(F203),\"\",IF(ISBLANK(K203),_xlfn.DAYS(TODAY(),F203),_xlfn.DAYS(K203,F203))))","v":""},null,null,null,{"$f":"IF(ISBLANK(P203), \"\", P203-Q203)","v":""},{"$f":"IF(ISBLANK(Q203), \"\", Q203/P203)","v":""}]
[null,null,null,null,null,null,{"$f":"IF(COUNTIF(D204,\"N\"),\"\",IF(ISBLANK(E204),\"\",IF(ISBLANK(F204),IF(ISBLANK(L204), _xlfn.DAYS(TODAY(),E204), _xlfn.DAYS(L204,E204)), _xlfn.DAYS(F204,E204))))","v":""},null,{"$f":"IF(COUNTIF(D204,\"N\"),\"\",IF(ISBLANK(F204),\"\",IF(ISBLANK(H204),IF(ISBLANK(K204),_xlfn.DAYS(TODAY(),F204),_xlfn.DAYS(K204,F204)),_xlfn.DAYS(H204,F204))))","v":""},null,null,null,{"$f":"IF(COUNTIF(D204,\"N\"),\"ON HOLD\",IF(ISBLANK(K204),IF(ISBLANK(E204),\"\",IF(ISBLANK(F204),\"NO\",\"YES\")),\"NO\"))","v":""},{"$f":"IF(COUNTIF(D204,\"N\"),\"\",IF(ISBLANK(F204),\"\",IF(ISBLANK(K204),_xlfn.DAYS(TODAY(),F204),_xlfn.DAYS(K204,F204))))","v":""},null,null,null,{"$f":"IF(ISBLANK(P204), \"\", P204-Q204)","v":""},{"$f":"IF(ISBLANK(Q204), \"\", Q204/P204)","v":""}]
[null,null,null,null,null,null,{"$f":"IF(COUNTIF(D205,\"N\"),\"\",IF(ISBLANK(E205),\"\",IF(ISBLANK(F205),IF(ISBLANK(L205), _xlfn.DAYS(TODAY(),E205), _xlfn.DAYS(L205,E205)), _xlfn.DAYS(F205,E205))))","v":""},null,{"$f":"IF(COUNTIF(D205,\"N\"),\"\",IF(ISBLANK(F205),\"\",IF(ISBLANK(H205),IF(ISBLANK(K205),_xlfn.DAYS(TODAY(),F205),_xlfn.DAYS(K205,F205)),_xlfn.DAYS(H205,F205))))","v":""},null,null,null,{"$f":"IF(COUNTIF(D205,\"N\"),\"ON HOLD\",IF(ISBLANK(K205),IF(ISBLANK(E205),\"\",IF(ISBLANK(F205),\"NO\",\"YES\")),\"NO\"))","v":""},{"$f":"IF(COUNTIF(D205,\"N\"),\"\",IF(ISBLANK(F205),\"\",IF(ISBLANK(K205),_xlfn.DAYS(TODAY(),F205),_xlfn.DAYS(K205,F205))))","v":""},null,null,null,{"$f":"IF(ISBLANK(P205), \"\", P205-Q205)","v":""},{"$f":"IF(ISBLANK(Q205), \"\", Q205/P205)","v":""}]
[null,null,null,null,null,null,{"$f":"IF(COUNTIF(D206,\"N\"),\"\",IF(ISBLANK(E206),\"\",IF(ISBLANK(F206),IF(ISBLANK(L206), _xlfn.DAYS(TODAY(),E206), _xlfn.DAYS(L206,E206)), _xlfn.DAYS(F206,E206))))","v":""},null,{"$f":"IF(COUNTIF(D206,\"N\"),\"\",IF(ISBLANK(F206),\"\",IF(ISBLANK(H206),IF(ISBLANK(K206),_xlfn.DAYS(TODAY(),F206),_xlfn.DAYS(K206,F206)),_xlfn.DAYS(H206,F206))))","v":""},null,null,null,{"$f":"IF(COUNTIF(D206,\"N\"),\"ON HOLD\",IF(ISBLANK(K206),IF(ISBLANK(E206),\"\",IF(ISBLANK(F206),\"NO\",\"YES\")),\"NO\"))","v":""},{"$f":"IF(COUNTIF(D206,\"N\"),\"\",IF(ISBLANK(F206),\"\",IF(ISBLANK(K206),_xlfn.DAYS(TODAY(),F206),_xlfn.DAYS(K206,F206))))","v":""},null,null,null,{"$f":"IF(ISBLANK(P206), \"\", P206-Q206)","v":""},{"$f":"IF(ISBLANK(Q206), \"\", Q206/P206)","v":""}]
[null,null,null,null,null,null,{"$f":"IF(COUNTIF(D207,\"N\"),\"\",IF(ISBLANK(E207),\"\",IF(ISBLANK(F207),IF(ISBLANK(L207), _xlfn.DAYS(TODAY(),E207), _xlfn.DAYS(L207,E207)), _xlfn.DAYS(F207,E207))))","v":""},null,{"$f":"IF(COUNTIF(D207,\"N\"),\"\",IF(ISBLANK(F207),\"\",IF(ISBLANK(H207),IF(ISBLANK(K207),_xlfn.DAYS(TODAY(),F207),_xlfn.DAYS(K207,F207)),_xlfn.DAYS(H207,F207))))","v":""},null,null,null,{"$f":"IF(COUNTIF(D207,\"N\"),\"ON HOLD\",IF(ISBLANK(K207),IF(ISBLANK(E207),\"\",IF(ISBLANK(F207),\"NO\",\"YES\")),\"NO\"))","v":""},{"$f":"IF(COUNTIF(D207,\"N\"),\"\",IF(ISBLANK(F207),\"\",IF(ISBLANK(K207),_xlfn.DAYS(TODAY(),F207),_xlfn.DAYS(K207,F207))))","v":""},null,null,null,{"$f":"IF(ISBLANK(P207), \"\", P207-Q207)","v":""},{"$f":"IF(ISBLANK(Q207), \"\", Q207/P207)","v":""}]
[null,null,null,null,null,null,{"$f":"IF(COUNTIF(D208,\"N\"),\"\",IF(ISBLANK(E208),\"\",IF(ISBLANK(F208),IF(ISBLANK(L208), _xlfn.DAYS(TODAY(),E208), _xlfn.DAYS(L208,E208)), _xlfn.DAYS(F208,E208))))","v":""},null,{"$f":"IF(COUNTIF(D208,\"N\"),\"\",IF(ISBLANK(F208),\"\",IF(ISBLANK(H208),IF(ISBLANK(K208),_xlfn.DAYS(TODAY(),F208),_xlfn.DAYS(K208,F208)),_xlfn.DAYS(H208,F208))))","v":""},null,null,null,{"$f":"IF(COUNTIF(D208,\"N\"),\"ON HOLD\",IF(ISBLANK(K208),IF(ISBLANK(E208),\"\",IF(ISBLANK(F208),\"NO\",\"YES\")),\"NO\"))","v":""},{"$f":"IF(COUNTIF(D208,\"N\"),\"\",IF(ISBLANK(F208),\"\",IF(ISBLANK(K208),_xlfn.DAYS(TODAY(),F208),_xlfn.DAYS(K208,F208))))","v":""},null,null,null,{"$f":"IF(ISBLANK(P208), \"\", P208-Q208)","v":""},{"$f":"IF(ISBLANK(Q208), \"\", Q208/P208)","v":""}]
[null,null,null,null,null,null,{"$f":"IF(COUNTIF(D209,\"N\"),\"\",IF(ISBLANK(E209),\"\",IF(ISBLANK(F209),IF(ISBLANK(L209), _xlfn.DAYS(TODAY(),E209), _xlfn.DAYS(L209,E209)), _xlfn.DAYS(F209,E209))))","v":""},null,{"$f":"IF(COUNTIF(D209,\"N\"),\"\",IF(ISBLANK(F209),\"\",IF(ISBLANK(H209),IF(ISBLANK(K209),_xlfn.DAYS(TODAY(),F209),_xlfn.DAYS(K209,F209)),_xlfn.DAYS(H209,F209))))","v":""},null,null,null,{"$f":"IF(COUNTIF(D209,\"N\"),\"ON HOLD\",IF(ISBLANK(K209),IF(ISBLANK(E209),\"\",IF(ISBLANK(F209),\"NO\",\"YES\")),\"NO\"))","v":""},{"$f":"IF(COUNTIF(D209,\"N\"),\"\",IF(ISBLANK(F209),\"\",IF(ISBLANK(K209),_xlfn.DAYS(TODAY(),F209),_xlfn.DAYS(K209,F209))))","v":""},null,null,null,{"$f":"IF(ISBLANK(P209), \"\", P209-Q209)","v":""},{"$f":"IF(ISBLANK(Q209), \"\", Q209/P209)","v":""}]
[null,null,null,null,null,null,{"$f":"IF(COUNTIF(D210,\"N\"),\"\",IF(ISBLANK(E210),\"\",IF(ISBLANK(F210),IF(ISBLANK(L210), _xlfn.DAYS(TODAY(),E210), _xlfn.DAYS(L210,E210)), _xlfn.DAYS(F210,E210))))","v":""},null,{"$f":"IF(COUNTIF(D210,\"N\"),\"\",IF(ISBLANK(F210),\"\",IF(ISBLANK(H210),IF(ISBLANK(K210),_xlfn.DAYS(TODAY(),F210),_xlfn.DAYS(K210,F210)),_xlfn.DAYS(H210,F210))))","v":""},null,null,null,{"$f":"IF(COUNTIF(D210,\"N\"),\"ON HOLD\",IF(ISBLANK(K210),IF(ISBLANK(E210),\"\",IF(ISBLANK(F210),\"NO\",\"YES\")),\"NO\"))","v":""},{"$f":"IF(COUNTIF(D210,\"N\"),\"\",IF(ISBLANK(F210),\"\",IF(ISBLANK(K210),_xlfn.DAYS(TODAY(),F210),_xlfn.DAYS(K210,F210))))","v":""},null,null,null,{"$f":"IF(ISBLANK(P210), \"\", P210-Q210)","v":""},{"$f":"IF(ISBLANK(Q210), \"\", Q210/P210)","v":""}]
[null,null,null,null,null,null,{"$f":"IF(COUNTIF(D211,\"N\"),\"\",IF(ISBLANK(E211),\"\",IF(ISBLANK(F211),IF(ISBLANK(L211), _xlfn.DAYS(TODAY(),E211), _xlfn.DAYS(L211,E211)), _xlfn.DAYS(F211,E211))))","v":""},null,{"$f":"IF(COUNTIF(D211,\"N\"),\"\",IF(ISBLANK(F211),\"\",IF(ISBLANK(H211),IF(ISBLANK(K211),_xlfn.DAYS(TODAY(),F211),_xlfn.DAYS(K211,F211)),_xlfn.DAYS(H211,F211))))","v":""},null,null,null,{"$f":"IF(COUNTIF(D211,\"N\"),\"ON HOLD\",IF(ISBLANK(K211),IF(ISBLANK(E211),\"\",IF(ISBLANK(F211),\"NO\",\"YES\")),\"NO\"))","v":""},{"$f":"IF(COUNTIF(D211,\"N\"),\"\",IF(ISBLANK(F211),\"\",IF(ISBLANK(K211),_xlfn.DAYS(TODAY(),F211),_xlfn.DAYS(K211,F211))))","v":""},null,null,null,{"$f":"IF(ISBLANK(P211), \"\", P211-Q211)","v":""},{"$f":"IF(ISBLANK(Q211), \"\", Q211/P211)","v":""}]
[null,null,null,null,null,null,{"$f":"IF(COUNTIF(D212,\"N\"),\"\",IF(ISBLANK(E212),\"\",IF(ISBLANK(F212),IF(ISBLANK(L212), _xlfn.DAYS(TODAY(),E212), _xlfn.DAYS(L212,E212)), _xlfn.DAYS(F212,E212))))","v":""},null,{"$f":"IF(COUNTIF(D212,\"N\"),\"\",IF(ISBLANK(F212),\"\",IF(ISBLANK(H212),IF(ISBLANK(K212),_xlfn.DAYS(TODAY(),F212),_xlfn.DAYS(K212,F212)),_xlfn.DAYS(H212,F212))))","v":""},null,null,null,{"$f":"IF(COUNTIF(D212,\"N\"),\"ON HOLD\",IF(ISBLANK(K212),IF(ISBLANK(E212),\"\",IF(ISBLANK(F212),\"NO\",\"YES\")),\"NO\"))","v":""},{"$f":"IF(COUNTIF(D212,\"N\"),\"\",IF(ISBLANK(F212),\"\",IF(ISBLANK(K212),_xlfn.DAYS(TODAY(),F212),_xlfn.DAYS(K212,F212))))","v":""},null,null,null,{"$f":"IF(ISBLANK(P212), \"\", P212-Q212)","v":""},{"$f":"IF(ISBLANK(Q212), \"\", Q212/P212)","v":""}]
[null,null,null,null,null,null,{"$f":"IF(COUNTIF(D213,\"N\"),\"\",IF(ISBLANK(E213),\"\",IF(ISBLANK(F213),IF(ISBLANK(L213), _xlfn.DAYS(TODAY(),E213), _xlfn.DAYS(L213,E213)), _xlfn.DAYS(F213,E213))))","v":""},null,{"$f":"IF(COUNTIF(D213,\"N\"),\"\",IF(ISBLANK(F213),\"\",IF(ISBLANK(H213),IF(ISBLANK(K213),_xlfn.DAYS(TODAY(),F213),_xlfn.DAYS(K213,F213)),_xlfn.DAYS(H213,F213))))","v":""},null,null,null,{"$f":"IF(COUNTIF(D213,\"N\"),\"ON HOLD\",IF(ISBLANK(K213),IF(ISBLANK(E213),\"\",IF(ISBLANK(F213),\"NO\",\"YES\")),\"NO\"))","v":""},{"$f":"IF(COUNTIF(D213,\"N\"),\"\",IF(ISBLANK(F213),\"\",IF(ISBLANK(K213),_xlfn.DAYS(TODAY(),F213),_xlfn.DAYS(K213,F213))))","v":""},null,null,null,{"$f":"IF(ISBLANK(P213), \"\", P213-Q213)","v":""},{"$f":"IF(ISBLANK(Q213), \"\", Q213/P213)","v":""}]
[null,null,null,null,null,null,{"$f":"IF(COUNTIF(D214,\"N\"),\"\",IF(ISBLANK(E214),\"\",IF(ISBLANK(F214),IF(ISBLANK(L214), _xlfn.DAYS(TODAY(),E214), _xlfn.DAYS(L214,E214)), _xlfn.DAYS(F214,E214))))","v":""},null,{"$f":"IF(COUNTIF(D214,\"N\"),\"\",IF(ISBLANK(F214),\"\",IF(ISBLANK(H214),IF(ISBLANK(K214),_xlfn.DAYS(TODAY(),F214),_xlfn.DAYS(K214,F214)),_xlfn.DAYS(H214,F214))))","v":""},null,null,null,{"$f":"IF(COUNTIF(D214,\"N\"),\"ON HOLD\",IF(ISBLANK(K214),IF(ISBLANK(E214),\"\",IF(ISBLANK(F214),\"NO\",\"YES\")),\"NO\"))","v":""},{"$f":"IF(COUNTIF(D214,\"N\"),\"\",IF(ISBLANK(F214),\"\",IF(ISBLANK(K214),_xlfn.DAYS(TODAY(),F214),_xlfn.DAYS(K214,F214))))","v":""},null,null,null,{"$f":"IF(ISBLANK(P214), \"\", P214-Q214)","v":""},{"$f":"IF(ISBLANK(Q214), \"\", Q214/P214)","v":""}]
[null,null,null,null,null,null,{"$f":"IF(COUNTIF(D215,\"N\"),\"\",IF(ISBLANK(E215),\"\",IF(ISBLANK(F215),IF(ISBLANK(L215), _xlfn.DAYS(TODAY(),E215), _xlfn.DAYS(L215,E215)), _xlfn.DAYS(F215,E215))))","v":""},null,{"$f":"IF(COUNTIF(D215,\"N\"),\"\",IF(ISBLANK(F215),\"\",IF(ISBLANK(H215),IF(ISBLANK(K215),_xlfn.DAYS(TODAY(),F215),_xlfn.DAYS(K215,F215)),_xlfn.DAYS(H215,F215))))","v":""},null,null,null,{"$f":"IF(COUNTIF(D215,\"N\"),\"ON HOLD\",IF(ISBLANK(K215),IF(ISBLANK(E215),\"\",IF(ISBLANK(F215),\"NO\",\"YES\")),\"NO\"))","v":""},{"$f":"IF(COUNTIF(D215,\"N\"),\"\",IF(ISBLANK(F215),\"\",IF(ISBLANK(K215),_xlfn.DAYS(TODAY(),F215),_xlfn.DAYS(K215,F215))))","v":""},null,null,null,{"$f":"IF(ISBLANK(P215), \"\", P215-Q215)","v":""},{"$f":"IF(ISBLANK(Q215), \"\", Q215/P215)","v":""}]
[null,null,null,null,null,null,{"$f":"IF(COUNTIF(D216,\"N\"),\"\",IF(ISBLANK(E216),\"\",IF(ISBLANK(F216),IF(ISBLANK(L216), _xlfn.DAYS(TODAY(),E216), _xlfn.DAYS(L216,E216)), _xlfn.DAYS(F216,E216))))","v":""},null,{"$f":"IF(COUNTIF(D216,\"N\"),\"\",IF(ISBLANK(F216),\"\",IF(ISBLANK(H216),IF(ISBLANK(K216),_xlfn.DAYS(TODAY(),F216),_xlfn.DAYS(K216,F216)),_xlfn.DAYS(H216,F216))))","v":""},null,null,null,{"$f":"IF(COUNTIF(D216,\"N\"),\"ON HOLD\",IF(ISBLANK(K216),IF(ISBLANK(E216),\"\",IF(ISBLANK(F216),\"NO\",\"YES\")),\"NO\"))","v":""},{"$f":"IF(COUNTIF(D216,\"N\"),\"\",IF(ISBLANK(F216),\"\",IF(ISBLANK(K216),_xlfn.DAYS(TODAY(),F216),_xlfn.DAYS(K216,F216))))","v":""},null,null,null,{"$f":"IF(ISBLANK(P216), \"\", P216-Q216)","v":""},{"$f":"IF(ISBLANK(Q216), \"\", Q216/P216)","v":""}]
[null,null,null,null,null,null,{"$f":"IF(COUNTIF(D217,\"N\"),\"\",IF(ISBLANK(E217),\"\",IF(ISBLANK(F217),IF(ISBLANK(L217), _xlfn.DAYS(TODAY(),E217), _xlfn.DAYS(L217,E217)), _xlfn.DAYS(F217,E217))))","v":""},null,{"$f":"IF(COUNTIF(D217,\"N\"),\"\",IF(ISBLANK(F217),\"\",IF(ISBLANK(H217),IF(ISBLANK(K217),_xlfn.DAYS(TODAY(),F217),_xlfn.DAYS(K217,F217)),_xlfn.DAYS(H217,F217))))","v":""},null,null,null,{"$f":"IF(COUNTIF(D217,\"N\"),\"ON HOLD\",IF(ISBLANK(K217),IF(ISBLANK(E217),\"\",IF(ISBLANK(F217),\"NO\",\"YES\")),\"NO\"))","v":""},{"$f":"IF(COUNTIF(D217,\"N\"),\"\",IF(ISBLANK(F217),\"\",IF(ISBLANK(K217),_xlfn.DAYS(TODAY(),F217),_xlfn.DAYS(K217,F217))))","v":""},null,null,null,{"$f":"IF(ISBLANK(P217), \"\", P217-Q217)","v":""},{"$f":"IF(ISBLANK(Q217), \"\", Q217/P217)","v":""}]
[null,null,null,null,null,null,{"$f":"IF(COUNTIF(D218,\"N\"),\"\",IF(ISBLANK(E218),\"\",IF(ISBLANK(F218),IF(ISBLANK(L218), _xlfn.DAYS(TODAY(),E218), _xlfn.DAYS(L218,E218)), _xlfn.DAYS(F218,E218))))","v":""},null,{"$f":"IF(COUNTIF(D218,\"N\"),\"\",IF(ISBLANK(F218),\"\",IF(ISBLANK(H218),IF(ISBLANK(K218),_xlfn.DAYS(TODAY(),F218),_xlfn.DAYS(K218,F218)),_xlfn.DAYS(H218,F218))))","v":""},null,null,null,{"$f":"IF(COUNTIF(D218,\"N\"),\"ON HOLD\",IF(ISBLANK(K218),IF(ISBLANK(E218),\"\",IF(ISBLANK(F218),\"NO\",\"YES\")),\"NO\"))","v":""},{"$f":"IF(COUNTIF(D218,\"N\"),\"\",IF(ISBLANK(F218),\"\",IF(ISBLANK(K218),_xlfn.DAYS(TODAY(),F218),_xlfn.DAYS(K218,F218))))","v":""},null,null,null,{"$f":"IF(ISBLANK(P218), \"\", P218-Q218)","v":""},{"$f":"IF(ISBLANK(Q218), \"\", Q218/P218)","v":""}]
[null,null,null,null,null,null,{"$f":"IF(COUNTIF(D219,\"N\"),\"\",IF(ISBLANK(E219),\"\",IF(ISBLANK(F219),IF(ISBLANK(L219), _xlfn.DAYS(TODAY(),E219), _xlfn.DAYS(L219,E219)), _xlfn.DAYS(F219,E219))))","v":""},null,{"$f":"IF(COUNTIF(D219,\"N\"),\"\",IF(ISBLANK(F219),\"\",IF(ISBLANK(H219),IF(ISBLANK(K219),_xlfn.DAYS(TODAY(),F219),_xlfn.DAYS(K219,F219)),_xlfn.DAYS(H219,F219))))","v":""},null,null,null,{"$f":"IF(COUNTIF(D219,\"N\"),\"ON HOLD\",IF(ISBLANK(K219),IF(ISBLANK(E219),\"\",IF(ISBLANK(F219),\"NO\",\"YES\")),\"NO\"))","v":""},{"$f":"IF(COUNTIF(D219,\"N\"),\"\",IF(ISBLANK(F219),\"\",IF(ISBLANK(K219),_xlfn.DAYS(TODAY(),F219),_xlfn.DAYS(K219,F219))))","v":""},null,null,null,{"$f":"IF(ISBLANK(P219), \"\", P219-Q219)","v":""},{"$f":"IF(ISBLANK(Q219), \"\", Q219/P219)","v":""}]
[null,null,null,null,null,null,{"$f":"IF(COUNTIF(D220,\"N\"),\"\",IF(ISBLANK(E220),\"\",IF(ISBLANK(F220),IF(ISBLANK(L220), _xlfn.DAYS(TODAY(),E220), _xlfn.DAYS(L220,E220)), _xlfn.DAYS(F220,E220))))","v":""},null,{"$f":"IF(COUNTIF(D220,\"N\"),\"\",IF(ISBLANK(F220),\"\",IF(ISBLANK(H220),IF(ISBLANK(K220),_xlfn.DAYS(TODAY(),F220),_xlfn.DAYS(K220,F220)),_xlfn.DAYS(H220,F220))))","v":""},null,null,null,{"$f":"IF(COUNTIF(D220,\"N\"),\"ON HOLD\",IF(ISBLANK(K220),IF(ISBLANK(E220),\"\",IF(ISBLANK(F220),\"NO\",\"YES\")),\"NO\"))","v":""},{"$f":"IF(COUNTIF(D220,\"N\"),\"\",IF(ISBLANK(F220),\"\",IF(ISBLANK(K220),_xlfn.DAYS(TODAY(),F220),_xlfn.DAYS(K220,F220))))","v":""},null,null,null,{"$f":"IF(ISBLANK(P220), \"\", P220-Q220)","v":""},{"$f":"IF(ISBLANK(Q220), \"\", Q220/P220)","v":""}]
[null,null,null,null,null,null,{"$f":"IF(COUNTIF(D221,\"N\"),\"\",IF(ISBLANK(E221),\"\",IF(ISBLANK(F221),IF(ISBLANK(L221), _xlfn.DAYS(TODAY(),E221), _xlfn.DAYS(L221,E221)), _xlfn.DAYS(F221,E221))))","v":""},null,{"$f":"IF(COUNTIF(D221,\"N\"),\"\",IF(ISBLANK(F221),\"\",IF(ISBLANK(H221),IF(ISBLANK(K221),_xlfn.DAYS(TODAY(),F221),_xlfn.DAYS(K221,F221)),_xlfn.DAYS(H221,F221))))","v":""},null,null,null,{"$f":"IF(COUNTIF(D221,\"N\"),\"ON HOLD\",IF(ISBLANK(K221),IF(ISBLANK(E221),\"\",IF(ISBLANK(F221),\"NO\",\"YES\")),\"NO\"))","v":""},{"$f":"IF(COUNTIF(D221,\"N\"),\"\",IF(ISBLANK(F221),\"\",IF(ISBLANK(K221),_xlfn.DAYS(TODAY(),F221),_xlfn.DAYS(K221,F221))))","v":""},null,null,null,{"$f":"IF(ISBLANK(P221), \"\", P221-Q221)","v":""},{"$f":"IF(ISBLANK(Q221), \"\", Q221/P221)","v":""}]
[null,null,null,null,null,null,{"$f":"IF(COUNTIF(D222,\"N\"),\"\",IF(ISBLANK(E222),\"\",IF(ISBLANK(F222),IF(ISBLANK(L222), _xlfn.DAYS(TODAY(),E222), _xlfn.DAYS(L222,E222)), _xlfn.DAYS(F222,E222))))","v":""},null,{"$f":"IF(COUNTIF(D222,\"N\"),\"\",IF(ISBLANK(F222),\"\",IF(ISBLANK(H222),IF(ISBLANK(K222),_xlfn.DAYS(TODAY(),F222),_xlfn.DAYS(K222,F222)),_xlfn.DAYS(H222,F222))))","v":""},null,null,null,{"$f":"IF(COUNTIF(D222,\"N\"),\"ON HOLD\",IF(ISBLANK(K222),IF(ISBLANK(E222),\"\",IF(ISBLANK(F222),\"NO\",\"YES\")),\"NO\"))","v":""},{"$f":"IF(COUNTIF(D222,\"N\"),\"\",IF(ISBLANK(F222),\"\",IF(ISBLANK(K222),_xlfn.DAYS(TODAY(),F222),_xlfn.DAYS(K222,F222))))","v":""},null,null,null,{"$f":"IF(ISBLANK(P222), \"\", P222-Q222)","v":""},{"$f":"IF(ISBLANK(Q222), \"\", Q222/P222)","v":""}]
[null,null,null,null,null,null,{"$f":"IF(COUNTIF(D223,\"N\"),\"\",IF(ISBLANK(E223),\"\",IF(ISBLANK(F223),IF(ISBLANK(L223), _xlfn.DAYS(TODAY(),E223), _xlfn.DAYS(L223,E223)), _xlfn.DAYS(F223,E223))))","v":""},null,{"$f":"IF(COUNTIF(D223,\"N\"),\"\",IF(ISBLANK(F223),\"\",IF(ISBLANK(H223),IF(ISBLANK(K223),_xlfn.DAYS(TODAY(),F223),_xlfn.DAYS(K223,F223)),_xlfn.DAYS(H223,F223))))","v":""},null,null,null,{"$f":"IF(COUNTIF(D223,\"N\"),\"ON HOLD\",IF(ISBLANK(K223),IF(ISBLANK(E223),\"\",IF(ISBLANK(F223),\"NO\",\"YES\")),\"NO\"))","v":""},{"$f":"IF(COUNTIF(D223,\"N\"),\"\",IF(ISBLANK(F223),\"\",IF(ISBLANK(K223),_xlfn.DAYS(TODAY(),F223),_xlfn.DAYS(K223,F223))))","v":""},null,null,null,{"$f":"IF(ISBLANK(P223), \"\", P223-Q223)","v":""},{"$f":"IF(ISBLANK(Q223), \"\", Q223/P223)","v":""}]
[null,null,null,null,null,null,{"$f":"IF(COUNTIF(D224,\"N\"),\"\",IF(ISBLANK(E224),\"\",IF(ISBLANK(F224),IF(ISBLANK(L224), _xlfn.DAYS(TODAY(),E224), _xlfn.DAYS(L224,E224)), _xlfn.DAYS(F224,E224))))","v":""},null,{"$f":"IF(COUNTIF(D224,\"N\"),\"\",IF(ISBLANK(F224),\"\",IF(ISBLANK(H224),IF(ISBLANK(K224),_xlfn.DAYS(TODAY(),F224),_xlfn.DAYS(K224,F224)),_xlfn.DAYS(H224,F224))))","v":""},null,null,null,{"$f":"IF(COUNTIF(D224,\"N\"),\"ON HOLD\",IF(ISBLANK(K224),IF(ISBLANK(E224),\"\",IF(ISBLANK(F224),\"NO\",\"YES\")),\"NO\"))","v":""},{"$f":"IF(COUNTIF(D224,\"N\"),\"\",IF(ISBLANK(F224),\"\",IF(ISBLANK(K224),_xlfn.DAYS(TODAY(),F224),_xlfn.DAYS(K224,F224))))","v":""},null,null,null,{"$f":"IF(ISBLANK(P224), \"\", P224-Q224)","v":""},{"$f":"IF(ISBLANK(Q224), \"\", Q224/P224)","v":""}]
[null,null,null,null,null,null,{"$f":"IF(COUNTIF(D225,\"N\"),\"\",IF(ISBLANK(E225),\"\",IF(ISBLANK(F225),IF(ISBLANK(L225), _xlfn.DAYS(TODAY(),E225), _xlfn.DAYS(L225,E225)), _xlfn.DAYS(F225,E225))))","v":""},null,{"$f":"IF(COUNTIF(D225,\"N\"),\"\",IF(ISBLANK(F225),\"\",IF(ISBLANK(H225),IF(ISBLANK(K225),_xlfn.DAYS(TODAY(),F225),_xlfn.DAYS(K225,F225)),_xlfn.DAYS(H225,F225))))","v":""},null,null,null,{"$f":"IF(COUNTIF(D225,\"N\"),\"ON HOLD\",IF(ISBLANK(K225),IF(ISBLANK(E225),\"\",IF(ISBLANK(F225),\"NO\",\"YES\")),\"NO\"))","v":""},{"$f":"IF(COUNTIF(D225,\"N\"),\"\",IF(ISBLANK(F225),\"\",IF(ISBLANK(K225),_xlfn.DAYS(TODAY(),F225),_xlfn.DAYS(K225,F225))))","v":""},null,null,null,{"$f":"IF(ISBLANK(P225), \"\", P225-Q225)","v":""},{"$f":"IF(ISBLANK(Q225), \"\", Q225/P225)","v":""}]
[null,null,null,null,null,null,{"$f":"IF(COUNTIF(D226,\"N\"),\"\",IF(ISBLANK(E226),\"\",IF(ISBLANK(F226),IF(ISBLANK(L226), _xlfn.DAYS(TODAY(),E226), _xlfn.DAYS(L226,E226)), _xlfn.DAYS(F226,E226))))","v":""},null,{"$f":"IF(COUNTIF(D226,\"N\"),\"\",IF(ISBLANK(F226),\"\",IF(ISBLANK(H226),IF(ISBLANK(K226),_xlfn.DAYS(TODAY(),F226),_xlfn.DAYS(K226,F226)),_xlfn.DAYS(H226,F226))))","v":""},null,null,null,{"$f":"IF(COUNTIF(D226,\"N\"),\"ON HOLD\",IF(ISBLANK(K226),IF(ISBLANK(E226),\"\",IF(ISBLANK(F226),\"NO\",\"YES\")),\"NO\"))","v":""},{"$f":"IF(COUNTIF(D226,\"N\"),\"\",IF(ISBLANK(F226),\"\",IF(ISBLANK(K226),_xlfn.DAYS(TODAY(),F226),_xlfn.DAYS(K226,F226))))","v":""},null,null,null,{"$f":"IF(ISBLANK(P226), \"\", P226-Q226)","v":""},{"$f":"IF(ISBLANK(Q226), \"\", Q226/P226)","v":""}]
[null,null,null,null,null,null,{"$f":"IF(COUNTIF(D227,\"N\"),\"\",IF(ISBLANK(E227),\"\",IF(ISBLANK(F227),IF(ISBLANK(L227), _xlfn.DAYS(TODAY(),E227), _xlfn.DAYS(L227,E227)), _xlfn.DAYS(F227,E227))))","v":""},null,{"$f":"IF(COUNTIF(D227,\"N\"),\"\",IF(ISBLANK(F227),\"\",IF(ISBLANK(H227),IF(ISBLANK(K227),_xlfn.DAYS(TODAY(),F227),_xlfn.DAYS(K227,F227)),_xlfn.DAYS(H227,F227))))","v":""},null,null,null,{"$f":"IF(COUNTIF(D227,\"N\"),\"ON HOLD\",IF(ISBLANK(K227),IF(ISBLANK(E227),\"\",IF(ISBLANK(F227),\"NO\",\"YES\")),\"NO\"))","v":""},{"$f":"IF(COUNTIF(D227,\"N\"),\"\",IF(ISBLANK(F227),\"\",IF(ISBLANK(K227),_xlfn.DAYS(TODAY(),F227),_xlfn.DAYS(K227,F227))))","v":""},null,null,null,{"$f":"IF(ISBLANK(P227), \"\", P227-Q227)","v":""},{"$f":"IF(ISBLANK(Q227), \"\", Q227/P227)","v":""}]
[null,null,null,null,null,null,{"$f":"IF(COUNTIF(D228,\"N\"),\"\",IF(ISBLANK(E228),\"\",IF(ISBLANK(F228),IF(ISBLANK(L228), _xlfn.DAYS(TODAY(),E228), _xlfn.DAYS(L228,E228)), _xlfn.DAYS(F228,E228))))","v":""},null,{"$f":"IF(COUNTIF(D228,\"N\"),\"\",IF(ISBLANK(F228),\"\",IF(ISBLANK(H228),IF(ISBLANK(K228),_xlfn.DAYS(TODAY(),F228),_xlfn.DAYS(K228,F228)),_xlfn.DAYS(H228,F228))))","v":""},null,null,null,{"$f":"IF(COUNTIF(D228,\"N\"),\"ON HOLD\",IF(ISBLANK(K228),IF(ISBLANK(E228),\"\",IF(ISBLANK(F228),\"NO\",\"YES\")),\"NO\"))","v":""},{"$f":"IF(COUNTIF(D228,\"N\"),\"\",IF(ISBLANK(F228),\"\",IF(ISBLANK(K228),_xlfn.DAYS(TODAY(),F228),_xlfn.DAYS(K228,F228))))","v":""},null,null,null,{"$f":"IF(ISBLANK(P228), \"\", P228-Q228)","v":""},{"$f":"IF(ISBLANK(Q228), \"\", Q228/P228)","v":""}]
[null,null,null,null,null,null,{"$f":"IF(COUNTIF(D229,\"N\"),\"\",IF(ISBLANK(E229),\"\",IF(ISBLANK(F229),IF(ISBLANK(L229), _xlfn.DAYS(TODAY(),E229), _xlfn.DAYS(L229,E229)), _xlfn.DAYS(F229,E229))))","v":""},null,{"$f":"IF(COUNTIF(D229,\"N\"),\"\",IF(ISBLANK(F229),\"\",IF(ISBLANK(H229),IF(ISBLANK(K229),_xlfn.DAYS(TODAY(),F229),_xlfn.DAYS(K229,F229)),_xlfn.DAYS(H229,F229))))","v":""},null,null,null,{"$f":"IF(COUNTIF(D229,\"N\"),\"ON HOLD\",IF(ISBLANK(K229),IF(ISBLANK(E229),\"\",IF(ISBLANK(F229),\"NO\",\"YES\")),\"NO\"))","v":""},{"$f":"IF(COUNTIF(D229,\"N\"),\"\",IF(ISBLANK(F229),\"\",IF(ISBLANK(K229),_xlfn.DAYS(TODAY(),F229),_xlfn.DAYS(K229,F229))))","v":""},null,null,null,{"$f":"IF(ISBLANK(P229), \"\", P229-Q229)","v":""},{"$f":"IF(ISBLANK(Q229), \"\", Q229/P229)","v":""}]
[null,null,null,null,null,null,{"$f":"IF(COUNTIF(D230,\"N\"),\"\",IF(ISBLANK(E230),\"\",IF(ISBLANK(F230),IF(ISBLANK(L230), _xlfn.DAYS(TODAY(),E230), _xlfn.DAYS(L230,E230)), _xlfn.DAYS(F230,E230))))","v":""},null,{"$f":"IF(COUNTIF(D230,\"N\"),\"\",IF(ISBLANK(F230),\"\",IF(ISBLANK(H230),IF(ISBLANK(K230),_xlfn.DAYS(TODAY(),F230),_xlfn.DAYS(K230,F230)),_xlfn.DAYS(H230,F230))))","v":""},null,null,null,{"$f":"IF(COUNTIF(D230,\"N\"),\"ON HOLD\",IF(ISBLANK(K230),IF(ISBLANK(E230),\"\",IF(ISBLANK(F230),\"NO\",\"YES\")),\"NO\"))","v":""},{"$f":"IF(COUNTIF(D230,\"N\"),\"\",IF(ISBLANK(F230),\"\",IF(ISBLANK(K230),_xlfn.DAYS(TODAY(),F230),_xlfn.DAYS(K230,F230))))","v":""},null,null,null,{"$f":"IF(ISBLANK(P230), \"\", P230-Q230)","v":""},{"$f":"IF(ISBLANK(Q230), \"\", Q230/P230)","v":""}]
[null,null,null,null,null,null,{"$f":"IF(COUNTIF(D231,\"N\"),\"\",IF(ISBLANK(E231),\"\",IF(ISBLANK(F231),IF(ISBLANK(L231), _xlfn.DAYS(TODAY(),E231), _xlfn.DAYS(L231,E231)), _xlfn.DAYS(F231,E231))))","v":""},null,{"$f":"IF(COUNTIF(D231,\"N\"),\"\",IF(ISBLANK(F231),\"\",IF(ISBLANK(H231),IF(ISBLANK(K231),_xlfn.DAYS(TODAY(),F231),_xlfn.DAYS(K231,F231)),_xlfn.DAYS(H231,F231))))","v":""},null,null,null,{"$f":"IF(COUNTIF(D231,\"N\"),\"ON HOLD\",IF(ISBLANK(K231),IF(ISBLANK(E231),\"\",IF(ISBLANK(F231),\"NO\",\"YES\")),\"NO\"))","v":""},{"$f":"IF(COUNTIF(D231,\"N\"),\"\",IF(ISBLANK(F231),\"\",IF(ISBLANK(K231),_xlfn.DAYS(TODAY(),F231),_xlfn.DAYS(K231,F231))))","v":""},null,null,null,{"$f":"IF(ISBLANK(P231), \"\", P231-Q231)","v":""},{"$f":"IF(ISBLANK(Q231), \"\", Q231/P231)","v":""}]
[null,null,null,null,null,null,{"$f":"IF(COUNTIF(D232,\"N\"),\"\",IF(ISBLANK(E232),\"\",IF(ISBLANK(F232),IF(ISBLANK(L232), _xlfn.DAYS(TODAY(),E232), _xlfn.DAYS(L232,E232)), _xlfn.DAYS(F232,E232))))","v":""},null,{"$f":"IF(COUNTIF(D232,\"N\"),\"\",IF(ISBLANK(F232),\"\",IF(ISBLANK(H232),IF(ISBLANK(K232),_xlfn.DAYS(TODAY(),F232),_xlfn.DAYS(K232,F232)),_xlfn.DAYS(H232,F232))))","v":""},null,null,null,{"$f":"IF(COUNTIF(D232,\"N\"),\"ON HOLD\",IF(ISBLANK(K232),IF(ISBLANK(E232),\"\",IF(ISBLANK(F232),\"NO\",\"YES\")),\"NO\"))","v":""},{"$f":"IF(COUNTIF(D232,\"N\"),\"\",IF(ISBLANK(F232),\"\",IF(ISBLANK(K232),_xlfn.DAYS(TODAY(),F232),_xlfn.DAYS(K232,F232))))","v":""},null,null,null,{"$f":"IF(ISBLANK(P232), \"\", P232-Q232)","v":""},{"$f":"IF(ISBLANK(Q232), \"\", Q232/P232)","v":""}]
[null,null,null,null,null,null,{"$f":"IF(COUNTIF(D233,\"N\"),\"\",IF(ISBLANK(E233),\"\",IF(ISBLANK(F233),IF(ISBLANK(L233), _xlfn.DAYS(TODAY(),E233), _xlfn.DAYS(L233,E233)), _xlfn.DAYS(F233,E233))))","v":""},null,{"$f":"IF(COUNTIF(D233,\"N\"),\"\",IF(ISBLANK(F233),\"\",IF(ISBLANK(H233),IF(ISBLANK(K233),_xlfn.DAYS(TODAY(),F233),_xlfn.DAYS(K233,F233)),_xlfn.DAYS(H233,F233))))","v":""},null,null,null,{"$f":"IF(COUNTIF(D233,\"N\"),\"ON HOLD\",IF(ISBLANK(K233),IF(ISBLANK(E233),\"\",IF(ISBLANK(F233),\"NO\",\"YES\")),\"NO\"))","v":""},{"$f":"IF(COUNTIF(D233,\"N\"),\"\",IF(ISBLANK(F233),\"\",IF(ISBLANK(K233),_xlfn.DAYS(TODAY(),F233),_xlfn.DAYS(K233,F233))))","v":""},null,null,null,{"$f":"IF(ISBLANK(P233), \"\", P233-Q233)","v":""},{"$f":"IF(ISBLANK(Q233), \"\", Q233/P233)","v":""}]
[null,null,null,null,null,null,{"$f":"IF(COUNTIF(D234,\"N\"),\"\",IF(ISBLANK(E234),\"\",IF(ISBLANK(F234),IF(ISBLANK(L234), _xlfn.DAYS(TODAY(),E234), _xlfn.DAYS(L234,E234)), _xlfn.DAYS(F234,E234))))","v":""},null,{"$f":"IF(COUNTIF(D234,\"N\"),\"\",IF(ISBLANK(F234),\"\",IF(ISBLANK(H234),IF(ISBLANK(K234),_xlfn.DAYS(TODAY(),F234),_xlfn.DAYS(K234,F234)),_xlfn.DAYS(H234,F234))))","v":""},null,null,null,{"$f":"IF(COUNTIF(D234,\"N\"),\"ON HOLD\",IF(ISBLANK(K234),IF(ISBLANK(E234),\"\",IF(ISBLANK(F234),\"NO\",\"YES\")),\"NO\"))","v":""},{"$f":"IF(COUNTIF(D234,\"N\"),\"\",IF(ISBLANK(F234),\"\",IF(ISBLANK(K234),_xlfn.DAYS(TODAY(),F234),_xlfn.DAYS(K234,F234))))","v":""},null,null,null,{"$f":"IF(ISBLANK(P234), \"\", P234-Q234)","v":""},{"$f":"IF(ISBLANK(Q234), \"\", Q234/P234)","v":""}]
[null,null,null,null,null,null,{"$f":"IF(COUNTIF(D235,\"N\"),\"\",IF(ISBLANK(E235),\"\",IF(ISBLANK(F235),IF(ISBLANK(L235), _xlfn.DAYS(TODAY(),E235), _xlfn.DAYS(L235,E235)), _xlfn.DAYS(F235,E235))))","v":""},null,{"$f":"IF(COUNTIF(D235,\"N\"),\"\",IF(ISBLANK(F235),\"\",IF(ISBLANK(H235),IF(ISBLANK(K235),_xlfn.DAYS(TODAY(),F235),_xlfn.DAYS(K235,F235)),_xlfn.DAYS(H235,F235))))","v":""},null,null,null,{"$f":"IF(COUNTIF(D235,\"N\"),\"ON HOLD\",IF(ISBLANK(K235),IF(ISBLANK(E235),\"\",IF(ISBLANK(F235),\"NO\",\"YES\")),\"NO\"))","v":""},{"$f":"IF(COUNTIF(D235,\"N\"),\"\",IF(ISBLANK(F235),\"\",IF(ISBLANK(K235),_xlfn.DAYS(TODAY(),F235),_xlfn.DAYS(K235,F235))))","v":""},null,null,null,{"$f":"IF(ISBLANK(P235), \"\", P235-Q235)","v":""},{"$f":"IF(ISBLANK(Q235), \"\", Q235/P235)","v":""}]
[null,null,null,null,null,null,{"$f":"IF(COUNTIF(D236,\"N\"),\"\",IF(ISBLANK(E236),\"\",IF(ISBLANK(F236),IF(ISBLANK(L236), _xlfn.DAYS(TODAY(),E236), _xlfn.DAYS(L236,E236)), _xlfn.DAYS(F236,E236))))","v":""},null,{"$f":"IF(COUNTIF(D236,\"N\"),\"\",IF(ISBLANK(F236),\"\",IF(ISBLANK(H236),IF(ISBLANK(K236),_xlfn.DAYS(TODAY(),F236),_xlfn.DAYS(K236,F236)),_xlfn.DAYS(H236,F236))))","v":""},null,null,null,{"$f":"IF(COUNTIF(D236,\"N\"),\"ON HOLD\",IF(ISBLANK(K236),IF(ISBLANK(E236),\"\",IF(ISBLANK(F236),\"NO\",\"YES\")),\"NO\"))","v":""},{"$f":"IF(COUNTIF(D236,\"N\"),\"\",IF(ISBLANK(F236),\"\",IF(ISBLANK(K236),_xlfn.DAYS(TODAY(),F236),_xlfn.DAYS(K236,F236))))","v":""},null,null,null,{"$f":"IF(ISBLANK(P236), \"\", P236-Q236)","v":""},{"$f":"IF(ISBLANK(Q236), \"\", Q236/P236)","v":""}]
[null,null,null,null,null,null,{"$f":"IF(COUNTIF(D237,\"N\"),\"\",IF(ISBLANK(E237),\"\",IF(ISBLANK(F237),IF(ISBLANK(L237), _xlfn.DAYS(TODAY(),E237), _xlfn.DAYS(L237,E237)), _xlfn.DAYS(F237,E237))))","v":""},null,{"$f":"IF(COUNTIF(D237,\"N\"),\"\",IF(ISBLANK(F237),\"\",IF(ISBLANK(H237),IF(ISBLANK(K237),_xlfn.DAYS(TODAY(),F237),_xlfn.DAYS(K237,F237)),_xlfn.DAYS(H237,F237))))","v":""},null,null,null,{"$f":"IF(COUNTIF(D237,\"N\"),\"ON HOLD\",IF(ISBLANK(K237),IF(ISBLANK(E237),\"\",IF(ISBLANK(F237),\"NO\",\"YES\")),\"NO\"))","v":""},{"$f":"IF(COUNTIF(D237,\"N\"),\"\",IF(ISBLANK(F237),\"\",IF(ISBLANK(K237),_xlfn.DAYS(TODAY(),F237),_xlfn.DAYS(K237,F237))))","v":""},null,null,null,{"$f":"IF(ISBLANK(P237), \"\", P237-Q237)","v":""},{"$f":"IF(ISBLANK(Q237), \"\", Q237/P237)","v":""}]
[null,null,null,null,null,null,{"$f":"IF(COUNTIF(D238,\"N\"),\"\",IF(ISBLANK(E238),\"\",IF(ISBLANK(F238),IF(ISBLANK(L238), _xlfn.DAYS(TODAY(),E238), _xlfn.DAYS(L238,E238)), _xlfn.DAYS(F238,E238))))","v":""},null,{"$f":"IF(COUNTIF(D238,\"N\"),\"\",IF(ISBLANK(F238),\"\",IF(ISBLANK(H238),IF(ISBLANK(K238),_xlfn.DAYS(TODAY(),F238),_xlfn.DAYS(K238,F238)),_xlfn.DAYS(H238,F238))))","v":""},null,null,null,{"$f":"IF(COUNTIF(D238,\"N\"),\"ON HOLD\",IF(ISBLANK(K238),IF(ISBLANK(E238),\"\",IF(ISBLANK(F238),\"NO\",\"YES\")),\"NO\"))","v":""},{"$f":"IF(COUNTIF(D238,\"N\"),\"\",IF(ISBLANK(F238),\"\",IF(ISBLANK(K238),_xlfn.DAYS(TODAY(),F238),_xlfn.DAYS(K238,F238))))","v":""},null,null,null,{"$f":"IF(ISBLANK(P238), \"\", P238-Q238)","v":""},{"$f":"IF(ISBLANK(Q238), \"\", Q238/P238)","v":""}]
[null,null,null,null,null,null,{"$f":"IF(COUNTIF(D239,\"N\"),\"\",IF(ISBLANK(E239),\"\",IF(ISBLANK(F239),IF(ISBLANK(L239), _xlfn.DAYS(TODAY(),E239), _xlfn.DAYS(L239,E239)), _xlfn.DAYS(F239,E239))))","v":""},null,{"$f":"IF(COUNTIF(D239,\"N\"),\"\",IF(ISBLANK(F239),\"\",IF(ISBLANK(H239),IF(ISBLANK(K239),_xlfn.DAYS(TODAY(),F239),_xlfn.DAYS(K239,F239)),_xlfn.DAYS(H239,F239))))","v":""},null,null,null,{"$f":"IF(COUNTIF(D239,\"N\"),\"ON HOLD\",IF(ISBLANK(K239),IF(ISBLANK(E239),\"\",IF(ISBLANK(F239),\"NO\",\"YES\")),\"NO\"))","v":""},{"$f":"IF(COUNTIF(D239,\"N\"),\"\",IF(ISBLANK(F239),\"\",IF(ISBLANK(K239),_xlfn.DAYS(TODAY(),F239),_xlfn.DAYS(K239,F239))))","v":""},null,null,null,{"$f":"IF(ISBLANK(P239), \"\", P239-Q239)","v":""},{"$f":"IF(ISBLANK(Q239), \"\", Q239/P239)","v":""}]
[null,null,null,null,null,null,{"$f":"IF(COUNTIF(D240,\"N\"),\"\",IF(ISBLANK(E240),\"\",IF(ISBLANK(F240),IF(ISBLANK(L240), _xlfn.DAYS(TODAY(),E240), _xlfn.DAYS(L240,E240)), _xlfn.DAYS(F240,E240))))","v":""},null,{"$f":"IF(COUNTIF(D240,\"N\"),\"\",IF(ISBLANK(F240),\"\",IF(ISBLANK(H240),IF(ISBLANK(K240),_xlfn.DAYS(TODAY(),F240),_xlfn.DAYS(K240,F240)),_xlfn.DAYS(H240,F240))))","v":""},null,null,null,{"$f":"IF(COUNTIF(D240,\"N\"),\"ON HOLD\",IF(ISBLANK(K240),IF(ISBLANK(E240),\"\",IF(ISBLANK(F240),\"NO\",\"YES\")),\"NO\"))","v":""},{"$f":"IF(COUNTIF(D240,\"N\"),\"\",IF(ISBLANK(F240),\"\",IF(ISBLANK(K240),_xlfn.DAYS(TODAY(),F240),_xlfn.DAYS(K240,F240))))","v":""},null,null,null,{"$f":"IF(ISBLANK(P240), \"\", P240-Q240)","v":""},{"$f":"IF(ISBLANK(Q240), \"\", Q240/P240)","v":""}]
[null,null,null,null,null,null,{"$f":"IF(COUNTIF(D241,\"N\"),\"\",IF(ISBLANK(E241),\"\",IF(ISBLANK(F241),IF(ISBLANK(L241), _xlfn.DAYS(TODAY(),E241), _xlfn.DAYS(L241,E241)), _xlfn.DAYS(F241,E241))))","v":""},null,{"$f":"IF(COUNTIF(D241,\"N\"),\"\",IF(ISBLANK(F241),\"\",IF(ISBLANK(H241),IF(ISBLANK(K241),_xlfn.DAYS(TODAY(),F241),_xlfn.DAYS(K241,F241)),_xlfn.DAYS(H241,F241))))","v":""},null,null,null,{"$f":"IF(COUNTIF(D241,\"N\"),\"ON HOLD\",IF(ISBLANK(K241),IF(ISBLANK(E241),\"\",IF(ISBLANK(F241),\"NO\",\"YES\")),\"NO\"))","v":""},{"$f":"IF(COUNTIF(D241,\"N\"),\"\",IF(ISBLANK(F241),\"\",IF(ISBLANK(K241),_xlfn.DAYS(TODAY(),F241),_xlfn.DAYS(K241,F241))))","v":""},null,null,null,{"$f":"IF(ISBLANK(P241), \"\", P241-Q241)","v":""},{"$f":"IF(ISBLANK(Q241), \"\", Q241/P241)","v":""}]
[null,null,null,null,null,null,{"$f":"IF(COUNTIF(D242,\"N\"),\"\",IF(ISBLANK(E242),\"\",IF(ISBLANK(F242),IF(ISBLANK(L242), _xlfn.DAYS(TODAY(),E242), _xlfn.DAYS(L242,E242)), _xlfn.DAYS(F242,E242))))","v":""},null,{"$f":"IF(COUNTIF(D242,\"N\"),\"\",IF(ISBLANK(F242),\"\",IF(ISBLANK(H242),IF(ISBLANK(K242),_xlfn.DAYS(TODAY(),F242),_xlfn.DAYS(K242,F242)),_xlfn.DAYS(H242,F242))))","v":""},null,null,null,{"$f":"IF(COUNTIF(D242,\"N\"),\"ON HOLD\",IF(ISBLANK(K242),IF(ISBLANK(E242),\"\",IF(ISBLANK(F242),\"NO\",\"YES\")),\"NO\"))","v":""},{"$f":"IF(COUNTIF(D242,\"N\"),\"\",IF(ISBLANK(F242),\"\",IF(ISBLANK(K242),_xlfn.DAYS(TODAY(),F242),_xlfn.DAYS(K242,F242))))","v":""},null,null,null,{"$f":"IF(ISBLANK(P242), \"\", P242-Q242)","v":""},{"$f":"IF(ISBLANK(Q242), \"\", Q242/P242)","v":""}]
[null,null,null,null,null,null,{"$f":"IF(COUNTIF(D243,\"N\"),\"\",IF(ISBLANK(E243),\"\",IF(ISBLANK(F243),IF(ISBLANK(L243), _xlfn.DAYS(TODAY(),E243), _xlfn.DAYS(L243,E243)), _xlfn.DAYS(F243,E243))))","v":""},null,{"$f":"IF(COUNTIF(D243,\"N\"),\"\",IF(ISBLANK(F243),\"\",IF(ISBLANK(H243),IF(ISBLANK(K243),_xlfn.DAYS(TODAY(),F243),_xlfn.DAYS(K243,F243)),_xlfn.DAYS(H243,F243))))","v":""},null,null,null,{"$f":"IF(COUNTIF(D243,\"N\"),\"ON HOLD\",IF(ISBLANK(K243),IF(ISBLANK(E243),\"\",IF(ISBLANK(F243),\"NO\",\"YES\")),\"NO\"))","v":""},{"$f":"IF(COUNTIF(D243,\"N\"),\"\",IF(ISBLANK(F243),\"\",IF(ISBLANK(K243),_xlfn.DAYS(TODAY(),F243),_xlfn.DAYS(K243,F243))))","v":""},null,null,null,{"$f":"IF(ISBLANK(P243), \"\", P243-Q243)","v":""},{"$f":"IF(ISBLANK(Q243), \"\", Q243/P243)","v":""}]
[null,null,null,null,null,null,{"$f":"IF(COUNTIF(D244,\"N\"),\"\",IF(ISBLANK(E244),\"\",IF(ISBLANK(F244),IF(ISBLANK(L244), _xlfn.DAYS(TODAY(),E244), _xlfn.DAYS(L244,E244)), _xlfn.DAYS(F244,E244))))","v":""},null,{"$f":"IF(COUNTIF(D244,\"N\"),\"\",IF(ISBLANK(F244),\"\",IF(ISBLANK(H244),IF(ISBLANK(K244),_xlfn.DAYS(TODAY(),F244),_xlfn.DAYS(K244,F244)),_xlfn.DAYS(H244,F244))))","v":""},null,null,null,{"$f":"IF(COUNTIF(D244,\"N\"),\"ON HOLD\",IF(ISBLANK(K244),IF(ISBLANK(E244),\"\",IF(ISBLANK(F244),\"NO\",\"YES\")),\"NO\"))","v":""},{"$f":"IF(COUNTIF(D244,\"N\"),\"\",IF(ISBLANK(F244),\"\",IF(ISBLANK(K244),_xlfn.DAYS(TODAY(),F244),_xlfn.DAYS(K244,F244))))","v":""},null,null,null,{"$f":"IF(ISBLANK(P244), \"\", P244-Q244)","v":""},{"$f":"IF(ISBLANK(Q244), \"\", Q244/P244)","v":""}]
[null,null,null,null,null,null,{"$f":"IF(COUNTIF(D245,\"N\"),\"\",IF(ISBLANK(E245),\"\",IF(ISBLANK(F245),IF(ISBLANK(L245), _xlfn.DAYS(TODAY(),E245), _xlfn.DAYS(L245,E245)), _xlfn.DAYS(F245,E245))))","v":""},null,{"$f":"IF(COUNTIF(D245,\"N\"),\"\",IF(ISBLANK(F245),\"\",IF(ISBLANK(H245),IF(ISBLANK(K245),_xlfn.DAYS(TODAY(),F245),_xlfn.DAYS(K245,F245)),_xlfn.DAYS(H245,F245))))","v":""},null,null,null,{"$f":"IF(COUNTIF(D245,\"N\"),\"ON HOLD\",IF(ISBLANK(K245),IF(ISBLANK(E245),\"\",IF(ISBLANK(F245),\"NO\",\"YES\")),\"NO\"))","v":""},{"$f":"IF(COUNTIF(D245,\"N\"),\"\",IF(ISBLANK(F245),\"\",IF(ISBLANK(K245),_xlfn.DAYS(TODAY(),F245),_xlfn.DAYS(K245,F245))))","v":""},null,null,null,{"$f":"IF(ISBLANK(P245), \"\", P245-Q245)","v":""},{"$f":"IF(ISBLANK(Q245), \"\", Q245/P245)","v":""}]
[null,null,null,null,null,null,{"$f":"IF(COUNTIF(D246,\"N\"),\"\",IF(ISBLANK(E246),\"\",IF(ISBLANK(F246),IF(ISBLANK(L246), _xlfn.DAYS(TODAY(),E246), _xlfn.DAYS(L246,E246)), _xlfn.DAYS(F246,E246))))","v":""},null,{"$f":"IF(COUNTIF(D246,\"N\"),\"\",IF(ISBLANK(F246),\"\",IF(ISBLANK(H246),IF(ISBLANK(K246),_xlfn.DAYS(TODAY(),F246),_xlfn.DAYS(K246,F246)),_xlfn.DAYS(H246,F246))))","v":""},null,null,null,{"$f":"IF(COUNTIF(D246,\"N\"),\"ON HOLD\",IF(ISBLANK(K246),IF(ISBLANK(E246),\"\",IF(ISBLANK(F246),\"NO\",\"YES\")),\"NO\"))","v":""},{"$f":"IF(COUNTIF(D246,\"N\"),\"\",IF(ISBLANK(F246),\"\",IF(ISBLANK(K246),_xlfn.DAYS(TODAY(),F246),_xlfn.DAYS(K246,F246))))","v":""},null,null,null,{"$f":"IF(ISBLANK(P246), \"\", P246-Q246)","v":""},{"$f":"IF(ISBLANK(Q246), \"\", Q246/P246)","v":""}]
[null,null,null,null,null,null,{"$f":"IF(COUNTIF(D247,\"N\"),\"\",IF(ISBLANK(E247),\"\",IF(ISBLANK(F247),IF(ISBLANK(L247), _xlfn.DAYS(TODAY(),E247), _xlfn.DAYS(L247,E247)), _xlfn.DAYS(F247,E247))))","v":""},null,{"$f":"IF(COUNTIF(D247,\"N\"),\"\",IF(ISBLANK(F247),\"\",IF(ISBLANK(H247),IF(ISBLANK(K247),_xlfn.DAYS(TODAY(),F247),_xlfn.DAYS(K247,F247)),_xlfn.DAYS(H247,F247))))","v":""},null,null,null,{"$f":"IF(COUNTIF(D247,\"N\"),\"ON HOLD\",IF(ISBLANK(K247),IF(ISBLANK(E247),\"\",IF(ISBLANK(F247),\"NO\",\"YES\")),\"NO\"))","v":""},{"$f":"IF(COUNTIF(D247,\"N\"),\"\",IF(ISBLANK(F247),\"\",IF(ISBLANK(K247),_xlfn.DAYS(TODAY(),F247),_xlfn.DAYS(K247,F247))))","v":""},null,null,null,{"$f":"IF(ISBLANK(P247), \"\", P247-Q247)","v":""},{"$f":"IF(ISBLANK(Q247), \"\", Q247/P247)","v":""}]
[null,null,null,null,null,null,{"$f":"IF(COUNTIF(D248,\"N\"),\"\",IF(ISBLANK(E248),\"\",IF(ISBLANK(F248),IF(ISBLANK(L248), _xlfn.DAYS(TODAY(),E248), _xlfn.DAYS(L248,E248)), _xlfn.DAYS(F248,E248))))","v":""},null,{"$f":"IF(COUNTIF(D248,\"N\"),\"\",IF(ISBLANK(F248),\"\",IF(ISBLANK(H248),IF(ISBLANK(K248),_xlfn.DAYS(TODAY(),F248),_xlfn.DAYS(K248,F248)),_xlfn.DAYS(H248,F248))))","v":""},null,null,null,{"$f":"IF(COUNTIF(D248,\"N\"),\"ON HOLD\",IF(ISBLANK(K248),IF(ISBLANK(E248),\"\",IF(ISBLANK(F248),\"NO\",\"YES\")),\"NO\"))","v":""},{"$f":"IF(COUNTIF(D248,\"N\"),\"\",IF(ISBLANK(F248),\"\",IF(ISBLANK(K248),_xlfn.DAYS(TODAY(),F248),_xlfn.DAYS(K248,F248))))","v":""},null,null,null,{"$f":"IF(ISBLANK(P248), \"\", P248-Q248)","v":""},{"$f":"IF(ISBLANK(Q248), \"\", Q248/P248)","v":""}]
[null,null,null,null,null,null,{"$f":"IF(COUNTIF(D249,\"N\"),\"\",IF(ISBLANK(E249),\"\",IF(ISBLANK(F249),IF(ISBLANK(L249), _xlfn.DAYS(TODAY(),E249), _xlfn.DAYS(L249,E249)), _xlfn.DAYS(F249,E249))))","v":""},null,{"$f":"IF(COUNTIF(D249,\"N\"),\"\",IF(ISBLANK(F249),\"\",IF(ISBLANK(H249),IF(ISBLANK(K249),_xlfn.DAYS(TODAY(),F249),_xlfn.DAYS(K249,F249)),_xlfn.DAYS(H249,F249))))","v":""},null,null,null,{"$f":"IF(COUNTIF(D249,\"N\"),\"ON HOLD\",IF(ISBLANK(K249),IF(ISBLANK(E249),\"\",IF(ISBLANK(F249),\"NO\",\"YES\")),\"NO\"))","v":""},{"$f":"IF(COUNTIF(D249,\"N\"),\"\",IF(ISBLANK(F249),\"\",IF(ISBLANK(K249),_xlfn.DAYS(TODAY(),F249),_xlfn.DAYS(K249,F249))))","v":""},null,null,null,{"$f":"IF(ISBLANK(P249), \"\", P249-Q249)","v":""},{"$f":"IF(ISBLANK(Q249), \"\", Q249/P249)","v":""}]
[null,null,null,null,null,null,{"$f":"IF(COUNTIF(D250,\"N\"),\"\",IF(ISBLANK(E250),\"\",IF(ISBLANK(F250),IF(ISBLANK(L250), _xlfn.DAYS(TODAY(),E250), _xlfn.DAYS(L250,E250)), _xlfn.DAYS(F250,E250))))","v":""},null,{"$f":"IF(COUNTIF(D250,\"N\"),\"\",IF(ISBLANK(F250),\"\",IF(ISBLANK(H250),IF(ISBLANK(K250),_xlfn.DAYS(TODAY(),F250),_xlfn.DAYS(K250,F250)),_xlfn.DAYS(H250,F250))))","v":""},null,null,null,{"$f":"IF(COUNTIF(D250,\"N\"),\"ON HOLD\",IF(ISBLANK(K250),IF(ISBLANK(E250),\"\",IF(ISBLANK(F250),\"NO\",\"YES\")),\"NO\"))","v":""},{"$f":"IF(COUNTIF(D250,\"N\"),\"\",IF(ISBLANK(F250),\"\",IF(ISBLANK(K250),_xlfn.DAYS(TODAY(),F250),_xlfn.DAYS(K250,F250))))","v":""},null,null,null,{"$f":"IF(ISBLANK(P250), \"\", P250-Q250)","v":""},{"$f":"IF(ISBLANK(Q250), \"\", Q250/P250)","v":""}]
[null,null,null,null,null,null,{"$f":"IF(COUNTIF(D251,\"N\"),\"\",IF(ISBLANK(E251),\"\",IF(ISBLANK(F251),IF(ISBLANK(L251), _xlfn.DAYS(TODAY(),E251), _xlfn.DAYS(L251,E251)), _xlfn.DAYS(F251,E251))))","v":""},null,{"$f":"IF(COUNTIF(D251,\"N\"),\"\",IF(ISBLANK(F251),\"\",IF(ISBLANK(H251),IF(ISBLANK(K251),_xlfn.DAYS(TODAY(),F251),_xlfn.DAYS(K251,F251)),_xlfn.DAYS(H251,F251))))","v":""},null,null,null,{"$f":"IF(COUNTIF(D251,\"N\"),\"ON HOLD\",IF(ISBLANK(K251),IF(ISBLANK(E251),\"\",IF(ISBLANK(F251),\"NO\",\"YES\")),\"NO\"))","v":""},{"$f":"IF(COUNTIF(D251,\"N\"),\"\",IF(ISBLANK(F251),\"\",IF(ISBLANK(K251),_xlfn.DAYS(TODAY(),F251),_xlfn.DAYS(K251,F251))))","v":""},null,null,null,{"$f":"IF(ISBLANK(P251), \"\", P251-Q251)","v":""},{"$f":"IF(ISBLANK(Q251), \"\", Q251/P251)","v":""}]
[null,null,null,null,null,null,{"$f":"IF(COUNTIF(D252,\"N\"),\"\",IF(ISBLANK(E252),\"\",IF(ISBLANK(F252),IF(ISBLANK(L252), _xlfn.DAYS(TODAY(),E252), _xlfn.DAYS(L252,E252)), _xlfn.DAYS(F252,E252))))","v":""},null,{"$f":"IF(COUNTIF(D252,\"N\"),\"\",IF(ISBLANK(F252),\"\",IF(ISBLANK(H252),IF(ISBLANK(K252),_xlfn.DAYS(TODAY(),F252),_xlfn.DAYS(K252,F252)),_xlfn.DAYS(H252,F252))))","v":""},null,null,null,{"$f":"IF(COUNTIF(D252,\"N\"),\"ON HOLD\",IF(ISBLANK(K252),IF(ISBLANK(E252),\"\",IF(ISBLANK(F252),\"NO\",\"YES\")),\"NO\"))","v":""},{"$f":"IF(COUNTIF(D252,\"N\"),\"\",IF(ISBLANK(F252),\"\",IF(ISBLANK(K252),_xlfn.DAYS(TODAY(),F252),_xlfn.DAYS(K252,F252))))","v":""},null,null,null,{"$f":"IF(ISBLANK(P252), \"\", P252-Q252)","v":""},{"$f":"IF(ISBLANK(Q252), \"\", Q252/P252)","v":""}]
[null,null,null,null,null,null,{"$f":"IF(COUNTIF(D253,\"N\"),\"\",IF(ISBLANK(E253),\"\",IF(ISBLANK(F253),IF(ISBLANK(L253), _xlfn.DAYS(TODAY(),E253), _xlfn.DAYS(L253,E253)), _xlfn.DAYS(F253,E253))))","v":""},null,{"$f":"IF(COUNTIF(D253,\"N\"),\"\",IF(ISBLANK(F253),\"\",IF(ISBLANK(H253),IF(ISBLANK(K253),_xlfn.DAYS(TODAY(),F253),_xlfn.DAYS(K253,F253)),_xlfn.DAYS(H253,F253))))","v":""},null,null,null,{"$f":"IF(COUNTIF(D253,\"N\"),\"ON HOLD\",IF(ISBLANK(K253),IF(ISBLANK(E253),\"\",IF(ISBLANK(F253),\"NO\",\"YES\")),\"NO\"))","v":""},{"$f":"IF(COUNTIF(D253,\"N\"),\"\",IF(ISBLANK(F253),\"\",IF(ISBLANK(K253),_xlfn.DAYS(TODAY(),F253),_xlfn.DAYS(K253,F253))))","v":""},null,null,null,{"$f":"IF(ISBLANK(P253), \"\", P253-Q253)","v":""},{"$f":"IF(ISBLANK(Q253), \"\", Q253/P253)","v":""}]
[null,null,null,null,null,null,{"$f":"IF(COUNTIF(D254,\"N\"),\"\",IF(ISBLANK(E254),\"\",IF(ISBLANK(F254),IF(ISBLANK(L254), _xlfn.DAYS(TODAY(),E254), _xlfn.DAYS(L254,E254)), _xlfn.DAYS(F254,E254))))","v":""},null,{"$f":"IF(COUNTIF(D254,\"N\"),\"\",IF(ISBLANK(F254),\"\",IF(ISBLANK(H254),IF(ISBLANK(K254),_xlfn.DAYS(TODAY(),F254),_xlfn.DAYS(K254,F254)),_xlfn.DAYS(H254,F254))))","v":""},null,null,null,{"$f":"IF(COUNTIF(D254,\"N\"),\"ON HOLD\",IF(ISBLANK(K254),IF(ISBLANK(E254),\"\",IF(ISBLANK(F254),\"NO\",\"YES\")),\"NO\"))","v":""},{"$f":"IF(COUNTIF(D254,\"N\"),\"\",IF(ISBLANK(F254),\"\",IF(ISBLANK(K254),_xlfn.DAYS(TODAY(),F254),_xlfn.DAYS(K254,F254))))","v":""},null,null,null,{"$f":"IF(ISBLANK(P254), \"\", P254-Q254)","v":""},{"$f":"IF(ISBLANK(Q254), \"\", Q254/P254)","v":""}]
[null,null,null,null,null,null,{"$f":"IF(COUNTIF(D255,\"N\"),\"\",IF(ISBLANK(E255),\"\",IF(ISBLANK(F255),IF(ISBLANK(L255), _xlfn.DAYS(TODAY(),E255), _xlfn.DAYS(L255,E255)), _xlfn.DAYS(F255,E255))))","v":""},null,{"$f":"IF(COUNTIF(D255,\"N\"),\"\",IF(ISBLANK(F255),\"\",IF(ISBLANK(H255),IF(ISBLANK(K255),_xlfn.DAYS(TODAY(),F255),_xlfn.DAYS(K255,F255)),_xlfn.DAYS(H255,F255))))","v":""},null,null,null,{"$f":"IF(COUNTIF(D255,\"N\"),\"ON HOLD\",IF(ISBLANK(K255),IF(ISBLANK(E255),\"\",IF(ISBLANK(F255),\"NO\",\"YES\")),\"NO\"))","v":""},{"$f":"IF(COUNTIF(D255,\"N\"),\"\",IF(ISBLANK(F255),\"\",IF(ISBLANK(K255),_xlfn.DAYS(TODAY(),F255),_xlfn.DAYS(K255,F255))))","v":""},null,null,null,{"$f":"IF(ISBLANK(P255), \"\", P255-Q255)","v":""},{"$f":"IF(ISBLANK(Q255), \"\", Q255/P255)","v":""}]
[null,null,null,null,null,null,{"$f":"IF(COUNTIF(D256,\"N\"),\"\",IF(ISBLANK(E256),\"\",IF(ISBLANK(F256),IF(ISBLANK(L256), _xlfn.DAYS(TODAY(),E256), _xlfn.DAYS(L256,E256)), _xlfn.DAYS(F256,E256))))","v":""},null,{"$f":"IF(COUNTIF(D256,\"N\"),\"\",IF(ISBLANK(F256),\"\",IF(ISBLANK(H256),IF(ISBLANK(K256),_xlfn.DAYS(TODAY(),F256),_xlfn.DAYS(K256,F256)),_xlfn.DAYS(H256,F256))))","v":""},null,null,null,{"$f":"IF(COUNTIF(D256,\"N\"),\"ON HOLD\",IF(ISBLANK(K256),IF(ISBLANK(E256),\"\",IF(ISBLANK(F256),\"NO\",\"YES\")),\"NO\"))","v":""},{"$f":"IF(COUNTIF(D256,\"N\"),\"\",IF(ISBLANK(F256),\"\",IF(ISBLANK(K256),_xlfn.DAYS(TODAY(),F256),_xlfn.DAYS(K256,F256))))","v":""},null,null,null,{"$f":"IF(ISBLANK(P256), \"\", P256-Q256)","v":""},{"$f":"IF(ISBLANK(Q256), \"\", Q256/P256)","v":""}]
[null,null,null,null,null,null,{"$f":"IF(COUNTIF(D257,\"N\"),\"\",IF(ISBLANK(E257),\"\",IF(ISBLANK(F257),IF(ISBLANK(L257), _xlfn.DAYS(TODAY(),E257), _xlfn.DAYS(L257,E257)), _xlfn.DAYS(F257,E257))))","v":""},null,{"$f":"IF(COUNTIF(D257,\"N\"),\"\",IF(ISBLANK(F257),\"\",IF(ISBLANK(H257),IF(ISBLANK(K257),_xlfn.DAYS(TODAY(),F257),_xlfn.DAYS(K257,F257)),_xlfn.DAYS(H257,F257))))","v":""},null,null,null,{"$f":"IF(COUNTIF(D257,\"N\"),\"ON HOLD\",IF(ISBLANK(K257),IF(ISBLANK(E257),\"\",IF(ISBLANK(F257),\"NO\",\"YES\")),\"NO\"))","v":""},{"$f":"IF(COUNTIF(D257,\"N\"),\"\",IF(ISBLANK(F257),\"\",IF(ISBLANK(K257),_xlfn.DAYS(TODAY(),F257),_xlfn.DAYS(K257,F257))))","v":""},null,null,null,{"$f":"IF(ISBLANK(P257), \"\", P257-Q257)","v":""},{"$f":"IF(ISBLANK(Q257), \"\", Q257/P257)","v":""}]
[null,null,null,null,null,null,{"$f":"IF(COUNTIF(D258,\"N\"),\"\",IF(ISBLANK(E258),\"\",IF(ISBLANK(F258),IF(ISBLANK(L258), _xlfn.DAYS(TODAY(),E258), _xlfn.DAYS(L258,E258)), _xlfn.DAYS(F258,E258))))","v":""},null,{"$f":"IF(COUNTIF(D258,\"N\"),\"\",IF(ISBLANK(F258),\"\",IF(ISBLANK(H258),IF(ISBLANK(K258),_xlfn.DAYS(TODAY(),F258),_xlfn.DAYS(K258,F258)),_xlfn.DAYS(H258,F258))))","v":""},null,null,null,{"$f":"IF(COUNTIF(D258,\"N\"),\"ON HOLD\",IF(ISBLANK(K258),IF(ISBLANK(E258),\"\",IF(ISBLANK(F258),\"NO\",\"YES\")),\"NO\"))","v":""},{"$f":"IF(COUNTIF(D258,\"N\"),\"\",IF(ISBLANK(F258),\"\",IF(ISBLANK(K258),_xlfn.DAYS(TODAY(),F258),_xlfn.DAYS(K258,F258))))","v":""},null,null,null,{"$f":"IF(ISBLANK(P258), \"\", P258-Q258)","v":""},{"$f":"IF(ISBLANK(Q258), \"\", Q258/P258)","v":""}]
[null,null,null,null,null,null,{"$f":"IF(COUNTIF(D259,\"N\"),\"\",IF(ISBLANK(E259),\"\",IF(ISBLANK(F259),IF(ISBLANK(L259), _xlfn.DAYS(TODAY(),E259), _xlfn.DAYS(L259,E259)), _xlfn.DAYS(F259,E259))))","v":""},null,{"$f":"IF(COUNTIF(D259,\"N\"),\"\",IF(ISBLANK(F259),\"\",IF(ISBLANK(H259),IF(ISBLANK(K259),_xlfn.DAYS(TODAY(),F259),_xlfn.DAYS(K259,F259)),_xlfn.DAYS(H259,F259))))","v":""},null,null,null,{"$f":"IF(COUNTIF(D259,\"N\"),\"ON HOLD\",IF(ISBLANK(K259),IF(ISBLANK(E259),\"\",IF(ISBLANK(F259),\"NO\",\"YES\")),\"NO\"))","v":""},{"$f":"IF(COUNTIF(D259,\"N\"),\"\",IF(ISBLANK(F259),\"\",IF(ISBLANK(K259),_xlfn.DAYS(TODAY(),F259),_xlfn.DAYS(K259,F259))))","v":""},null,null,null,{"$f":"IF(ISBLANK(P259), \"\", P259-Q259)","v":""},{"$f":"IF(ISBLANK(Q259), \"\", Q259/P259)","v":""}]
[null,null,null,null,null,null,{"$f":"IF(COUNTIF(D260,\"N\"),\"\",IF(ISBLANK(E260),\"\",IF(ISBLANK(F260),IF(ISBLANK(L260), _xlfn.DAYS(TODAY(),E260), _xlfn.DAYS(L260,E260)), _xlfn.DAYS(F260,E260))))","v":""},null,{"$f":"IF(COUNTIF(D260,\"N\"),\"\",IF(ISBLANK(F260),\"\",IF(ISBLANK(H260),IF(ISBLANK(K260),_xlfn.DAYS(TODAY(),F260),_xlfn.DAYS(K260,F260)),_xlfn.DAYS(H260,F260))))","v":""},null,null,null,{"$f":"IF(COUNTIF(D260,\"N\"),\"ON HOLD\",IF(ISBLANK(K260),IF(ISBLANK(E260),\"\",IF(ISBLANK(F260),\"NO\",\"YES\")),\"NO\"))","v":""},{"$f":"IF(COUNTIF(D260,\"N\"),\"\",IF(ISBLANK(F260),\"\",IF(ISBLANK(K260),_xlfn.DAYS(TODAY(),F260),_xlfn.DAYS(K260,F260))))","v":""},null,null,null,{"$f":"IF(ISBLANK(P260), \"\", P260-Q260)","v":""},{"$f":"IF(ISBLANK(Q260), \"\", Q260/P260)","v":""}]
[null,null,null,null,null,null,{"$f":"IF(COUNTIF(D261,\"N\"),\"\",IF(ISBLANK(E261),\"\",IF(ISBLANK(F261),IF(ISBLANK(L261), _xlfn.DAYS(TODAY(),E261), _xlfn.DAYS(L261,E261)), _xlfn.DAYS(F261,E261))))","v":""},null,{"$f":"IF(COUNTIF(D261,\"N\"),\"\",IF(ISBLANK(F261),\"\",IF(ISBLANK(H261),IF(ISBLANK(K261),_xlfn.DAYS(TODAY(),F261),_xlfn.DAYS(K261,F261)),_xlfn.DAYS(H261,F261))))","v":""},null,null,null,{"$f":"IF(COUNTIF(D261,\"N\"),\"ON HOLD\",IF(ISBLANK(K261),IF(ISBLANK(E261),\"\",IF(ISBLANK(F261),\"NO\",\"YES\")),\"NO\"))","v":""},{"$f":"IF(COUNTIF(D261,\"N\"),\"\",IF(ISBLANK(F261),\"\",IF(ISBLANK(K261),_xlfn.DAYS(TODAY(),F261),_xlfn.DAYS(K261,F261))))","v":""},null,null,null,{"$f":"IF(ISBLANK(P261), \"\", P261-Q261)","v":""},{"$f":"IF(ISBLANK(Q261), \"\", Q261/P261)","v":""}]
[null,null,null,null,null,null,{"$f":"IF(COUNTIF(D262,\"N\"),\"\",IF(ISBLANK(E262),\"\",IF(ISBLANK(F262),IF(ISBLANK(L262), _xlfn.DAYS(TODAY(),E262), _xlfn.DAYS(L262,E262)), _xlfn.DAYS(F262,E262))))","v":""},null,{"$f":"IF(COUNTIF(D262,\"N\"),\"\",IF(ISBLANK(F262),\"\",IF(ISBLANK(H262),IF(ISBLANK(K262),_xlfn.DAYS(TODAY(),F262),_xlfn.DAYS(K262,F262)),_xlfn.DAYS(H262,F262))))","v":""},null,null,null,{"$f":"IF(COUNTIF(D262,\"N\"),\"ON HOLD\",IF(ISBLANK(K262),IF(ISBLANK(E262),\"\",IF(ISBLANK(F262),\"NO\",\"YES\")),\"NO\"))","v":""},{"$f":"IF(COUNTIF(D262,\"N\"),\"\",IF(ISBLANK(F262),\"\",IF(ISBLANK(K262),_xlfn.DAYS(TODAY(),F262),_xlfn.DAYS(K262,F262))))","v":""},null,null,null,{"$f":"IF(ISBLANK(P262), \"\", P262-Q262)","v":""},{"$f":"IF(ISBLANK(Q262), \"\", Q262/P262)","v":""}]
[null,null,null,null,null,null,{"$f":"IF(COUNTIF(D263,\"N\"),\"\",IF(ISBLANK(E263),\"\",IF(ISBLANK(F263),IF(ISBLANK(L263), _xlfn.DAYS(TODAY(),E263), _xlfn.DAYS(L263,E263)), _xlfn.DAYS(F263,E263))))","v":""},null,{"$f":"IF(COUNTIF(D263,\"N\"),\"\",IF(ISBLANK(F263),\"\",IF(ISBLANK(H263),IF(ISBLANK(K263),_xlfn.DAYS(TODAY(),F263),_xlfn.DAYS(K263,F263)),_xlfn.DAYS(H263,F263))))","v":""},null,null,null,{"$f":"IF(COUNTIF(D263,\"N\"),\"ON HOLD\",IF(ISBLANK(K263),IF(ISBLANK(E263),\"\",IF(ISBLANK(F263),\"NO\",\"YES\")),\"NO\"))","v":""},{"$f":"IF(COUNTIF(D263,\"N\"),\"\",IF(ISBLANK(F263),\"\",IF(ISBLANK(K263),_xlfn.DAYS(TODAY(),F263),_xlfn.DAYS(K263,F263))))","v":""},null,null,null,{"$f":"IF(ISBLANK(P263), \"\", P263-Q263)","v":""},{"$f":"IF(ISBLANK(Q263), \"\", Q263/P263)","v":""}]
[null,null,null,null,null,null,{"$f":"IF(COUNTIF(D264,\"N\"),\"\",IF(ISBLANK(E264),\"\",IF(ISBLANK(F264),IF(ISBLANK(L264), _xlfn.DAYS(TODAY(),E264), _xlfn.DAYS(L264,E264)), _xlfn.DAYS(F264,E264))))","v":""},null,{"$f":"IF(COUNTIF(D264,\"N\"),\"\",IF(ISBLANK(F264),\"\",IF(ISBLANK(H264),IF(ISBLANK(K264),_xlfn.DAYS(TODAY(),F264),_xlfn.DAYS(K264,F264)),_xlfn.DAYS(H264,F264))))","v":""},null,null,null,{"$f":"IF(COUNTIF(D264,\"N\"),\"ON HOLD\",IF(ISBLANK(K264),IF(ISBLANK(E264),\"\",IF(ISBLANK(F264),\"NO\",\"YES\")),\"NO\"))","v":""},{"$f":"IF(COUNTIF(D264,\"N\"),\"\",IF(ISBLANK(F264),\"\",IF(ISBLANK(K264),_xlfn.DAYS(TODAY(),F264),_xlfn.DAYS(K264,F264))))","v":""},null,null,null,{"$f":"IF(ISBLANK(P264), \"\", P264-Q264)","v":""},{"$f":"IF(ISBLANK(Q264), \"\", Q264/P264)","v":""}]
[null,null,null,null,null,null,{"$f":"IF(COUNTIF(D265,\"N\"),\"\",IF(ISBLANK(E265),\"\",IF(ISBLANK(F265),IF(ISBLANK(L265), _xlfn.DAYS(TODAY(),E265), _xlfn.DAYS(L265,E265)), _xlfn.DAYS(F265,E265))))","v":""},null,{"$f":"IF(COUNTIF(D265,\"N\"),\"\",IF(ISBLANK(F265),\"\",IF(ISBLANK(H265),IF(ISBLANK(K265),_xlfn.DAYS(TODAY(),F265),_xlfn.DAYS(K265,F265)),_xlfn.DAYS(H265,F265))))","v":""},null,null,null,{"$f":"IF(COUNTIF(D265,\"N\"),\"ON HOLD\",IF(ISBLANK(K265),IF(ISBLANK(E265),\"\",IF(ISBLANK(F265),\"NO\",\"YES\")),\"NO\"))","v":""},{"$f":"IF(COUNTIF(D265,\"N\"),\"\",IF(ISBLANK(F265),\"\",IF(ISBLANK(K265),_xlfn.DAYS(TODAY(),F265),_xlfn.DAYS(K265,F265))))","v":""},null,null,null,{"$f":"IF(ISBLANK(P265), \"\", P265-Q265)","v":""},{"$f":"IF(ISBLANK(Q265), \"\", Q265/P265)","v":""}]
[null,null,null,null,null,null,{"$f":"IF(COUNTIF(D266,\"N\"),\"\",IF(ISBLANK(E266),\"\",IF(ISBLANK(F266),IF(ISBLANK(L266), _xlfn.DAYS(TODAY(),E266), _xlfn.DAYS(L266,E266)), _xlfn.DAYS(F266,E266))))","v":""},null,{"$f":"IF(COUNTIF(D266,\"N\"),\"\",IF(ISBLANK(F266),\"\",IF(ISBLANK(H266),IF(ISBLANK(K266),_xlfn.DAYS(TODAY(),F266),_xlfn.DAYS(K266,F266)),_xlfn.DAYS(H266,F266))))","v":""},null,null,null,{"$f":"IF(COUNTIF(D266,\"N\"),\"ON HOLD\",IF(ISBLANK(K266),IF(ISBLANK(E266),\"\",IF(ISBLANK(F266),\"NO\",\"YES\")),\"NO\"))","v":""},{"$f":"IF(COUNTIF(D266,\"N\"),\"\",IF(ISBLANK(F266),\"\",IF(ISBLANK(K266),_xlfn.DAYS(TODAY(),F266),_xlfn.DAYS(K266,F266))))","v":""},null,null,null,{"$f":"IF(ISBLANK(P266), \"\", P266-Q266)","v":""},{"$f":"IF(ISBLANK(Q266), \"\", Q266/P266)","v":""}]
[null,null,null,null,null,null,{"$f":"IF(COUNTIF(D267,\"N\"),\"\",IF(ISBLANK(E267),\"\",IF(ISBLANK(F267),IF(ISBLANK(L267), _xlfn.DAYS(TODAY(),E267), _xlfn.DAYS(L267,E267)), _xlfn.DAYS(F267,E267))))","v":""},null,{"$f":"IF(COUNTIF(D267,\"N\"),\"\",IF(ISBLANK(F267),\"\",IF(ISBLANK(H267),IF(ISBLANK(K267),_xlfn.DAYS(TODAY(),F267),_xlfn.DAYS(K267,F267)),_xlfn.DAYS(H267,F267))))","v":""},null,null,null,{"$f":"IF(COUNTIF(D267,\"N\"),\"ON HOLD\",IF(ISBLANK(K267),IF(ISBLANK(E267),\"\",IF(ISBLANK(F267),\"NO\",\"YES\")),\"NO\"))","v":""},{"$f":"IF(COUNTIF(D267,\"N\"),\"\",IF(ISBLANK(F267),\"\",IF(ISBLANK(K267),_xlfn.DAYS(TODAY(),F267),_xlfn.DAYS(K267,F267))))","v":""},null,null,null,{"$f":"IF(ISBLANK(P267), \"\", P267-Q267)","v":""},{"$f":"IF(ISBLANK(Q267), \"\", Q267/P267)","v":""}]
[null,null,null,null,null,null,{"$f":"IF(COUNTIF(D268,\"N\"),\"\",IF(ISBLANK(E268),\"\",IF(ISBLANK(F268),IF(ISBLANK(L268), _xlfn.DAYS(TODAY(),E268), _xlfn.DAYS(L268,E268)), _xlfn.DAYS(F268,E268))))","v":""},null,{"$f":"IF(COUNTIF(D268,\"N\"),\"\",IF(ISBLANK(F268),\"\",IF(ISBLANK(H268),IF(ISBLANK(K268),_xlfn.DAYS(TODAY(),F268),_xlfn.DAYS(K268,F268)),_xlfn.DAYS(H268,F268))))","v":""},null,null,null,{"$f":"IF(COUNTIF(D268,\"N\"),\"ON HOLD\",IF(ISBLANK(K268),IF(ISBLANK(E268),\"\",IF(ISBLANK(F268),\"NO\",\"YES\")),\"NO\"))","v":""},{"$f":"IF(COUNTIF(D268,\"N\"),\"\",IF(ISBLANK(F268),\"\",IF(ISBLANK(K268),_xlfn.DAYS(TODAY(),F268),_xlfn.DAYS(K268,F268))))","v":""},null,null,null,{"$f":"IF(ISBLANK(P268), \"\", P268-Q268)","v":""},{"$f":"IF(ISBLANK(Q268), \"\", Q268/P268)","v":""}]
[null,null,null,null,null,null,{"$f":"IF(COUNTIF(D269,\"N\"),\"\",IF(ISBLANK(E269),\"\",IF(ISBLANK(F269),IF(ISBLANK(L269), _xlfn.DAYS(TODAY(),E269), _xlfn.DAYS(L269,E269)), _xlfn.DAYS(F269,E269))))","v":""},null,{"$f":"IF(COUNTIF(D269,\"N\"),\"\",IF(ISBLANK(F269),\"\",IF(ISBLANK(H269),IF(ISBLANK(K269),_xlfn.DAYS(TODAY(),F269),_xlfn.DAYS(K269,F269)),_xlfn.DAYS(H269,F269))))","v":""},null,null,null,{"$f":"IF(COUNTIF(D269,\"N\"),\"ON HOLD\",IF(ISBLANK(K269),IF(ISBLANK(E269),\"\",IF(ISBLANK(F269),\"NO\",\"YES\")),\"NO\"))","v":""},{"$f":"IF(COUNTIF(D269,\"N\"),\"\",IF(ISBLANK(F269),\"\",IF(ISBLANK(K269),_xlfn.DAYS(TODAY(),F269),_xlfn.DAYS(K269,F269))))","v":""},null,null,null,{"$f":"IF(ISBLANK(P269), \"\", P269-Q269)","v":""},{"$f":"IF(ISBLANK(Q269), \"\", Q269/P269)","v":""}]
[null,null,null,null,null,null,{"$f":"IF(COUNTIF(D270,\"N\"),\"\",IF(ISBLANK(E270),\"\",IF(ISBLANK(F270),IF(ISBLANK(L270), _xlfn.DAYS(TODAY(),E270), _xlfn.DAYS(L270,E270)), _xlfn.DAYS(F270,E270))))","v":""},null,{"$f":"IF(COUNTIF(D270,\"N\"),\"\",IF(ISBLANK(F270),\"\",IF(ISBLANK(H270),IF(ISBLANK(K270),_xlfn.DAYS(TODAY(),F270),_xlfn.DAYS(K270,F270)),_xlfn.DAYS(H270,F270))))","v":""},null,null,null,{"$f":"IF(COUNTIF(D270,\"N\"),\"ON HOLD\",IF(ISBLANK(K270),IF(ISBLANK(E270),\"\",IF(ISBLANK(F270),\"NO\",\"YES\")),\"NO\"))","v":""},{"$f":"IF(COUNTIF(D270,\"N\"),\"\",IF(ISBLANK(F270),\"\",IF(ISBLANK(K270),_xlfn.DAYS(TODAY(),F270),_xlfn.DAYS(K270,F270))))","v":""},null,null,null,{"$f":"IF(ISBLANK(P270), \"\", P270-Q270)","v":""},{"$f":"IF(ISBLANK(Q270), \"\", Q270/P270)","v":""}]
[null,null,null,null,null,null,{"$f":"IF(COUNTIF(D271,\"N\"),\"\",IF(ISBLANK(E271),\"\",IF(ISBLANK(F271),IF(ISBLANK(L271), _xlfn.DAYS(TODAY(),E271), _xlfn.DAYS(L271,E271)), _xlfn.DAYS(F271,E271))))","v":""},null,{"$f":"IF(COUNTIF(D271,\"N\"),\"\",IF(ISBLANK(F271),\"\",IF(ISBLANK(H271),IF(ISBLANK(K271),_xlfn.DAYS(TODAY(),F271),_xlfn.DAYS(K271,F271)),_xlfn.DAYS(H271,F271))))","v":""},null,null,null,{"$f":"IF(COUNTIF(D271,\"N\"),\"ON HOLD\",IF(ISBLANK(K271),IF(ISBLANK(E271),\"\",IF(ISBLANK(F271),\"NO\",\"YES\")),\"NO\"))","v":""},{"$f":"IF(COUNTIF(D271,\"N\"),\"\",IF(ISBLANK(F271),\"\",IF(ISBLANK(K271),_xlfn.DAYS(TODAY(),F271),_xlfn.DAYS(K271,F271))))","v":""},null,null,null,{"$f":"IF(ISBLANK(P271), \"\", P271-Q271)","v":""},{"$f":"IF(ISBLANK(Q271), \"\", Q271/P271)","v":""}]
[null,null,null,null,null,null,{"$f":"IF(COUNTIF(D272,\"N\"),\"\",IF(ISBLANK(E272),\"\",IF(ISBLANK(F272),IF(ISBLANK(L272), _xlfn.DAYS(TODAY(),E272), _xlfn.DAYS(L272,E272)), _xlfn.DAYS(F272,E272))))","v":""},null,{"$f":"IF(COUNTIF(D272,\"N\"),\"\",IF(ISBLANK(F272),\"\",IF(ISBLANK(H272),IF(ISBLANK(K272),_xlfn.DAYS(TODAY(),F272),_xlfn.DAYS(K272,F272)),_xlfn.DAYS(H272,F272))))","v":""},null,null,null,{"$f":"IF(COUNTIF(D272,\"N\"),\"ON HOLD\",IF(ISBLANK(K272),IF(ISBLANK(E272),\"\",IF(ISBLANK(F272),\"NO\",\"YES\")),\"NO\"))","v":""},{"$f":"IF(COUNTIF(D272,\"N\"),\"\",IF(ISBLANK(F272),\"\",IF(ISBLANK(K272),_xlfn.DAYS(TODAY(),F272),_xlfn.DAYS(K272,F272))))","v":""},null,null,null,{"$f":"IF(ISBLANK(P272), \"\", P272-Q272)","v":""},{"$f":"IF(ISBLANK(Q272), \"\", Q272/P272)","v":""}]
[null,null,null,null,null,null,{"$f":"IF(COUNTIF(D273,\"N\"),\"\",IF(ISBLANK(E273),\"\",IF(ISBLANK(F273),IF(ISBLANK(L273), _xlfn.DAYS(TODAY(),E273), _xlfn.DAYS(L273,E273)), _xlfn.DAYS(F273,E273))))","v":""},null,{"$f":"IF(COUNTIF(D273,\"N\"),\"\",IF(ISBLANK(F273),\"\",IF(ISBLANK(H273),IF(ISBLANK(K273),_xlfn.DAYS(TODAY(),F273),_xlfn.DAYS(K273,F273)),_xlfn.DAYS(H273,F273))))","v":""},null,null,null,{"$f":"IF(COUNTIF(D273,\"N\"),\"ON HOLD\",IF(ISBLANK(K273),IF(ISBLANK(E273),\"\",IF(ISBLANK(F273),\"NO\",\"YES\")),\"NO\"))","v":""},{"$f":"IF(COUNTIF(D273,\"N\"),\"\",IF(ISBLANK(F273),\"\",IF(ISBLANK(K273),_xlfn.DAYS(TODAY(),F273),_xlfn.DAYS(K273,F273))))","v":""},null,null,null,{"$f":"IF(ISBLANK(P273), \"\", P273-Q273)","v":""},{"$f":"IF(ISBLANK(Q273), \"\", Q273/P273)","v":""}]
[null,null,null,null,null,null,{"$f":"IF(COUNTIF(D274,\"N\"),\"\",IF(ISBLANK(E274),\"\",IF(ISBLANK(F274),IF(ISBLANK(L274), _xlfn.DAYS(TODAY(),E274), _xlfn.DAYS(L274,E274)), _xlfn.DAYS(F274,E274))))","v":""},null,{"$f":"IF(COUNTIF(D274,\"N\"),\"\",IF(ISBLANK(F274),\"\",IF(ISBLANK(H274),IF(ISBLANK(K274),_xlfn.DAYS(TODAY(),F274),_xlfn.DAYS(K274,F274)),_xlfn.DAYS(H274,F274))))","v":""},null,null,null,{"$f":"IF(COUNTIF(D274,\"N\"),\"ON HOLD\",IF(ISBLANK(K274),IF(ISBLANK(E274),\"\",IF(ISBLANK(F274),\"NO\",\"YES\")),\"NO\"))","v":""},{"$f":"IF(COUNTIF(D274,\"N\"),\"\",IF(ISBLANK(F274),\"\",IF(ISBLANK(K274),_xlfn.DAYS(TODAY(),F274),_xlfn.DAYS(K274,F274))))","v":""},null,null,null,{"$f":"IF(ISBLANK(P274), \"\", P274-Q274)","v":""},{"$f":"IF(ISBLANK(Q274), \"\", Q274/P274)","v":""}]
[null,null,null,null,null,null,{"$f":"IF(COUNTIF(D275,\"N\"),\"\",IF(ISBLANK(E275),\"\",IF(ISBLANK(F275),IF(ISBLANK(L275), _xlfn.DAYS(TODAY(),E275), _xlfn.DAYS(L275,E275)), _xlfn.DAYS(F275,E275))))","v":""},null,{"$f":"IF(COUNTIF(D275,\"N\"),\"\",IF(ISBLANK(F275),\"\",IF(ISBLANK(H275),IF(ISBLANK(K275),_xlfn.DAYS(TODAY(),F275),_xlfn.DAYS(K275,F275)),_xlfn.DAYS(H275,F275))))","v":""},null,null,null,{"$f":"IF(COUNTIF(D275,\"N\"),\"ON HOLD\",IF(ISBLANK(K275),IF(ISBLANK(E275),\"\",IF(ISBLANK(F275),\"NO\",\"YES\")),\"NO\"))","v":""},{"$f":"IF(COUNTIF(D275,\"N\"),\"\",IF(ISBLANK(F275),\"\",IF(ISBLANK(K275),_xlfn.DAYS(TODAY(),F275),_xlfn.DAYS(K275,F275))))","v":""},null,null,null,{"$f":"IF(ISBLANK(P275), \"\", P275-Q275)","v":""},{"$f":"IF(ISBLANK(Q275), \"\", Q275/P275)","v":""}]
[null,null,null,null,null,null,{"$f":"IF(COUNTIF(D276,\"N\"),\"\",IF(ISBLANK(E276),\"\",IF(ISBLANK(F276),IF(ISBLANK(L276), _xlfn.DAYS(TODAY(),E276), _xlfn.DAYS(L276,E276)), _xlfn.DAYS(F276,E276))))","v":""},null,{"$f":"IF(COUNTIF(D276,\"N\"),\"\",IF(ISBLANK(F276),\"\",IF(ISBLANK(H276),IF(ISBLANK(K276),_xlfn.DAYS(TODAY(),F276),_xlfn.DAYS(K276,F276)),_xlfn.DAYS(H276,F276))))","v":""},null,null,null,{"$f":"IF(COUNTIF(D276,\"N\"),\"ON HOLD\",IF(ISBLANK(K276),IF(ISBLANK(E276),\"\",IF(ISBLANK(F276),\"NO\",\"YES\")),\"NO\"))","v":""},{"$f":"IF(COUNTIF(D276,\"N\"),\"\",IF(ISBLANK(F276),\"\",IF(ISBLANK(K276),_xlfn.DAYS(TODAY(),F276),_xlfn.DAYS(K276,F276))))","v":""},null,null,null,{"$f":"IF(ISBLANK(P276), \"\", P276-Q276)","v":""},{"$f":"IF(ISBLANK(Q276), \"\", Q276/P276)","v":""}]
[null,null,null,null,null,null,{"$f":"IF(COUNTIF(D277,\"N\"),\"\",IF(ISBLANK(E277),\"\",IF(ISBLANK(F277),IF(ISBLANK(L277), _xlfn.DAYS(TODAY(),E277), _xlfn.DAYS(L277,E277)), _xlfn.DAYS(F277,E277))))","v":""},null,{"$f":"IF(COUNTIF(D277,\"N\"),\"\",IF(ISBLANK(F277),\"\",IF(ISBLANK(H277),IF(ISBLANK(K277),_xlfn.DAYS(TODAY(),F277),_xlfn.DAYS(K277,F277)),_xlfn.DAYS(H277,F277))))","v":""},null,null,null,{"$f":"IF(COUNTIF(D277,\"N\"),\"ON HOLD\",IF(ISBLANK(K277),IF(ISBLANK(E277),\"\",IF(ISBLANK(F277),\"NO\",\"YES\")),\"NO\"))","v":""},{"$f":"IF(COUNTIF(D277,\"N\"),\"\",IF(ISBLANK(F277),\"\",IF(ISBLANK(K277),_xlfn.DAYS(TODAY(),F277),_xlfn.DAYS(K277,F277))))","v":""},null,null,null,{"$f":"IF(ISBLANK(P277), \"\", P277-Q277)","v":""},{"$f":"IF(ISBLANK(Q277), \"\", Q277/P277)","v":""}]
[null,null,null,null,null,null,{"$f":"IF(COUNTIF(D278,\"N\"),\"\",IF(ISBLANK(E278),\"\",IF(ISBLANK(F278),IF(ISBLANK(L278), _xlfn.DAYS(TODAY(),E278), _xlfn.DAYS(L278,E278)), _xlfn.DAYS(F278,E278))))","v":""},null,{"$f":"IF(COUNTIF(D278,\"N\"),\"\",IF(ISBLANK(F278),\"\",IF(ISBLANK(H278),IF(ISBLANK(K278),_xlfn.DAYS(TODAY(),F278),_xlfn.DAYS(K278,F278)),_xlfn.DAYS(H278,F278))))","v":""},null,null,null,{"$f":"IF(COUNTIF(D278,\"N\"),\"ON HOLD\",IF(ISBLANK(K278),IF(ISBLANK(E278),\"\",IF(ISBLANK(F278),\"NO\",\"YES\")),\"NO\"))","v":""},{"$f":"IF(COUNTIF(D278,\"N\"),\"\",IF(ISBLANK(F278),\"\",IF(ISBLANK(K278),_xlfn.DAYS(TODAY(),F278),_xlfn.DAYS(K278,F278))))","v":""},null,null,null,{"$f":"IF(ISBLANK(P278), \"\", P278-Q278)","v":""},{"$f":"IF(ISBLANK(Q278), \"\", Q278/P278)","v":""}]
[null,null,null,null,null,null,{"$f":"IF(COUNTIF(D279,\"N\"),\"\",IF(ISBLANK(E279),\"\",IF(ISBLANK(F279),IF(ISBLANK(L279), _xlfn.DAYS(TODAY(),E279), _xlfn.DAYS(L279,E279)), _xlfn.DAYS(F279,E279))))","v":""},null,{"$f":"IF(COUNTIF(D279,\"N\"),\"\",IF(ISBLANK(F279),\"\",IF(ISBLANK(H279),IF(ISBLANK(K279),_xlfn.DAYS(TODAY(),F279),_xlfn.DAYS(K279,F279)),_xlfn.DAYS(H279,F279))))","v":""},null,null,null,{"$f":"IF(COUNTIF(D279,\"N\"),\"ON HOLD\",IF(ISBLANK(K279),IF(ISBLANK(E279),\"\",IF(ISBLANK(F279),\"NO\",\"YES\")),\"NO\"))","v":""},{"$f":"IF(COUNTIF(D279,\"N\"),\"\",IF(ISBLANK(F279),\"\",IF(ISBLANK(K279),_xlfn.DAYS(TODAY(),F279),_xlfn.DAYS(K279,F279))))","v":""},null,null,null,{"$f":"IF(ISBLANK(P279), \"\", P279-Q279)","v":""},{"$f":"IF(ISBLANK(Q279), \"\", Q279/P279)","v":""}]
[null,null,null,null,null,null,{"$f":"IF(COUNTIF(D280,\"N\"),\"\",IF(ISBLANK(E280),\"\",IF(ISBLANK(F280),IF(ISBLANK(L280), _xlfn.DAYS(TODAY(),E280), _xlfn.DAYS(L280,E280)), _xlfn.DAYS(F280,E280))))","v":""},null,{"$f":"IF(COUNTIF(D280,\"N\"),\"\",IF(ISBLANK(F280),\"\",IF(ISBLANK(H280),IF(ISBLANK(K280),_xlfn.DAYS(TODAY(),F280),_xlfn.DAYS(K280,F280)),_xlfn.DAYS(H280,F280))))","v":""},null,null,null,{"$f":"IF(COUNTIF(D280,\"N\"),\"ON HOLD\",IF(ISBLANK(K280),IF(ISBLANK(E280),\"\",IF(ISBLANK(F280),\"NO\",\"YES\")),\"NO\"))","v":""},{"$f":"IF(COUNTIF(D280,\"N\"),\"\",IF(ISBLANK(F280),\"\",IF(ISBLANK(K280),_xlfn.DAYS(TODAY(),F280),_xlfn.DAYS(K280,F280))))","v":""},null,null,null,{"$f":"IF(ISBLANK(P280), \"\", P280-Q280)","v":""},{"$f":"IF(ISBLANK(Q280), \"\", Q280/P280)","v":""}]
[null,null,null,null,null,null,{"$f":"IF(COUNTIF(D281,\"N\"),\"\",IF(ISBLANK(E281),\"\",IF(ISBLANK(F281),IF(ISBLANK(L281), _xlfn.DAYS(TODAY(),E281), _xlfn.DAYS(L281,E281)), _xlfn.DAYS(F281,E281))))","v":""},null,{"$f":"IF(COUNTIF(D281,\"N\"),\"\",IF(ISBLANK(F281),\"\",IF(ISBLANK(H281),IF(ISBLANK(K281),_xlfn.DAYS(TODAY(),F281),_xlfn.DAYS(K281,F281)),_xlfn.DAYS(H281,F281))))","v":""},null,null,null,{"$f":"IF(COUNTIF(D281,\"N\"),\"ON HOLD\",IF(ISBLANK(K281),IF(ISBLANK(E281),\"\",IF(ISBLANK(F281),\"NO\",\"YES\")),\"NO\"))","v":""},{"$f":"IF(COUNTIF(D281,\"N\"),\"\",IF(ISBLANK(F281),\"\",IF(ISBLANK(K281),_xlfn.DAYS(TODAY(),F281),_xlfn.DAYS(K281,F281))))","v":""},null,null,null,{"$f":"IF(ISBLANK(P281), \"\", P281-Q281)","v":""},{"$f":"IF(ISBLANK(Q281), \"\", Q281/P281)","v":""}]
[null,null,null,null,null,null,{"$f":"IF(COUNTIF(D282,\"N\"),\"\",IF(ISBLANK(E282),\"\",IF(ISBLANK(F282),IF(ISBLANK(L282), _xlfn.DAYS(TODAY(),E282), _xlfn.DAYS(L282,E282)), _xlfn.DAYS(F282,E282))))","v":""},null,{"$f":"IF(COUNTIF(D282,\"N\"),\"\",IF(ISBLANK(F282),\"\",IF(ISBLANK(H282),IF(ISBLANK(K282),_xlfn.DAYS(TODAY(),F282),_xlfn.DAYS(K282,F282)),_xlfn.DAYS(H282,F282))))","v":""},null,null,null,{"$f":"IF(COUNTIF(D282,\"N\"),\"ON HOLD\",IF(ISBLANK(K282),IF(ISBLANK(E282),\"\",IF(ISBLANK(F282),\"NO\",\"YES\")),\"NO\"))","v":""},{"$f":"IF(COUNTIF(D282,\"N\"),\"\",IF(ISBLANK(F282),\"\",IF(ISBLANK(K282),_xlfn.DAYS(TODAY(),F282),_xlfn.DAYS(K282,F282))))","v":""},null,null,null,{"$f":"IF(ISBLANK(P282), \"\", P282-Q282)","v":""},{"$f":"IF(ISBLANK(Q282), \"\", Q282/P282)","v":""}]
[null,null,null,null,null,null,{"$f":"IF(COUNTIF(D283,\"N\"),\"\",IF(ISBLANK(E283),\"\",IF(ISBLANK(F283),IF(ISBLANK(L283), _xlfn.DAYS(TODAY(),E283), _xlfn.DAYS(L283,E283)), _xlfn.DAYS(F283,E283))))","v":""},null,{"$f":"IF(COUNTIF(D283,\"N\"),\"\",IF(ISBLANK(F283),\"\",IF(ISBLANK(H283),IF(ISBLANK(K283),_xlfn.DAYS(TODAY(),F283),_xlfn.DAYS(K283,F283)),_xlfn.DAYS(H283,F283))))","v":""},null,null,null,{"$f":"IF(COUNTIF(D283,\"N\"),\"ON HOLD\",IF(ISBLANK(K283),IF(ISBLANK(E283),\"\",IF(ISBLANK(F283),\"NO\",\"YES\")),\"NO\"))","v":""},{"$f":"IF(COUNTIF(D283,\"N\"),\"\",IF(ISBLANK(F283),\"\",IF(ISBLANK(K283),_xlfn.DAYS(TODAY(),F283),_xlfn.DAYS(K283,F283))))","v":""},null,null,null,{"$f":"IF(ISBLANK(P283), \"\", P283-Q283)","v":""},{"$f":"IF(ISBLANK(Q283), \"\", Q283/P283)","v":""}]
[null,null,null,null,null,null,{"$f":"IF(COUNTIF(D284,\"N\"),\"\",IF(ISBLANK(E284),\"\",IF(ISBLANK(F284),IF(ISBLANK(L284), _xlfn.DAYS(TODAY(),E284), _xlfn.DAYS(L284,E284)), _xlfn.DAYS(F284,E284))))","v":""},null,{"$f":"IF(COUNTIF(D284,\"N\"),\"\",IF(ISBLANK(F284),\"\",IF(ISBLANK(H284),IF(ISBLANK(K284),_xlfn.DAYS(TODAY(),F284),_xlfn.DAYS(K284,F284)),_xlfn.DAYS(H284,F284))))","v":""},null,null,null,{"$f":"IF(COUNTIF(D284,\"N\"),\"ON HOLD\",IF(ISBLANK(K284),IF(ISBLANK(E284),\"\",IF(ISBLANK(F284),\"NO\",\"YES\")),\"NO\"))","v":""},{"$f":"IF(COUNTIF(D284,\"N\"),\"\",IF(ISBLANK(F284),\"\",IF(ISBLANK(K284),_xlfn.DAYS(TODAY(),F284),_xlfn.DAYS(K284,F284))))","v":""},null,null,null,{"$f":"IF(ISBLANK(P284), \"\", P284-Q284)","v":""},{"$f":"IF(ISBLANK(Q284), \"\", Q284/P284)","v":""}]
[null,null,null,null,null,null,{"$f":"IF(COUNTIF(D285,\"N\"),\"\",IF(ISBLANK(E285),\"\",IF(ISBLANK(F285),IF(ISBLANK(L285), _xlfn.DAYS(TODAY(),E285), _xlfn.DAYS(L285,E285)), _xlfn.DAYS(F285,E285))))","v":""},null,{"$f":"IF(COUNTIF(D285,\"N\"),\"\",IF(ISBLANK(F285),\"\",IF(ISBLANK(H285),IF(ISBLANK(K285),_xlfn.DAYS(TODAY(),F285),_xlfn.DAYS(K285,F285)),_xlfn.DAYS(H285,F285))))","v":""},null,null,null,{"$f":"IF(COUNTIF(D285,\"N\"),\"ON HOLD\",IF(ISBLANK(K285),IF(ISBLANK(E285),\"\",IF(ISBLANK(F285),\"NO\",\"YES\")),\"NO\"))","v":""},{"$f":"IF(COUNTIF(D285,\"N\"),\"\",IF(ISBLANK(F285),\"\",IF(ISBLANK(K285),_xlfn.DAYS(TODAY(),F285),_xlfn.DAYS(K285,F285))))","v":""},null,null,null,{"$f":"IF(ISBLANK(P285), \"\", P285-Q285)","v":""},{"$f":"IF(ISBLANK(Q285), \"\", Q285/P285)","v":""}]
[null,null,null,null,null,null,{"$f":"IF(COUNTIF(D286,\"N\"),\"\",IF(ISBLANK(E286),\"\",IF(ISBLANK(F286),IF(ISBLANK(L286), _xlfn.DAYS(TODAY(),E286), _xlfn.DAYS(L286,E286)), _xlfn.DAYS(F286,E286))))","v":""},null,{"$f":"IF(COUNTIF(D286,\"N\"),\"\",IF(ISBLANK(F286),\"\",IF(ISBLANK(H286),IF(ISBLANK(K286),_xlfn.DAYS(TODAY(),F286),_xlfn.DAYS(K286,F286)),_xlfn.DAYS(H286,F286))))","v":""},null,null,null,{"$f":"IF(COUNTIF(D286,\"N\"),\"ON HOLD\",IF(ISBLANK(K286),IF(ISBLANK(E286),\"\",IF(ISBLANK(F286),\"NO\",\"YES\")),\"NO\"))","v":""},{"$f":"IF(COUNTIF(D286,\"N\"),\"\",IF(ISBLANK(F286),\"\",IF(ISBLANK(K286),_xlfn.DAYS(TODAY(),F286),_xlfn.DAYS(K286,F286))))","v":""},null,null,null,{"$f":"IF(ISBLANK(P286), \"\", P286-Q286)","v":""},{"$f":"IF(ISBLANK(Q286), \"\", Q286/P286)","v":""}]
[null,null,null,null,null,null,{"$f":"IF(COUNTIF(D287,\"N\"),\"\",IF(ISBLANK(E287),\"\",IF(ISBLANK(F287),IF(ISBLANK(L287), _xlfn.DAYS(TODAY(),E287), _xlfn.DAYS(L287,E287)), _xlfn.DAYS(F287,E287))))","v":""},null,{"$f":"IF(COUNTIF(D287,\"N\"),\"\",IF(ISBLANK(F287),\"\",IF(ISBLANK(H287),IF(ISBLANK(K287),_xlfn.DAYS(TODAY(),F287),_xlfn.DAYS(K287,F287)),_xlfn.DAYS(H287,F287))))","v":""},null,null,null,{"$f":"IF(COUNTIF(D287,\"N\"),\"ON HOLD\",IF(ISBLANK(K287),IF(ISBLANK(E287),\"\",IF(ISBLANK(F287),\"NO\",\"YES\")),\"NO\"))","v":""},{"$f":"IF(COUNTIF(D287,\"N\"),\"\",IF(ISBLANK(F287),\"\",IF(ISBLANK(K287),_xlfn.DAYS(TODAY(),F287),_xlfn.DAYS(K287,F287))))","v":""},null,null,null,{"$f":"IF(ISBLANK(P287), \"\", P287-Q287)","v":""},{"$f":"IF(ISBLANK(Q287), \"\", Q287/P287)","v":""}]
[null,null,null,null,null,null,{"$f":"IF(COUNTIF(D288,\"N\"),\"\",IF(ISBLANK(E288),\"\",IF(ISBLANK(F288),IF(ISBLANK(L288), _xlfn.DAYS(TODAY(),E288), _xlfn.DAYS(L288,E288)), _xlfn.DAYS(F288,E288))))","v":""},null,{"$f":"IF(COUNTIF(D288,\"N\"),\"\",IF(ISBLANK(F288),\"\",IF(ISBLANK(H288),IF(ISBLANK(K288),_xlfn.DAYS(TODAY(),F288),_xlfn.DAYS(K288,F288)),_xlfn.DAYS(H288,F288))))","v":""},null,null,null,{"$f":"IF(COUNTIF(D288,\"N\"),\"ON HOLD\",IF(ISBLANK(K288),IF(ISBLANK(E288),\"\",IF(ISBLANK(F288),\"NO\",\"YES\")),\"NO\"))","v":""},{"$f":"IF(COUNTIF(D288,\"N\"),\"\",IF(ISBLANK(F288),\"\",IF(ISBLANK(K288),_xlfn.DAYS(TODAY(),F288),_xlfn.DAYS(K288,F288))))","v":""},null,null,null,{"$f":"IF(ISBLANK(P288), \"\", P288-Q288)","v":""},{"$f":"IF(ISBLANK(Q288), \"\", Q288/P288)","v":""}]
[null,null,null,null,null,null,{"$f":"IF(COUNTIF(D289,\"N\"),\"\",IF(ISBLANK(E289),\"\",IF(ISBLANK(F289),IF(ISBLANK(L289), _xlfn.DAYS(TODAY(),E289), _xlfn.DAYS(L289,E289)), _xlfn.DAYS(F289,E289))))","v":""},null,{"$f":"IF(COUNTIF(D289,\"N\"),\"\",IF(ISBLANK(F289),\"\",IF(ISBLANK(H289),IF(ISBLANK(K289),_xlfn.DAYS(TODAY(),F289),_xlfn.DAYS(K289,F289)),_xlfn.DAYS(H289,F289))))","v":""},null,null,null,{"$f":"IF(COUNTIF(D289,\"N\"),\"ON HOLD\",IF(ISBLANK(K289),IF(ISBLANK(E289),\"\",IF(ISBLANK(F289),\"NO\",\"YES\")),\"NO\"))","v":""},{"$f":"IF(COUNTIF(D289,\"N\"),\"\",IF(ISBLANK(F289),\"\",IF(ISBLANK(K289),_xlfn.DAYS(TODAY(),F289),_xlfn.DAYS(K289,F289))))","v":""},null,null,null,{"$f":"IF(ISBLANK(P289), \"\", P289-Q289)","v":""},{"$f":"IF(ISBLANK(Q289), \"\", Q289/P289)","v":""}]
[null,null,null,null,null,null,{"$f":"IF(COUNTIF(D290,\"N\"),\"\",IF(ISBLANK(E290),\"\",IF(ISBLANK(F290),IF(ISBLANK(L290), _xlfn.DAYS(TODAY(),E290), _xlfn.DAYS(L290,E290)), _xlfn.DAYS(F290,E290))))","v":""},null,{"$f":"IF(COUNTIF(D290,\"N\"),\"\",IF(ISBLANK(F290),\"\",IF(ISBLANK(H290),IF(ISBLANK(K290),_xlfn.DAYS(TODAY(),F290),_xlfn.DAYS(K290,F290)),_xlfn.DAYS(H290,F290))))","v":""},null,null,null,{"$f":"IF(COUNTIF(D290,\"N\"),\"ON HOLD\",IF(ISBLANK(K290),IF(ISBLANK(E290),\"\",IF(ISBLANK(F290),\"NO\",\"YES\")),\"NO\"))","v":""},{"$f":"IF(COUNTIF(D290,\"N\"),\"\",IF(ISBLANK(F290),\"\",IF(ISBLANK(K290),_xlfn.DAYS(TODAY(),F290),_xlfn.DAYS(K290,F290))))","v":""},null,null,null,{"$f":"IF(ISBLANK(P290), \"\", P290-Q290)","v":""},{"$f":"IF(ISBLANK(Q290), \"\", Q290/P290)","v":""}]
[null,null,null,null,null,null,{"$f":"IF(COUNTIF(D291,\"N\"),\"\",IF(ISBLANK(E291),\"\",IF(ISBLANK(F291),IF(ISBLANK(L291), _xlfn.DAYS(TODAY(),E291), _xlfn.DAYS(L291,E291)), _xlfn.DAYS(F291,E291))))","v":""},null,{"$f":"IF(COUNTIF(D291,\"N\"),\"\",IF(ISBLANK(F291),\"\",IF(ISBLANK(H291),IF(ISBLANK(K291),_xlfn.DAYS(TODAY(),F291),_xlfn.DAYS(K291,F291)),_xlfn.DAYS(H291,F291))))","v":""},null,null,null,{"$f":"IF(COUNTIF(D291,\"N\"),\"ON HOLD\",IF(ISBLANK(K291),IF(ISBLANK(E291),\"\",IF(ISBLANK(F291),\"NO\",\"YES\")),\"NO\"))","v":""},{"$f":"IF(COUNTIF(D291,\"N\"),\"\",IF(ISBLANK(F291),\"\",IF(ISBLANK(K291),_xlfn.DAYS(TODAY(),F291),_xlfn.DAYS(K291,F291))))","v":""},null,null,null,{"$f":"IF(ISBLANK(P291), \"\", P291-Q291)","v":""},{"$f":"IF(ISBLANK(Q291), \"\", Q291/P291)","v":""}]
[null,null,null,null,null,null,{"$f":"IF(COUNTIF(D292,\"N\"),\"\",IF(ISBLANK(E292),\"\",IF(ISBLANK(F292),IF(ISBLANK(L292), _xlfn.DAYS(TODAY(),E292), _xlfn.DAYS(L292,E292)), _xlfn.DAYS(F292,E292))))","v":""},null,{"$f":"IF(COUNTIF(D292,\"N\"),\"\",IF(ISBLANK(F292),\"\",IF(ISBLANK(H292),IF(ISBLANK(K292),_xlfn.DAYS(TODAY(),F292),_xlfn.DAYS(K292,F292)),_xlfn.DAYS(H292,F292))))","v":""},null,null,null,{"$f":"IF(COUNTIF(D292,\"N\"),\"ON HOLD\",IF(ISBLANK(K292),IF(ISBLANK(E292),\"\",IF(ISBLANK(F292),\"NO\",\"YES\")),\"NO\"))","v":""},{"$f":"IF(COUNTIF(D292,\"N\"),\"\",IF(ISBLANK(F292),\"\",IF(ISBLANK(K292),_xlfn.DAYS(TODAY(),F292),_xlfn.DAYS(K292,F292))))","v":""},null,null,null,{"$f":"IF(ISBLANK(P292), \"\", P292-Q292)","v":""},{"$f":"IF(ISBLANK(Q292), \"\", Q292/P292)","v":""}]
[null,null,null,null,null,null,{"$f":"IF(COUNTIF(D293,\"N\"),\"\",IF(ISBLANK(E293),\"\",IF(ISBLANK(F293),IF(ISBLANK(L293), _xlfn.DAYS(TODAY(),E293), _xlfn.DAYS(L293,E293)), _xlfn.DAYS(F293,E293))))","v":""},null,{"$f":"IF(COUNTIF(D293,\"N\"),\"\",IF(ISBLANK(F293),\"\",IF(ISBLANK(H293),IF(ISBLANK(K293),_xlfn.DAYS(TODAY(),F293),_xlfn.DAYS(K293,F293)),_xlfn.DAYS(H293,F293))))","v":""},null,null,null,{"$f":"IF(COUNTIF(D293,\"N\"),\"ON HOLD\",IF(ISBLANK(K293),IF(ISBLANK(E293),\"\",IF(ISBLANK(F293),\"NO\",\"YES\")),\"NO\"))","v":""},{"$f":"IF(COUNTIF(D293,\"N\"),\"\",IF(ISBLANK(F293),\"\",IF(ISBLANK(K293),_xlfn.DAYS(TODAY(),F293),_xlfn.DAYS(K293,F293))))","v":""},null,null,null,{"$f":"IF(ISBLANK(P293), \"\", P293-Q293)","v":""},{"$f":"IF(ISBLANK(Q293), \"\", Q293/P293)","v":""}]
[null,null,null,null,null,null,{"$f":"IF(COUNTIF(D294,\"N\"),\"\",IF(ISBLANK(E294),\"\",IF(ISBLANK(F294),IF(ISBLANK(L294), _xlfn.DAYS(TODAY(),E294), _xlfn.DAYS(L294,E294)), _xlfn.DAYS(F294,E294))))","v":""},null,{"$f":"IF(COUNTIF(D294,\"N\"),\"\",IF(ISBLANK(F294),\"\",IF(ISBLANK(H294),IF(ISBLANK(K294),_xlfn.DAYS(TODAY(),F294),_xlfn.DAYS(K294,F294)),_xlfn.DAYS(H294,F294))))","v":""},null,null,null,{"$f":"IF(COUNTIF(D294,\"N\"),\"ON HOLD\",IF(ISBLANK(K294),IF(ISBLANK(E294),\"\",IF(ISBLANK(F294),\"NO\",\"YES\")),\"NO\"))","v":""},{"$f":"IF(COUNTIF(D294,\"N\"),\"\",IF(ISBLANK(F294),\"\",IF(ISBLANK(K294),_xlfn.DAYS(TODAY(),F294),_xlfn.DAYS(K294,F294))))","v":""},null,null,null,{"$f":"IF(ISBLANK(P294), \"\", P294-Q294)","v":""},{"$f":"IF(ISBLANK(Q294), \"\", Q294/P294)","v":""}]
[null,null,null,null,null,null,{"$f":"IF(COUNTIF(D295,\"N\"),\"\",IF(ISBLANK(E295),\"\",IF(ISBLANK(F295),IF(ISBLANK(L295), _xlfn.DAYS(TODAY(),E295), _xlfn.DAYS(L295,E295)), _xlfn.DAYS(F295,E295))))","v":""},null,{"$f":"IF(COUNTIF(D295,\"N\"),\"\",IF(ISBLANK(F295),\"\",IF(ISBLANK(H295),IF(ISBLANK(K295),_xlfn.DAYS(TODAY(),F295),_xlfn.DAYS(K295,F295)),_xlfn.DAYS(H295,F295))))","v":""},null,null,null,{"$f":"IF(COUNTIF(D295,\"N\"),\"ON HOLD\",IF(ISBLANK(K295),IF(ISBLANK(E295),\"\",IF(ISBLANK(F295),\"NO\",\"YES\")),\"NO\"))","v":""},{"$f":"IF(COUNTIF(D295,\"N\"),\"\",IF(ISBLANK(F295),\"\",IF(ISBLANK(K295),_xlfn.DAYS(TODAY(),F295),_xlfn.DAYS(K295,F295))))","v":""},null,null,null,{"$f":"IF(ISBLANK(P295), \"\", P295-Q295)","v":""},{"$f":"IF(ISBLANK(Q295), \"\", Q295/P295)","v":""}]
[null,null,null,null,null,null,{"$f":"IF(COUNTIF(D296,\"N\"),\"\",IF(ISBLANK(E296),\"\",IF(ISBLANK(F296),IF(ISBLANK(L296), _xlfn.DAYS(TODAY(),E296), _xlfn.DAYS(L296,E296)), _xlfn.DAYS(F296,E296))))","v":""},null,{"$f":"IF(COUNTIF(D296,\"N\"),\"\",IF(ISBLANK(F296),\"\",IF(ISBLANK(H296),IF(ISBLANK(K296),_xlfn.DAYS(TODAY(),F296),_xlfn.DAYS(K296,F296)),_xlfn.DAYS(H296,F296))))","v":""},null,null,null,{"$f":"IF(COUNTIF(D296,\"N\"),\"ON HOLD\",IF(ISBLANK(K296),IF(ISBLANK(E296),\"\",IF(ISBLANK(F296),\"NO\",\"YES\")),\"NO\"))","v":""},{"$f":"IF(COUNTIF(D296,\"N\"),\"\",IF(ISBLANK(F296),\"\",IF(ISBLANK(K296),_xlfn.DAYS(TODAY(),F296),_xlfn.DAYS(K296,F296))))","v":""},null,null,null,{"$f":"IF(ISBLANK(P296), \"\", P296-Q296)","v":""},{"$f":"IF(ISBLANK(Q296), \"\", Q296/P296)","v":""}]
[null,null,null,null,null,null,{"$f":"IF(COUNTIF(D297,\"N\"),\"\",IF(ISBLANK(E297),\"\",IF(ISBLANK(F297),IF(ISBLANK(L297), _xlfn.DAYS(TODAY(),E297), _xlfn.DAYS(L297,E297)), _xlfn.DAYS(F297,E297))))","v":""},null,{"$f":"IF(COUNTIF(D297,\"N\"),\"\",IF(ISBLANK(F297),\"\",IF(ISBLANK(H297),IF(ISBLANK(K297),_xlfn.DAYS(TODAY(),F297),_xlfn.DAYS(K297,F297)),_xlfn.DAYS(H297,F297))))","v":""},null,null,null,{"$f":"IF(COUNTIF(D297,\"N\"),\"ON HOLD\",IF(ISBLANK(K297),IF(ISBLANK(E297),\"\",IF(ISBLANK(F297),\"NO\",\"YES\")),\"NO\"))","v":""},{"$f":"IF(COUNTIF(D297,\"N\"),\"\",IF(ISBLANK(F297),\"\",IF(ISBLANK(K297),_xlfn.DAYS(TODAY(),F297),_xlfn.DAYS(K297,F297))))","v":""},null,null,null,{"$f":"IF(ISBLANK(P297), \"\", P297-Q297)","v":""},{"$f":"IF(ISBLANK(Q297), \"\", Q297/P297)","v":""}]
[null,null,null,null,null,null,{"$f":"IF(COUNTIF(D298,\"N\"),\"\",IF(ISBLANK(E298),\"\",IF(ISBLANK(F298),IF(ISBLANK(L298), _xlfn.DAYS(TODAY(),E298), _xlfn.DAYS(L298,E298)), _xlfn.DAYS(F298,E298))))","v":""},null,{"$f":"IF(COUNTIF(D298,\"N\"),\"\",IF(ISBLANK(F298),\"\",IF(ISBLANK(H298),IF(ISBLANK(K298),_xlfn.DAYS(TODAY(),F298),_xlfn.DAYS(K298,F298)),_xlfn.DAYS(H298,F298))))","v":""},null,null,null,{"$f":"IF(COUNTIF(D298,\"N\"),\"ON HOLD\",IF(ISBLANK(K298),IF(ISBLANK(E298),\"\",IF(ISBLANK(F298),\"NO\",\"YES\")),\"NO\"))","v":""},{"$f":"IF(COUNTIF(D298,\"N\"),\"\",IF(ISBLANK(F298),\"\",IF(ISBLANK(K298),_xlfn.DAYS(TODAY(),F298),_xlfn.DAYS(K298,F298))))","v":""},null,null,null,{"$f":"IF(ISBLANK(P298), \"\", P298-Q298)","v":""},{"$f":"IF(ISBLANK(Q298), \"\", Q298/P298)","v":""}]
[null,null,null,null,null,null,{"$f":"IF(COUNTIF(D299,\"N\"),\"\",IF(ISBLANK(E299),\"\",IF(ISBLANK(F299),IF(ISBLANK(L299), _xlfn.DAYS(TODAY(),E299), _xlfn.DAYS(L299,E299)), _xlfn.DAYS(F299,E299))))","v":""},null,{"$f":"IF(COUNTIF(D299,\"N\"),\"\",IF(ISBLANK(F299),\"\",IF(ISBLANK(H299),IF(ISBLANK(K299),_xlfn.DAYS(TODAY(),F299),_xlfn.DAYS(K299,F299)),_xlfn.DAYS(H299,F299))))","v":""},null,null,null,{"$f":"IF(COUNTIF(D299,\"N\"),\"ON HOLD\",IF(ISBLANK(K299),IF(ISBLANK(E299),\"\",IF(ISBLANK(F299),\"NO\",\"YES\")),\"NO\"))","v":""},{"$f":"IF(COUNTIF(D299,\"N\"),\"\",IF(ISBLANK(F299),\"\",IF(ISBLANK(K299),_xlfn.DAYS(TODAY(),F299),_xlfn.DAYS(K299,F299))))","v":""},null,null,null,{"$f":"IF(ISBLANK(P299), \"\", P299-Q299)","v":""},{"$f":"IF(ISBLANK(Q299), \"\", Q299/P299)","v":""}]
[null,null,null,null,null,null,{"$f":"IF(COUNTIF(D300,\"N\"),\"\",IF(ISBLANK(E300),\"\",IF(ISBLANK(F300),IF(ISBLANK(L300), _xlfn.DAYS(TODAY(),E300), _xlfn.DAYS(L300,E300)), _xlfn.DAYS(F300,E300))))","v":""},null,{"$f":"IF(COUNTIF(D300,\"N\"),\"\",IF(ISBLANK(F300),\"\",IF(ISBLANK(H300),IF(ISBLANK(K300),_xlfn.DAYS(TODAY(),F300),_xlfn.DAYS(K300,F300)),_xlfn.DAYS(H300,F300))))","v":""},null,null,null,{"$f":"IF(COUNTIF(D300,\"N\"),\"ON HOLD\",IF(ISBLANK(K300),IF(ISBLANK(E300),\"\",IF(ISBLANK(F300),\"NO\",\"YES\")),\"NO\"))","v":""},{"$f":"IF(COUNTIF(D300,\"N\"),\"\",IF(ISBLANK(F300),\"\",IF(ISBLANK(K300),_xlfn.DAYS(TODAY(),F300),_xlfn.DAYS(K300,F300))))","v":""},null,null,null,{"$f":"IF(ISBLANK(P300), \"\", P300-Q300)","v":""},{"$f":"IF(ISBLANK(Q300), \"\", Q300/P300)","v":""}]
[null,null,null,null,null,null,{"$f":"IF(COUNTIF(D301,\"N\"),\"\",IF(ISBLANK(E301),\"\",IF(ISBLANK(F301),IF(ISBLANK(L301), _xlfn.DAYS(TODAY(),E301), _xlfn.DAYS(L301,E301)), _xlfn.DAYS(F301,E301))))","v":""},null,{"$f":"IF(COUNTIF(D301,\"N\"),\"\",IF(ISBLANK(F301),\"\",IF(ISBLANK(H301),IF(ISBLANK(K301),_xlfn.DAYS(TODAY(),F301),_xlfn.DAYS(K301,F301)),_xlfn.DAYS(H301,F301))))","v":""},null,null,null,{"$f":"IF(COUNTIF(D301,\"N\"),\"ON HOLD\",IF(ISBLANK(K301),IF(ISBLANK(E301),\"\",IF(ISBLANK(F301),\"NO\",\"YES\")),\"NO\"))","v":""},{"$f":"IF(COUNTIF(D301,\"N\"),\"\",IF(ISBLANK(F301),\"\",IF(ISBLANK(K301),_xlfn.DAYS(TODAY(),F301),_xlfn.DAYS(K301,F301))))","v":""},null,null,null,{"$f":"IF(ISBLANK(P301), \"\", P301-Q301)","v":""},{"$f":"IF(ISBLANK(Q301), \"\", Q301/P301)","v":""}]
[null,null,null,null,null,null,{"$f":"IF(COUNTIF(D302,\"N\"),\"\",IF(ISBLANK(E302),\"\",IF(ISBLANK(F302),IF(ISBLANK(L302), _xlfn.DAYS(TODAY(),E302), _xlfn.DAYS(L302,E302)), _xlfn.DAYS(F302,E302))))","v":""},null,{"$f":"IF(COUNTIF(D302,\"N\"),\"\",IF(ISBLANK(F302),\"\",IF(ISBLANK(H302),IF(ISBLANK(K302),_xlfn.DAYS(TODAY(),F302),_xlfn.DAYS(K302,F302)),_xlfn.DAYS(H302,F302))))","v":""},null,null,null,{"$f":"IF(COUNTIF(D302,\"N\"),\"ON HOLD\",IF(ISBLANK(K302),IF(ISBLANK(E302),\"\",IF(ISBLANK(F302),\"NO\",\"YES\")),\"NO\"))","v":""},{"$f":"IF(COUNTIF(D302,\"N\"),\"\",IF(ISBLANK(F302),\"\",IF(ISBLANK(K302),_xlfn.DAYS(TODAY(),F302),_xlfn.DAYS(K302,F302))))","v":""},null,null,null,{"$f":"IF(ISBLANK(P302), \"\", P302-Q302)","v":""},{"$f":"IF(ISBLANK(Q302), \"\", Q302/P302)","v":""}]
[null,null,null,null,null,null,{"$f":"IF(COUNTIF(D303,\"N\"),\"\",IF(ISBLANK(E303),\"\",IF(ISBLANK(F303),IF(ISBLANK(L303), _xlfn.DAYS(TODAY(),E303), _xlfn.DAYS(L303,E303)), _xlfn.DAYS(F303,E303))))","v":""},null,{"$f":"IF(COUNTIF(D303,\"N\"),\"\",IF(ISBLANK(F303),\"\",IF(ISBLANK(H303),IF(ISBLANK(K303),_xlfn.DAYS(TODAY(),F303),_xlfn.DAYS(K303,F303)),_xlfn.DAYS(H303,F303))))","v":""},null,null,null,{"$f":"IF(COUNTIF(D303,\"N\"),\"ON HOLD\",IF(ISBLANK(K303),IF(ISBLANK(E303),\"\",IF(ISBLANK(F303),\"NO\",\"YES\")),\"NO\"))","v":""},{"$f":"IF(COUNTIF(D303,\"N\"),\"\",IF(ISBLANK(F303),\"\",IF(ISBLANK(K303),_xlfn.DAYS(TODAY(),F303),_xlfn.DAYS(K303,F303))))","v":""},null,null,null,{"$f":"IF(ISBLANK(P303), \"\", P303-Q303)","v":""},{"$f":"IF(ISBLANK(Q303), \"\", Q303/P303)","v":""}]
[null,null,null,null,null,null,{"$f":"IF(COUNTIF(D304,\"N\"),\"\",IF(ISBLANK(E304),\"\",IF(ISBLANK(F304),IF(ISBLANK(L304), _xlfn.DAYS(TODAY(),E304), _xlfn.DAYS(L304,E304)), _xlfn.DAYS(F304,E304))))","v":""},null,{"$f":"IF(COUNTIF(D304,\"N\"),\"\",IF(ISBLANK(F304),\"\",IF(ISBLANK(H304),IF(ISBLANK(K304),_xlfn.DAYS(TODAY(),F304),_xlfn.DAYS(K304,F304)),_xlfn.DAYS(H304,F304))))","v":""},null,null,null,{"$f":"IF(COUNTIF(D304,\"N\"),\"ON HOLD\",IF(ISBLANK(K304),IF(ISBLANK(E304),\"\",IF(ISBLANK(F304),\"NO\",\"YES\")),\"NO\"))","v":""},{"$f":"IF(COUNTIF(D304,\"N\"),\"\",IF(ISBLANK(F304),\"\",IF(ISBLANK(K304),_xlfn.DAYS(TODAY(),F304),_xlfn.DAYS(K304,F304))))","v":""},null,null,null,{"$f":"IF(ISBLANK(P304), \"\", P304-Q304)","v":""},{"$f":"IF(ISBLANK(Q304), \"\", Q304/P304)","v":""}]
[null,null,null,null,null,null,{"$f":"IF(COUNTIF(D305,\"N\"),\"\",IF(ISBLANK(E305),\"\",IF(ISBLANK(F305),IF(ISBLANK(L305), _xlfn.DAYS(TODAY(),E305), _xlfn.DAYS(L305,E305)), _xlfn.DAYS(F305,E305))))","v":""},null,{"$f":"IF(COUNTIF(D305,\"N\"),\"\",IF(ISBLANK(F305),\"\",IF(ISBLANK(H305),IF(ISBLANK(K305),_xlfn.DAYS(TODAY(),F305),_xlfn.DAYS(K305,F305)),_xlfn.DAYS(H305,F305))))","v":""},null,null,null,{"$f":"IF(COUNTIF(D305,\"N\"),\"ON HOLD\",IF(ISBLANK(K305),IF(ISBLANK(E305),\"\",IF(ISBLANK(F305),\"NO\",\"YES\")),\"NO\"))","v":""},{"$f":"IF(COUNTIF(D305,\"N\"),\"\",IF(ISBLANK(F305),\"\",IF(ISBLANK(K305),_xlfn.DAYS(TODAY(),F305),_xlfn.DAYS(K305,F305))))","v":""},null,null,null,{"$f":"IF(ISBLANK(P305), \"\", P305-Q305)","v":""},{"$f":"IF(ISBLANK(Q305), \"\", Q305/P305)","v":""}]
[null,null,null,null,null,null,{"$f":"IF(COUNTIF(D306,\"N\"),\"\",IF(ISBLANK(E306),\"\",IF(ISBLANK(F306),IF(ISBLANK(L306), _xlfn.DAYS(TODAY(),E306), _xlfn.DAYS(L306,E306)), _xlfn.DAYS(F306,E306))))","v":""},null,{"$f":"IF(COUNTIF(D306,\"N\"),\"\",IF(ISBLANK(F306),\"\",IF(ISBLANK(H306),IF(ISBLANK(K306),_xlfn.DAYS(TODAY(),F306),_xlfn.DAYS(K306,F306)),_xlfn.DAYS(H306,F306))))","v":""},null,null,null,{"$f":"IF(COUNTIF(D306,\"N\"),\"ON HOLD\",IF(ISBLANK(K306),IF(ISBLANK(E306),\"\",IF(ISBLANK(F306),\"NO\",\"YES\")),\"NO\"))","v":""},{"$f":"IF(COUNTIF(D306,\"N\"),\"\",IF(ISBLANK(F306),\"\",IF(ISBLANK(K306),_xlfn.DAYS(TODAY(),F306),_xlfn.DAYS(K306,F306))))","v":""},null,null,null,{"$f":"IF(ISBLANK(P306), \"\", P306-Q306)","v":""},{"$f":"IF(ISBLANK(Q306), \"\", Q306/P306)","v":""}]
[null,null,null,null,null,null,{"$f":"IF(COUNTIF(D307,\"N\"),\"\",IF(ISBLANK(E307),\"\",IF(ISBLANK(F307),IF(ISBLANK(L307), _xlfn.DAYS(TODAY(),E307), _xlfn.DAYS(L307,E307)), _xlfn.DAYS(F307,E307))))","v":""},null,{"$f":"IF(COUNTIF(D307,\"N\"),\"\",IF(ISBLANK(F307),\"\",IF(ISBLANK(H307),IF(ISBLANK(K307),_xlfn.DAYS(TODAY(),F307),_xlfn.DAYS(K307,F307)),_xlfn.DAYS(H307,F307))))","v":""},null,null,null,{"$f":"IF(COUNTIF(D307,\"N\"),\"ON HOLD\",IF(ISBLANK(K307),IF(ISBLANK(E307),\"\",IF(ISBLANK(F307),\"NO\",\"YES\")),\"NO\"))","v":""},{"$f":"IF(COUNTIF(D307,\"N\"),\"\",IF(ISBLANK(F307),\"\",IF(ISBLANK(K307),_xlfn.DAYS(TODAY(),F307),_xlfn.DAYS(K307,F307))))","v":""},null,null,null,{"$f":"IF(ISBLANK(P307), \"\", P307-Q307)","v":""},{"$f":"IF(ISBLANK(Q307), \"\", Q307/P307)","v":""}]
[null,null,null,null,null,null,{"$f":"IF(COUNTIF(D308,\"N\"),\"\",IF(ISBLANK(E308),\"\",IF(ISBLANK(F308),IF(ISBLANK(L308), _xlfn.DAYS(TODAY(),E308), _xlfn.DAYS(L308,E308)), _xlfn.DAYS(F308,E308))))","v":""},null,{"$f":"IF(COUNTIF(D308,\"N\"),\"\",IF(ISBLANK(F308),\"\",IF(ISBLANK(H308),IF(ISBLANK(K308),_xlfn.DAYS(TODAY(),F308),_xlfn.DAYS(K308,F308)),_xlfn.DAYS(H308,F308))))","v":""},null,null,null,{"$f":"IF(COUNTIF(D308,\"N\"),\"ON HOLD\",IF(ISBLANK(K308),IF(ISBLANK(E308),\"\",IF(ISBLANK(F308),\"NO\",\"YES\")),\"NO\"))","v":""},{"$f":"IF(COUNTIF(D308,\"N\"),\"\",IF(ISBLANK(F308),\"\",IF(ISBLANK(K308),_xlfn.DAYS(TODAY(),F308),_xlfn.DAYS(K308,F308))))","v":""},null,null,null,{"$f":"IF(ISBLANK(P308), \"\", P308-Q308)","v":""},{"$f":"IF(ISBLANK(Q308), \"\", Q308/P308)","v":""}]
[null,null,null,null,null,null,{"$f":"IF(COUNTIF(D309,\"N\"),\"\",IF(ISBLANK(E309),\"\",IF(ISBLANK(F309),IF(ISBLANK(L309), _xlfn.DAYS(TODAY(),E309), _xlfn.DAYS(L309,E309)), _xlfn.DAYS(F309,E309))))","v":""},null,{"$f":"IF(COUNTIF(D309,\"N\"),\"\",IF(ISBLANK(F309),\"\",IF(ISBLANK(H309),IF(ISBLANK(K309),_xlfn.DAYS(TODAY(),F309),_xlfn.DAYS(K309,F309)),_xlfn.DAYS(H309,F309))))","v":""},null,null,null,{"$f":"IF(COUNTIF(D309,\"N\"),\"ON HOLD\",IF(ISBLANK(K309),IF(ISBLANK(E309),\"\",IF(ISBLANK(F309),\"NO\",\"YES\")),\"NO\"))","v":""},{"$f":"IF(COUNTIF(D309,\"N\"),\"\",IF(ISBLANK(F309),\"\",IF(ISBLANK(K309),_xlfn.DAYS(TODAY(),F309),_xlfn.DAYS(K309,F309))))","v":""},null,null,null,{"$f":"IF(ISBLANK(P309), \"\", P309-Q309)","v":""},{"$f":"IF(ISBLANK(Q309), \"\", Q309/P309)","v":""}]
[null,null,null,null,null,null,{"$f":"IF(COUNTIF(D310,\"N\"),\"\",IF(ISBLANK(E310),\"\",IF(ISBLANK(F310),IF(ISBLANK(L310), _xlfn.DAYS(TODAY(),E310), _xlfn.DAYS(L310,E310)), _xlfn.DAYS(F310,E310))))","v":""},null,{"$f":"IF(COUNTIF(D310,\"N\"),\"\",IF(ISBLANK(F310),\"\",IF(ISBLANK(H310),IF(ISBLANK(K310),_xlfn.DAYS(TODAY(),F310),_xlfn.DAYS(K310,F310)),_xlfn.DAYS(H310,F310))))","v":""},null,null,null,{"$f":"IF(COUNTIF(D310,\"N\"),\"ON HOLD\",IF(ISBLANK(K310),IF(ISBLANK(E310),\"\",IF(ISBLANK(F310),\"NO\",\"YES\")),\"NO\"))","v":""},{"$f":"IF(COUNTIF(D310,\"N\"),\"\",IF(ISBLANK(F310),\"\",IF(ISBLANK(K310),_xlfn.DAYS(TODAY(),F310),_xlfn.DAYS(K310,F310))))","v":""},null,null,null,{"$f":"IF(ISBLANK(P310), \"\", P310-Q310)","v":""},{"$f":"IF(ISBLANK(Q310), \"\", Q310/P310)","v":""}]
[null,null,null,null,null,null,{"$f":"IF(COUNTIF(D311,\"N\"),\"\",IF(ISBLANK(E311),\"\",IF(ISBLANK(F311),IF(ISBLANK(L311), _xlfn.DAYS(TODAY(),E311), _xlfn.DAYS(L311,E311)), _xlfn.DAYS(F311,E311))))","v":""},null,{"$f":"IF(COUNTIF(D311,\"N\"),\"\",IF(ISBLANK(F311),\"\",IF(ISBLANK(H311),IF(ISBLANK(K311),_xlfn.DAYS(TODAY(),F311),_xlfn.DAYS(K311,F311)),_xlfn.DAYS(H311,F311))))","v":""},null,null,null,{"$f":"IF(COUNTIF(D311,\"N\"),\"ON HOLD\",IF(ISBLANK(K311),IF(ISBLANK(E311),\"\",IF(ISBLANK(F311),\"NO\",\"YES\")),\"NO\"))","v":""},{"$f":"IF(COUNTIF(D311,\"N\"),\"\",IF(ISBLANK(F311),\"\",IF(ISBLANK(K311),_xlfn.DAYS(TODAY(),F311),_xlfn.DAYS(K311,F311))))","v":""},null,null,null,{"$f":"IF(ISBLANK(P311), \"\", P311-Q311)","v":""},{"$f":"IF(ISBLANK(Q311), \"\", Q311/P311)","v":""}]
[null,null,null,null,null,null,{"$f":"IF(COUNTIF(D312,\"N\"),\"\",IF(ISBLANK(E312),\"\",IF(ISBLANK(F312),IF(ISBLANK(L312), _xlfn.DAYS(TODAY(),E312), _xlfn.DAYS(L312,E312)), _xlfn.DAYS(F312,E312))))","v":""},null,{"$f":"IF(COUNTIF(D312,\"N\"),\"\",IF(ISBLANK(F312),\"\",IF(ISBLANK(H312),IF(ISBLANK(K312),_xlfn.DAYS(TODAY(),F312),_xlfn.DAYS(K312,F312)),_xlfn.DAYS(H312,F312))))","v":""},null,null,null,{"$f":"IF(COUNTIF(D312,\"N\"),\"ON HOLD\",IF(ISBLANK(K312),IF(ISBLANK(E312),\"\",IF(ISBLANK(F312),\"NO\",\"YES\")),\"NO\"))","v":""},{"$f":"IF(COUNTIF(D312,\"N\"),\"\",IF(ISBLANK(F312),\"\",IF(ISBLANK(K312),_xlfn.DAYS(TODAY(),F312),_xlfn.DAYS(K312,F312))))","v":""},null,null,null,{"$f":"IF(ISBLANK(P312), \"\", P312-Q312)","v":""},{"$f":"IF(ISBLANK(Q312), \"\", Q312/P312)","v":""}]
[null,null,null,null,null,null,{"$f":"IF(COUNTIF(D313,\"N\"),\"\",IF(ISBLANK(E313),\"\",IF(ISBLANK(F313),IF(ISBLANK(L313), _xlfn.DAYS(TODAY(),E313), _xlfn.DAYS(L313,E313)), _xlfn.DAYS(F313,E313))))","v":""},null,{"$f":"IF(COUNTIF(D313,\"N\"),\"\",IF(ISBLANK(F313),\"\",IF(ISBLANK(H313),IF(ISBLANK(K313),_xlfn.DAYS(TODAY(),F313),_xlfn.DAYS(K313,F313)),_xlfn.DAYS(H313,F313))))","v":""},null,null,null,{"$f":"IF(COUNTIF(D313,\"N\"),\"ON HOLD\",IF(ISBLANK(K313),IF(ISBLANK(E313),\"\",IF(ISBLANK(F313),\"NO\",\"YES\")),\"NO\"))","v":""},{"$f":"IF(COUNTIF(D313,\"N\"),\"\",IF(ISBLANK(F313),\"\",IF(ISBLANK(K313),_xlfn.DAYS(TODAY(),F313),_xlfn.DAYS(K313,F313))))","v":""},null,null,null,{"$f":"IF(ISBLANK(P313), \"\", P313-Q313)","v":""},{"$f":"IF(ISBLANK(Q313), \"\", Q313/P313)","v":""}]
[null,null,null,null,null,null,{"$f":"IF(COUNTIF(D314,\"N\"),\"\",IF(ISBLANK(E314),\"\",IF(ISBLANK(F314),IF(ISBLANK(L314), _xlfn.DAYS(TODAY(),E314), _xlfn.DAYS(L314,E314)), _xlfn.DAYS(F314,E314))))","v":""},null,{"$f":"IF(COUNTIF(D314,\"N\"),\"\",IF(ISBLANK(F314),\"\",IF(ISBLANK(H314),IF(ISBLANK(K314),_xlfn.DAYS(TODAY(),F314),_xlfn.DAYS(K314,F314)),_xlfn.DAYS(H314,F314))))","v":""},null,null,null,{"$f":"IF(COUNTIF(D314,\"N\"),\"ON HOLD\",IF(ISBLANK(K314),IF(ISBLANK(E314),\"\",IF(ISBLANK(F314),\"NO\",\"YES\")),\"NO\"))","v":""},{"$f":"IF(COUNTIF(D314,\"N\"),\"\",IF(ISBLANK(F314),\"\",IF(ISBLANK(K314),_xlfn.DAYS(TODAY(),F314),_xlfn.DAYS(K314,F314))))","v":""},null,null,null,{"$f":"IF(ISBLANK(P314), \"\", P314-Q314)","v":""},{"$f":"IF(ISBLANK(Q314), \"\", Q314/P314)","v":""}]
[null,null,null,null,null,null,{"$f":"IF(COUNTIF(D315,\"N\"),\"\",IF(ISBLANK(E315),\"\",IF(ISBLANK(F315),IF(ISBLANK(L315), _xlfn.DAYS(TODAY(),E315), _xlfn.DAYS(L315,E315)), _xlfn.DAYS(F315,E315))))","v":""},null,{"$f":"IF(COUNTIF(D315,\"N\"),\"\",IF(ISBLANK(F315),\"\",IF(ISBLANK(H315),IF(ISBLANK(K315),_xlfn.DAYS(TODAY(),F315),_xlfn.DAYS(K315,F315)),_xlfn.DAYS(H315,F315))))","v":""},null,null,null,{"$f":"IF(COUNTIF(D315,\"N\"),\"ON HOLD\",IF(ISBLANK(K315),IF(ISBLANK(E315),\"\",IF(ISBLANK(F315),\"NO\",\"YES\")),\"NO\"))","v":""},{"$f":"IF(COUNTIF(D315,\"N\"),\"\",IF(ISBLANK(F315),\"\",IF(ISBLANK(K315),_xlfn.DAYS(TODAY(),F315),_xlfn.DAYS(K315,F315))))","v":""},null,null,null,{"$f":"IF(ISBLANK(P315), \"\", P315-Q315)","v":""},{"$f":"IF(ISBLANK(Q315), \"\", Q315/P315)","v":""}]
[null,null,null,null,null,null,{"$f":"IF(COUNTIF(D316,\"N\"),\"\",IF(ISBLANK(E316),\"\",IF(ISBLANK(F316),IF(ISBLANK(L316), _xlfn.DAYS(TODAY(),E316), _xlfn.DAYS(L316,E316)), _xlfn.DAYS(F316,E316))))","v":""},null,{"$f":"IF(COUNTIF(D316,\"N\"),\"\",IF(ISBLANK(F316),\"\",IF(ISBLANK(H316),IF(ISBLANK(K316),_xlfn.DAYS(TODAY(),F316),_xlfn.DAYS(K316,F316)),_xlfn.DAYS(H316,F316))))","v":""},null,null,null,{"$f":"IF(COUNTIF(D316,\"N\"),\"ON HOLD\",IF(ISBLANK(K316),IF(ISBLANK(E316),\"\",IF(ISBLANK(F316),\"NO\",\"YES\")),\"NO\"))","v":""},{"$f":"IF(COUNTIF(D316,\"N\"),\"\",IF(ISBLANK(F316),\"\",IF(ISBLANK(K316),_xlfn.DAYS(TODAY(),F316),_xlfn.DAYS(K316,F316))))","v":""},null,null,null,{"$f":"IF(ISBLANK(P316), \"\", P316-Q316)","v":""},{"$f":"IF(ISBLANK(Q316), \"\", Q316/P316)","v":""}]
[null,null,null,null,null,null,{"$f":"IF(COUNTIF(D317,\"N\"),\"\",IF(ISBLANK(E317),\"\",IF(ISBLANK(F317),IF(ISBLANK(L317), _xlfn.DAYS(TODAY(),E317), _xlfn.DAYS(L317,E317)), _xlfn.DAYS(F317,E317))))","v":""},null,{"$f":"IF(COUNTIF(D317,\"N\"),\"\",IF(ISBLANK(F317),\"\",IF(ISBLANK(H317),IF(ISBLANK(K317),_xlfn.DAYS(TODAY(),F317),_xlfn.DAYS(K317,F317)),_xlfn.DAYS(H317,F317))))","v":""},null,null,null,{"$f":"IF(COUNTIF(D317,\"N\"),\"ON HOLD\",IF(ISBLANK(K317),IF(ISBLANK(E317),\"\",IF(ISBLANK(F317),\"NO\",\"YES\")),\"NO\"))","v":""},{"$f":"IF(COUNTIF(D317,\"N\"),\"\",IF(ISBLANK(F317),\"\",IF(ISBLANK(K317),_xlfn.DAYS(TODAY(),F317),_xlfn.DAYS(K317,F317))))","v":""},null,null,null,{"$f":"IF(ISBLANK(P317), \"\", P317-Q317)","v":""},{"$f":"IF(ISBLANK(Q317), \"\", Q317/P317)","v":""}]
[null,null,null,null,null,null,{"$f":"IF(COUNTIF(D318,\"N\"),\"\",IF(ISBLANK(E318),\"\",IF(ISBLANK(F318),IF(ISBLANK(L318), _xlfn.DAYS(TODAY(),E318), _xlfn.DAYS(L318,E318)), _xlfn.DAYS(F318,E318))))","v":""},null,{"$f":"IF(COUNTIF(D318,\"N\"),\"\",IF(ISBLANK(F318),\"\",IF(ISBLANK(H318),IF(ISBLANK(K318),_xlfn.DAYS(TODAY(),F318),_xlfn.DAYS(K318,F318)),_xlfn.DAYS(H318,F318))))","v":""},null,null,null,{"$f":"IF(COUNTIF(D318,\"N\"),\"ON HOLD\",IF(ISBLANK(K318),IF(ISBLANK(E318),\"\",IF(ISBLANK(F318),\"NO\",\"YES\")),\"NO\"))","v":""},{"$f":"IF(COUNTIF(D318,\"N\"),\"\",IF(ISBLANK(F318),\"\",IF(ISBLANK(K318),_xlfn.DAYS(TODAY(),F318),_xlfn.DAYS(K318,F318))))","v":""},null,null,null,{"$f":"IF(ISBLANK(P318), \"\", P318-Q318)","v":""},{"$f":"IF(ISBLANK(Q318), \"\", Q318/P318)","v":""}]
[null,null,null,null,null,null,{"$f":"IF(COUNTIF(D319,\"N\"),\"\",IF(ISBLANK(E319),\"\",IF(ISBLANK(F319),IF(ISBLANK(L319), _xlfn.DAYS(TODAY(),E319), _xlfn.DAYS(L319,E319)), _xlfn.DAYS(F319,E319))))","v":""},null,{"$f":"IF(COUNTIF(D319,\"N\"),\"\",IF(ISBLANK(F319),\"\",IF(ISBLANK(H319),IF(ISBLANK(K319),_xlfn.DAYS(TODAY(),F319),_xlfn.DAYS(K319,F319)),_xlfn.DAYS(H319,F319))))","v":""},null,null,null,{"$f":"IF(COUNTIF(D319,\"N\"),\"ON HOLD\",IF(ISBLANK(K319),IF(ISBLANK(E319),\"\",IF(ISBLANK(F319),\"NO\",\"YES\")),\"NO\"))","v":""},{"$f":"IF(COUNTIF(D319,\"N\"),\"\",IF(ISBLANK(F319),\"\",IF(ISBLANK(K319),_xlfn.DAYS(TODAY(),F319),_xlfn.DAYS(K319,F319))))","v":""},null,null,null,{"$f":"IF(ISBLANK(P319), \"\", P319-Q319)","v":""},{"$f":"IF(ISBLANK(Q319), \"\", Q319/P319)","v":""}]
[null,null,null,null,null,null,{"$f":"IF(COUNTIF(D320,\"N\"),\"\",IF(ISBLANK(E320),\"\",IF(ISBLANK(F320),IF(ISBLANK(L320), _xlfn.DAYS(TODAY(),E320), _xlfn.DAYS(L320,E320)), _xlfn.DAYS(F320,E320))))","v":""},null,{"$f":"IF(COUNTIF(D320,\"N\"),\"\",IF(ISBLANK(F320),\"\",IF(ISBLANK(H320),IF(ISBLANK(K320),_xlfn.DAYS(TODAY(),F320),_xlfn.DAYS(K320,F320)),_xlfn.DAYS(H320,F320))))","v":""},null,null,null,{"$f":"IF(COUNTIF(D320,\"N\"),\"ON HOLD\",IF(ISBLANK(K320),IF(ISBLANK(E320),\"\",IF(ISBLANK(F320),\"NO\",\"YES\")),\"NO\"))","v":""},{"$f":"IF(COUNTIF(D320,\"N\"),\"\",IF(ISBLANK(F320),\"\",IF(ISBLANK(K320),_xlfn.DAYS(TODAY(),F320),_xlfn.DAYS(K320,F320))))","v":""},null,null,null,{"$f":"IF(ISBLANK(P320), \"\", P320-Q320)","v":""},{"$f":"IF(ISBLANK(Q320), \"\", Q320/P320)","v":""}]
[null,null,null,null,null,null,{"$f":"IF(COUNTIF(D321,\"N\"),\"\",IF(ISBLANK(E321),\"\",IF(ISBLANK(F321),IF(ISBLANK(L321), _xlfn.DAYS(TODAY(),E321), _xlfn.DAYS(L321,E321)), _xlfn.DAYS(F321,E321))))","v":""},null,{"$f":"IF(COUNTIF(D321,\"N\"),\"\",IF(ISBLANK(F321),\"\",IF(ISBLANK(H321),IF(ISBLANK(K321),_xlfn.DAYS(TODAY(),F321),_xlfn.DAYS(K321,F321)),_xlfn.DAYS(H321,F321))))","v":""},null,null,null,{"$f":"IF(COUNTIF(D321,\"N\"),\"ON HOLD\",IF(ISBLANK(K321),IF(ISBLANK(E321),\"\",IF(ISBLANK(F321),\"NO\",\"YES\")),\"NO\"))","v":""},{"$f":"IF(COUNTIF(D321,\"N\"),\"\",IF(ISBLANK(F321),\"\",IF(ISBLANK(K321),_xlfn.DAYS(TODAY(),F321),_xlfn.DAYS(K321,F321))))","v":""},null,null,null,{"$f":"IF(ISBLANK(P321), \"\", P321-Q321)","v":""},{"$f":"IF(ISBLANK(Q321), \"\", Q321/P321)","v":""}]
[null,null,null,null,null,null,{"$f":"IF(COUNTIF(D322,\"N\"),\"\",IF(ISBLANK(E322),\"\",IF(ISBLANK(F322),IF(ISBLANK(L322), _xlfn.DAYS(TODAY(),E322), _xlfn.DAYS(L322,E322)), _xlfn.DAYS(F322,E322))))","v":""},null,{"$f":"IF(COUNTIF(D322,\"N\"),\"\",IF(ISBLANK(F322),\"\",IF(ISBLANK(H322),IF(ISBLANK(K322),_xlfn.DAYS(TODAY(),F322),_xlfn.DAYS(K322,F322)),_xlfn.DAYS(H322,F322))))","v":""},null,null,null,{"$f":"IF(COUNTIF(D322,\"N\"),\"ON HOLD\",IF(ISBLANK(K322),IF(ISBLANK(E322),\"\",IF(ISBLANK(F322),\"NO\",\"YES\")),\"NO\"))","v":""},{"$f":"IF(COUNTIF(D322,\"N\"),\"\",IF(ISBLANK(F322),\"\",IF(ISBLANK(K322),_xlfn.DAYS(TODAY(),F322),_xlfn.DAYS(K322,F322))))","v":""},null,null,null,{"$f":"IF(ISBLANK(P322), \"\", P322-Q322)","v":""},{"$f":"IF(ISBLANK(Q322), \"\", Q322/P322)","v":""}]
[null,null,null,null,null,null,{"$f":"IF(COUNTIF(D323,\"N\"),\"\",IF(ISBLANK(E323),\"\",IF(ISBLANK(F323),IF(ISBLANK(L323), _xlfn.DAYS(TODAY(),E323), _xlfn.DAYS(L323,E323)), _xlfn.DAYS(F323,E323))))","v":""},null,{"$f":"IF(COUNTIF(D323,\"N\"),\"\",IF(ISBLANK(F323),\"\",IF(ISBLANK(H323),IF(ISBLANK(K323),_xlfn.DAYS(TODAY(),F323),_xlfn.DAYS(K323,F323)),_xlfn.DAYS(H323,F323))))","v":""},null,null,null,{"$f":"IF(COUNTIF(D323,\"N\"),\"ON HOLD\",IF(ISBLANK(K323),IF(ISBLANK(E323),\"\",IF(ISBLANK(F323),\"NO\",\"YES\")),\"NO\"))","v":""},{"$f":"IF(COUNTIF(D323,\"N\"),\"\",IF(ISBLANK(F323),\"\",IF(ISBLANK(K323),_xlfn.DAYS(TODAY(),F323),_xlfn.DAYS(K323,F323))))","v":""},null,null,null,{"$f":"IF(ISBLANK(P323), \"\", P323-Q323)","v":""},{"$f":"IF(ISBLANK(Q323), \"\", Q323/P323)","v":""}]
[null,null,null,null,null,null,{"$f":"IF(COUNTIF(D324,\"N\"),\"\",IF(ISBLANK(E324),\"\",IF(ISBLANK(F324),IF(ISBLANK(L324), _xlfn.DAYS(TODAY(),E324), _xlfn.DAYS(L324,E324)), _xlfn.DAYS(F324,E324))))","v":""},null,{"$f":"IF(COUNTIF(D324,\"N\"),\"\",IF(ISBLANK(F324),\"\",IF(ISBLANK(H324),IF(ISBLANK(K324),_xlfn.DAYS(TODAY(),F324),_xlfn.DAYS(K324,F324)),_xlfn.DAYS(H324,F324))))","v":""},null,null,null,{"$f":"IF(COUNTIF(D324,\"N\"),\"ON HOLD\",IF(ISBLANK(K324),IF(ISBLANK(E324),\"\",IF(ISBLANK(F324),\"NO\",\"YES\")),\"NO\"))","v":""},{"$f":"IF(COUNTIF(D324,\"N\"),\"\",IF(ISBLANK(F324),\"\",IF(ISBLANK(K324),_xlfn.DAYS(TODAY(),F324),_xlfn.DAYS(K324,F324))))","v":""},null,null,null,{"$f":"IF(ISBLANK(P324), \"\", P324-Q324)","v":""},{"$f":"IF(ISBLANK(Q324), \"\", Q324/P324)","v":""}]
[null,null,null,null,null,null,{"$f":"IF(COUNTIF(D325,\"N\"),\"\",IF(ISBLANK(E325),\"\",IF(ISBLANK(F325),IF(ISBLANK(L325), _xlfn.DAYS(TODAY(),E325), _xlfn.DAYS(L325,E325)), _xlfn.DAYS(F325,E325))))","v":""},null,{"$f":"IF(COUNTIF(D325,\"N\"),\"\",IF(ISBLANK(F325),\"\",IF(ISBLANK(H325),IF(ISBLANK(K325),_xlfn.DAYS(TODAY(),F325),_xlfn.DAYS(K325,F325)),_xlfn.DAYS(H325,F325))))","v":""},null,null,null,{"$f":"IF(COUNTIF(D325,\"N\"),\"ON HOLD\",IF(ISBLANK(K325),IF(ISBLANK(E325),\"\",IF(ISBLANK(F325),\"NO\",\"YES\")),\"NO\"))","v":""},{"$f":"IF(COUNTIF(D325,\"N\"),\"\",IF(ISBLANK(F325),\"\",IF(ISBLANK(K325),_xlfn.DAYS(TODAY(),F325),_xlfn.DAYS(K325,F325))))","v":""},null,null,null,{"$f":"IF(ISBLANK(P325), \"\", P325-Q325)","v":""},{"$f":"IF(ISBLANK(Q325), \"\", Q325/P325)","v":""}]
[null,null,null,null,null,null,{"$f":"IF(COUNTIF(D326,\"N\"),\"\",IF(ISBLANK(E326),\"\",IF(ISBLANK(F326),IF(ISBLANK(L326), _xlfn.DAYS(TODAY(),E326), _xlfn.DAYS(L326,E326)), _xlfn.DAYS(F326,E326))))","v":""},null,{"$f":"IF(COUNTIF(D326,\"N\"),\"\",IF(ISBLANK(F326),\"\",IF(ISBLANK(H326),IF(ISBLANK(K326),_xlfn.DAYS(TODAY(),F326),_xlfn.DAYS(K326,F326)),_xlfn.DAYS(H326,F326))))","v":""},null,null,null,{"$f":"IF(COUNTIF(D326,\"N\"),\"ON HOLD\",IF(ISBLANK(K326),IF(ISBLANK(E326),\"\",IF(ISBLANK(F326),\"NO\",\"YES\")),\"NO\"))","v":""},{"$f":"IF(COUNTIF(D326,\"N\"),\"\",IF(ISBLANK(F326),\"\",IF(ISBLANK(K326),_xlfn.DAYS(TODAY(),F326),_xlfn.DAYS(K326,F326))))","v":""},null,null,null,{"$f":"IF(ISBLANK(P326), \"\", P326-Q326)","v":""},{"$f":"IF(ISBLANK(Q326), \"\", Q326/P326)","v":""}]
[null,null,null,null,null,null,{"$f":"IF(COUNTIF(D327,\"N\"),\"\",IF(ISBLANK(E327),\"\",IF(ISBLANK(F327),IF(ISBLANK(L327), _xlfn.DAYS(TODAY(),E327), _xlfn.DAYS(L327,E327)), _xlfn.DAYS(F327,E327))))","v":""},null,{"$f":"IF(COUNTIF(D327,\"N\"),\"\",IF(ISBLANK(F327),\"\",IF(ISBLANK(H327),IF(ISBLANK(K327),_xlfn.DAYS(TODAY(),F327),_xlfn.DAYS(K327,F327)),_xlfn.DAYS(H327,F327))))","v":""},null,null,null,{"$f":"IF(COUNTIF(D327,\"N\"),\"ON HOLD\",IF(ISBLANK(K327),IF(ISBLANK(E327),\"\",IF(ISBLANK(F327),\"NO\",\"YES\")),\"NO\"))","v":""},{"$f":"IF(COUNTIF(D327,\"N\"),\"\",IF(ISBLANK(F327),\"\",IF(ISBLANK(K327),_xlfn.DAYS(TODAY(),F327),_xlfn.DAYS(K327,F327))))","v":""},null,null,null,{"$f":"IF(ISBLANK(P327), \"\", P327-Q327)","v":""},{"$f":"IF(ISBLANK(Q327), \"\", Q327/P327)","v":""}]
[null,null,null,null,null,null,{"$f":"IF(COUNTIF(D328,\"N\"),\"\",IF(ISBLANK(E328),\"\",IF(ISBLANK(F328),IF(ISBLANK(L328), _xlfn.DAYS(TODAY(),E328), _xlfn.DAYS(L328,E328)), _xlfn.DAYS(F328,E328))))","v":""},null,{"$f":"IF(COUNTIF(D328,\"N\"),\"\",IF(ISBLANK(F328),\"\",IF(ISBLANK(H328),IF(ISBLANK(K328),_xlfn.DAYS(TODAY(),F328),_xlfn.DAYS(K328,F328)),_xlfn.DAYS(H328,F328))))","v":""},null,null,null,{"$f":"IF(COUNTIF(D328,\"N\"),\"ON HOLD\",IF(ISBLANK(K328),IF(ISBLANK(E328),\"\",IF(ISBLANK(F328),\"NO\",\"YES\")),\"NO\"))","v":""},{"$f":"IF(COUNTIF(D328,\"N\"),\"\",IF(ISBLANK(F328),\"\",IF(ISBLANK(K328),_xlfn.DAYS(TODAY(),F328),_xlfn.DAYS(K328,F328))))","v":""},null,null,null,{"$f":"IF(ISBLANK(P328), \"\", P328-Q328)","v":""},{"$f":"IF(ISBLANK(Q328), \"\", Q328/P328)","v":""}]
[null,null,null,null,null,null,{"$f":"IF(COUNTIF(D329,\"N\"),\"\",IF(ISBLANK(E329),\"\",IF(ISBLANK(F329),IF(ISBLANK(L329), _xlfn.DAYS(TODAY(),E329), _xlfn.DAYS(L329,E329)), _xlfn.DAYS(F329,E329))))","v":""},null,{"$f":"IF(COUNTIF(D329,\"N\"),\"\",IF(ISBLANK(F329),\"\",IF(ISBLANK(H329),IF(ISBLANK(K329),_xlfn.DAYS(TODAY(),F329),_xlfn.DAYS(K329,F329)),_xlfn.DAYS(H329,F329))))","v":""},null,null,null,{"$f":"IF(COUNTIF(D329,\"N\"),\"ON HOLD\",IF(ISBLANK(K329),IF(ISBLANK(E329),\"\",IF(ISBLANK(F329),\"NO\",\"YES\")),\"NO\"))","v":""},{"$f":"IF(COUNTIF(D329,\"N\"),\"\",IF(ISBLANK(F329),\"\",IF(ISBLANK(K329),_xlfn.DAYS(TODAY(),F329),_xlfn.DAYS(K329,F329))))","v":""},null,null,null,{"$f":"IF(ISBLANK(P329), \"\", P329-Q329)","v":""},{"$f":"IF(ISBLANK(Q329), \"\", Q329/P329)","v":""}]
[null,null,null,null,null,null,{"$f":"IF(COUNTIF(D330,\"N\"),\"\",IF(ISBLANK(E330),\"\",IF(ISBLANK(F330),IF(ISBLANK(L330), _xlfn.DAYS(TODAY(),E330), _xlfn.DAYS(L330,E330)), _xlfn.DAYS(F330,E330))))","v":""},null,{"$f":"IF(COUNTIF(D330,\"N\"),\"\",IF(ISBLANK(F330),\"\",IF(ISBLANK(H330),IF(ISBLANK(K330),_xlfn.DAYS(TODAY(),F330),_xlfn.DAYS(K330,F330)),_xlfn.DAYS(H330,F330))))","v":""},null,null,null,{"$f":"IF(COUNTIF(D330,\"N\"),\"ON HOLD\",IF(ISBLANK(K330),IF(ISBLANK(E330),\"\",IF(ISBLANK(F330),\"NO\",\"YES\")),\"NO\"))","v":""},{"$f":"IF(COUNTIF(D330,\"N\"),\"\",IF(ISBLANK(F330),\"\",IF(ISBLANK(K330),_xlfn.DAYS(TODAY(),F330),_xlfn.DAYS(K330,F330))))","v":""},null,null,null,{"$f":"IF(ISBLANK(P330), \"\", P330-Q330)","v":""},{"$f":"IF(ISBLANK(Q330), \"\", Q330/P330)","v":""}]
[null,null,null,null,null,null,{"$f":"IF(COUNTIF(D331,\"N\"),\"\",IF(ISBLANK(E331),\"\",IF(ISBLANK(F331),IF(ISBLANK(L331), _xlfn.DAYS(TODAY(),E331), _xlfn.DAYS(L331,E331)), _xlfn.DAYS(F331,E331))))","v":""},null,{"$f":"IF(COUNTIF(D331,\"N\"),\"\",IF(ISBLANK(F331),\"\",IF(ISBLANK(H331),IF(ISBLANK(K331),_xlfn.DAYS(TODAY(),F331),_xlfn.DAYS(K331,F331)),_xlfn.DAYS(H331,F331))))","v":""},null,null,null,{"$f":"IF(COUNTIF(D331,\"N\"),\"ON HOLD\",IF(ISBLANK(K331),IF(ISBLANK(E331),\"\",IF(ISBLANK(F331),\"NO\",\"YES\")),\"NO\"))","v":""},{"$f":"IF(COUNTIF(D331,\"N\"),\"\",IF(ISBLANK(F331),\"\",IF(ISBLANK(K331),_xlfn.DAYS(TODAY(),F331),_xlfn.DAYS(K331,F331))))","v":""},null,null,null,{"$f":"IF(ISBLANK(P331), \"\", P331-Q331)","v":""},{"$f":"IF(ISBLANK(Q331), \"\", Q331/P331)","v":""}]
[null,null,null,null,null,null,{"$f":"IF(COUNTIF(D332,\"N\"),\"\",IF(ISBLANK(E332),\"\",IF(ISBLANK(F332),IF(ISBLANK(L332), _xlfn.DAYS(TODAY(),E332), _xlfn.DAYS(L332,E332)), _xlfn.DAYS(F332,E332))))","v":""},null,{"$f":"IF(COUNTIF(D332,\"N\"),\"\",IF(ISBLANK(F332),\"\",IF(ISBLANK(H332),IF(ISBLANK(K332),_xlfn.DAYS(TODAY(),F332),_xlfn.DAYS(K332,F332)),_xlfn.DAYS(H332,F332))))","v":""},null,null,null,{"$f":"IF(COUNTIF(D332,\"N\"),\"ON HOLD\",IF(ISBLANK(K332),IF(ISBLANK(E332),\"\",IF(ISBLANK(F332),\"NO\",\"YES\")),\"NO\"))","v":""},{"$f":"IF(COUNTIF(D332,\"N\"),\"\",IF(ISBLANK(F332),\"\",IF(ISBLANK(K332),_xlfn.DAYS(TODAY(),F332),_xlfn.DAYS(K332,F332))))","v":""},null,null,null,{"$f":"IF(ISBLANK(P332), \"\", P332-Q332)","v":""},{"$f":"IF(ISBLANK(Q332), \"\", Q332/P332)","v":""}]
[null,null,null,null,null,null,{"$f":"IF(COUNTIF(D333,\"N\"),\"\",IF(ISBLANK(E333),\"\",IF(ISBLANK(F333),IF(ISBLANK(L333), _xlfn.DAYS(TODAY(),E333), _xlfn.DAYS(L333,E333)), _xlfn.DAYS(F333,E333))))","v":""},null,{"$f":"IF(COUNTIF(D333,\"N\"),\"\",IF(ISBLANK(F333),\"\",IF(ISBLANK(H333),IF(ISBLANK(K333),_xlfn.DAYS(TODAY(),F333),_xlfn.DAYS(K333,F333)),_xlfn.DAYS(H333,F333))))","v":""},null,null,null,{"$f":"IF(COUNTIF(D333,\"N\"),\"ON HOLD\",IF(ISBLANK(K333),IF(ISBLANK(E333),\"\",IF(ISBLANK(F333),\"NO\",\"YES\")),\"NO\"))","v":""},{"$f":"IF(COUNTIF(D333,\"N\"),\"\",IF(ISBLANK(F333),\"\",IF(ISBLANK(K333),_xlfn.DAYS(TODAY(),F333),_xlfn.DAYS(K333,F333))))","v":""},null,null,null,{"$f":"IF(ISBLANK(P333), \"\", P333-Q333)","v":""},{"$f":"IF(ISBLANK(Q333), \"\", Q333/P333)","v":""}]
[null,null,null,null,null,null,{"$f":"IF(COUNTIF(D334,\"N\"),\"\",IF(ISBLANK(E334),\"\",IF(ISBLANK(F334),IF(ISBLANK(L334), _xlfn.DAYS(TODAY(),E334), _xlfn.DAYS(L334,E334)), _xlfn.DAYS(F334,E334))))","v":""},null,{"$f":"IF(COUNTIF(D334,\"N\"),\"\",IF(ISBLANK(F334),\"\",IF(ISBLANK(H334),IF(ISBLANK(K334),_xlfn.DAYS(TODAY(),F334),_xlfn.DAYS(K334,F334)),_xlfn.DAYS(H334,F334))))","v":""},null,null,null,{"$f":"IF(COUNTIF(D334,\"N\"),\"ON HOLD\",IF(ISBLANK(K334),IF(ISBLANK(E334),\"\",IF(ISBLANK(F334),\"NO\",\"YES\")),\"NO\"))","v":""},{"$f":"IF(COUNTIF(D334,\"N\"),\"\",IF(ISBLANK(F334),\"\",IF(ISBLANK(K334),_xlfn.DAYS(TODAY(),F334),_xlfn.DAYS(K334,F334))))","v":""},null,null,null,{"$f":"IF(ISBLANK(P334), \"\", P334-Q334)","v":""},{"$f":"IF(ISBLANK(Q334), \"\", Q334/P334)","v":""}]
[null,null,null,null,null,null,{"$f":"IF(COUNTIF(D335,\"N\"),\"\",IF(ISBLANK(E335),\"\",IF(ISBLANK(F335),IF(ISBLANK(L335), _xlfn.DAYS(TODAY(),E335), _xlfn.DAYS(L335,E335)), _xlfn.DAYS(F335,E335))))","v":""},null,{"$f":"IF(COUNTIF(D335,\"N\"),\"\",IF(ISBLANK(F335),\"\",IF(ISBLANK(H335),IF(ISBLANK(K335),_xlfn.DAYS(TODAY(),F335),_xlfn.DAYS(K335,F335)),_xlfn.DAYS(H335,F335))))","v":""},null,null,null,{"$f":"IF(COUNTIF(D335,\"N\"),\"ON HOLD\",IF(ISBLANK(K335),IF(ISBLANK(E335),\"\",IF(ISBLANK(F335),\"NO\",\"YES\")),\"NO\"))","v":""},{"$f":"IF(COUNTIF(D335,\"N\"),\"\",IF(ISBLANK(F335),\"\",IF(ISBLANK(K335),_xlfn.DAYS(TODAY(),F335),_xlfn.DAYS(K335,F335))))","v":""},null,null,null,{"$f":"IF(ISBLANK(P335), \"\", P335-Q335)","v":""},{"$f":"IF(ISBLANK(Q335), \"\", Q335/P335)","v":""}]
[null,null,null,null,null,null,{"$f":"IF(COUNTIF(D336,\"N\"),\"\",IF(ISBLANK(E336),\"\",IF(ISBLANK(F336),IF(ISBLANK(L336), _xlfn.DAYS(TODAY(),E336), _xlfn.DAYS(L336,E336)), _xlfn.DAYS(F336,E336))))","v":""},null,{"$f":"IF(COUNTIF(D336,\"N\"),\"\",IF(ISBLANK(F336),\"\",IF(ISBLANK(H336),IF(ISBLANK(K336),_xlfn.DAYS(TODAY(),F336),_xlfn.DAYS(K336,F336)),_xlfn.DAYS(H336,F336))))","v":""},null,null,null,{"$f":"IF(COUNTIF(D336,\"N\"),\"ON HOLD\",IF(ISBLANK(K336),IF(ISBLANK(E336),\"\",IF(ISBLANK(F336),\"NO\",\"YES\")),\"NO\"))","v":""},{"$f":"IF(COUNTIF(D336,\"N\"),\"\",IF(ISBLANK(F336),\"\",IF(ISBLANK(K336),_xlfn.DAYS(TODAY(),F336),_xlfn.DAYS(K336,F336))))","v":""},null,null,null,{"$f":"IF(ISBLANK(P336), \"\", P336-Q336)","v":""},{"$f":"IF(ISBLANK(Q336), \"\", Q336/P336)","v":""}]
[null,null,null,null,null,null,{"$f":"IF(COUNTIF(D337,\"N\"),\"\",IF(ISBLANK(E337),\"\",IF(ISBLANK(F337),IF(ISBLANK(L337), _xlfn.DAYS(TODAY(),E337), _xlfn.DAYS(L337,E337)), _xlfn.DAYS(F337,E337))))","v":""},null,{"$f":"IF(COUNTIF(D337,\"N\"),\"\",IF(ISBLANK(F337),\"\",IF(ISBLANK(H337),IF(ISBLANK(K337),_xlfn.DAYS(TODAY(),F337),_xlfn.DAYS(K337,F337)),_xlfn.DAYS(H337,F337))))","v":""},null,null,null,{"$f":"IF(COUNTIF(D337,\"N\"),\"ON HOLD\",IF(ISBLANK(K337),IF(ISBLANK(E337),\"\",IF(ISBLANK(F337),\"NO\",\"YES\")),\"NO\"))","v":""},{"$f":"IF(COUNTIF(D337,\"N\"),\"\",IF(ISBLANK(F337),\"\",IF(ISBLANK(K337),_xlfn.DAYS(TODAY(),F337),_xlfn.DAYS(K337,F337))))","v":""},null,null,null,{"$f":"IF(ISBLANK(P337), \"\", P337-Q337)","v":""},{"$f":"IF(ISBLANK(Q337), \"\", Q337/P337)","v":""}]
[null,null,null,null,null,null,{"$f":"IF(COUNTIF(D338,\"N\"),\"\",IF(ISBLANK(E338),\"\",IF(ISBLANK(F338),IF(ISBLANK(L338), _xlfn.DAYS(TODAY(),E338), _xlfn.DAYS(L338,E338)), _xlfn.DAYS(F338,E338))))","v":""},null,{"$f":"IF(COUNTIF(D338,\"N\"),\"\",IF(ISBLANK(F338),\"\",IF(ISBLANK(H338),IF(ISBLANK(K338),_xlfn.DAYS(TODAY(),F338),_xlfn.DAYS(K338,F338)),_xlfn.DAYS(H338,F338))))","v":""},null,null,null,{"$f":"IF(COUNTIF(D338,\"N\"),\"ON HOLD\",IF(ISBLANK(K338),IF(ISBLANK(E338),\"\",IF(ISBLANK(F338),\"NO\",\"YES\")),\"NO\"))","v":""},{"$f":"IF(COUNTIF(D338,\"N\"),\"\",IF(ISBLANK(F338),\"\",IF(ISBLANK(K338),_xlfn.DAYS(TODAY(),F338),_xlfn.DAYS(K338,F338))))","v":""},null,null,null,{"$f":"IF(ISBLANK(P338), \"\", P338-Q338)","v":""},{"$f":"IF(ISBLANK(Q338), \"\", Q338/P338)","v":""}]
[null,null,null,null,null,null,{"$f":"IF(COUNTIF(D339,\"N\"),\"\",IF(ISBLANK(E339),\"\",IF(ISBLANK(F339),IF(ISBLANK(L339), _xlfn.DAYS(TODAY(),E339), _xlfn.DAYS(L339,E339)), _xlfn.DAYS(F339,E339))))","v":""},null,{"$f":"IF(COUNTIF(D339,\"N\"),\"\",IF(ISBLANK(F339),\"\",IF(ISBLANK(H339),IF(ISBLANK(K339),_xlfn.DAYS(TODAY(),F339),_xlfn.DAYS(K339,F339)),_xlfn.DAYS(H339,F339))))","v":""},null,null,null,{"$f":"IF(COUNTIF(D339,\"N\"),\"ON HOLD\",IF(ISBLANK(K339),IF(ISBLANK(E339),\"\",IF(ISBLANK(F339),\"NO\",\"YES\")),\"NO\"))","v":""},{"$f":"IF(COUNTIF(D339,\"N\"),\"\",IF(ISBLANK(F339),\"\",IF(ISBLANK(K339),_xlfn.DAYS(TODAY(),F339),_xlfn.DAYS(K339,F339))))","v":""},null,null,null,{"$f":"IF(ISBLANK(P339), \"\", P339-Q339)","v":""},{"$f":"IF(ISBLANK(Q339), \"\", Q339/P339)","v":""}]
[null,null,null,null,null,null,{"$f":"IF(COUNTIF(D340,\"N\"),\"\",IF(ISBLANK(E340),\"\",IF(ISBLANK(F340),IF(ISBLANK(L340), _xlfn.DAYS(TODAY(),E340), _xlfn.DAYS(L340,E340)), _xlfn.DAYS(F340,E340))))","v":""},null,{"$f":"IF(COUNTIF(D340,\"N\"),\"\",IF(ISBLANK(F340),\"\",IF(ISBLANK(H340),IF(ISBLANK(K340),_xlfn.DAYS(TODAY(),F340),_xlfn.DAYS(K340,F340)),_xlfn.DAYS(H340,F340))))","v":""},null,null,null,{"$f":"IF(COUNTIF(D340,\"N\"),\"ON HOLD\",IF(ISBLANK(K340),IF(ISBLANK(E340),\"\",IF(ISBLANK(F340),\"NO\",\"YES\")),\"NO\"))","v":""},{"$f":"IF(COUNTIF(D340,\"N\"),\"\",IF(ISBLANK(F340),\"\",IF(ISBLANK(K340),_xlfn.DAYS(TODAY(),F340),_xlfn.DAYS(K340,F340))))","v":""},null,null,null,{"$f":"IF(ISBLANK(P340), \"\", P340-Q340)","v":""},{"$f":"IF(ISBLANK(Q340), \"\", Q340/P340)","v":""}]
[null,null,null,null,null,null,{"$f":"IF(COUNTIF(D341,\"N\"),\"\",IF(ISBLANK(E341),\"\",IF(ISBLANK(F341),IF(ISBLANK(L341), _xlfn.DAYS(TODAY(),E341), _xlfn.DAYS(L341,E341)), _xlfn.DAYS(F341,E341))))","v":""},null,{"$f":"IF(COUNTIF(D341,\"N\"),\"\",IF(ISBLANK(F341),\"\",IF(ISBLANK(H341),IF(ISBLANK(K341),_xlfn.DAYS(TODAY(),F341),_xlfn.DAYS(K341,F341)),_xlfn.DAYS(H341,F341))))","v":""},null,null,null,{"$f":"IF(COUNTIF(D341,\"N\"),\"ON HOLD\",IF(ISBLANK(K341),IF(ISBLANK(E341),\"\",IF(ISBLANK(F341),\"NO\",\"YES\")),\"NO\"))","v":""},{"$f":"IF(COUNTIF(D341,\"N\"),\"\",IF(ISBLANK(F341),\"\",IF(ISBLANK(K341),_xlfn.DAYS(TODAY(),F341),_xlfn.DAYS(K341,F341))))","v":""},null,null,null,{"$f":"IF(ISBLANK(P341), \"\", P341-Q341)","v":""},{"$f":"IF(ISBLANK(Q341), \"\", Q341/P341)","v":""}]
[null,null,null,null,null,null,{"$f":"IF(COUNTIF(D342,\"N\"),\"\",IF(ISBLANK(E342),\"\",IF(ISBLANK(F342),IF(ISBLANK(L342), _xlfn.DAYS(TODAY(),E342), _xlfn.DAYS(L342,E342)), _xlfn.DAYS(F342,E342))))","v":""},null,{"$f":"IF(COUNTIF(D342,\"N\"),\"\",IF(ISBLANK(F342),\"\",IF(ISBLANK(H342),IF(ISBLANK(K342),_xlfn.DAYS(TODAY(),F342),_xlfn.DAYS(K342,F342)),_xlfn.DAYS(H342,F342))))","v":""},null,null,null,{"$f":"IF(COUNTIF(D342,\"N\"),\"ON HOLD\",IF(ISBLANK(K342),IF(ISBLANK(E342),\"\",IF(ISBLANK(F342),\"NO\",\"YES\")),\"NO\"))","v":""},{"$f":"IF(COUNTIF(D342,\"N\"),\"\",IF(ISBLANK(F342),\"\",IF(ISBLANK(K342),_xlfn.DAYS(TODAY(),F342),_xlfn.DAYS(K342,F342))))","v":""},null,null,null,{"$f":"IF(ISBLANK(P342), \"\", P342-Q342)","v":""},{"$f":"IF(ISBLANK(Q342), \"\", Q342/P342)","v":""}]
[null,null,null,null,null,null,{"$f":"IF(COUNTIF(D343,\"N\"),\"\",IF(ISBLANK(E343),\"\",IF(ISBLANK(F343),IF(ISBLANK(L343), _xlfn.DAYS(TODAY(),E343), _xlfn.DAYS(L343,E343)), _xlfn.DAYS(F343,E343))))","v":""},null,{"$f":"IF(COUNTIF(D343,\"N\"),\"\",IF(ISBLANK(F343),\"\",IF(ISBLANK(H343),IF(ISBLANK(K343),_xlfn.DAYS(TODAY(),F343),_xlfn.DAYS(K343,F343)),_xlfn.DAYS(H343,F343))))","v":""},null,null,null,{"$f":"IF(COUNTIF(D343,\"N\"),\"ON HOLD\",IF(ISBLANK(K343),IF(ISBLANK(E343),\"\",IF(ISBLANK(F343),\"NO\",\"YES\")),\"NO\"))","v":""},{"$f":"IF(COUNTIF(D343,\"N\"),\"\",IF(ISBLANK(F343),\"\",IF(ISBLANK(K343),_xlfn.DAYS(TODAY(),F343),_xlfn.DAYS(K343,F343))))","v":""},null,null,null,{"$f":"IF(ISBLANK(P343), \"\", P343-Q343)","v":""},{"$f":"IF(ISBLANK(Q343), \"\", Q343/P343)","v":""}]
[null,null,null,null,null,null,{"$f":"IF(COUNTIF(D344,\"N\"),\"\",IF(ISBLANK(E344),\"\",IF(ISBLANK(F344),IF(ISBLANK(L344), _xlfn.DAYS(TODAY(),E344), _xlfn.DAYS(L344,E344)), _xlfn.DAYS(F344,E344))))","v":""},null,{"$f":"IF(COUNTIF(D344,\"N\"),\"\",IF(ISBLANK(F344),\"\",IF(ISBLANK(H344),IF(ISBLANK(K344),_xlfn.DAYS(TODAY(),F344),_xlfn.DAYS(K344,F344)),_xlfn.DAYS(H344,F344))))","v":""},null,null,null,{"$f":"IF(COUNTIF(D344,\"N\"),\"ON HOLD\",IF(ISBLANK(K344),IF(ISBLANK(E344),\"\",IF(ISBLANK(F344),\"NO\",\"YES\")),\"NO\"))","v":""},{"$f":"IF(COUNTIF(D344,\"N\"),\"\",IF(ISBLANK(F344),\"\",IF(ISBLANK(K344),_xlfn.DAYS(TODAY(),F344),_xlfn.DAYS(K344,F344))))","v":""},null,null,null,{"$f":"IF(ISBLANK(P344), \"\", P344-Q344)","v":""},{"$f":"IF(ISBLANK(Q344), \"\", Q344/P344)","v":""}]
[null,null,null,null,null,null,{"$f":"IF(COUNTIF(D345,\"N\"),\"\",IF(ISBLANK(E345),\"\",IF(ISBLANK(F345),IF(ISBLANK(L345), _xlfn.DAYS(TODAY(),E345), _xlfn.DAYS(L345,E345)), _xlfn.DAYS(F345,E345))))","v":""},null,{"$f":"IF(COUNTIF(D345,\"N\"),\"\",IF(ISBLANK(F345),\"\",IF(ISBLANK(H345),IF(ISBLANK(K345),_xlfn.DAYS(TODAY(),F345),_xlfn.DAYS(K345,F345)),_xlfn.DAYS(H345,F345))))","v":""},null,null,null,{"$f":"IF(COUNTIF(D345,\"N\"),\"ON HOLD\",IF(ISBLANK(K345),IF(ISBLANK(E345),\"\",IF(ISBLANK(F345),\"NO\",\"YES\")),\"NO\"))","v":""},{"$f":"IF(COUNTIF(D345,\"N\"),\"\",IF(ISBLANK(F345),\"\",IF(ISBLANK(K345),_xlfn.DAYS(TODAY(),F345),_xlfn.DAYS(K345,F345))))","v":""},null,null,null,{"$f":"IF(ISBLANK(P345), \"\", P345-Q345)","v":""},{"$f":"IF(ISBLANK(Q345), \"\", Q345/P345)","v":""}]
[null,null,null,null,null,null,{"$f":"IF(COUNTIF(D346,\"N\"),\"\",IF(ISBLANK(E346),\"\",IF(ISBLANK(F346),IF(ISBLANK(L346), _xlfn.DAYS(TODAY(),E346), _xlfn.DAYS(L346,E346)), _xlfn.DAYS(F346,E346))))","v":""},null,{"$f":"IF(COUNTIF(D346,\"N\"),\"\",IF(ISBLANK(F346),\"\",IF(ISBLANK(H346),IF(ISBLANK(K346),_xlfn.DAYS(TODAY(),F346),_xlfn.DAYS(K346,F346)),_xlfn.DAYS(H346,F346))))","v":""},null,null,null,{"$f":"IF(COUNTIF(D346,\"N\"),\"ON HOLD\",IF(ISBLANK(K346),IF(ISBLANK(E346),\"\",IF(ISBLANK(F346),\"NO\",\"YES\")),\"NO\"))","v":""},{"$f":"IF(COUNTIF(D346,\"N\"),\"\",IF(ISBLANK(F346),\"\",IF(ISBLANK(K346),_xlfn.DAYS(TODAY(),F346),_xlfn.DAYS(K346,F346))))","v":""},null,null,null,{"$f":"IF(ISBLANK(P346), \"\", P346-Q346)","v":""},{"$f":"IF(ISBLANK(Q346), \"\", Q346/P346)","v":""}]
[null,null,null,null,null,null,{"$f":"IF(COUNTIF(D347,\"N\"),\"\",IF(ISBLANK(E347),\"\",IF(ISBLANK(F347),IF(ISBLANK(L347), _xlfn.DAYS(TODAY(),E347), _xlfn.DAYS(L347,E347)), _xlfn.DAYS(F347,E347))))","v":""},null,{"$f":"IF(COUNTIF(D347,\"N\"),\"\",IF(ISBLANK(F347),\"\",IF(ISBLANK(H347),IF(ISBLANK(K347),_xlfn.DAYS(TODAY(),F347),_xlfn.DAYS(K347,F347)),_xlfn.DAYS(H347,F347))))","v":""},null,null,null,{"$f":"IF(COUNTIF(D347,\"N\"),\"ON HOLD\",IF(ISBLANK(K347),IF(ISBLANK(E347),\"\",IF(ISBLANK(F347),\"NO\",\"YES\")),\"NO\"))","v":""},{"$f":"IF(COUNTIF(D347,\"N\"),\"\",IF(ISBLANK(F347),\"\",IF(ISBLANK(K347),_xlfn.DAYS(TODAY(),F347),_xlfn.DAYS(K347,F347))))","v":""},null,null,null,{"$f":"IF(ISBLANK(P347), \"\", P347-Q347)","v":""},{"$f":"IF(ISBLANK(Q347), \"\", Q347/P347)","v":""}]
[null,null,null,null,null,null,{"$f":"IF(COUNTIF(D348,\"N\"),\"\",IF(ISBLANK(E348),\"\",IF(ISBLANK(F348),IF(ISBLANK(L348), _xlfn.DAYS(TODAY(),E348), _xlfn.DAYS(L348,E348)), _xlfn.DAYS(F348,E348))))","v":""},null,{"$f":"IF(COUNTIF(D348,\"N\"),\"\",IF(ISBLANK(F348),\"\",IF(ISBLANK(H348),IF(ISBLANK(K348),_xlfn.DAYS(TODAY(),F348),_xlfn.DAYS(K348,F348)),_xlfn.DAYS(H348,F348))))","v":""},null,null,null,{"$f":"IF(COUNTIF(D348,\"N\"),\"ON HOLD\",IF(ISBLANK(K348),IF(ISBLANK(E348),\"\",IF(ISBLANK(F348),\"NO\",\"YES\")),\"NO\"))","v":""},{"$f":"IF(COUNTIF(D348,\"N\"),\"\",IF(ISBLANK(F348),\"\",IF(ISBLANK(K348),_xlfn.DAYS(TODAY(),F348),_xlfn.DAYS(K348,F348))))","v":""},null,null,null,{"$f":"IF(ISBLANK(P348), \"\", P348-Q348)","v":""},{"$f":"IF(ISBLANK(Q348), \"\", Q348/P348)","v":""}]
[null,null,null,null,null,null,{"$f":"IF(COUNTIF(D349,\"N\"),\"\",IF(ISBLANK(E349),\"\",IF(ISBLANK(F349),IF(ISBLANK(L349), _xlfn.DAYS(TODAY(),E349), _xlfn.DAYS(L349,E349)), _xlfn.DAYS(F349,E349))))","v":""},null,{"$f":"IF(COUNTIF(D349,\"N\"),\"\",IF(ISBLANK(F349),\"\",IF(ISBLANK(H349),IF(ISBLANK(K349),_xlfn.DAYS(TODAY(),F349),_xlfn.DAYS(K349,F349)),_xlfn.DAYS(H349,F349))))","v":""},null,null,null,{"$f":"IF(COUNTIF(D349,\"N\"),\"ON HOLD\",IF(ISBLANK(K349),IF(ISBLANK(E349),\"\",IF(ISBLANK(F349),\"NO\",\"YES\")),\"NO\"))","v":""},{"$f":"IF(COUNTIF(D349,\"N\"),\"\",IF(ISBLANK(F349),\"\",IF(ISBLANK(K349),_xlfn.DAYS(TODAY(),F349),_xlfn.DAYS(K349,F349))))","v":""},null,null,null,{"$f":"IF(ISBLANK(P349), \"\", P349-Q349)","v":""},{"$f":"IF(ISBLANK(Q349), \"\", Q349/P349)","v":""}]
[null,null,null,null,null,null,{"$f":"IF(COUNTIF(D350,\"N\"),\"\",IF(ISBLANK(E350),\"\",IF(ISBLANK(F350),IF(ISBLANK(L350), _xlfn.DAYS(TODAY(),E350), _xlfn.DAYS(L350,E350)), _xlfn.DAYS(F350,E350))))","v":""},null,{"$f":"IF(COUNTIF(D350,\"N\"),\"\",IF(ISBLANK(F350),\"\",IF(ISBLANK(H350),IF(ISBLANK(K350),_xlfn.DAYS(TODAY(),F350),_xlfn.DAYS(K350,F350)),_xlfn.DAYS(H350,F350))))","v":""},null,null,null,{"$f":"IF(COUNTIF(D350,\"N\"),\"ON HOLD\",IF(ISBLANK(K350),IF(ISBLANK(E350),\"\",IF(ISBLANK(F350),\"NO\",\"YES\")),\"NO\"))","v":""},{"$f":"IF(COUNTIF(D350,\"N\"),\"\",IF(ISBLANK(F350),\"\",IF(ISBLANK(K350),_xlfn.DAYS(TODAY(),F350),_xlfn.DAYS(K350,F350))))","v":""},null,null,null,{"$f":"IF(ISBLANK(P350), \"\", P350-Q350)","v":""},{"$f":"IF(ISBLANK(Q350), \"\", Q350/P350)","v":""}]
[null,null,null,null,null,null,{"$f":"IF(COUNTIF(D351,\"N\"),\"\",IF(ISBLANK(E351),\"\",IF(ISBLANK(F351),IF(ISBLANK(L351), _xlfn.DAYS(TODAY(),E351), _xlfn.DAYS(L351,E351)), _xlfn.DAYS(F351,E351))))","v":""},null,{"$f":"IF(COUNTIF(D351,\"N\"),\"\",IF(ISBLANK(F351),\"\",IF(ISBLANK(H351),IF(ISBLANK(K351),_xlfn.DAYS(TODAY(),F351),_xlfn.DAYS(K351,F351)),_xlfn.DAYS(H351,F351))))","v":""},null,null,null,{"$f":"IF(COUNTIF(D351,\"N\"),\"ON HOLD\",IF(ISBLANK(K351),IF(ISBLANK(E351),\"\",IF(ISBLANK(F351),\"NO\",\"YES\")),\"NO\"))","v":""},{"$f":"IF(COUNTIF(D351,\"N\"),\"\",IF(ISBLANK(F351),\"\",IF(ISBLANK(K351),_xlfn.DAYS(TODAY(),F351),_xlfn.DAYS(K351,F351))))","v":""},null,null,null,{"$f":"IF(ISBLANK(P351), \"\", P351-Q351)","v":""},{"$f":"IF(ISBLANK(Q351), \"\", Q351/P351)","v":""}]
[null,null,null,null,null,null,{"$f":"IF(COUNTIF(D352,\"N\"),\"\",IF(ISBLANK(E352),\"\",IF(ISBLANK(F352),IF(ISBLANK(L352), _xlfn.DAYS(TODAY(),E352), _xlfn.DAYS(L352,E352)), _xlfn.DAYS(F352,E352))))","v":""},null,{"$f":"IF(COUNTIF(D352,\"N\"),\"\",IF(ISBLANK(F352),\"\",IF(ISBLANK(H352),IF(ISBLANK(K352),_xlfn.DAYS(TODAY(),F352),_xlfn.DAYS(K352,F352)),_xlfn.DAYS(H352,F352))))","v":""},null,null,null,{"$f":"IF(COUNTIF(D352,\"N\"),\"ON HOLD\",IF(ISBLANK(K352),IF(ISBLANK(E352),\"\",IF(ISBLANK(F352),\"NO\",\"YES\")),\"NO\"))","v":""},{"$f":"IF(COUNTIF(D352,\"N\"),\"\",IF(ISBLANK(F352),\"\",IF(ISBLANK(K352),_xlfn.DAYS(TODAY(),F352),_xlfn.DAYS(K352,F352))))","v":""},null,null,null,{"$f":"IF(ISBLANK(P352), \"\", P352-Q352)","v":""},{"$f":"IF(ISBLANK(Q352), \"\", Q352/P352)","v":""}]
[null,null,null,null,null,null,{"$f":"IF(COUNTIF(D353,\"N\"),\"\",IF(ISBLANK(E353),\"\",IF(ISBLANK(F353),IF(ISBLANK(L353), _xlfn.DAYS(TODAY(),E353), _xlfn.DAYS(L353,E353)), _xlfn.DAYS(F353,E353))))","v":""},null,{"$f":"IF(COUNTIF(D353,\"N\"),\"\",IF(ISBLANK(F353),\"\",IF(ISBLANK(H353),IF(ISBLANK(K353),_xlfn.DAYS(TODAY(),F353),_xlfn.DAYS(K353,F353)),_xlfn.DAYS(H353,F353))))","v":""},null,null,null,{"$f":"IF(COUNTIF(D353,\"N\"),\"ON HOLD\",IF(ISBLANK(K353),IF(ISBLANK(E353),\"\",IF(ISBLANK(F353),\"NO\",\"YES\")),\"NO\"))","v":""},{"$f":"IF(COUNTIF(D353,\"N\"),\"\",IF(ISBLANK(F353),\"\",IF(ISBLANK(K353),_xlfn.DAYS(TODAY(),F353),_xlfn.DAYS(K353,F353))))","v":""},null,null,null,{"$f":"IF(ISBLANK(P353), \"\", P353-Q353)","v":""},{"$f":"IF(ISBLANK(Q353), \"\", Q353/P353)","v":""}]
[null,null,null,null,null,null,{"$f":"IF(COUNTIF(D354,\"N\"),\"\",IF(ISBLANK(E354),\"\",IF(ISBLANK(F354),IF(ISBLANK(L354), _xlfn.DAYS(TODAY(),E354), _xlfn.DAYS(L354,E354)), _xlfn.DAYS(F354,E354))))","v":""},null,{"$f":"IF(COUNTIF(D354,\"N\"),\"\",IF(ISBLANK(F354),\"\",IF(ISBLANK(H354),IF(ISBLANK(K354),_xlfn.DAYS(TODAY(),F354),_xlfn.DAYS(K354,F354)),_xlfn.DAYS(H354,F354))))","v":""},null,null,null,{"$f":"IF(COUNTIF(D354,\"N\"),\"ON HOLD\",IF(ISBLANK(K354),IF(ISBLANK(E354),\"\",IF(ISBLANK(F354),\"NO\",\"YES\")),\"NO\"))","v":""},{"$f":"IF(COUNTIF(D354,\"N\"),\"\",IF(ISBLANK(F354),\"\",IF(ISBLANK(K354),_xlfn.DAYS(TODAY(),F354),_xlfn.DAYS(K354,F354))))","v":""},null,null,null,{"$f":"IF(ISBLANK(P354), \"\", P354-Q354)","v":""},{"$f":"IF(ISBLANK(Q354), \"\", Q354/P354)","v":""}]
[null,null,null,null,null,null,{"$f":"IF(COUNTIF(D355,\"N\"),\"\",IF(ISBLANK(E355),\"\",IF(ISBLANK(F355),IF(ISBLANK(L355), _xlfn.DAYS(TODAY(),E355), _xlfn.DAYS(L355,E355)), _xlfn.DAYS(F355,E355))))","v":""},null,{"$f":"IF(COUNTIF(D355,\"N\"),\"\",IF(ISBLANK(F355),\"\",IF(ISBLANK(H355),IF(ISBLANK(K355),_xlfn.DAYS(TODAY(),F355),_xlfn.DAYS(K355,F355)),_xlfn.DAYS(H355,F355))))","v":""},null,null,null,{"$f":"IF(COUNTIF(D355,\"N\"),\"ON HOLD\",IF(ISBLANK(K355),IF(ISBLANK(E355),\"\",IF(ISBLANK(F355),\"NO\",\"YES\")),\"NO\"))","v":""},{"$f":"IF(COUNTIF(D355,\"N\"),\"\",IF(ISBLANK(F355),\"\",IF(ISBLANK(K355),_xlfn.DAYS(TODAY(),F355),_xlfn.DAYS(K355,F355))))","v":""},null,null,null,{"$f":"IF(ISBLANK(P355), \"\", P355-Q355)","v":""},{"$f":"IF(ISBLANK(Q355), \"\", Q355/P355)","v":""}]
[null,null,null,null,null,null,{"$f":"IF(COUNTIF(D356,\"N\"),\"\",IF(ISBLANK(E356),\"\",IF(ISBLANK(F356),IF(ISBLANK(L356), _xlfn.DAYS(TODAY(),E356), _xlfn.DAYS(L356,E356)), _xlfn.DAYS(F356,E356))))","v":""},null,{"$f":"IF(COUNTIF(D356,\"N\"),\"\",IF(ISBLANK(F356),\"\",IF(ISBLANK(H356),IF(ISBLANK(K356),_xlfn.DAYS(TODAY(),F356),_xlfn.DAYS(K356,F356)),_xlfn.DAYS(H356,F356))))","v":""},null,null,null,{"$f":"IF(COUNTIF(D356,\"N\"),\"ON HOLD\",IF(ISBLANK(K356),IF(ISBLANK(E356),\"\",IF(ISBLANK(F356),\"NO\",\"YES\")),\"NO\"))","v":""},{"$f":"IF(COUNTIF(D356,\"N\"),\"\",IF(ISBLANK(F356),\"\",IF(ISBLANK(K356),_xlfn.DAYS(TODAY(),F356),_xlfn.DAYS(K356,F356))))","v":""},null,null,null,{"$f":"IF(ISBLANK(P356), \"\", P356-Q356)","v":""},{"$f":"IF(ISBLANK(Q356), \"\", Q356/P356)","v":""}]
[null,null,null,null,null,null,{"$f":"IF(COUNTIF(D357,\"N\"),\"\",IF(ISBLANK(E357),\"\",IF(ISBLANK(F357),IF(ISBLANK(L357), _xlfn.DAYS(TODAY(),E357), _xlfn.DAYS(L357,E357)), _xlfn.DAYS(F357,E357))))","v":""},null,{"$f":"IF(COUNTIF(D357,\"N\"),\"\",IF(ISBLANK(F357),\"\",IF(ISBLANK(H357),IF(ISBLANK(K357),_xlfn.DAYS(TODAY(),F357),_xlfn.DAYS(K357,F357)),_xlfn.DAYS(H357,F357))))","v":""},null,null,null,{"$f":"IF(COUNTIF(D357,\"N\"),\"ON HOLD\",IF(ISBLANK(K357),IF(ISBLANK(E357),\"\",IF(ISBLANK(F357),\"NO\",\"YES\")),\"NO\"))","v":""},{"$f":"IF(COUNTIF(D357,\"N\"),\"\",IF(ISBLANK(F357),\"\",IF(ISBLANK(K357),_xlfn.DAYS(TODAY(),F357),_xlfn.DAYS(K357,F357))))","v":""},null,null,null,{"$f":"IF(ISBLANK(P357), \"\", P357-Q357)","v":""},{"$f":"IF(ISBLANK(Q357), \"\", Q357/P357)","v":""}]
[null,null,null,null,null,null,{"$f":"IF(COUNTIF(D358,\"N\"),\"\",IF(ISBLANK(E358),\"\",IF(ISBLANK(F358),IF(ISBLANK(L358), _xlfn.DAYS(TODAY(),E358), _xlfn.DAYS(L358,E358)), _xlfn.DAYS(F358,E358))))","v":""},null,{"$f":"IF(COUNTIF(D358,\"N\"),\"\",IF(ISBLANK(F358),\"\",IF(ISBLANK(H358),IF(ISBLANK(K358),_xlfn.DAYS(TODAY(),F358),_xlfn.DAYS(K358,F358)),_xlfn.DAYS(H358,F358))))","v":""},null,null,null,{"$f":"IF(COUNTIF(D358,\"N\"),\"ON HOLD\",IF(ISBLANK(K358),IF(ISBLANK(E358),\"\",IF(ISBLANK(F358),\"NO\",\"YES\")),\"NO\"))","v":""},{"$f":"IF(COUNTIF(D358,\"N\"),\"\",IF(ISBLANK(F358),\"\",IF(ISBLANK(K358),_xlfn.DAYS(TODAY(),F358),_xlfn.DAYS(K358,F358))))","v":""},null,null,null,{"$f":"IF(ISBLANK(P358), \"\", P358-Q358)","v":""},{"$f":"IF(ISBLANK(Q358), \"\", Q358/P358)","v":""}]
[null,null,null,null,null,null,{"$f":"IF(COUNTIF(D359,\"N\"),\"\",IF(ISBLANK(E359),\"\",IF(ISBLANK(F359),IF(ISBLANK(L359), _xlfn.DAYS(TODAY(),E359), _xlfn.DAYS(L359,E359)), _xlfn.DAYS(F359,E359))))","v":""},null,{"$f":"IF(COUNTIF(D359,\"N\"),\"\",IF(ISBLANK(F359),\"\",IF(ISBLANK(H359),IF(ISBLANK(K359),_xlfn.DAYS(TODAY(),F359),_xlfn.DAYS(K359,F359)),_xlfn.DAYS(H359,F359))))","v":""},null,null,null,{"$f":"IF(COUNTIF(D359,\"N\"),\"ON HOLD\",IF(ISBLANK(K359),IF(ISBLANK(E359),\"\",IF(ISBLANK(F359),\"NO\",\"YES\")),\"NO\"))","v":""},{"$f":"IF(COUNTIF(D359,\"N\"),\"\",IF(ISBLANK(F359),\"\",IF(ISBLANK(K359),_xlfn.DAYS(TODAY(),F359),_xlfn.DAYS(K359,F359))))","v":""},null,null,null,{"$f":"IF(ISBLANK(P359), \"\", P359-Q359)","v":""},{"$f":"IF(ISBLANK(Q359), \"\", Q359/P359)","v":""}]
[null,null,null,null,null,null,{"$f":"IF(COUNTIF(D360,\"N\"),\"\",IF(ISBLANK(E360),\"\",IF(ISBLANK(F360),IF(ISBLANK(L360), _xlfn.DAYS(TODAY(),E360), _xlfn.DAYS(L360,E360)), _xlfn.DAYS(F360,E360))))","v":""},null,{"$f":"IF(COUNTIF(D360,\"N\"),\"\",IF(ISBLANK(F360),\"\",IF(ISBLANK(H360),IF(ISBLANK(K360),_xlfn.DAYS(TODAY(),F360),_xlfn.DAYS(K360,F360)),_xlfn.DAYS(H360,F360))))","v":""},null,null,null,{"$f":"IF(COUNTIF(D360,\"N\"),\"ON HOLD\",IF(ISBLANK(K360),IF(ISBLANK(E360),\"\",IF(ISBLANK(F360),\"NO\",\"YES\")),\"NO\"))","v":""},{"$f":"IF(COUNTIF(D360,\"N\"),\"\",IF(ISBLANK(F360),\"\",IF(ISBLANK(K360),_xlfn.DAYS(TODAY(),F360),_xlfn.DAYS(K360,F360))))","v":""},null,null,null,{"$f":"IF(ISBLANK(P360), \"\", P360-Q360)","v":""},{"$f":"IF(ISBLANK(Q360), \"\", Q360/P360)","v":""}]
[null,null,null,null,null,null,{"$f":"IF(COUNTIF(D361,\"N\"),\"\",IF(ISBLANK(E361),\"\",IF(ISBLANK(F361),IF(ISBLANK(L361), _xlfn.DAYS(TODAY(),E361), _xlfn.DAYS(L361,E361)), _xlfn.DAYS(F361,E361))))","v":""},null,{"$f":"IF(COUNTIF(D361,\"N\"),\"\",IF(ISBLANK(F361),\"\",IF(ISBLANK(H361),IF(ISBLANK(K361),_xlfn.DAYS(TODAY(),F361),_xlfn.DAYS(K361,F361)),_xlfn.DAYS(H361,F361))))","v":""},null,null,null,{"$f":"IF(COUNTIF(D361,\"N\"),\"ON HOLD\",IF(ISBLANK(K361),IF(ISBLANK(E361),\"\",IF(ISBLANK(F361),\"NO\",\"YES\")),\"NO\"))","v":""},{"$f":"IF(COUNTIF(D361,\"N\"),\"\",IF(ISBLANK(F361),\"\",IF(ISBLANK(K361),_xlfn.DAYS(TODAY(),F361),_xlfn.DAYS(K361,F361))))","v":""},null,null,null,{"$f":"IF(ISBLANK(P361), \"\", P361-Q361)","v":""},{"$f":"IF(ISBLANK(Q361), \"\", Q361/P361)","v":""}]
[null,null,null,null,null,null,{"$f":"IF(COUNTIF(D362,\"N\"),\"\",IF(ISBLANK(E362),\"\",IF(ISBLANK(F362),IF(ISBLANK(L362), _xlfn.DAYS(TODAY(),E362), _xlfn.DAYS(L362,E362)), _xlfn.DAYS(F362,E362))))","v":""},null,{"$f":"IF(COUNTIF(D362,\"N\"),\"\",IF(ISBLANK(F362),\"\",IF(ISBLANK(H362),IF(ISBLANK(K362),_xlfn.DAYS(TODAY(),F362),_xlfn.DAYS(K362,F362)),_xlfn.DAYS(H362,F362))))","v":""},null,null,null,{"$f":"IF(COUNTIF(D362,\"N\"),\"ON HOLD\",IF(ISBLANK(K362),IF(ISBLANK(E362),\"\",IF(ISBLANK(F362),\"NO\",\"YES\")),\"NO\"))","v":""},{"$f":"IF(COUNTIF(D362,\"N\"),\"\",IF(ISBLANK(F362),\"\",IF(ISBLANK(K362),_xlfn.DAYS(TODAY(),F362),_xlfn.DAYS(K362,F362))))","v":""},null,null,null,{"$f":"IF(ISBLANK(P362), \"\", P362-Q362)","v":""},{"$f":"IF(ISBLANK(Q362), \"\", Q362/P362)","v":""}]
[null,null,null,null,null,null,{"$f":"IF(COUNTIF(D363,\"N\"),\"\",IF(ISBLANK(E363),\"\",IF(ISBLANK(F363),IF(ISBLANK(L363), _xlfn.DAYS(TODAY(),E363), _xlfn.DAYS(L363,E363)), _xlfn.DAYS(F363,E363))))","v":""},null,{"$f":"IF(COUNTIF(D363,\"N\"),\"\",IF(ISBLANK(F363),\"\",IF(ISBLANK(H363),IF(ISBLANK(K363),_xlfn.DAYS(TODAY(),F363),_xlfn.DAYS(K363,F363)),_xlfn.DAYS(H363,F363))))","v":""},null,null,null,{"$f":"IF(COUNTIF(D363,\"N\"),\"ON HOLD\",IF(ISBLANK(K363),IF(ISBLANK(E363),\"\",IF(ISBLANK(F363),\"NO\",\"YES\")),\"NO\"))","v":""},{"$f":"IF(COUNTIF(D363,\"N\"),\"\",IF(ISBLANK(F363),\"\",IF(ISBLANK(K363),_xlfn.DAYS(TODAY(),F363),_xlfn.DAYS(K363,F363))))","v":""},null,null,null,{"$f":"IF(ISBLANK(P363), \"\", P363-Q363)","v":""},{"$f":"IF(ISBLANK(Q363), \"\", Q363/P363)","v":""}]
[null,null,null,null,null,null,{"$f":"IF(COUNTIF(D364,\"N\"),\"\",IF(ISBLANK(E364),\"\",IF(ISBLANK(F364),IF(ISBLANK(L364), _xlfn.DAYS(TODAY(),E364), _xlfn.DAYS(L364,E364)), _xlfn.DAYS(F364,E364))))","v":""},null,{"$f":"IF(COUNTIF(D364,\"N\"),\"\",IF(ISBLANK(F364),\"\",IF(ISBLANK(H364),IF(ISBLANK(K364),_xlfn.DAYS(TODAY(),F364),_xlfn.DAYS(K364,F364)),_xlfn.DAYS(H364,F364))))","v":""},null,null,null,{"$f":"IF(COUNTIF(D364,\"N\"),\"ON HOLD\",IF(ISBLANK(K364),IF(ISBLANK(E364),\"\",IF(ISBLANK(F364),\"NO\",\"YES\")),\"NO\"))","v":""},{"$f":"IF(COUNTIF(D364,\"N\"),\"\",IF(ISBLANK(F364),\"\",IF(ISBLANK(K364),_xlfn.DAYS(TODAY(),F364),_xlfn.DAYS(K364,F364))))","v":""},null,null,null,{"$f":"IF(ISBLANK(P364), \"\", P364-Q364)","v":""},{"$f":"IF(ISBLANK(Q364), \"\", Q364/P364)","v":""}]
[null,null,null,null,null,null,{"$f":"IF(COUNTIF(D365,\"N\"),\"\",IF(ISBLANK(E365),\"\",IF(ISBLANK(F365),IF(ISBLANK(L365), _xlfn.DAYS(TODAY(),E365), _xlfn.DAYS(L365,E365)), _xlfn.DAYS(F365,E365))))","v":""},null,{"$f":"IF(COUNTIF(D365,\"N\"),\"\",IF(ISBLANK(F365),\"\",IF(ISBLANK(H365),IF(ISBLANK(K365),_xlfn.DAYS(TODAY(),F365),_xlfn.DAYS(K365,F365)),_xlfn.DAYS(H365,F365))))","v":""},null,null,null,{"$f":"IF(COUNTIF(D365,\"N\"),\"ON HOLD\",IF(ISBLANK(K365),IF(ISBLANK(E365),\"\",IF(ISBLANK(F365),\"NO\",\"YES\")),\"NO\"))","v":""},{"$f":"IF(COUNTIF(D365,\"N\"),\"\",IF(ISBLANK(F365),\"\",IF(ISBLANK(K365),_xlfn.DAYS(TODAY(),F365),_xlfn.DAYS(K365,F365))))","v":""},null,null,null,{"$f":"IF(ISBLANK(P365), \"\", P365-Q365)","v":""},{"$f":"IF(ISBLANK(Q365), \"\", Q365/P365)","v":""}]
[null,null,null,null,null,null,{"$f":"IF(COUNTIF(D366,\"N\"),\"\",IF(ISBLANK(E366),\"\",IF(ISBLANK(F366),IF(ISBLANK(L366), _xlfn.DAYS(TODAY(),E366), _xlfn.DAYS(L366,E366)), _xlfn.DAYS(F366,E366))))","v":""},null,{"$f":"IF(COUNTIF(D366,\"N\"),\"\",IF(ISBLANK(F366),\"\",IF(ISBLANK(H366),IF(ISBLANK(K366),_xlfn.DAYS(TODAY(),F366),_xlfn.DAYS(K366,F366)),_xlfn.DAYS(H366,F366))))","v":""},null,null,null,{"$f":"IF(COUNTIF(D366,\"N\"),\"ON HOLD\",IF(ISBLANK(K366),IF(ISBLANK(E366),\"\",IF(ISBLANK(F366),\"NO\",\"YES\")),\"NO\"))","v":""},{"$f":"IF(COUNTIF(D366,\"N\"),\"\",IF(ISBLANK(F366),\"\",IF(ISBLANK(K366),_xlfn.DAYS(TODAY(),F366),_xlfn.DAYS(K366,F366))))","v":""},null,null,null,{"$f":"IF(ISBLANK(P366), \"\", P366-Q366)","v":""},{"$f":"IF(ISBLANK(Q366), \"\", Q366/P366)","v":""}]
[null,null,null,null,null,null,{"$f":"IF(COUNTIF(D367,\"N\"),\"\",IF(ISBLANK(E367),\"\",IF(ISBLANK(F367),IF(ISBLANK(L367), _xlfn.DAYS(TODAY(),E367), _xlfn.DAYS(L367,E367)), _xlfn.DAYS(F367,E367))))","v":""},null,{"$f":"IF(COUNTIF(D367,\"N\"),\"\",IF(ISBLANK(F367),\"\",IF(ISBLANK(H367),IF(ISBLANK(K367),_xlfn.DAYS(TODAY(),F367),_xlfn.DAYS(K367,F367)),_xlfn.DAYS(H367,F367))))","v":""},null,null,null,{"$f":"IF(COUNTIF(D367,\"N\"),\"ON HOLD\",IF(ISBLANK(K367),IF(ISBLANK(E367),\"\",IF(ISBLANK(F367),\"NO\",\"YES\")),\"NO\"))","v":""},{"$f":"IF(COUNTIF(D367,\"N\"),\"\",IF(ISBLANK(F367),\"\",IF(ISBLANK(K367),_xlfn.DAYS(TODAY(),F367),_xlfn.DAYS(K367,F367))))","v":""},null,null,null,{"$f":"IF(ISBLANK(P367), \"\", P367-Q367)","v":""},{"$f":"IF(ISBLANK(Q367), \"\", Q367/P367)","v":""}]
[null,null,null,null,null,null,{"$f":"IF(COUNTIF(D368,\"N\"),\"\",IF(ISBLANK(E368),\"\",IF(ISBLANK(F368),IF(ISBLANK(L368), _xlfn.DAYS(TODAY(),E368), _xlfn.DAYS(L368,E368)), _xlfn.DAYS(F368,E368))))","v":""},null,{"$f":"IF(COUNTIF(D368,\"N\"),\"\",IF(ISBLANK(F368),\"\",IF(ISBLANK(H368),IF(ISBLANK(K368),_xlfn.DAYS(TODAY(),F368),_xlfn.DAYS(K368,F368)),_xlfn.DAYS(H368,F368))))","v":""},null,null,null,{"$f":"IF(COUNTIF(D368,\"N\"),\"ON HOLD\",IF(ISBLANK(K368),IF(ISBLANK(E368),\"\",IF(ISBLANK(F368),\"NO\",\"YES\")),\"NO\"))","v":""},{"$f":"IF(COUNTIF(D368,\"N\"),\"\",IF(ISBLANK(F368),\"\",IF(ISBLANK(K368),_xlfn.DAYS(TODAY(),F368),_xlfn.DAYS(K368,F368))))","v":""},null,null,null,{"$f":"IF(ISBLANK(P368), \"\", P368-Q368)","v":""},{"$f":"IF(ISBLANK(Q368), \"\", Q368/P368)","v":""}]
[null,null,null,null,null,null,{"$f":"IF(COUNTIF(D369,\"N\"),\"\",IF(ISBLANK(E369),\"\",IF(ISBLANK(F369),IF(ISBLANK(L369), _xlfn.DAYS(TODAY(),E369), _xlfn.DAYS(L369,E369)), _xlfn.DAYS(F369,E369))))","v":""},null,{"$f":"IF(COUNTIF(D369,\"N\"),\"\",IF(ISBLANK(F369),\"\",IF(ISBLANK(H369),IF(ISBLANK(K369),_xlfn.DAYS(TODAY(),F369),_xlfn.DAYS(K369,F369)),_xlfn.DAYS(H369,F369))))","v":""},null,null,null,{"$f":"IF(COUNTIF(D369,\"N\"),\"ON HOLD\",IF(ISBLANK(K369),IF(ISBLANK(E369),\"\",IF(ISBLANK(F369),\"NO\",\"YES\")),\"NO\"))","v":""},{"$f":"IF(COUNTIF(D369,\"N\"),\"\",IF(ISBLANK(F369),\"\",IF(ISBLANK(K369),_xlfn.DAYS(TODAY(),F369),_xlfn.DAYS(K369,F369))))","v":""},null,null,null,{"$f":"IF(ISBLANK(P369), \"\", P369-Q369)","v":""},{"$f":"IF(ISBLANK(Q369), \"\", Q369/P369)","v":""}]
[null,null,null,null,null,null,{"$f":"IF(COUNTIF(D370,\"N\"),\"\",IF(ISBLANK(E370),\"\",IF(ISBLANK(F370),IF(ISBLANK(L370), _xlfn.DAYS(TODAY(),E370), _xlfn.DAYS(L370,E370)), _xlfn.DAYS(F370,E370))))","v":""},null,{"$f":"IF(COUNTIF(D370,\"N\"),\"\",IF(ISBLANK(F370),\"\",IF(ISBLANK(H370),IF(ISBLANK(K370),_xlfn.DAYS(TODAY(),F370),_xlfn.DAYS(K370,F370)),_xlfn.DAYS(H370,F370))))","v":""},null,null,null,{"$f":"IF(COUNTIF(D370,\"N\"),\"ON HOLD\",IF(ISBLANK(K370),IF(ISBLANK(E370),\"\",IF(ISBLANK(F370),\"NO\",\"YES\")),\"NO\"))","v":""},{"$f":"IF(COUNTIF(D370,\"N\"),\"\",IF(ISBLANK(F370),\"\",IF(ISBLANK(K370),_xlfn.DAYS(TODAY(),F370),_xlfn.DAYS(K370,F370))))","v":""},null,null,null,{"$f":"IF(ISBLANK(P370), \"\", P370-Q370)","v":""},{"$f":"IF(ISBLANK(Q370), \"\", Q370/P370)","v":""}]
[null,null,null,null,null,null,{"$f":"IF(COUNTIF(D371,\"N\"),\"\",IF(ISBLANK(E371),\"\",IF(ISBLANK(F371),IF(ISBLANK(L371), _xlfn.DAYS(TODAY(),E371), _xlfn.DAYS(L371,E371)), _xlfn.DAYS(F371,E371))))","v":""},null,{"$f":"IF(COUNTIF(D371,\"N\"),\"\",IF(ISBLANK(F371),\"\",IF(ISBLANK(H371),IF(ISBLANK(K371),_xlfn.DAYS(TODAY(),F371),_xlfn.DAYS(K371,F371)),_xlfn.DAYS(H371,F371))))","v":""},null,null,null,{"$f":"IF(COUNTIF(D371,\"N\"),\"ON HOLD\",IF(ISBLANK(K371),IF(ISBLANK(E371),\"\",IF(ISBLANK(F371),\"NO\",\"YES\")),\"NO\"))","v":""},{"$f":"IF(COUNTIF(D371,\"N\"),\"\",IF(ISBLANK(F371),\"\",IF(ISBLANK(K371),_xlfn.DAYS(TODAY(),F371),_xlfn.DAYS(K371,F371))))","v":""},null,null,null,{"$f":"IF(ISBLANK(P371), \"\", P371-Q371)","v":""},{"$f":"IF(ISBLANK(Q371), \"\", Q371/P371)","v":""}]
[null,null,null,null,null,null,{"$f":"IF(COUNTIF(D372,\"N\"),\"\",IF(ISBLANK(E372),\"\",IF(ISBLANK(F372),IF(ISBLANK(L372), _xlfn.DAYS(TODAY(),E372), _xlfn.DAYS(L372,E372)), _xlfn.DAYS(F372,E372))))","v":""},null,{"$f":"IF(COUNTIF(D372,\"N\"),\"\",IF(ISBLANK(F372),\"\",IF(ISBLANK(H372),IF(ISBLANK(K372),_xlfn.DAYS(TODAY(),F372),_xlfn.DAYS(K372,F372)),_xlfn.DAYS(H372,F372))))","v":""},null,null,null,{"$f":"IF(COUNTIF(D372,\"N\"),\"ON HOLD\",IF(ISBLANK(K372),IF(ISBLANK(E372),\"\",IF(ISBLANK(F372),\"NO\",\"YES\")),\"NO\"))","v":""},{"$f":"IF(COUNTIF(D372,\"N\"),\"\",IF(ISBLANK(F372),\"\",IF(ISBLANK(K372),_xlfn.DAYS(TODAY(),F372),_xlfn.DAYS(K372,F372))))","v":""},null,null,null,{"$f":"IF(ISBLANK(P372), \"\", P372-Q372)","v":""},{"$f":"IF(ISBLANK(Q372), \"\", Q372/P372)","v":""}]
[null,null,null,null,null,null,{"$f":"IF(COUNTIF(D373,\"N\"),\"\",IF(ISBLANK(E373),\"\",IF(ISBLANK(F373),IF(ISBLANK(L373), _xlfn.DAYS(TODAY(),E373), _xlfn.DAYS(L373,E373)), _xlfn.DAYS(F373,E373))))","v":""},null,{"$f":"IF(COUNTIF(D373,\"N\"),\"\",IF(ISBLANK(F373),\"\",IF(ISBLANK(H373),IF(ISBLANK(K373),_xlfn.DAYS(TODAY(),F373),_xlfn.DAYS(K373,F373)),_xlfn.DAYS(H373,F373))))","v":""},null,null,null,{"$f":"IF(COUNTIF(D373,\"N\"),\"ON HOLD\",IF(ISBLANK(K373),IF(ISBLANK(E373),\"\",IF(ISBLANK(F373),\"NO\",\"YES\")),\"NO\"))","v":""},{"$f":"IF(COUNTIF(D373,\"N\"),\"\",IF(ISBLANK(F373),\"\",IF(ISBLANK(K373),_xlfn.DAYS(TODAY(),F373),_xlfn.DAYS(K373,F373))))","v":""},null,null,null,{"$f":"IF(ISBLANK(P373), \"\", P373-Q373)","v":""},{"$f":"IF(ISBLANK(Q373), \"\", Q373/P373)","v":""}]
[null,null,null,null,null,null,{"$f":"IF(COUNTIF(D374,\"N\"),\"\",IF(ISBLANK(E374),\"\",IF(ISBLANK(F374),IF(ISBLANK(L374), _xlfn.DAYS(TODAY(),E374), _xlfn.DAYS(L374,E374)), _xlfn.DAYS(F374,E374))))","v":""},null,{"$f":"IF(COUNTIF(D374,\"N\"),\"\",IF(ISBLANK(F374),\"\",IF(ISBLANK(H374),IF(ISBLANK(K374),_xlfn.DAYS(TODAY(),F374),_xlfn.DAYS(K374,F374)),_xlfn.DAYS(H374,F374))))","v":""},null,null,null,{"$f":"IF(COUNTIF(D374,\"N\"),\"ON HOLD\",IF(ISBLANK(K374),IF(ISBLANK(E374),\"\",IF(ISBLANK(F374),\"NO\",\"YES\")),\"NO\"))","v":""},{"$f":"IF(COUNTIF(D374,\"N\"),\"\",IF(ISBLANK(F374),\"\",IF(ISBLANK(K374),_xlfn.DAYS(TODAY(),F374),_xlfn.DAYS(K374,F374))))","v":""},null,null,null,{"$f":"IF(ISBLANK(P374), \"\", P374-Q374)","v":""},{"$f":"IF(ISBLANK(Q374), \"\", Q374/P374)","v":""}]
[null,null,null,null,null,null,{"$f":"IF(COUNTIF(D375,\"N\"),\"\",IF(ISBLANK(E375),\"\",IF(ISBLANK(F375),IF(ISBLANK(L375), _xlfn.DAYS(TODAY(),E375), _xlfn.DAYS(L375,E375)), _xlfn.DAYS(F375,E375))))","v":""},null,{"$f":"IF(COUNTIF(D375,\"N\"),\"\",IF(ISBLANK(F375),\"\",IF(ISBLANK(H375),IF(ISBLANK(K375),_xlfn.DAYS(TODAY(),F375),_xlfn.DAYS(K375,F375)),_xlfn.DAYS(H375,F375))))","v":""},null,null,null,{"$f":"IF(COUNTIF(D375,\"N\"),\"ON HOLD\",IF(ISBLANK(K375),IF(ISBLANK(E375),\"\",IF(ISBLANK(F375),\"NO\",\"YES\")),\"NO\"))","v":""},{"$f":"IF(COUNTIF(D375,\"N\"),\"\",IF(ISBLANK(F375),\"\",IF(ISBLANK(K375),_xlfn.DAYS(TODAY(),F375),_xlfn.DAYS(K375,F375))))","v":""},null,null,null,{"$f":"IF(ISBLANK(P375), \"\", P375-Q375)","v":""},{"$f":"IF(ISBLANK(Q375), \"\", Q375/P375)","v":""}]
[null,null,null,null,null,null,{"$f":"IF(COUNTIF(D376,\"N\"),\"\",IF(ISBLANK(E376),\"\",IF(ISBLANK(F376),IF(ISBLANK(L376), _xlfn.DAYS(TODAY(),E376), _xlfn.DAYS(L376,E376)), _xlfn.DAYS(F376,E376))))","v":""},null,{"$f":"IF(COUNTIF(D376,\"N\"),\"\",IF(ISBLANK(F376),\"\",IF(ISBLANK(H376),IF(ISBLANK(K376),_xlfn.DAYS(TODAY(),F376),_xlfn.DAYS(K376,F376)),_xlfn.DAYS(H376,F376))))","v":""},null,null,null,{"$f":"IF(COUNTIF(D376,\"N\"),\"ON HOLD\",IF(ISBLANK(K376),IF(ISBLANK(E376),\"\",IF(ISBLANK(F376),\"NO\",\"YES\")),\"NO\"))","v":""},{"$f":"IF(COUNTIF(D376,\"N\"),\"\",IF(ISBLANK(F376),\"\",IF(ISBLANK(K376),_xlfn.DAYS(TODAY(),F376),_xlfn.DAYS(K376,F376))))","v":""},null,null,null,{"$f":"IF(ISBLANK(P376), \"\", P376-Q376)","v":""},{"$f":"IF(ISBLANK(Q376), \"\", Q376/P376)","v":""}]
[null,null,null,null,null,null,{"$f":"IF(COUNTIF(D377,\"N\"),\"\",IF(ISBLANK(E377),\"\",IF(ISBLANK(F377),IF(ISBLANK(L377), _xlfn.DAYS(TODAY(),E377), _xlfn.DAYS(L377,E377)), _xlfn.DAYS(F377,E377))))","v":""},null,{"$f":"IF(COUNTIF(D377,\"N\"),\"\",IF(ISBLANK(F377),\"\",IF(ISBLANK(H377),IF(ISBLANK(K377),_xlfn.DAYS(TODAY(),F377),_xlfn.DAYS(K377,F377)),_xlfn.DAYS(H377,F377))))","v":""},null,null,null,{"$f":"IF(COUNTIF(D377,\"N\"),\"ON HOLD\",IF(ISBLANK(K377),IF(ISBLANK(E377),\"\",IF(ISBLANK(F377),\"NO\",\"YES\")),\"NO\"))","v":""},{"$f":"IF(COUNTIF(D377,\"N\"),\"\",IF(ISBLANK(F377),\"\",IF(ISBLANK(K377),_xlfn.DAYS(TODAY(),F377),_xlfn.DAYS(K377,F377))))","v":""},null,null,null,{"$f":"IF(ISBLANK(P377), \"\", P377-Q377)","v":""},{"$f":"IF(ISBLANK(Q377), \"\", Q377/P377)","v":""}]
[null,null,null,null,null,null,{"$f":"IF(COUNTIF(D378,\"N\"),\"\",IF(ISBLANK(E378),\"\",IF(ISBLANK(F378),IF(ISBLANK(L378), _xlfn.DAYS(TODAY(),E378), _xlfn.DAYS(L378,E378)), _xlfn.DAYS(F378,E378))))","v":""},null,{"$f":"IF(COUNTIF(D378,\"N\"),\"\",IF(ISBLANK(F378),\"\",IF(ISBLANK(H378),IF(ISBLANK(K378),_xlfn.DAYS(TODAY(),F378),_xlfn.DAYS(K378,F378)),_xlfn.DAYS(H378,F378))))","v":""},null,null,null,{"$f":"IF(COUNTIF(D378,\"N\"),\"ON HOLD\",IF(ISBLANK(K378),IF(ISBLANK(E378),\"\",IF(ISBLANK(F378),\"NO\",\"YES\")),\"NO\"))","v":""},{"$f":"IF(COUNTIF(D378,\"N\"),\"\",IF(ISBLANK(F378),\"\",IF(ISBLANK(K378),_xlfn.DAYS(TODAY(),F378),_xlfn.DAYS(K378,F378))))","v":""},null,null,null,{"$f":"IF(ISBLANK(P378), \"\", P378-Q378)","v":""},{"$f":"IF(ISBLANK(Q378), \"\", Q378/P378)","v":""}]
[null,null,null,null,null,null,{"$f":"IF(COUNTIF(D379,\"N\"),\"\",IF(ISBLANK(E379),\"\",IF(ISBLANK(F379),IF(ISBLANK(L379), _xlfn.DAYS(TODAY(),E379), _xlfn.DAYS(L379,E379)), _xlfn.DAYS(F379,E379))))","v":""},null,{"$f":"IF(COUNTIF(D379,\"N\"),\"\",IF(ISBLANK(F379),\"\",IF(ISBLANK(H379),IF(ISBLANK(K379),_xlfn.DAYS(TODAY(),F379),_xlfn.DAYS(K379,F379)),_xlfn.DAYS(H379,F379))))","v":""},null,null,null,{"$f":"IF(COUNTIF(D379,\"N\"),\"ON HOLD\",IF(ISBLANK(K379),IF(ISBLANK(E379),\"\",IF(ISBLANK(F379),\"NO\",\"YES\")),\"NO\"))","v":""},{"$f":"IF(COUNTIF(D379,\"N\"),\"\",IF(ISBLANK(F379),\"\",IF(ISBLANK(K379),_xlfn.DAYS(TODAY(),F379),_xlfn.DAYS(K379,F379))))","v":""},null,null,null,{"$f":"IF(ISBLANK(P379), \"\", P379-Q379)","v":""},{"$f":"IF(ISBLANK(Q379), \"\", Q379/P379)","v":""}]
[null,null,null,null,null,null,{"$f":"IF(COUNTIF(D380,\"N\"),\"\",IF(ISBLANK(E380),\"\",IF(ISBLANK(F380),IF(ISBLANK(L380), _xlfn.DAYS(TODAY(),E380), _xlfn.DAYS(L380,E380)), _xlfn.DAYS(F380,E380))))","v":""},null,{"$f":"IF(COUNTIF(D380,\"N\"),\"\",IF(ISBLANK(F380),\"\",IF(ISBLANK(H380),IF(ISBLANK(K380),_xlfn.DAYS(TODAY(),F380),_xlfn.DAYS(K380,F380)),_xlfn.DAYS(H380,F380))))","v":""},null,null,null,{"$f":"IF(COUNTIF(D380,\"N\"),\"ON HOLD\",IF(ISBLANK(K380),IF(ISBLANK(E380),\"\",IF(ISBLANK(F380),\"NO\",\"YES\")),\"NO\"))","v":""},{"$f":"IF(COUNTIF(D380,\"N\"),\"\",IF(ISBLANK(F380),\"\",IF(ISBLANK(K380),_xlfn.DAYS(TODAY(),F380),_xlfn.DAYS(K380,F380))))","v":""},null,null,null,{"$f":"IF(ISBLANK(P380), \"\", P380-Q380)","v":""},{"$f":"IF(ISBLANK(Q380), \"\", Q380/P380)","v":""}]
[null,null,null,null,null,null,{"$f":"IF(COUNTIF(D381,\"N\"),\"\",IF(ISBLANK(E381),\"\",IF(ISBLANK(F381),IF(ISBLANK(L381), _xlfn.DAYS(TODAY(),E381), _xlfn.DAYS(L381,E381)), _xlfn.DAYS(F381,E381))))","v":""},null,{"$f":"IF(COUNTIF(D381,\"N\"),\"\",IF(ISBLANK(F381),\"\",IF(ISBLANK(H381),IF(ISBLANK(K381),_xlfn.DAYS(TODAY(),F381),_xlfn.DAYS(K381,F381)),_xlfn.DAYS(H381,F381))))","v":""},null,null,null,{"$f":"IF(COUNTIF(D381,\"N\"),\"ON HOLD\",IF(ISBLANK(K381),IF(ISBLANK(E381),\"\",IF(ISBLANK(F381),\"NO\",\"YES\")),\"NO\"))","v":""},{"$f":"IF(COUNTIF(D381,\"N\"),\"\",IF(ISBLANK(F381),\"\",IF(ISBLANK(K381),_xlfn.DAYS(TODAY(),F381),_xlfn.DAYS(K381,F381))))","v":""},null,null,null,{"$f":"IF(ISBLANK(P381), \"\", P381-Q381)","v":""},{"$f":"IF(ISBLANK(Q381), \"\", Q381/P381)","v":""}]
[null,null,null,null,null,null,{"$f":"IF(COUNTIF(D382,\"N\"),\"\",IF(ISBLANK(E382),\"\",IF(ISBLANK(F382),IF(ISBLANK(L382), _xlfn.DAYS(TODAY(),E382), _xlfn.DAYS(L382,E382)), _xlfn.DAYS(F382,E382))))","v":""},null,{"$f":"IF(COUNTIF(D382,\"N\"),\"\",IF(ISBLANK(F382),\"\",IF(ISBLANK(H382),IF(ISBLANK(K382),_xlfn.DAYS(TODAY(),F382),_xlfn.DAYS(K382,F382)),_xlfn.DAYS(H382,F382))))","v":""},null,null,null,{"$f":"IF(COUNTIF(D382,\"N\"),\"ON HOLD\",IF(ISBLANK(K382),IF(ISBLANK(E382),\"\",IF(ISBLANK(F382),\"NO\",\"YES\")),\"NO\"))","v":""},{"$f":"IF(COUNTIF(D382,\"N\"),\"\",IF(ISBLANK(F382),\"\",IF(ISBLANK(K382),_xlfn.DAYS(TODAY(),F382),_xlfn.DAYS(K382,F382))))","v":""},null,null,null,{"$f":"IF(ISBLANK(P382), \"\", P382-Q382)","v":""},{"$f":"IF(ISBLANK(Q382), \"\", Q382/P382)","v":""}]
[null,null,null,null,null,null,{"$f":"IF(COUNTIF(D383,\"N\"),\"\",IF(ISBLANK(E383),\"\",IF(ISBLANK(F383),IF(ISBLANK(L383), _xlfn.DAYS(TODAY(),E383), _xlfn.DAYS(L383,E383)), _xlfn.DAYS(F383,E383))))","v":""},null,{"$f":"IF(COUNTIF(D383,\"N\"),\"\",IF(ISBLANK(F383),\"\",IF(ISBLANK(H383),IF(ISBLANK(K383),_xlfn.DAYS(TODAY(),F383),_xlfn.DAYS(K383,F383)),_xlfn.DAYS(H383,F383))))","v":""},null,null,null,{"$f":"IF(COUNTIF(D383,\"N\"),\"ON HOLD\",IF(ISBLANK(K383),IF(ISBLANK(E383),\"\",IF(ISBLANK(F383),\"NO\",\"YES\")),\"NO\"))","v":""},{"$f":"IF(COUNTIF(D383,\"N\"),\"\",IF(ISBLANK(F383),\"\",IF(ISBLANK(K383),_xlfn.DAYS(TODAY(),F383),_xlfn.DAYS(K383,F383))))","v":""},null,null,null,{"$f":"IF(ISBLANK(P383), \"\", P383-Q383)","v":""},{"$f":"IF(ISBLANK(Q383), \"\", Q383/P383)","v":""}]
[null,null,null,null,null,null,{"$f":"IF(COUNTIF(D384,\"N\"),\"\",IF(ISBLANK(E384),\"\",IF(ISBLANK(F384),IF(ISBLANK(L384), _xlfn.DAYS(TODAY(),E384), _xlfn.DAYS(L384,E384)), _xlfn.DAYS(F384,E384))))","v":""},null,{"$f":"IF(COUNTIF(D384,\"N\"),\"\",IF(ISBLANK(F384),\"\",IF(ISBLANK(H384),IF(ISBLANK(K384),_xlfn.DAYS(TODAY(),F384),_xlfn.DAYS(K384,F384)),_xlfn.DAYS(H384,F384))))","v":""},null,null,null,{"$f":"IF(COUNTIF(D384,\"N\"),\"ON HOLD\",IF(ISBLANK(K384),IF(ISBLANK(E384),\"\",IF(ISBLANK(F384),\"NO\",\"YES\")),\"NO\"))","v":""},{"$f":"IF(COUNTIF(D384,\"N\"),\"\",IF(ISBLANK(F384),\"\",IF(ISBLANK(K384),_xlfn.DAYS(TODAY(),F384),_xlfn.DAYS(K384,F384))))","v":""},null,null,null,{"$f":"IF(ISBLANK(P384), \"\", P384-Q384)","v":""},{"$f":"IF(ISBLANK(Q384), \"\", Q384/P384)","v":""}]
[null,null,null,null,null,null,{"$f":"IF(COUNTIF(D385,\"N\"),\"\",IF(ISBLANK(E385),\"\",IF(ISBLANK(F385),IF(ISBLANK(L385), _xlfn.DAYS(TODAY(),E385), _xlfn.DAYS(L385,E385)), _xlfn.DAYS(F385,E385))))","v":""},null,{"$f":"IF(COUNTIF(D385,\"N\"),\"\",IF(ISBLANK(F385),\"\",IF(ISBLANK(H385),IF(ISBLANK(K385),_xlfn.DAYS(TODAY(),F385),_xlfn.DAYS(K385,F385)),_xlfn.DAYS(H385,F385))))","v":""},null,null,null,{"$f":"IF(COUNTIF(D385,\"N\"),\"ON HOLD\",IF(ISBLANK(K385),IF(ISBLANK(E385),\"\",IF(ISBLANK(F385),\"NO\",\"YES\")),\"NO\"))","v":""},{"$f":"IF(COUNTIF(D385,\"N\"),\"\",IF(ISBLANK(F385),\"\",IF(ISBLANK(K385),_xlfn.DAYS(TODAY(),F385),_xlfn.DAYS(K385,F385))))","v":""},null,null,null,{"$f":"IF(ISBLANK(P385), \"\", P385-Q385)","v":""},{"$f":"IF(ISBLANK(Q385), \"\", Q385/P385)","v":""}]
[null,null,null,null,null,null,{"$f":"IF(COUNTIF(D386,\"N\"),\"\",IF(ISBLANK(E386),\"\",IF(ISBLANK(F386),IF(ISBLANK(L386), _xlfn.DAYS(TODAY(),E386), _xlfn.DAYS(L386,E386)), _xlfn.DAYS(F386,E386))))","v":""},null,{"$f":"IF(COUNTIF(D386,\"N\"),\"\",IF(ISBLANK(F386),\"\",IF(ISBLANK(H386),IF(ISBLANK(K386),_xlfn.DAYS(TODAY(),F386),_xlfn.DAYS(K386,F386)),_xlfn.DAYS(H386,F386))))","v":""},null,null,null,{"$f":"IF(COUNTIF(D386,\"N\"),\"ON HOLD\",IF(ISBLANK(K386),IF(ISBLANK(E386),\"\",IF(ISBLANK(F386),\"NO\",\"YES\")),\"NO\"))","v":""},{"$f":"IF(COUNTIF(D386,\"N\"),\"\",IF(ISBLANK(F386),\"\",IF(ISBLANK(K386),_xlfn.DAYS(TODAY(),F386),_xlfn.DAYS(K386,F386))))","v":""},null,null,null,{"$f":"IF(ISBLANK(P386), \"\", P386-Q386)","v":""},{"$f":"IF(ISBLANK(Q386), \"\", Q386/P386)","v":""}]
[null,null,null,null,null,null,{"$f":"IF(COUNTIF(D387,\"N\"),\"\",IF(ISBLANK(E387),\"\",IF(ISBLANK(F387),IF(ISBLANK(L387), _xlfn.DAYS(TODAY(),E387), _xlfn.DAYS(L387,E387)), _xlfn.DAYS(F387,E387))))","v":""},null,{"$f":"IF(COUNTIF(D387,\"N\"),\"\",IF(ISBLANK(F387),\"\",IF(ISBLANK(H387),IF(ISBLANK(K387),_xlfn.DAYS(TODAY(),F387),_xlfn.DAYS(K387,F387)),_xlfn.DAYS(H387,F387))))","v":""},null,null,null,{"$f":"IF(COUNTIF(D387,\"N\"),\"ON HOLD\",IF(ISBLANK(K387),IF(ISBLANK(E387),\"\",IF(ISBLANK(F387),\"NO\",\"YES\")),\"NO\"))","v":""},{"$f":"IF(COUNTIF(D387,\"N\"),\"\",IF(ISBLANK(F387),\"\",IF(ISBLANK(K387),_xlfn.DAYS(TODAY(),F387),_xlfn.DAYS(K387,F387))))","v":""},null,null,null,{"$f":"IF(ISBLANK(P387), \"\", P387-Q387)","v":""},{"$f":"IF(ISBLANK(Q387), \"\", Q387/P387)","v":""}]
[null,null,null,null,null,null,{"$f":"IF(COUNTIF(D388,\"N\"),\"\",IF(ISBLANK(E388),\"\",IF(ISBLANK(F388),IF(ISBLANK(L388), _xlfn.DAYS(TODAY(),E388), _xlfn.DAYS(L388,E388)), _xlfn.DAYS(F388,E388))))","v":""},null,{"$f":"IF(COUNTIF(D388,\"N\"),\"\",IF(ISBLANK(F388),\"\",IF(ISBLANK(H388),IF(ISBLANK(K388),_xlfn.DAYS(TODAY(),F388),_xlfn.DAYS(K388,F388)),_xlfn.DAYS(H388,F388))))","v":""},null,null,null,{"$f":"IF(COUNTIF(D388,\"N\"),\"ON HOLD\",IF(ISBLANK(K388),IF(ISBLANK(E388),\"\",IF(ISBLANK(F388),\"NO\",\"YES\")),\"NO\"))","v":""},{"$f":"IF(COUNTIF(D388,\"N\"),\"\",IF(ISBLANK(F388),\"\",IF(ISBLANK(K388),_xlfn.DAYS(TODAY(),F388),_xlfn.DAYS(K388,F388))))","v":""},null,null,null,{"$f":"IF(ISBLANK(P388), \"\", P388-Q388)","v":""},{"$f":"IF(ISBLANK(Q388), \"\", Q388/P388)","v":""}]
[null,null,null,null,null,null,{"$f":"IF(COUNTIF(D389,\"N\"),\"\",IF(ISBLANK(E389),\"\",IF(ISBLANK(F389),IF(ISBLANK(L389), _xlfn.DAYS(TODAY(),E389), _xlfn.DAYS(L389,E389)), _xlfn.DAYS(F389,E389))))","v":""},null,{"$f":"IF(COUNTIF(D389,\"N\"),\"\",IF(ISBLANK(F389),\"\",IF(ISBLANK(H389),IF(ISBLANK(K389),_xlfn.DAYS(TODAY(),F389),_xlfn.DAYS(K389,F389)),_xlfn.DAYS(H389,F389))))","v":""},null,null,null,{"$f":"IF(COUNTIF(D389,\"N\"),\"ON HOLD\",IF(ISBLANK(K389),IF(ISBLANK(E389),\"\",IF(ISBLANK(F389),\"NO\",\"YES\")),\"NO\"))","v":""},{"$f":"IF(COUNTIF(D389,\"N\"),\"\",IF(ISBLANK(F389),\"\",IF(ISBLANK(K389),_xlfn.DAYS(TODAY(),F389),_xlfn.DAYS(K389,F389))))","v":""},null,null,null,{"$f":"IF(ISBLANK(P389), \"\", P389-Q389)","v":""},{"$f":"IF(ISBLANK(Q389), \"\", Q389/P389)","v":""}]
[null,null,null,null,null,null,{"$f":"IF(COUNTIF(D390,\"N\"),\"\",IF(ISBLANK(E390),\"\",IF(ISBLANK(F390),IF(ISBLANK(L390), _xlfn.DAYS(TODAY(),E390), _xlfn.DAYS(L390,E390)), _xlfn.DAYS(F390,E390))))","v":""},null,{"$f":"IF(COUNTIF(D390,\"N\"),\"\",IF(ISBLANK(F390),\"\",IF(ISBLANK(H390),IF(ISBLANK(K390),_xlfn.DAYS(TODAY(),F390),_xlfn.DAYS(K390,F390)),_xlfn.DAYS(H390,F390))))","v":""},null,null,null,{"$f":"IF(COUNTIF(D390,\"N\"),\"ON HOLD\",IF(ISBLANK(K390),IF(ISBLANK(E390),\"\",IF(ISBLANK(F390),\"NO\",\"YES\")),\"NO\"))","v":""},{"$f":"IF(COUNTIF(D390,\"N\"),\"\",IF(ISBLANK(F390),\"\",IF(ISBLANK(K390),_xlfn.DAYS(TODAY(),F390),_xlfn.DAYS(K390,F390))))","v":""},null,null,null,{"$f":"IF(ISBLANK(P390), \"\", P390-Q390)","v":""},{"$f":"IF(ISBLANK(Q390), \"\", Q390/P390)","v":""}]
[null,null,null,null,null,null,{"$f":"IF(COUNTIF(D391,\"N\"),\"\",IF(ISBLANK(E391),\"\",IF(ISBLANK(F391),IF(ISBLANK(L391), _xlfn.DAYS(TODAY(),E391), _xlfn.DAYS(L391,E391)), _xlfn.DAYS(F391,E391))))","v":""},null,{"$f":"IF(COUNTIF(D391,\"N\"),\"\",IF(ISBLANK(F391),\"\",IF(ISBLANK(H391),IF(ISBLANK(K391),_xlfn.DAYS(TODAY(),F391),_xlfn.DAYS(K391,F391)),_xlfn.DAYS(H391,F391))))","v":""},null,null,null,{"$f":"IF(COUNTIF(D391,\"N\"),\"ON HOLD\",IF(ISBLANK(K391),IF(ISBLANK(E391),\"\",IF(ISBLANK(F391),\"NO\",\"YES\")),\"NO\"))","v":""},{"$f":"IF(COUNTIF(D391,\"N\"),\"\",IF(ISBLANK(F391),\"\",IF(ISBLANK(K391),_xlfn.DAYS(TODAY(),F391),_xlfn.DAYS(K391,F391))))","v":""},null,null,null,{"$f":"IF(ISBLANK(P391), \"\", P391-Q391)","v":""},{"$f":"IF(ISBLANK(Q391), \"\", Q391/P391)","v":""}]
[null,null,null,null,null,null,{"$f":"IF(COUNTIF(D392,\"N\"),\"\",IF(ISBLANK(E392),\"\",IF(ISBLANK(F392),IF(ISBLANK(L392), _xlfn.DAYS(TODAY(),E392), _xlfn.DAYS(L392,E392)), _xlfn.DAYS(F392,E392))))","v":""},null,{"$f":"IF(COUNTIF(D392,\"N\"),\"\",IF(ISBLANK(F392),\"\",IF(ISBLANK(H392),IF(ISBLANK(K392),_xlfn.DAYS(TODAY(),F392),_xlfn.DAYS(K392,F392)),_xlfn.DAYS(H392,F392))))","v":""},null,null,null,{"$f":"IF(COUNTIF(D392,\"N\"),\"ON HOLD\",IF(ISBLANK(K392),IF(ISBLANK(E392),\"\",IF(ISBLANK(F392),\"NO\",\"YES\")),\"NO\"))","v":""},{"$f":"IF(COUNTIF(D392,\"N\"),\"\",IF(ISBLANK(F392),\"\",IF(ISBLANK(K392),_xlfn.DAYS(TODAY(),F392),_xlfn.DAYS(K392,F392))))","v":""},null,null,null,{"$f":"IF(ISBLANK(P392), \"\", P392-Q392)","v":""},{"$f":"IF(ISBLANK(Q392), \"\", Q392/P392)","v":""}]
[null,null,null,null,null,null,{"$f":"IF(COUNTIF(D393,\"N\"),\"\",IF(ISBLANK(E393),\"\",IF(ISBLANK(F393),IF(ISBLANK(L393), _xlfn.DAYS(TODAY(),E393), _xlfn.DAYS(L393,E393)), _xlfn.DAYS(F393,E393))))","v":""},null,{"$f":"IF(COUNTIF(D393,\"N\"),\"\",IF(ISBLANK(F393),\"\",IF(ISBLANK(H393),IF(ISBLANK(K393),_xlfn.DAYS(TODAY(),F393),_xlfn.DAYS(K393,F393)),_xlfn.DAYS(H393,F393))))","v":""},null,null,null,{"$f":"IF(COUNTIF(D393,\"N\"),\"ON HOLD\",IF(ISBLANK(K393),IF(ISBLANK(E393),\"\",IF(ISBLANK(F393),\"NO\",\"YES\")),\"NO\"))","v":""},{"$f":"IF(COUNTIF(D393,\"N\"),\"\",IF(ISBLANK(F393),\"\",IF(ISBLANK(K393),_xlfn.DAYS(TODAY(),F393),_xlfn.DAYS(K393,F393))))","v":""},null,null,null,{"$f":"IF(ISBLANK(P393), \"\", P393-Q393)","v":""},{"$f":"IF(ISBLANK(Q393), \"\", Q393/P393)","v":""}]
[null,null,null,null,null,null,{"$f":"IF(COUNTIF(D394,\"N\"),\"\",IF(ISBLANK(E394),\"\",IF(ISBLANK(F394),IF(ISBLANK(L394), _xlfn.DAYS(TODAY(),E394), _xlfn.DAYS(L394,E394)), _xlfn.DAYS(F394,E394))))","v":""},null,{"$f":"IF(COUNTIF(D394,\"N\"),\"\",IF(ISBLANK(F394),\"\",IF(ISBLANK(H394),IF(ISBLANK(K394),_xlfn.DAYS(TODAY(),F394),_xlfn.DAYS(K394,F394)),_xlfn.DAYS(H394,F394))))","v":""},null,null,null,{"$f":"IF(COUNTIF(D394,\"N\"),\"ON HOLD\",IF(ISBLANK(K394),IF(ISBLANK(E394),\"\",IF(ISBLANK(F394),\"NO\",\"YES\")),\"NO\"))","v":""},{"$f":"IF(COUNTIF(D394,\"N\"),\"\",IF(ISBLANK(F394),\"\",IF(ISBLANK(K394),_xlfn.DAYS(TODAY(),F394),_xlfn.DAYS(K394,F394))))","v":""},null,null,null,{"$f":"IF(ISBLANK(P394), \"\", P394-Q394)","v":""},{"$f":"IF(ISBLANK(Q394), \"\", Q394/P394)","v":""}]
[null,null,null,null,null,null,{"$f":"IF(COUNTIF(D395,\"N\"),\"\",IF(ISBLANK(E395),\"\",IF(ISBLANK(F395),IF(ISBLANK(L395), _xlfn.DAYS(TODAY(),E395), _xlfn.DAYS(L395,E395)), _xlfn.DAYS(F395,E395))))","v":""},null,{"$f":"IF(COUNTIF(D395,\"N\"),\"\",IF(ISBLANK(F395),\"\",IF(ISBLANK(H395),IF(ISBLANK(K395),_xlfn.DAYS(TODAY(),F395),_xlfn.DAYS(K395,F395)),_xlfn.DAYS(H395,F395))))","v":""},null,null,null,{"$f":"IF(COUNTIF(D395,\"N\"),\"ON HOLD\",IF(ISBLANK(K395),IF(ISBLANK(E395),\"\",IF(ISBLANK(F395),\"NO\",\"YES\")),\"NO\"))","v":""},{"$f":"IF(COUNTIF(D395,\"N\"),\"\",IF(ISBLANK(F395),\"\",IF(ISBLANK(K395),_xlfn.DAYS(TODAY(),F395),_xlfn.DAYS(K395,F395))))","v":""},null,null,null,{"$f":"IF(ISBLANK(P395), \"\", P395-Q395)","v":""},{"$f":"IF(ISBLANK(Q395), \"\", Q395/P395)","v":""}]
[null,null,null,null,null,null,{"$f":"IF(COUNTIF(D396,\"N\"),\"\",IF(ISBLANK(E396),\"\",IF(ISBLANK(F396),IF(ISBLANK(L396), _xlfn.DAYS(TODAY(),E396), _xlfn.DAYS(L396,E396)), _xlfn.DAYS(F396,E396))))","v":""},null,{"$f":"IF(COUNTIF(D396,\"N\"),\"\",IF(ISBLANK(F396),\"\",IF(ISBLANK(H396),IF(ISBLANK(K396),_xlfn.DAYS(TODAY(),F396),_xlfn.DAYS(K396,F396)),_xlfn.DAYS(H396,F396))))","v":""},null,null,null,{"$f":"IF(COUNTIF(D396,\"N\"),\"ON HOLD\",IF(ISBLANK(K396),IF(ISBLANK(E396),\"\",IF(ISBLANK(F396),\"NO\",\"YES\")),\"NO\"))","v":""},{"$f":"IF(COUNTIF(D396,\"N\"),\"\",IF(ISBLANK(F396),\"\",IF(ISBLANK(K396),_xlfn.DAYS(TODAY(),F396),_xlfn.DAYS(K396,F396))))","v":""},null,null,null,{"$f":"IF(ISBLANK(P396), \"\", P396-Q396)","v":""},{"$f":"IF(ISBLANK(Q396), \"\", Q396/P396)","v":""}]
[null,null,null,null,null,null,{"$f":"IF(COUNTIF(D397,\"N\"),\"\",IF(ISBLANK(E397),\"\",IF(ISBLANK(F397),IF(ISBLANK(L397), _xlfn.DAYS(TODAY(),E397), _xlfn.DAYS(L397,E397)), _xlfn.DAYS(F397,E397))))","v":""},null,{"$f":"IF(COUNTIF(D397,\"N\"),\"\",IF(ISBLANK(F397),\"\",IF(ISBLANK(H397),IF(ISBLANK(K397),_xlfn.DAYS(TODAY(),F397),_xlfn.DAYS(K397,F397)),_xlfn.DAYS(H397,F397))))","v":""},null,null,null,{"$f":"IF(COUNTIF(D397,\"N\"),\"ON HOLD\",IF(ISBLANK(K397),IF(ISBLANK(E397),\"\",IF(ISBLANK(F397),\"NO\",\"YES\")),\"NO\"))","v":""},{"$f":"IF(COUNTIF(D397,\"N\"),\"\",IF(ISBLANK(F397),\"\",IF(ISBLANK(K397),_xlfn.DAYS(TODAY(),F397),_xlfn.DAYS(K397,F397))))","v":""},null,null,null,{"$f":"IF(ISBLANK(P397), \"\", P397-Q397)","v":""},{"$f":"IF(ISBLANK(Q397), \"\", Q397/P397)","v":""}]
[null,null,null,null,null,null,{"$f":"IF(COUNTIF(D398,\"N\"),\"\",IF(ISBLANK(E398),\"\",IF(ISBLANK(F398),IF(ISBLANK(L398), _xlfn.DAYS(TODAY(),E398), _xlfn.DAYS(L398,E398)), _xlfn.DAYS(F398,E398))))","v":""},null,{"$f":"IF(COUNTIF(D398,\"N\"),\"\",IF(ISBLANK(F398),\"\",IF(ISBLANK(H398),IF(ISBLANK(K398),_xlfn.DAYS(TODAY(),F398),_xlfn.DAYS(K398,F398)),_xlfn.DAYS(H398,F398))))","v":""},null,null,null,{"$f":"IF(COUNTIF(D398,\"N\"),\"ON HOLD\",IF(ISBLANK(K398),IF(ISBLANK(E398),\"\",IF(ISBLANK(F398),\"NO\",\"YES\")),\"NO\"))","v":""},{"$f":"IF(COUNTIF(D398,\"N\"),\"\",IF(ISBLANK(F398),\"\",IF(ISBLANK(K398),_xlfn.DAYS(TODAY(),F398),_xlfn.DAYS(K398,F398))))","v":""},null,null,null,{"$f":"IF(ISBLANK(P398), \"\", P398-Q398)","v":""},{"$f":"IF(ISBLANK(Q398), \"\", Q398/P398)","v":""}]
[null,null,null,null,null,null,{"$f":"IF(COUNTIF(D399,\"N\"),\"\",IF(ISBLANK(E399),\"\",IF(ISBLANK(F399),IF(ISBLANK(L399), _xlfn.DAYS(TODAY(),E399), _xlfn.DAYS(L399,E399)), _xlfn.DAYS(F399,E399))))","v":""},null,{"$f":"IF(COUNTIF(D399,\"N\"),\"\",IF(ISBLANK(F399),\"\",IF(ISBLANK(H399),IF(ISBLANK(K399),_xlfn.DAYS(TODAY(),F399),_xlfn.DAYS(K399,F399)),_xlfn.DAYS(H399,F399))))","v":""},null,null,null,{"$f":"IF(COUNTIF(D399,\"N\"),\"ON HOLD\",IF(ISBLANK(K399),IF(ISBLANK(E399),\"\",IF(ISBLANK(F399),\"NO\",\"YES\")),\"NO\"))","v":""},{"$f":"IF(COUNTIF(D399,\"N\"),\"\",IF(ISBLANK(F399),\"\",IF(ISBLANK(K399),_xlfn.DAYS(TODAY(),F399),_xlfn.DAYS(K399,F399))))","v":""},null,null,null,{"$f":"IF(ISBLANK(P399), \"\", P399-Q399)","v":""},{"$f":"IF(ISBLANK(Q399), \"\", Q399/P399)","v":""}]
[null,null,null,null,null,null,{"$f":"IF(COUNTIF(D400,\"N\"),\"\",IF(ISBLANK(E400),\"\",IF(ISBLANK(F400),IF(ISBLANK(L400), _xlfn.DAYS(TODAY(),E400), _xlfn.DAYS(L400,E400)), _xlfn.DAYS(F400,E400))))","v":""},null,{"$f":"IF(COUNTIF(D400,\"N\"),\"\",IF(ISBLANK(F400),\"\",IF(ISBLANK(H400),IF(ISBLANK(K400),_xlfn.DAYS(TODAY(),F400),_xlfn.DAYS(K400,F400)),_xlfn.DAYS(H400,F400))))","v":""},null,null,null,{"$f":"IF(COUNTIF(D400,\"N\"),\"ON HOLD\",IF(ISBLANK(K400),IF(ISBLANK(E400),\"\",IF(ISBLANK(F400),\"NO\",\"YES\")),\"NO\"))","v":""},{"$f":"IF(COUNTIF(D400,\"N\"),\"\",IF(ISBLANK(F400),\"\",IF(ISBLANK(K400),_xlfn.DAYS(TODAY(),F400),_xlfn.DAYS(K400,F400))))","v":""},null,null,null,{"$f":"IF(ISBLANK(P400), \"\", P400-Q400)","v":""},{"$f":"IF(ISBLANK(Q400), \"\", Q400/P400)","v":""}]
[null,null,null,null,null,null,{"$f":"IF(COUNTIF(D401,\"N\"),\"\",IF(ISBLANK(E401),\"\",IF(ISBLANK(F401),IF(ISBLANK(L401), _xlfn.DAYS(TODAY(),E401), _xlfn.DAYS(L401,E401)), _xlfn.DAYS(F401,E401))))","v":""},null,{"$f":"IF(COUNTIF(D401,\"N\"),\"\",IF(ISBLANK(F401),\"\",IF(ISBLANK(H401),IF(ISBLANK(K401),_xlfn.DAYS(TODAY(),F401),_xlfn.DAYS(K401,F401)),_xlfn.DAYS(H401,F401))))","v":""},null,null,null,{"$f":"IF(COUNTIF(D401,\"N\"),\"ON HOLD\",IF(ISBLANK(K401),IF(ISBLANK(E401),\"\",IF(ISBLANK(F401),\"NO\",\"YES\")),\"NO\"))","v":""},{"$f":"IF(COUNTIF(D401,\"N\"),\"\",IF(ISBLANK(F401),\"\",IF(ISBLANK(K401),_xlfn.DAYS(TODAY(),F401),_xlfn.DAYS(K401,F401))))","v":""},null,null,null,{"$f":"IF(ISBLANK(P401), \"\", P401-Q401)","v":""},{"$f":"IF(ISBLANK(Q401), \"\", Q401/P401)","v":""}]
[null,null,null,null,null,null,{"$f":"IF(COUNTIF(D402,\"N\"),\"\",IF(ISBLANK(E402),\"\",IF(ISBLANK(F402),IF(ISBLANK(L402), _xlfn.DAYS(TODAY(),E402), _xlfn.DAYS(L402,E402)), _xlfn.DAYS(F402,E402))))","v":""},null,{"$f":"IF(COUNTIF(D402,\"N\"),\"\",IF(ISBLANK(F402),\"\",IF(ISBLANK(H402),IF(ISBLANK(K402),_xlfn.DAYS(TODAY(),F402),_xlfn.DAYS(K402,F402)),_xlfn.DAYS(H402,F402))))","v":""},null,null,null,{"$f":"IF(COUNTIF(D402,\"N\"),\"ON HOLD\",IF(ISBLANK(K402),IF(ISBLANK(E402),\"\",IF(ISBLANK(F402),\"NO\",\"YES\")),\"NO\"))","v":""},{"$f":"IF(COUNTIF(D402,\"N\"),\"\",IF(ISBLANK(F402),\"\",IF(ISBLANK(K402),_xlfn.DAYS(TODAY(),F402),_xlfn.DAYS(K402,F402))))","v":""},null,null,null,{"$f":"IF(ISBLANK(P402), \"\", P402-Q402)","v":""},{"$f":"IF(ISBLANK(Q402), \"\", Q402/P402)","v":""}]
[null,null,null,null,null,null,{"$f":"IF(COUNTIF(D403,\"N\"),\"\",IF(ISBLANK(E403),\"\",IF(ISBLANK(F403),IF(ISBLANK(L403), _xlfn.DAYS(TODAY(),E403), _xlfn.DAYS(L403,E403)), _xlfn.DAYS(F403,E403))))","v":""},null,{"$f":"IF(COUNTIF(D403,\"N\"),\"\",IF(ISBLANK(F403),\"\",IF(ISBLANK(H403),IF(ISBLANK(K403),_xlfn.DAYS(TODAY(),F403),_xlfn.DAYS(K403,F403)),_xlfn.DAYS(H403,F403))))","v":""},null,null,null,{"$f":"IF(COUNTIF(D403,\"N\"),\"ON HOLD\",IF(ISBLANK(K403),IF(ISBLANK(E403),\"\",IF(ISBLANK(F403),\"NO\",\"YES\")),\"NO\"))","v":""},{"$f":"IF(COUNTIF(D403,\"N\"),\"\",IF(ISBLANK(F403),\"\",IF(ISBLANK(K403),_xlfn.DAYS(TODAY(),F403),_xlfn.DAYS(K403,F403))))","v":""},null,null,null,{"$f":"IF(ISBLANK(P403), \"\", P403-Q403)","v":""},{"$f":"IF(ISBLANK(Q403), \"\", Q403/P403)","v":""}]
[null,null,null,null,null,null,{"$f":"IF(COUNTIF(D404,\"N\"),\"\",IF(ISBLANK(E404),\"\",IF(ISBLANK(F404),IF(ISBLANK(L404), _xlfn.DAYS(TODAY(),E404), _xlfn.DAYS(L404,E404)), _xlfn.DAYS(F404,E404))))","v":""},null,{"$f":"IF(COUNTIF(D404,\"N\"),\"\",IF(ISBLANK(F404),\"\",IF(ISBLANK(H404),IF(ISBLANK(K404),_xlfn.DAYS(TODAY(),F404),_xlfn.DAYS(K404,F404)),_xlfn.DAYS(H404,F404))))","v":""},null,null,null,{"$f":"IF(COUNTIF(D404,\"N\"),\"ON HOLD\",IF(ISBLANK(K404),IF(ISBLANK(E404),\"\",IF(ISBLANK(F404),\"NO\",\"YES\")),\"NO\"))","v":""},{"$f":"IF(COUNTIF(D404,\"N\"),\"\",IF(ISBLANK(F404),\"\",IF(ISBLANK(K404),_xlfn.DAYS(TODAY(),F404),_xlfn.DAYS(K404,F404))))","v":""},null,null,null,{"$f":"IF(ISBLANK(P404), \"\", P404-Q404)","v":""},{"$f":"IF(ISBLANK(Q404), \"\", Q404/P404)","v":""}]
[null,null,null,null,null,null,{"$f":"IF(COUNTIF(D405,\"N\"),\"\",IF(ISBLANK(E405),\"\",IF(ISBLANK(F405),IF(ISBLANK(L405), _xlfn.DAYS(TODAY(),E405), _xlfn.DAYS(L405,E405)), _xlfn.DAYS(F405,E405))))","v":""},null,{"$f":"IF(COUNTIF(D405,\"N\"),\"\",IF(ISBLANK(F405),\"\",IF(ISBLANK(H405),IF(ISBLANK(K405),_xlfn.DAYS(TODAY(),F405),_xlfn.DAYS(K405,F405)),_xlfn.DAYS(H405,F405))))","v":""},null,null,null,{"$f":"IF(COUNTIF(D405,\"N\"),\"ON HOLD\",IF(ISBLANK(K405),IF(ISBLANK(E405),\"\",IF(ISBLANK(F405),\"NO\",\"YES\")),\"NO\"))","v":""},{"$f":"IF(COUNTIF(D405,\"N\"),\"\",IF(ISBLANK(F405),\"\",IF(ISBLANK(K405),_xlfn.DAYS(TODAY(),F405),_xlfn.DAYS(K405,F405))))","v":""},null,null,null,{"$f":"IF(ISBLANK(P405), \"\", P405-Q405)","v":""},{"$f":"IF(ISBLANK(Q405), \"\", Q405/P405)","v":""}]
[null,null,null,null,null,null,{"$f":"IF(COUNTIF(D406,\"N\"),\"\",IF(ISBLANK(E406),\"\",IF(ISBLANK(F406),IF(ISBLANK(L406), _xlfn.DAYS(TODAY(),E406), _xlfn.DAYS(L406,E406)), _xlfn.DAYS(F406,E406))))","v":""},null,{"$f":"IF(COUNTIF(D406,\"N\"),\"\",IF(ISBLANK(F406),\"\",IF(ISBLANK(H406),IF(ISBLANK(K406),_xlfn.DAYS(TODAY(),F406),_xlfn.DAYS(K406,F406)),_xlfn.DAYS(H406,F406))))","v":""},null,null,null,{"$f":"IF(COUNTIF(D406,\"N\"),\"ON HOLD\",IF(ISBLANK(K406),IF(ISBLANK(E406),\"\",IF(ISBLANK(F406),\"NO\",\"YES\")),\"NO\"))","v":""},{"$f":"IF(COUNTIF(D406,\"N\"),\"\",IF(ISBLANK(F406),\"\",IF(ISBLANK(K406),_xlfn.DAYS(TODAY(),F406),_xlfn.DAYS(K406,F406))))","v":""},null,null,null,{"$f":"IF(ISBLANK(P406), \"\", P406-Q406)","v":""},{"$f":"IF(ISBLANK(Q406), \"\", Q406/P406)","v":""}]
[null,null,null,null,null,null,{"$f":"IF(COUNTIF(D407,\"N\"),\"\",IF(ISBLANK(E407),\"\",IF(ISBLANK(F407),IF(ISBLANK(L407), _xlfn.DAYS(TODAY(),E407), _xlfn.DAYS(L407,E407)), _xlfn.DAYS(F407,E407))))","v":""},null,{"$f":"IF(COUNTIF(D407,\"N\"),\"\",IF(ISBLANK(F407),\"\",IF(ISBLANK(H407),IF(ISBLANK(K407),_xlfn.DAYS(TODAY(),F407),_xlfn.DAYS(K407,F407)),_xlfn.DAYS(H407,F407))))","v":""},null,null,null,{"$f":"IF(COUNTIF(D407,\"N\"),\"ON HOLD\",IF(ISBLANK(K407),IF(ISBLANK(E407),\"\",IF(ISBLANK(F407),\"NO\",\"YES\")),\"NO\"))","v":""},{"$f":"IF(COUNTIF(D407,\"N\"),\"\",IF(ISBLANK(F407),\"\",IF(ISBLANK(K407),_xlfn.DAYS(TODAY(),F407),_xlfn.DAYS(K407,F407))))","v":""},null,null,null,{"$f":"IF(ISBLANK(P407), \"\", P407-Q407)","v":""},{"$f":"IF(ISBLANK(Q407), \"\", Q407/P407)","v":""}]
[null,null,null,null,null,null,{"$f":"IF(COUNTIF(D408,\"N\"),\"\",IF(ISBLANK(E408),\"\",IF(ISBLANK(F408),IF(ISBLANK(L408), _xlfn.DAYS(TODAY(),E408), _xlfn.DAYS(L408,E408)), _xlfn.DAYS(F408,E408))))","v":""},null,{"$f":"IF(COUNTIF(D408,\"N\"),\"\",IF(ISBLANK(F408),\"\",IF(ISBLANK(H408),IF(ISBLANK(K408),_xlfn.DAYS(TODAY(),F408),_xlfn.DAYS(K408,F408)),_xlfn.DAYS(H408,F408))))","v":""},null,null,null,{"$f":"IF(COUNTIF(D408,\"N\"),\"ON HOLD\",IF(ISBLANK(K408),IF(ISBLANK(E408),\"\",IF(ISBLANK(F408),\"NO\",\"YES\")),\"NO\"))","v":""},{"$f":"IF(COUNTIF(D408,\"N\"),\"\",IF(ISBLANK(F408),\"\",IF(ISBLANK(K408),_xlfn.DAYS(TODAY(),F408),_xlfn.DAYS(K408,F408))))","v":""},null,null,null,{"$f":"IF(ISBLANK(P408), \"\", P408-Q408)","v":""},{"$f":"IF(ISBLANK(Q408), \"\", Q408/P408)","v":""}]
[null,null,null,null,null,null,{"$f":"IF(COUNTIF(D409,\"N\"),\"\",IF(ISBLANK(E409),\"\",IF(ISBLANK(F409),IF(ISBLANK(L409), _xlfn.DAYS(TODAY(),E409), _xlfn.DAYS(L409,E409)), _xlfn.DAYS(F409,E409))))","v":""},null,{"$f":"IF(COUNTIF(D409,\"N\"),\"\",IF(ISBLANK(F409),\"\",IF(ISBLANK(H409),IF(ISBLANK(K409),_xlfn.DAYS(TODAY(),F409),_xlfn.DAYS(K409,F409)),_xlfn.DAYS(H409,F409))))","v":""},null,null,null,{"$f":"IF(COUNTIF(D409,\"N\"),\"ON HOLD\",IF(ISBLANK(K409),IF(ISBLANK(E409),\"\",IF(ISBLANK(F409),\"NO\",\"YES\")),\"NO\"))","v":""},{"$f":"IF(COUNTIF(D409,\"N\"),\"\",IF(ISBLANK(F409),\"\",IF(ISBLANK(K409),_xlfn.DAYS(TODAY(),F409),_xlfn.DAYS(K409,F409))))","v":""},null,null,null,{"$f":"IF(ISBLANK(P409), \"\", P409-Q409)","v":""},{"$f":"IF(ISBLANK(Q409), \"\", Q409/P409)","v":""}]
[null,null,null,null,null,null,{"$f":"IF(COUNTIF(D410,\"N\"),\"\",IF(ISBLANK(E410),\"\",IF(ISBLANK(F410),IF(ISBLANK(L410), _xlfn.DAYS(TODAY(),E410), _xlfn.DAYS(L410,E410)), _xlfn.DAYS(F410,E410))))","v":""},null,{"$f":"IF(COUNTIF(D410,\"N\"),\"\",IF(ISBLANK(F410),\"\",IF(ISBLANK(H410),IF(ISBLANK(K410),_xlfn.DAYS(TODAY(),F410),_xlfn.DAYS(K410,F410)),_xlfn.DAYS(H410,F410))))","v":""},null,null,null,{"$f":"IF(COUNTIF(D410,\"N\"),\"ON HOLD\",IF(ISBLANK(K410),IF(ISBLANK(E410),\"\",IF(ISBLANK(F410),\"NO\",\"YES\")),\"NO\"))","v":""},{"$f":"IF(COUNTIF(D410,\"N\"),\"\",IF(ISBLANK(F410),\"\",IF(ISBLANK(K410),_xlfn.DAYS(TODAY(),F410),_xlfn.DAYS(K410,F410))))","v":""},null,null,null,{"$f":"IF(ISBLANK(P410), \"\", P410-Q410)","v":""},{"$f":"IF(ISBLANK(Q410), \"\", Q410/P410)","v":""}]
[null,null,null,null,null,null,{"$f":"IF(COUNTIF(D411,\"N\"),\"\",IF(ISBLANK(E411),\"\",IF(ISBLANK(F411),IF(ISBLANK(L411), _xlfn.DAYS(TODAY(),E411), _xlfn.DAYS(L411,E411)), _xlfn.DAYS(F411,E411))))","v":""},null,{"$f":"IF(COUNTIF(D411,\"N\"),\"\",IF(ISBLANK(F411),\"\",IF(ISBLANK(H411),IF(ISBLANK(K411),_xlfn.DAYS(TODAY(),F411),_xlfn.DAYS(K411,F411)),_xlfn.DAYS(H411,F411))))","v":""},null,null,null,{"$f":"IF(COUNTIF(D411,\"N\"),\"ON HOLD\",IF(ISBLANK(K411),IF(ISBLANK(E411),\"\",IF(ISBLANK(F411),\"NO\",\"YES\")),\"NO\"))","v":""},{"$f":"IF(COUNTIF(D411,\"N\"),\"\",IF(ISBLANK(F411),\"\",IF(ISBLANK(K411),_xlfn.DAYS(TODAY(),F411),_xlfn.DAYS(K411,F411))))","v":""},null,null,null,{"$f":"IF(ISBLANK(P411), \"\", P411-Q411)","v":""},{"$f":"IF(ISBLANK(Q411), \"\", Q411/P411)","v":""}]
[null,null,null,null,null,null,{"$f":"IF(COUNTIF(D412,\"N\"),\"\",IF(ISBLANK(E412),\"\",IF(ISBLANK(F412),IF(ISBLANK(L412), _xlfn.DAYS(TODAY(),E412), _xlfn.DAYS(L412,E412)), _xlfn.DAYS(F412,E412))))","v":""},null,{"$f":"IF(COUNTIF(D412,\"N\"),\"\",IF(ISBLANK(F412),\"\",IF(ISBLANK(H412),IF(ISBLANK(K412),_xlfn.DAYS(TODAY(),F412),_xlfn.DAYS(K412,F412)),_xlfn.DAYS(H412,F412))))","v":""},null,null,null,{"$f":"IF(COUNTIF(D412,\"N\"),\"ON HOLD\",IF(ISBLANK(K412),IF(ISBLANK(E412),\"\",IF(ISBLANK(F412),\"NO\",\"YES\")),\"NO\"))","v":""},{"$f":"IF(COUNTIF(D412,\"N\"),\"\",IF(ISBLANK(F412),\"\",IF(ISBLANK(K412),_xlfn.DAYS(TODAY(),F412),_xlfn.DAYS(K412,F412))))","v":""},null,null,null,{"$f":"IF(ISBLANK(P412), \"\", P412-Q412)","v":""},{"$f":"IF(ISBLANK(Q412), \"\", Q412/P412)","v":""}]
[null,null,null,null,null,null,{"$f":"IF(COUNTIF(D413,\"N\"),\"\",IF(ISBLANK(E413),\"\",IF(ISBLANK(F413),IF(ISBLANK(L413), _xlfn.DAYS(TODAY(),E413), _xlfn.DAYS(L413,E413)), _xlfn.DAYS(F413,E413))))","v":""},null,{"$f":"IF(COUNTIF(D413,\"N\"),\"\",IF(ISBLANK(F413),\"\",IF(ISBLANK(H413),IF(ISBLANK(K413),_xlfn.DAYS(TODAY(),F413),_xlfn.DAYS(K413,F413)),_xlfn.DAYS(H413,F413))))","v":""},null,null,null,{"$f":"IF(COUNTIF(D413,\"N\"),\"ON HOLD\",IF(ISBLANK(K413),IF(ISBLANK(E413),\"\",IF(ISBLANK(F413),\"NO\",\"YES\")),\"NO\"))","v":""},{"$f":"IF(COUNTIF(D413,\"N\"),\"\",IF(ISBLANK(F413),\"\",IF(ISBLANK(K413),_xlfn.DAYS(TODAY(),F413),_xlfn.DAYS(K413,F413))))","v":""},null,null,null,{"$f":"IF(ISBLANK(P413), \"\", P413-Q413)","v":""},{"$f":"IF(ISBLANK(Q413), \"\", Q413/P413)","v":""}]
[null,null,null,null,null,null,{"$f":"IF(COUNTIF(D414,\"N\"),\"\",IF(ISBLANK(E414),\"\",IF(ISBLANK(F414),IF(ISBLANK(L414), _xlfn.DAYS(TODAY(),E414), _xlfn.DAYS(L414,E414)), _xlfn.DAYS(F414,E414))))","v":""},null,{"$f":"IF(COUNTIF(D414,\"N\"),\"\",IF(ISBLANK(F414),\"\",IF(ISBLANK(H414),IF(ISBLANK(K414),_xlfn.DAYS(TODAY(),F414),_xlfn.DAYS(K414,F414)),_xlfn.DAYS(H414,F414))))","v":""},null,null,null,{"$f":"IF(COUNTIF(D414,\"N\"),\"ON HOLD\",IF(ISBLANK(K414),IF(ISBLANK(E414),\"\",IF(ISBLANK(F414),\"NO\",\"YES\")),\"NO\"))","v":""},{"$f":"IF(COUNTIF(D414,\"N\"),\"\",IF(ISBLANK(F414),\"\",IF(ISBLANK(K414),_xlfn.DAYS(TODAY(),F414),_xlfn.DAYS(K414,F414))))","v":""},null,null,null,{"$f":"IF(ISBLANK(P414), \"\", P414-Q414)","v":""},{"$f":"IF(ISBLANK(Q414), \"\", Q414/P414)","v":""}]
[null,null,null,null,null,null,{"$f":"IF(COUNTIF(D415,\"N\"),\"\",IF(ISBLANK(E415),\"\",IF(ISBLANK(F415),IF(ISBLANK(L415), _xlfn.DAYS(TODAY(),E415), _xlfn.DAYS(L415,E415)), _xlfn.DAYS(F415,E415))))","v":""},null,{"$f":"IF(COUNTIF(D415,\"N\"),\"\",IF(ISBLANK(F415),\"\",IF(ISBLANK(H415),IF(ISBLANK(K415),_xlfn.DAYS(TODAY(),F415),_xlfn.DAYS(K415,F415)),_xlfn.DAYS(H415,F415))))","v":""},null,null,null,{"$f":"IF(COUNTIF(D415,\"N\"),\"ON HOLD\",IF(ISBLANK(K415),IF(ISBLANK(E415),\"\",IF(ISBLANK(F415),\"NO\",\"YES\")),\"NO\"))","v":""},{"$f":"IF(COUNTIF(D415,\"N\"),\"\",IF(ISBLANK(F415),\"\",IF(ISBLANK(K415),_xlfn.DAYS(TODAY(),F415),_xlfn.DAYS(K415,F415))))","v":""},null,null,null,{"$f":"IF(ISBLANK(P415), \"\", P415-Q415)","v":""},{"$f":"IF(ISBLANK(Q415), \"\", Q415/P415)","v":""}]
[null,null,null,null,null,null,{"$f":"IF(COUNTIF(D416,\"N\"),\"\",IF(ISBLANK(E416),\"\",IF(ISBLANK(F416),IF(ISBLANK(L416), _xlfn.DAYS(TODAY(),E416), _xlfn.DAYS(L416,E416)), _xlfn.DAYS(F416,E416))))","v":""},null,{"$f":"IF(COUNTIF(D416,\"N\"),\"\",IF(ISBLANK(F416),\"\",IF(ISBLANK(H416),IF(ISBLANK(K416),_xlfn.DAYS(TODAY(),F416),_xlfn.DAYS(K416,F416)),_xlfn.DAYS(H416,F416))))","v":""},null,null,null,{"$f":"IF(COUNTIF(D416,\"N\"),\"ON HOLD\",IF(ISBLANK(K416),IF(ISBLANK(E416),\"\",IF(ISBLANK(F416),\"NO\",\"YES\")),\"NO\"))","v":""},{"$f":"IF(COUNTIF(D416,\"N\"),\"\",IF(ISBLANK(F416),\"\",IF(ISBLANK(K416),_xlfn.DAYS(TODAY(),F416),_xlfn.DAYS(K416,F416))))","v":""},null,null,null,{"$f":"IF(ISBLANK(P416), \"\", P416-Q416)","v":""},{"$f":"IF(ISBLANK(Q416), \"\", Q416/P416)","v":""}]
[null,null,null,null,null,null,{"$f":"IF(COUNTIF(D417,\"N\"),\"\",IF(ISBLANK(E417),\"\",IF(ISBLANK(F417),IF(ISBLANK(L417), _xlfn.DAYS(TODAY(),E417), _xlfn.DAYS(L417,E417)), _xlfn.DAYS(F417,E417))))","v":""},null,{"$f":"IF(COUNTIF(D417,\"N\"),\"\",IF(ISBLANK(F417),\"\",IF(ISBLANK(H417),IF(ISBLANK(K417),_xlfn.DAYS(TODAY(),F417),_xlfn.DAYS(K417,F417)),_xlfn.DAYS(H417,F417))))","v":""},null,null,null,{"$f":"IF(COUNTIF(D417,\"N\"),\"ON HOLD\",IF(ISBLANK(K417),IF(ISBLANK(E417),\"\",IF(ISBLANK(F417),\"NO\",\"YES\")),\"NO\"))","v":""},{"$f":"IF(COUNTIF(D417,\"N\"),\"\",IF(ISBLANK(F417),\"\",IF(ISBLANK(K417),_xlfn.DAYS(TODAY(),F417),_xlfn.DAYS(K417,F417))))","v":""},null,null,null,{"$f":"IF(ISBLANK(P417), \"\", P417-Q417)","v":""},{"$f":"IF(ISBLANK(Q417), \"\", Q417/P417)","v":""}]
[null,null,null,null,null,null,{"$f":"IF(COUNTIF(D418,\"N\"),\"\",IF(ISBLANK(E418),\"\",IF(ISBLANK(F418),IF(ISBLANK(L418), _xlfn.DAYS(TODAY(),E418), _xlfn.DAYS(L418,E418)), _xlfn.DAYS(F418,E418))))","v":""},null,{"$f":"IF(COUNTIF(D418,\"N\"),\"\",IF(ISBLANK(F418),\"\",IF(ISBLANK(H418),IF(ISBLANK(K418),_xlfn.DAYS(TODAY(),F418),_xlfn.DAYS(K418,F418)),_xlfn.DAYS(H418,F418))))","v":""},null,null,null,{"$f":"IF(COUNTIF(D418,\"N\"),\"ON HOLD\",IF(ISBLANK(K418),IF(ISBLANK(E418),\"\",IF(ISBLANK(F418),\"NO\",\"YES\")),\"NO\"))","v":""},{"$f":"IF(COUNTIF(D418,\"N\"),\"\",IF(ISBLANK(F418),\"\",IF(ISBLANK(K418),_xlfn.DAYS(TODAY(),F418),_xlfn.DAYS(K418,F418))))","v":""},null,null,null,{"$f":"IF(ISBLANK(P418), \"\", P418-Q418)","v":""},{"$f":"IF(ISBLANK(Q418), \"\", Q418/P418)","v":""}]
[null,null,null,null,null,null,{"$f":"IF(COUNTIF(D419,\"N\"),\"\",IF(ISBLANK(E419),\"\",IF(ISBLANK(F419),IF(ISBLANK(L419), _xlfn.DAYS(TODAY(),E419), _xlfn.DAYS(L419,E419)), _xlfn.DAYS(F419,E419))))","v":""},null,{"$f":"IF(COUNTIF(D419,\"N\"),\"\",IF(ISBLANK(F419),\"\",IF(ISBLANK(H419),IF(ISBLANK(K419),_xlfn.DAYS(TODAY(),F419),_xlfn.DAYS(K419,F419)),_xlfn.DAYS(H419,F419))))","v":""},null,null,null,{"$f":"IF(COUNTIF(D419,\"N\"),\"ON HOLD\",IF(ISBLANK(K419),IF(ISBLANK(E419),\"\",IF(ISBLANK(F419),\"NO\",\"YES\")),\"NO\"))","v":""},{"$f":"IF(COUNTIF(D419,\"N\"),\"\",IF(ISBLANK(F419),\"\",IF(ISBLANK(K419),_xlfn.DAYS(TODAY(),F419),_xlfn.DAYS(K419,F419))))","v":""},null,null,null,{"$f":"IF(ISBLANK(P419), \"\", P419-Q419)","v":""},{"$f":"IF(ISBLANK(Q419), \"\", Q419/P419)","v":""}]
[null,null,null,null,null,null,{"$f":"IF(COUNTIF(D420,\"N\"),\"\",IF(ISBLANK(E420),\"\",IF(ISBLANK(F420),IF(ISBLANK(L420), _xlfn.DAYS(TODAY(),E420), _xlfn.DAYS(L420,E420)), _xlfn.DAYS(F420,E420))))","v":""},null,{"$f":"IF(COUNTIF(D420,\"N\"),\"\",IF(ISBLANK(F420),\"\",IF(ISBLANK(H420),IF(ISBLANK(K420),_xlfn.DAYS(TODAY(),F420),_xlfn.DAYS(K420,F420)),_xlfn.DAYS(H420,F420))))","v":""},null,null,null,{"$f":"IF(COUNTIF(D420,\"N\"),\"ON HOLD\",IF(ISBLANK(K420),IF(ISBLANK(E420),\"\",IF(ISBLANK(F420),\"NO\",\"YES\")),\"NO\"))","v":""},{"$f":"IF(COUNTIF(D420,\"N\"),\"\",IF(ISBLANK(F420),\"\",IF(ISBLANK(K420),_xlfn.DAYS(TODAY(),F420),_xlfn.DAYS(K420,F420))))","v":""},null,null,null,{"$f":"IF(ISBLANK(P420), \"\", P420-Q420)","v":""},{"$f":"IF(ISBLANK(Q420), \"\", Q420/P420)","v":""}]
[null,null,null,null,null,null,{"$f":"IF(COUNTIF(D421,\"N\"),\"\",IF(ISBLANK(E421),\"\",IF(ISBLANK(F421),IF(ISBLANK(L421), _xlfn.DAYS(TODAY(),E421), _xlfn.DAYS(L421,E421)), _xlfn.DAYS(F421,E421))))","v":""},null,{"$f":"IF(COUNTIF(D421,\"N\"),\"\",IF(ISBLANK(F421),\"\",IF(ISBLANK(H421),IF(ISBLANK(K421),_xlfn.DAYS(TODAY(),F421),_xlfn.DAYS(K421,F421)),_xlfn.DAYS(H421,F421))))","v":""},null,null,null,{"$f":"IF(COUNTIF(D421,\"N\"),\"ON HOLD\",IF(ISBLANK(K421),IF(ISBLANK(E421),\"\",IF(ISBLANK(F421),\"NO\",\"YES\")),\"NO\"))","v":""},{"$f":"IF(COUNTIF(D421,\"N\"),\"\",IF(ISBLANK(F421),\"\",IF(ISBLANK(K421),_xlfn.DAYS(TODAY(),F421),_xlfn.DAYS(K421,F421))))","v":""},null,null,null,{"$f":"IF(ISBLANK(P421), \"\", P421-Q421)","v":""},{"$f":"IF(ISBLANK(Q421), \"\", Q421/P421)","v":""}]
[null,null,null,null,null,null,{"$f":"IF(COUNTIF(D422,\"N\"),\"\",IF(ISBLANK(E422),\"\",IF(ISBLANK(F422),IF(ISBLANK(L422), _xlfn.DAYS(TODAY(),E422), _xlfn.DAYS(L422,E422)), _xlfn.DAYS(F422,E422))))","v":""},null,{"$f":"IF(COUNTIF(D422,\"N\"),\"\",IF(ISBLANK(F422),\"\",IF(ISBLANK(H422),IF(ISBLANK(K422),_xlfn.DAYS(TODAY(),F422),_xlfn.DAYS(K422,F422)),_xlfn.DAYS(H422,F422))))","v":""},null,null,null,{"$f":"IF(COUNTIF(D422,\"N\"),\"ON HOLD\",IF(ISBLANK(K422),IF(ISBLANK(E422),\"\",IF(ISBLANK(F422),\"NO\",\"YES\")),\"NO\"))","v":""},{"$f":"IF(COUNTIF(D422,\"N\"),\"\",IF(ISBLANK(F422),\"\",IF(ISBLANK(K422),_xlfn.DAYS(TODAY(),F422),_xlfn.DAYS(K422,F422))))","v":""},null,null,null,{"$f":"IF(ISBLANK(P422), \"\", P422-Q422)","v":""},{"$f":"IF(ISBLANK(Q422), \"\", Q422/P422)","v":""}]
[null,null,null,null,null,null,{"$f":"IF(COUNTIF(D423,\"N\"),\"\",IF(ISBLANK(E423),\"\",IF(ISBLANK(F423),IF(ISBLANK(L423), _xlfn.DAYS(TODAY(),E423), _xlfn.DAYS(L423,E423)), _xlfn.DAYS(F423,E423))))","v":""},null,{"$f":"IF(COUNTIF(D423,\"N\"),\"\",IF(ISBLANK(F423),\"\",IF(ISBLANK(H423),IF(ISBLANK(K423),_xlfn.DAYS(TODAY(),F423),_xlfn.DAYS(K423,F423)),_xlfn.DAYS(H423,F423))))","v":""},null,null,null,{"$f":"IF(COUNTIF(D423,\"N\"),\"ON HOLD\",IF(ISBLANK(K423),IF(ISBLANK(E423),\"\",IF(ISBLANK(F423),\"NO\",\"YES\")),\"NO\"))","v":""},{"$f":"IF(COUNTIF(D423,\"N\"),\"\",IF(ISBLANK(F423),\"\",IF(ISBLANK(K423),_xlfn.DAYS(TODAY(),F423),_xlfn.DAYS(K423,F423))))","v":""},null,null,null,{"$f":"IF(ISBLANK(P423), \"\", P423-Q423)","v":""},{"$f":"IF(ISBLANK(Q423), \"\", Q423/P423)","v":""}]
[null,null,null,null,null,null,{"$f":"IF(COUNTIF(D424,\"N\"),\"\",IF(ISBLANK(E424),\"\",IF(ISBLANK(F424),IF(ISBLANK(L424), _xlfn.DAYS(TODAY(),E424), _xlfn.DAYS(L424,E424)), _xlfn.DAYS(F424,E424))))","v":""},null,{"$f":"IF(COUNTIF(D424,\"N\"),\"\",IF(ISBLANK(F424),\"\",IF(ISBLANK(H424),IF(ISBLANK(K424),_xlfn.DAYS(TODAY(),F424),_xlfn.DAYS(K424,F424)),_xlfn.DAYS(H424,F424))))","v":""},null,null,null,{"$f":"IF(COUNTIF(D424,\"N\"),\"ON HOLD\",IF(ISBLANK(K424),IF(ISBLANK(E424),\"\",IF(ISBLANK(F424),\"NO\",\"YES\")),\"NO\"))","v":""},{"$f":"IF(COUNTIF(D424,\"N\"),\"\",IF(ISBLANK(F424),\"\",IF(ISBLANK(K424),_xlfn.DAYS(TODAY(),F424),_xlfn.DAYS(K424,F424))))","v":""},null,null,null,{"$f":"IF(ISBLANK(P424), \"\", P424-Q424)","v":""},{"$f":"IF(ISBLANK(Q424), \"\", Q424/P424)","v":""}]
[null,null,null,null,null,null,{"$f":"IF(COUNTIF(D425,\"N\"),\"\",IF(ISBLANK(E425),\"\",IF(ISBLANK(F425),IF(ISBLANK(L425), _xlfn.DAYS(TODAY(),E425), _xlfn.DAYS(L425,E425)), _xlfn.DAYS(F425,E425))))","v":""},null,{"$f":"IF(COUNTIF(D425,\"N\"),\"\",IF(ISBLANK(F425),\"\",IF(ISBLANK(H425),IF(ISBLANK(K425),_xlfn.DAYS(TODAY(),F425),_xlfn.DAYS(K425,F425)),_xlfn.DAYS(H425,F425))))","v":""},null,null,null,{"$f":"IF(COUNTIF(D425,\"N\"),\"ON HOLD\",IF(ISBLANK(K425),IF(ISBLANK(E425),\"\",IF(ISBLANK(F425),\"NO\",\"YES\")),\"NO\"))","v":""},{"$f":"IF(COUNTIF(D425,\"N\"),\"\",IF(ISBLANK(F425),\"\",IF(ISBLANK(K425),_xlfn.DAYS(TODAY(),F425),_xlfn.DAYS(K425,F425))))","v":""},null,null,null,{"$f":"IF(ISBLANK(P425), \"\", P425-Q425)","v":""},{"$f":"IF(ISBLANK(Q425), \"\", Q425/P425)","v":""}]
[null,null,null,null,null,null,{"$f":"IF(COUNTIF(D426,\"N\"),\"\",IF(ISBLANK(E426),\"\",IF(ISBLANK(F426),IF(ISBLANK(L426), _xlfn.DAYS(TODAY(),E426), _xlfn.DAYS(L426,E426)), _xlfn.DAYS(F426,E426))))","v":""},null,{"$f":"IF(COUNTIF(D426,\"N\"),\"\",IF(ISBLANK(F426),\"\",IF(ISBLANK(H426),IF(ISBLANK(K426),_xlfn.DAYS(TODAY(),F426),_xlfn.DAYS(K426,F426)),_xlfn.DAYS(H426,F426))))","v":""},null,null,null,{"$f":"IF(COUNTIF(D426,\"N\"),\"ON HOLD\",IF(ISBLANK(K426),IF(ISBLANK(E426),\"\",IF(ISBLANK(F426),\"NO\",\"YES\")),\"NO\"))","v":""},{"$f":"IF(COUNTIF(D426,\"N\"),\"\",IF(ISBLANK(F426),\"\",IF(ISBLANK(K426),_xlfn.DAYS(TODAY(),F426),_xlfn.DAYS(K426,F426))))","v":""},null,null,null,{"$f":"IF(ISBLANK(P426), \"\", P426-Q426)","v":""},{"$f":"IF(ISBLANK(Q426), \"\", Q426/P426)","v":""}]
[null,null,null,null,null,null,{"$f":"IF(COUNTIF(D427,\"N\"),\"\",IF(ISBLANK(E427),\"\",IF(ISBLANK(F427),IF(ISBLANK(L427), _xlfn.DAYS(TODAY(),E427), _xlfn.DAYS(L427,E427)), _xlfn.DAYS(F427,E427))))","v":""},null,{"$f":"IF(COUNTIF(D427,\"N\"),\"\",IF(ISBLANK(F427),\"\",IF(ISBLANK(H427),IF(ISBLANK(K427),_xlfn.DAYS(TODAY(),F427),_xlfn.DAYS(K427,F427)),_xlfn.DAYS(H427,F427))))","v":""},null,null,null,{"$f":"IF(COUNTIF(D427,\"N\"),\"ON HOLD\",IF(ISBLANK(K427),IF(ISBLANK(E427),\"\",IF(ISBLANK(F427),\"NO\",\"YES\")),\"NO\"))","v":""},{"$f":"IF(COUNTIF(D427,\"N\"),\"\",IF(ISBLANK(F427),\"\",IF(ISBLANK(K427),_xlfn.DAYS(TODAY(),F427),_xlfn.DAYS(K427,F427))))","v":""},null,null,null,{"$f":"IF(ISBLANK(P427), \"\", P427-Q427)","v":""},{"$f":"IF(ISBLANK(Q427), \"\", Q427/P427)","v":""}]
[null,null,null,null,null,null,{"$f":"IF(COUNTIF(D428,\"N\"),\"\",IF(ISBLANK(E428),\"\",IF(ISBLANK(F428),IF(ISBLANK(L428), _xlfn.DAYS(TODAY(),E428), _xlfn.DAYS(L428,E428)), _xlfn.DAYS(F428,E428))))","v":""},null,{"$f":"IF(COUNTIF(D428,\"N\"),\"\",IF(ISBLANK(F428),\"\",IF(ISBLANK(H428),IF(ISBLANK(K428),_xlfn.DAYS(TODAY(),F428),_xlfn.DAYS(K428,F428)),_xlfn.DAYS(H428,F428))))","v":""},null,null,null,{"$f":"IF(COUNTIF(D428,\"N\"),\"ON HOLD\",IF(ISBLANK(K428),IF(ISBLANK(E428),\"\",IF(ISBLANK(F428),\"NO\",\"YES\")),\"NO\"))","v":""},{"$f":"IF(COUNTIF(D428,\"N\"),\"\",IF(ISBLANK(F428),\"\",IF(ISBLANK(K428),_xlfn.DAYS(TODAY(),F428),_xlfn.DAYS(K428,F428))))","v":""},null,null,null,{"$f":"IF(ISBLANK(P428), \"\", P428-Q428)","v":""},{"$f":"IF(ISBLANK(Q428), \"\", Q428/P428)","v":""}]
[null,null,null,null,null,null,{"$f":"IF(COUNTIF(D429,\"N\"),\"\",IF(ISBLANK(E429),\"\",IF(ISBLANK(F429),IF(ISBLANK(L429), _xlfn.DAYS(TODAY(),E429), _xlfn.DAYS(L429,E429)), _xlfn.DAYS(F429,E429))))","v":""},null,{"$f":"IF(COUNTIF(D429,\"N\"),\"\",IF(ISBLANK(F429),\"\",IF(ISBLANK(H429),IF(ISBLANK(K429),_xlfn.DAYS(TODAY(),F429),_xlfn.DAYS(K429,F429)),_xlfn.DAYS(H429,F429))))","v":""},null,null,null,{"$f":"IF(COUNTIF(D429,\"N\"),\"ON HOLD\",IF(ISBLANK(K429),IF(ISBLANK(E429),\"\",IF(ISBLANK(F429),\"NO\",\"YES\")),\"NO\"))","v":""},{"$f":"IF(COUNTIF(D429,\"N\"),\"\",IF(ISBLANK(F429),\"\",IF(ISBLANK(K429),_xlfn.DAYS(TODAY(),F429),_xlfn.DAYS(K429,F429))))","v":""},null,null,null,{"$f":"IF(ISBLANK(P429), \"\", P429-Q429)","v":""},{"$f":"IF(ISBLANK(Q429), \"\", Q429/P429)","v":""}]
[null,null,null,null,null,null,{"$f":"IF(COUNTIF(D430,\"N\"),\"\",IF(ISBLANK(E430),\"\",IF(ISBLANK(F430),IF(ISBLANK(L430), _xlfn.DAYS(TODAY(),E430), _xlfn.DAYS(L430,E430)), _xlfn.DAYS(F430,E430))))","v":""},null,{"$f":"IF(COUNTIF(D430,\"N\"),\"\",IF(ISBLANK(F430),\"\",IF(ISBLANK(H430),IF(ISBLANK(K430),_xlfn.DAYS(TODAY(),F430),_xlfn.DAYS(K430,F430)),_xlfn.DAYS(H430,F430))))","v":""},null,null,null,{"$f":"IF(COUNTIF(D430,\"N\"),\"ON HOLD\",IF(ISBLANK(K430),IF(ISBLANK(E430),\"\",IF(ISBLANK(F430),\"NO\",\"YES\")),\"NO\"))","v":""},{"$f":"IF(COUNTIF(D430,\"N\"),\"\",IF(ISBLANK(F430),\"\",IF(ISBLANK(K430),_xlfn.DAYS(TODAY(),F430),_xlfn.DAYS(K430,F430))))","v":""},null,null,null,{"$f":"IF(ISBLANK(P430), \"\", P430-Q430)","v":""},{"$f":"IF(ISBLANK(Q430), \"\", Q430/P430)","v":""}]
[null,null,null,null,null,null,{"$f":"IF(COUNTIF(D431,\"N\"),\"\",IF(ISBLANK(E431),\"\",IF(ISBLANK(F431),IF(ISBLANK(L431), _xlfn.DAYS(TODAY(),E431), _xlfn.DAYS(L431,E431)), _xlfn.DAYS(F431,E431))))","v":""},null,{"$f":"IF(COUNTIF(D431,\"N\"),\"\",IF(ISBLANK(F431),\"\",IF(ISBLANK(H431),IF(ISBLANK(K431),_xlfn.DAYS(TODAY(),F431),_xlfn.DAYS(K431,F431)),_xlfn.DAYS(H431,F431))))","v":""},null,null,null,{"$f":"IF(COUNTIF(D431,\"N\"),\"ON HOLD\",IF(ISBLANK(K431),IF(ISBLANK(E431),\"\",IF(ISBLANK(F431),\"NO\",\"YES\")),\"NO\"))","v":""},{"$f":"IF(COUNTIF(D431,\"N\"),\"\",IF(ISBLANK(F431),\"\",IF(ISBLANK(K431),_xlfn.DAYS(TODAY(),F431),_xlfn.DAYS(K431,F431))))","v":""},null,null,null,{"$f":"IF(ISBLANK(P431), \"\", P431-Q431)","v":""},{"$f":"IF(ISBLANK(Q431), \"\", Q431/P431)","v":""}]
[null,null,null,null,null,null,{"$f":"IF(COUNTIF(D432,\"N\"),\"\",IF(ISBLANK(E432),\"\",IF(ISBLANK(F432),IF(ISBLANK(L432), _xlfn.DAYS(TODAY(),E432), _xlfn.DAYS(L432,E432)), _xlfn.DAYS(F432,E432))))","v":""},null,{"$f":"IF(COUNTIF(D432,\"N\"),\"\",IF(ISBLANK(F432),\"\",IF(ISBLANK(H432),IF(ISBLANK(K432),_xlfn.DAYS(TODAY(),F432),_xlfn.DAYS(K432,F432)),_xlfn.DAYS(H432,F432))))","v":""},null,null,null,{"$f":"IF(COUNTIF(D432,\"N\"),\"ON HOLD\",IF(ISBLANK(K432),IF(ISBLANK(E432),\"\",IF(ISBLANK(F432),\"NO\",\"YES\")),\"NO\"))","v":""},{"$f":"IF(COUNTIF(D432,\"N\"),\"\",IF(ISBLANK(F432),\"\",IF(ISBLANK(K432),_xlfn.DAYS(TODAY(),F432),_xlfn.DAYS(K432,F432))))","v":""},null,null,null,{"$f":"IF(ISBLANK(P432), \"\", P432-Q432)","v":""},{"$f":"IF(ISBLANK(Q432), \"\", Q432/P432)","v":""}]
[null,null,null,null,null,null,{"$f":"IF(COUNTIF(D433,\"N\"),\"\",IF(ISBLANK(E433),\"\",IF(ISBLANK(F433),IF(ISBLANK(L433), _xlfn.DAYS(TODAY(),E433), _xlfn.DAYS(L433,E433)), _xlfn.DAYS(F433,E433))))","v":""},null,{"$f":"IF(COUNTIF(D433,\"N\"),\"\",IF(ISBLANK(F433),\"\",IF(ISBLANK(H433),IF(ISBLANK(K433),_xlfn.DAYS(TODAY(),F433),_xlfn.DAYS(K433,F433)),_xlfn.DAYS(H433,F433))))","v":""},null,null,null,{"$f":"IF(COUNTIF(D433,\"N\"),\"ON HOLD\",IF(ISBLANK(K433),IF(ISBLANK(E433),\"\",IF(ISBLANK(F433),\"NO\",\"YES\")),\"NO\"))","v":""},{"$f":"IF(COUNTIF(D433,\"N\"),\"\",IF(ISBLANK(F433),\"\",IF(ISBLANK(K433),_xlfn.DAYS(TODAY(),F433),_xlfn.DAYS(K433,F433))))","v":""},null,null,null,{"$f":"IF(ISBLANK(P433), \"\", P433-Q433)","v":""},{"$f":"IF(ISBLANK(Q433), \"\", Q433/P433)","v":""}]
[null,null,null,null,null,null,{"$f":"IF(COUNTIF(D434,\"N\"),\"\",IF(ISBLANK(E434),\"\",IF(ISBLANK(F434),IF(ISBLANK(L434), _xlfn.DAYS(TODAY(),E434), _xlfn.DAYS(L434,E434)), _xlfn.DAYS(F434,E434))))","v":""},null,{"$f":"IF(COUNTIF(D434,\"N\"),\"\",IF(ISBLANK(F434),\"\",IF(ISBLANK(H434),IF(ISBLANK(K434),_xlfn.DAYS(TODAY(),F434),_xlfn.DAYS(K434,F434)),_xlfn.DAYS(H434,F434))))","v":""},null,null,null,{"$f":"IF(COUNTIF(D434,\"N\"),\"ON HOLD\",IF(ISBLANK(K434),IF(ISBLANK(E434),\"\",IF(ISBLANK(F434),\"NO\",\"YES\")),\"NO\"))","v":""},{"$f":"IF(COUNTIF(D434,\"N\"),\"\",IF(ISBLANK(F434),\"\",IF(ISBLANK(K434),_xlfn.DAYS(TODAY(),F434),_xlfn.DAYS(K434,F434))))","v":""},null,null,null,{"$f":"IF(ISBLANK(P434), \"\", P434-Q434)","v":""},{"$f":"IF(ISBLANK(Q434), \"\", Q434/P434)","v":""}]
[null,null,null,null,null,null,{"$f":"IF(COUNTIF(D435,\"N\"),\"\",IF(ISBLANK(E435),\"\",IF(ISBLANK(F435),IF(ISBLANK(L435), _xlfn.DAYS(TODAY(),E435), _xlfn.DAYS(L435,E435)), _xlfn.DAYS(F435,E435))))","v":""},null,{"$f":"IF(COUNTIF(D435,\"N\"),\"\",IF(ISBLANK(F435),\"\",IF(ISBLANK(H435),IF(ISBLANK(K435),_xlfn.DAYS(TODAY(),F435),_xlfn.DAYS(K435,F435)),_xlfn.DAYS(H435,F435))))","v":""},null,null,null,{"$f":"IF(COUNTIF(D435,\"N\"),\"ON HOLD\",IF(ISBLANK(K435),IF(ISBLANK(E435),\"\",IF(ISBLANK(F435),\"NO\",\"YES\")),\"NO\"))","v":""},{"$f":"IF(COUNTIF(D435,\"N\"),\"\",IF(ISBLANK(F435),\"\",IF(ISBLANK(K435),_xlfn.DAYS(TODAY(),F435),_xlfn.DAYS(K435,F435))))","v":""},null,null,null,{"$f":"IF(ISBLANK(P435), \"\", P435-Q435)","v":""},{"$f":"IF(ISBLANK(Q435), \"\", Q435/P435)","v":""}]
[null,null,null,null,null,null,{"$f":"IF(COUNTIF(D436,\"N\"),\"\",IF(ISBLANK(E436),\"\",IF(ISBLANK(F436),IF(ISBLANK(L436), _xlfn.DAYS(TODAY(),E436), _xlfn.DAYS(L436,E436)), _xlfn.DAYS(F436,E436))))","v":""},null,{"$f":"IF(COUNTIF(D436,\"N\"),\"\",IF(ISBLANK(F436),\"\",IF(ISBLANK(H436),IF(ISBLANK(K436),_xlfn.DAYS(TODAY(),F436),_xlfn.DAYS(K436,F436)),_xlfn.DAYS(H436,F436))))","v":""},null,null,null,{"$f":"IF(COUNTIF(D436,\"N\"),\"ON HOLD\",IF(ISBLANK(K436),IF(ISBLANK(E436),\"\",IF(ISBLANK(F436),\"NO\",\"YES\")),\"NO\"))","v":""},{"$f":"IF(COUNTIF(D436,\"N\"),\"\",IF(ISBLANK(F436),\"\",IF(ISBLANK(K436),_xlfn.DAYS(TODAY(),F436),_xlfn.DAYS(K436,F436))))","v":""},null,null,null,{"$f":"IF(ISBLANK(P436), \"\", P436-Q436)","v":""},{"$f":"IF(ISBLANK(Q436), \"\", Q436/P436)","v":""}]
[null,null,null,null,null,null,{"$f":"IF(COUNTIF(D437,\"N\"),\"\",IF(ISBLANK(E437),\"\",IF(ISBLANK(F437),IF(ISBLANK(L437), _xlfn.DAYS(TODAY(),E437), _xlfn.DAYS(L437,E437)), _xlfn.DAYS(F437,E437))))","v":""},null,{"$f":"IF(COUNTIF(D437,\"N\"),\"\",IF(ISBLANK(F437),\"\",IF(ISBLANK(H437),IF(ISBLANK(K437),_xlfn.DAYS(TODAY(),F437),_xlfn.DAYS(K437,F437)),_xlfn.DAYS(H437,F437))))","v":""},null,null,null,{"$f":"IF(COUNTIF(D437,\"N\"),\"ON HOLD\",IF(ISBLANK(K437),IF(ISBLANK(E437),\"\",IF(ISBLANK(F437),\"NO\",\"YES\")),\"NO\"))","v":""},{"$f":"IF(COUNTIF(D437,\"N\"),\"\",IF(ISBLANK(F437),\"\",IF(ISBLANK(K437),_xlfn.DAYS(TODAY(),F437),_xlfn.DAYS(K437,F437))))","v":""},null,null,null,{"$f":"IF(ISBLANK(P437), \"\", P437-Q437)","v":""},{"$f":"IF(ISBLANK(Q437), \"\", Q437/P437)","v":""}]
[null,null,null,null,null,null,{"$f":"IF(COUNTIF(D438,\"N\"),\"\",IF(ISBLANK(E438),\"\",IF(ISBLANK(F438),IF(ISBLANK(L438), _xlfn.DAYS(TODAY(),E438), _xlfn.DAYS(L438,E438)), _xlfn.DAYS(F438,E438))))","v":""},null,{"$f":"IF(COUNTIF(D438,\"N\"),\"\",IF(ISBLANK(F438),\"\",IF(ISBLANK(H438),IF(ISBLANK(K438),_xlfn.DAYS(TODAY(),F438),_xlfn.DAYS(K438,F438)),_xlfn.DAYS(H438,F438))))","v":""},null,null,null,{"$f":"IF(COUNTIF(D438,\"N\"),\"ON HOLD\",IF(ISBLANK(K438),IF(ISBLANK(E438),\"\",IF(ISBLANK(F438),\"NO\",\"YES\")),\"NO\"))","v":""},{"$f":"IF(COUNTIF(D438,\"N\"),\"\",IF(ISBLANK(F438),\"\",IF(ISBLANK(K438),_xlfn.DAYS(TODAY(),F438),_xlfn.DAYS(K438,F438))))","v":""},null,null,null,{"$f":"IF(ISBLANK(P438), \"\", P438-Q438)","v":""},{"$f":"IF(ISBLANK(Q438), \"\", Q438/P438)","v":""}]
[null,null,null,null,null,null,{"$f":"IF(COUNTIF(D439,\"N\"),\"\",IF(ISBLANK(E439),\"\",IF(ISBLANK(F439),IF(ISBLANK(L439), _xlfn.DAYS(TODAY(),E439), _xlfn.DAYS(L439,E439)), _xlfn.DAYS(F439,E439))))","v":""},null,{"$f":"IF(COUNTIF(D439,\"N\"),\"\",IF(ISBLANK(F439),\"\",IF(ISBLANK(H439),IF(ISBLANK(K439),_xlfn.DAYS(TODAY(),F439),_xlfn.DAYS(K439,F439)),_xlfn.DAYS(H439,F439))))","v":""},null,null,null,{"$f":"IF(COUNTIF(D439,\"N\"),\"ON HOLD\",IF(ISBLANK(K439),IF(ISBLANK(E439),\"\",IF(ISBLANK(F439),\"NO\",\"YES\")),\"NO\"))","v":""},{"$f":"IF(COUNTIF(D439,\"N\"),\"\",IF(ISBLANK(F439),\"\",IF(ISBLANK(K439),_xlfn.DAYS(TODAY(),F439),_xlfn.DAYS(K439,F439))))","v":""},null,null,null,{"$f":"IF(ISBLANK(P439), \"\", P439-Q439)","v":""},{"$f":"IF(ISBLANK(Q439), \"\", Q439/P439)","v":""}]
[null,null,null,null,null,null,{"$f":"IF(COUNTIF(D440,\"N\"),\"\",IF(ISBLANK(E440),\"\",IF(ISBLANK(F440),IF(ISBLANK(L440), _xlfn.DAYS(TODAY(),E440), _xlfn.DAYS(L440,E440)), _xlfn.DAYS(F440,E440))))","v":""},null,{"$f":"IF(COUNTIF(D440,\"N\"),\"\",IF(ISBLANK(F440),\"\",IF(ISBLANK(H440),IF(ISBLANK(K440),_xlfn.DAYS(TODAY(),F440),_xlfn.DAYS(K440,F440)),_xlfn.DAYS(H440,F440))))","v":""},null,null,null,{"$f":"IF(COUNTIF(D440,\"N\"),\"ON HOLD\",IF(ISBLANK(K440),IF(ISBLANK(E440),\"\",IF(ISBLANK(F440),\"NO\",\"YES\")),\"NO\"))","v":""},{"$f":"IF(COUNTIF(D440,\"N\"),\"\",IF(ISBLANK(F440),\"\",IF(ISBLANK(K440),_xlfn.DAYS(TODAY(),F440),_xlfn.DAYS(K440,F440))))","v":""},null,null,null,{"$f":"IF(ISBLANK(P440), \"\", P440-Q440)","v":""},{"$f":"IF(ISBLANK(Q440), \"\", Q440/P440)","v":""}]
[null,null,null,null,null,null,{"$f":"IF(COUNTIF(D441,\"N\"),\"\",IF(ISBLANK(E441),\"\",IF(ISBLANK(F441),IF(ISBLANK(L441), _xlfn.DAYS(TODAY(),E441), _xlfn.DAYS(L441,E441)), _xlfn.DAYS(F441,E441))))","v":""},null,{"$f":"IF(COUNTIF(D441,\"N\"),\"\",IF(ISBLANK(F441),\"\",IF(ISBLANK(H441),IF(ISBLANK(K441),_xlfn.DAYS(TODAY(),F441),_xlfn.DAYS(K441,F441)),_xlfn.DAYS(H441,F441))))","v":""},null,null,null,{"$f":"IF(COUNTIF(D441,\"N\"),\"ON HOLD\",IF(ISBLANK(K441),IF(ISBLANK(E441),\"\",IF(ISBLANK(F441),\"NO\",\"YES\")),\"NO\"))","v":""},{"$f":"IF(COUNTIF(D441,\"N\"),\"\",IF(ISBLANK(F441),\"\",IF(ISBLANK(K441),_xlfn.DAYS(TODAY(),F441),_xlfn.DAYS(K441,F441))))","v":""},null,null,null,{"$f":"IF(ISBLANK(P441), \"\", P441-Q441)","v":""},{"$f":"IF(ISBLANK(Q441), \"\", Q441/P441)","v":""}]
[null,null,null,null,null,null,{"$f":"IF(COUNTIF(D442,\"N\"),\"\",IF(ISBLANK(E442),\"\",IF(ISBLANK(F442),IF(ISBLANK(L442), _xlfn.DAYS(TODAY(),E442), _xlfn.DAYS(L442,E442)), _xlfn.DAYS(F442,E442))))","v":""},null,{"$f":"IF(COUNTIF(D442,\"N\"),\"\",IF(ISBLANK(F442),\"\",IF(ISBLANK(H442),IF(ISBLANK(K442),_xlfn.DAYS(TODAY(),F442),_xlfn.DAYS(K442,F442)),_xlfn.DAYS(H442,F442))))","v":""},null,null,null,{"$f":"IF(COUNTIF(D442,\"N\"),\"ON HOLD\",IF(ISBLANK(K442),IF(ISBLANK(E442),\"\",IF(ISBLANK(F442),\"NO\",\"YES\")),\"NO\"))","v":""},{"$f":"IF(COUNTIF(D442,\"N\"),\"\",IF(ISBLANK(F442),\"\",IF(ISBLANK(K442),_xlfn.DAYS(TODAY(),F442),_xlfn.DAYS(K442,F442))))","v":""},null,null,null,{"$f":"IF(ISBLANK(P442), \"\", P442-Q442)","v":""},{"$f":"IF(ISBLANK(Q442), \"\", Q442/P442)","v":""}]
[null,null,null,null,null,null,{"$f":"IF(COUNTIF(D443,\"N\"),\"\",IF(ISBLANK(E443),\"\",IF(ISBLANK(F443),IF(ISBLANK(L443), _xlfn.DAYS(TODAY(),E443), _xlfn.DAYS(L443,E443)), _xlfn.DAYS(F443,E443))))","v":""},null,{"$f":"IF(COUNTIF(D443,\"N\"),\"\",IF(ISBLANK(F443),\"\",IF(ISBLANK(H443),IF(ISBLANK(K443),_xlfn.DAYS(TODAY(),F443),_xlfn.DAYS(K443,F443)),_xlfn.DAYS(H443,F443))))","v":""},null,null,null,{"$f":"IF(COUNTIF(D443,\"N\"),\"ON HOLD\",IF(ISBLANK(K443),IF(ISBLANK(E443),\"\",IF(ISBLANK(F443),\"NO\",\"YES\")),\"NO\"))","v":""},{"$f":"IF(COUNTIF(D443,\"N\"),\"\",IF(ISBLANK(F443),\"\",IF(ISBLANK(K443),_xlfn.DAYS(TODAY(),F443),_xlfn.DAYS(K443,F443))))","v":""},null,null,null,{"$f":"IF(ISBLANK(P443), \"\", P443-Q443)","v":""},{"$f":"IF(ISBLANK(Q443), \"\", Q443/P443)","v":""}]
[null,null,null,null,null,null,{"$f":"IF(COUNTIF(D444,\"N\"),\"\",IF(ISBLANK(E444),\"\",IF(ISBLANK(F444),IF(ISBLANK(L444), _xlfn.DAYS(TODAY(),E444), _xlfn.DAYS(L444,E444)), _xlfn.DAYS(F444,E444))))","v":""},null,{"$f":"IF(COUNTIF(D444,\"N\"),\"\",IF(ISBLANK(F444),\"\",IF(ISBLANK(H444),IF(ISBLANK(K444),_xlfn.DAYS(TODAY(),F444),_xlfn.DAYS(K444,F444)),_xlfn.DAYS(H444,F444))))","v":""},null,null,null,{"$f":"IF(COUNTIF(D444,\"N\"),\"ON HOLD\",IF(ISBLANK(K444),IF(ISBLANK(E444),\"\",IF(ISBLANK(F444),\"NO\",\"YES\")),\"NO\"))","v":""},{"$f":"IF(COUNTIF(D444,\"N\"),\"\",IF(ISBLANK(F444),\"\",IF(ISBLANK(K444),_xlfn.DAYS(TODAY(),F444),_xlfn.DAYS(K444,F444))))","v":""},null,null,null,{"$f":"IF(ISBLANK(P444), \"\", P444-Q444)","v":""},{"$f":"IF(ISBLANK(Q444), \"\", Q444/P444)","v":""}]
[null,null,null,null,null,null,{"$f":"IF(COUNTIF(D445,\"N\"),\"\",IF(ISBLANK(E445),\"\",IF(ISBLANK(F445),IF(ISBLANK(L445), _xlfn.DAYS(TODAY(),E445), _xlfn.DAYS(L445,E445)), _xlfn.DAYS(F445,E445))))","v":""},null,{"$f":"IF(COUNTIF(D445,\"N\"),\"\",IF(ISBLANK(F445),\"\",IF(ISBLANK(H445),IF(ISBLANK(K445),_xlfn.DAYS(TODAY(),F445),_xlfn.DAYS(K445,F445)),_xlfn.DAYS(H445,F445))))","v":""},null,null,null,{"$f":"IF(COUNTIF(D445,\"N\"),\"ON HOLD\",IF(ISBLANK(K445),IF(ISBLANK(E445),\"\",IF(ISBLANK(F445),\"NO\",\"YES\")),\"NO\"))","v":""},{"$f":"IF(COUNTIF(D445,\"N\"),\"\",IF(ISBLANK(F445),\"\",IF(ISBLANK(K445),_xlfn.DAYS(TODAY(),F445),_xlfn.DAYS(K445,F445))))","v":""},null,null,null,{"$f":"IF(ISBLANK(P445), \"\", P445-Q445)","v":""},{"$f":"IF(ISBLANK(Q445), \"\", Q445/P445)","v":""}]
[null,null,null,null,null,null,{"$f":"IF(COUNTIF(D446,\"N\"),\"\",IF(ISBLANK(E446),\"\",IF(ISBLANK(F446),IF(ISBLANK(L446), _xlfn.DAYS(TODAY(),E446), _xlfn.DAYS(L446,E446)), _xlfn.DAYS(F446,E446))))","v":""},null,{"$f":"IF(COUNTIF(D446,\"N\"),\"\",IF(ISBLANK(F446),\"\",IF(ISBLANK(H446),IF(ISBLANK(K446),_xlfn.DAYS(TODAY(),F446),_xlfn.DAYS(K446,F446)),_xlfn.DAYS(H446,F446))))","v":""},null,null,null,{"$f":"IF(COUNTIF(D446,\"N\"),\"ON HOLD\",IF(ISBLANK(K446),IF(ISBLANK(E446),\"\",IF(ISBLANK(F446),\"NO\",\"YES\")),\"NO\"))","v":""},{"$f":"IF(COUNTIF(D446,\"N\"),\"\",IF(ISBLANK(F446),\"\",IF(ISBLANK(K446),_xlfn.DAYS(TODAY(),F446),_xlfn.DAYS(K446,F446))))","v":""},null,null,null,{"$f":"IF(ISBLANK(P446), \"\", P446-Q446)","v":""},{"$f":"IF(ISBLANK(Q446), \"\", Q446/P446)","v":""}]
[null,null,null,null,null,null,{"$f":"IF(COUNTIF(D447,\"N\"),\"\",IF(ISBLANK(E447),\"\",IF(ISBLANK(F447),IF(ISBLANK(L447), _xlfn.DAYS(TODAY(),E447), _xlfn.DAYS(L447,E447)), _xlfn.DAYS(F447,E447))))","v":""},null,{"$f":"IF(COUNTIF(D447,\"N\"),\"\",IF(ISBLANK(F447),\"\",IF(ISBLANK(H447),IF(ISBLANK(K447),_xlfn.DAYS(TODAY(),F447),_xlfn.DAYS(K447,F447)),_xlfn.DAYS(H447,F447))))","v":""},null,null,null,{"$f":"IF(COUNTIF(D447,\"N\"),\"ON HOLD\",IF(ISBLANK(K447),IF(ISBLANK(E447),\"\",IF(ISBLANK(F447),\"NO\",\"YES\")),\"NO\"))","v":""},{"$f":"IF(COUNTIF(D447,\"N\"),\"\",IF(ISBLANK(F447),\"\",IF(ISBLANK(K447),_xlfn.DAYS(TODAY(),F447),_xlfn.DAYS(K447,F447))))","v":""},null,null,null,{"$f":"IF(ISBLANK(P447), \"\", P447-Q447)","v":""},{"$f":"IF(ISBLANK(Q447), \"\", Q447/P447)","v":""}]
[null,null,null,null,null,null,{"$f":"IF(COUNTIF(D448,\"N\"),\"\",IF(ISBLANK(E448),\"\",IF(ISBLANK(F448),IF(ISBLANK(L448), _xlfn.DAYS(TODAY(),E448), _xlfn.DAYS(L448,E448)), _xlfn.DAYS(F448,E448))))","v":""},null,{"$f":"IF(COUNTIF(D448,\"N\"),\"\",IF(ISBLANK(F448),\"\",IF(ISBLANK(H448),IF(ISBLANK(K448),_xlfn.DAYS(TODAY(),F448),_xlfn.DAYS(K448,F448)),_xlfn.DAYS(H448,F448))))","v":""},null,null,null,{"$f":"IF(COUNTIF(D448,\"N\"),\"ON HOLD\",IF(ISBLANK(K448),IF(ISBLANK(E448),\"\",IF(ISBLANK(F448),\"NO\",\"YES\")),\"NO\"))","v":""},{"$f":"IF(COUNTIF(D448,\"N\"),\"\",IF(ISBLANK(F448),\"\",IF(ISBLANK(K448),_xlfn.DAYS(TODAY(),F448),_xlfn.DAYS(K448,F448))))","v":""},null,null,null,{"$f":"IF(ISBLANK(P448), \"\", P448-Q448)","v":""},{"$f":"IF(ISBLANK(Q448), \"\", Q448/P448)","v":""}]
[null,null,null,null,null,null,{"$f":"IF(COUNTIF(D449,\"N\"),\"\",IF(ISBLANK(E449),\"\",IF(ISBLANK(F449),IF(ISBLANK(L449), _xlfn.DAYS(TODAY(),E449), _xlfn.DAYS(L449,E449)), _xlfn.DAYS(F449,E449))))","v":""},null,{"$f":"IF(COUNTIF(D449,\"N\"),\"\",IF(ISBLANK(F449),\"\",IF(ISBLANK(H449),IF(ISBLANK(K449),_xlfn.DAYS(TODAY(),F449),_xlfn.DAYS(K449,F449)),_xlfn.DAYS(H449,F449))))","v":""},null,null,null,{"$f":"IF(COUNTIF(D449,\"N\"),\"ON HOLD\",IF(ISBLANK(K449),IF(ISBLANK(E449),\"\",IF(ISBLANK(F449),\"NO\",\"YES\")),\"NO\"))","v":""},{"$f":"IF(COUNTIF(D449,\"N\"),\"\",IF(ISBLANK(F449),\"\",IF(ISBLANK(K449),_xlfn.DAYS(TODAY(),F449),_xlfn.DAYS(K449,F449))))","v":""},null,null,null,{"$f":"IF(ISBLANK(P449), \"\", P449-Q449)","v":""},{"$f":"IF(ISBLANK(Q449), \"\", Q449/P449)","v":""}]
[null,null,null,null,null,null,{"$f":"IF(COUNTIF(D450,\"N\"),\"\",IF(ISBLANK(E450),\"\",IF(ISBLANK(F450),IF(ISBLANK(L450), _xlfn.DAYS(TODAY(),E450), _xlfn.DAYS(L450,E450)), _xlfn.DAYS(F450,E450))))","v":""},null,{"$f":"IF(COUNTIF(D450,\"N\"),\"\",IF(ISBLANK(F450),\"\",IF(ISBLANK(H450),IF(ISBLANK(K450),_xlfn.DAYS(TODAY(),F450),_xlfn.DAYS(K450,F450)),_xlfn.DAYS(H450,F450))))","v":""},null,null,null,{"$f":"IF(COUNTIF(D450,\"N\"),\"ON HOLD\",IF(ISBLANK(K450),IF(ISBLANK(E450),\"\",IF(ISBLANK(F450),\"NO\",\"YES\")),\"NO\"))","v":""},{"$f":"IF(COUNTIF(D450,\"N\"),\"\",IF(ISBLANK(F450),\"\",IF(ISBLANK(K450),_xlfn.DAYS(TODAY(),F450),_xlfn.DAYS(K450,F450))))","v":""},null,null,null,{"$f":"IF(ISBLANK(P450), \"\", P450-Q450)","v":""},{"$f":"IF(ISBLANK(Q450), \"\", Q450/P450)","v":""}]
[null,null,null,null,null,null,{"$f":"IF(COUNTIF(D451,\"N\"),\"\",IF(ISBLANK(E451),\"\",IF(ISBLANK(F451),IF(ISBLANK(L451), _xlfn.DAYS(TODAY(),E451), _xlfn.DAYS(L451,E451)), _xlfn.DAYS(F451,E451))))","v":""},null,{"$f":"IF(COUNTIF(D451,\"N\"),\"\",IF(ISBLANK(F451),\"\",IF(ISBLANK(H451),IF(ISBLANK(K451),_xlfn.DAYS(TODAY(),F451),_xlfn.DAYS(K451,F451)),_xlfn.DAYS(H451,F451))))","v":""},null,null,null,{"$f":"IF(COUNTIF(D451,\"N\"),\"ON HOLD\",IF(ISBLANK(K451),IF(ISBLANK(E451),\"\",IF(ISBLANK(F451),\"NO\",\"YES\")),\"NO\"))","v":""},{"$f":"IF(COUNTIF(D451,\"N\"),\"\",IF(ISBLANK(F451),\"\",IF(ISBLANK(K451),_xlfn.DAYS(TODAY(),F451),_xlfn.DAYS(K451,F451))))","v":""},null,null,null,{"$f":"IF(ISBLANK(P451), \"\", P451-Q451)","v":""},{"$f":"IF(ISBLANK(Q451), \"\", Q451/P451)","v":""}]
[null,null,null,null,null,null,{"$f":"IF(COUNTIF(D452,\"N\"),\"\",IF(ISBLANK(E452),\"\",IF(ISBLANK(F452),IF(ISBLANK(L452), _xlfn.DAYS(TODAY(),E452), _xlfn.DAYS(L452,E452)), _xlfn.DAYS(F452,E452))))","v":""},null,{"$f":"IF(COUNTIF(D452,\"N\"),\"\",IF(ISBLANK(F452),\"\",IF(ISBLANK(H452),IF(ISBLANK(K452),_xlfn.DAYS(TODAY(),F452),_xlfn.DAYS(K452,F452)),_xlfn.DAYS(H452,F452))))","v":""},null,null,null,{"$f":"IF(COUNTIF(D452,\"N\"),\"ON HOLD\",IF(ISBLANK(K452),IF(ISBLANK(E452),\"\",IF(ISBLANK(F452),\"NO\",\"YES\")),\"NO\"))","v":""},{"$f":"IF(COUNTIF(D452,\"N\"),\"\",IF(ISBLANK(F452),\"\",IF(ISBLANK(K452),_xlfn.DAYS(TODAY(),F452),_xlfn.DAYS(K452,F452))))","v":""},null,null,null,{"$f":"IF(ISBLANK(P452), \"\", P452-Q452)","v":""},{"$f":"IF(ISBLANK(Q452), \"\", Q452/P452)","v":""}]
[null,null,null,null,null,null,{"$f":"IF(COUNTIF(D453,\"N\"),\"\",IF(ISBLANK(E453),\"\",IF(ISBLANK(F453),IF(ISBLANK(L453), _xlfn.DAYS(TODAY(),E453), _xlfn.DAYS(L453,E453)), _xlfn.DAYS(F453,E453))))","v":""},null,{"$f":"IF(COUNTIF(D453,\"N\"),\"\",IF(ISBLANK(F453),\"\",IF(ISBLANK(H453),IF(ISBLANK(K453),_xlfn.DAYS(TODAY(),F453),_xlfn.DAYS(K453,F453)),_xlfn.DAYS(H453,F453))))","v":""},null,null,null,{"$f":"IF(COUNTIF(D453,\"N\"),\"ON HOLD\",IF(ISBLANK(K453),IF(ISBLANK(E453),\"\",IF(ISBLANK(F453),\"NO\",\"YES\")),\"NO\"))","v":""},{"$f":"IF(COUNTIF(D453,\"N\"),\"\",IF(ISBLANK(F453),\"\",IF(ISBLANK(K453),_xlfn.DAYS(TODAY(),F453),_xlfn.DAYS(K453,F453))))","v":""},null,null,null,{"$f":"IF(ISBLANK(P453), \"\", P453-Q453)","v":""},{"$f":"IF(ISBLANK(Q453), \"\", Q453/P453)","v":""}]
[null,null,null,null,null,null,{"$f":"IF(COUNTIF(D454,\"N\"),\"\",IF(ISBLANK(E454),\"\",IF(ISBLANK(F454),IF(ISBLANK(L454), _xlfn.DAYS(TODAY(),E454), _xlfn.DAYS(L454,E454)), _xlfn.DAYS(F454,E454))))","v":""},null,{"$f":"IF(COUNTIF(D454,\"N\"),\"\",IF(ISBLANK(F454),\"\",IF(ISBLANK(H454),IF(ISBLANK(K454),_xlfn.DAYS(TODAY(),F454),_xlfn.DAYS(K454,F454)),_xlfn.DAYS(H454,F454))))","v":""},null,null,null,{"$f":"IF(COUNTIF(D454,\"N\"),\"ON HOLD\",IF(ISBLANK(K454),IF(ISBLANK(E454),\"\",IF(ISBLANK(F454),\"NO\",\"YES\")),\"NO\"))","v":""},{"$f":"IF(COUNTIF(D454,\"N\"),\"\",IF(ISBLANK(F454),\"\",IF(ISBLANK(K454),_xlfn.DAYS(TODAY(),F454),_xlfn.DAYS(K454,F454))))","v":""},null,null,null,{"$f":"IF(ISBLANK(P454), \"\", P454-Q454)","v":""},{"$f":"IF(ISBLANK(Q454), \"\", Q454/P454)","v":""}]
[null,null,null,null,null,null,{"$f":"IF(COUNTIF(D455,\"N\"),\"\",IF(ISBLANK(E455),\"\",IF(ISBLANK(F455),IF(ISBLANK(L455), _xlfn.DAYS(TODAY(),E455), _xlfn.DAYS(L455,E455)), _xlfn.DAYS(F455,E455))))","v":""},null,{"$f":"IF(COUNTIF(D455,\"N\"),\"\",IF(ISBLANK(F455),\"\",IF(ISBLANK(H455),IF(ISBLANK(K455),_xlfn.DAYS(TODAY(),F455),_xlfn.DAYS(K455,F455)),_xlfn.DAYS(H455,F455))))","v":""},null,null,null,{"$f":"IF(COUNTIF(D455,\"N\"),\"ON HOLD\",IF(ISBLANK(K455),IF(ISBLANK(E455),\"\",IF(ISBLANK(F455),\"NO\",\"YES\")),\"NO\"))","v":""},{"$f":"IF(COUNTIF(D455,\"N\"),\"\",IF(ISBLANK(F455),\"\",IF(ISBLANK(K455),_xlfn.DAYS(TODAY(),F455),_xlfn.DAYS(K455,F455))))","v":""},null,null,null,{"$f":"IF(ISBLANK(P455), \"\", P455-Q455)","v":""},{"$f":"IF(ISBLANK(Q455), \"\", Q455/P455)","v":""}]
[null,null,null,null,null,null,{"$f":"IF(COUNTIF(D456,\"N\"),\"\",IF(ISBLANK(E456),\"\",IF(ISBLANK(F456),IF(ISBLANK(L456), _xlfn.DAYS(TODAY(),E456), _xlfn.DAYS(L456,E456)), _xlfn.DAYS(F456,E456))))","v":""},null,{"$f":"IF(COUNTIF(D456,\"N\"),\"\",IF(ISBLANK(F456),\"\",IF(ISBLANK(H456),IF(ISBLANK(K456),_xlfn.DAYS(TODAY(),F456),_xlfn.DAYS(K456,F456)),_xlfn.DAYS(H456,F456))))","v":""},null,null,null,{"$f":"IF(COUNTIF(D456,\"N\"),\"ON HOLD\",IF(ISBLANK(K456),IF(ISBLANK(E456),\"\",IF(ISBLANK(F456),\"NO\",\"YES\")),\"NO\"))","v":""},{"$f":"IF(COUNTIF(D456,\"N\"),\"\",IF(ISBLANK(F456),\"\",IF(ISBLANK(K456),_xlfn.DAYS(TODAY(),F456),_xlfn.DAYS(K456,F456))))","v":""},null,null,null,{"$f":"IF(ISBLANK(P456), \"\", P456-Q456)","v":""},{"$f":"IF(ISBLANK(Q456), \"\", Q456/P456)","v":""}]
[null,null,null,null,null,null,{"$f":"IF(COUNTIF(D457,\"N\"),\"\",IF(ISBLANK(E457),\"\",IF(ISBLANK(F457),IF(ISBLANK(L457), _xlfn.DAYS(TODAY(),E457), _xlfn.DAYS(L457,E457)), _xlfn.DAYS(F457,E457))))","v":""},null,{"$f":"IF(COUNTIF(D457,\"N\"),\"\",IF(ISBLANK(F457),\"\",IF(ISBLANK(H457),IF(ISBLANK(K457),_xlfn.DAYS(TODAY(),F457),_xlfn.DAYS(K457,F457)),_xlfn.DAYS(H457,F457))))","v":""},null,null,null,{"$f":"IF(COUNTIF(D457,\"N\"),\"ON HOLD\",IF(ISBLANK(K457),IF(ISBLANK(E457),\"\",IF(ISBLANK(F457),\"NO\",\"YES\")),\"NO\"))","v":""},{"$f":"IF(COUNTIF(D457,\"N\"),\"\",IF(ISBLANK(F457),\"\",IF(ISBLANK(K457),_xlfn.DAYS(TODAY(),F457),_xlfn.DAYS(K457,F457))))","v":""},null,null,null,{"$f":"IF(ISBLANK(P457), \"\", P457-Q457)","v":""},{"$f":"IF(ISBLANK(Q457), \"\", Q457/P457)","v":""}]
[null,null,null,null,null,null,{"$f":"IF(COUNTIF(D458,\"N\"),\"\",IF(ISBLANK(E458),\"\",IF(ISBLANK(F458),IF(ISBLANK(L458), _xlfn.DAYS(TODAY(),E458), _xlfn.DAYS(L458,E458)), _xlfn.DAYS(F458,E458))))","v":""},null,{"$f":"IF(COUNTIF(D458,\"N\"),\"\",IF(ISBLANK(F458),\"\",IF(ISBLANK(H458),IF(ISBLANK(K458),_xlfn.DAYS(TODAY(),F458),_xlfn.DAYS(K458,F458)),_xlfn.DAYS(H458,F458))))","v":""},null,null,null,{"$f":"IF(COUNTIF(D458,\"N\"),\"ON HOLD\",IF(ISBLANK(K458),IF(ISBLANK(E458),\"\",IF(ISBLANK(F458),\"NO\",\"YES\")),\"NO\"))","v":""},{"$f":"IF(COUNTIF(D458,\"N\"),\"\",IF(ISBLANK(F458),\"\",IF(ISBLANK(K458),_xlfn.DAYS(TODAY(),F458),_xlfn.DAYS(K458,F458))))","v":""},null,null,null,{"$f":"IF(ISBLANK(P458), \"\", P458-Q458)","v":""},{"$f":"IF(ISBLANK(Q458), \"\", Q458/P458)","v":""}]
[null,null,null,null,null,null,{"$f":"IF(COUNTIF(D459,\"N\"),\"\",IF(ISBLANK(E459),\"\",IF(ISBLANK(F459),IF(ISBLANK(L459), _xlfn.DAYS(TODAY(),E459), _xlfn.DAYS(L459,E459)), _xlfn.DAYS(F459,E459))))","v":""},null,{"$f":"IF(COUNTIF(D459,\"N\"),\"\",IF(ISBLANK(F459),\"\",IF(ISBLANK(H459),IF(ISBLANK(K459),_xlfn.DAYS(TODAY(),F459),_xlfn.DAYS(K459,F459)),_xlfn.DAYS(H459,F459))))","v":""},null,null,null,{"$f":"IF(COUNTIF(D459,\"N\"),\"ON HOLD\",IF(ISBLANK(K459),IF(ISBLANK(E459),\"\",IF(ISBLANK(F459),\"NO\",\"YES\")),\"NO\"))","v":""},{"$f":"IF(COUNTIF(D459,\"N\"),\"\",IF(ISBLANK(F459),\"\",IF(ISBLANK(K459),_xlfn.DAYS(TODAY(),F459),_xlfn.DAYS(K459,F459))))","v":""},null,null,null,{"$f":"IF(ISBLANK(P459), \"\", P459-Q459)","v":""},{"$f":"IF(ISBLANK(Q459), \"\", Q459/P459)","v":""}]
[null,null,null,null,null,null,{"$f":"IF(COUNTIF(D460,\"N\"),\"\",IF(ISBLANK(E460),\"\",IF(ISBLANK(F460),IF(ISBLANK(L460), _xlfn.DAYS(TODAY(),E460), _xlfn.DAYS(L460,E460)), _xlfn.DAYS(F460,E460))))","v":""},null,{"$f":"IF(COUNTIF(D460,\"N\"),\"\",IF(ISBLANK(F460),\"\",IF(ISBLANK(H460),IF(ISBLANK(K460),_xlfn.DAYS(TODAY(),F460),_xlfn.DAYS(K460,F460)),_xlfn.DAYS(H460,F460))))","v":""},null,null,null,{"$f":"IF(COUNTIF(D460,\"N\"),\"ON HOLD\",IF(ISBLANK(K460),IF(ISBLANK(E460),\"\",IF(ISBLANK(F460),\"NO\",\"YES\")),\"NO\"))","v":""},{"$f":"IF(COUNTIF(D460,\"N\"),\"\",IF(ISBLANK(F460),\"\",IF(ISBLANK(K460),_xlfn.DAYS(TODAY(),F460),_xlfn.DAYS(K460,F460))))","v":""},null,null,null,{"$f":"IF(ISBLANK(P460), \"\", P460-Q460)","v":""},{"$f":"IF(ISBLANK(Q460), \"\", Q460/P460)","v":""}]
[null,null,null,null,null,null,{"$f":"IF(COUNTIF(D461,\"N\"),\"\",IF(ISBLANK(E461),\"\",IF(ISBLANK(F461),IF(ISBLANK(L461), _xlfn.DAYS(TODAY(),E461), _xlfn.DAYS(L461,E461)), _xlfn.DAYS(F461,E461))))","v":""},null,{"$f":"IF(COUNTIF(D461,\"N\"),\"\",IF(ISBLANK(F461),\"\",IF(ISBLANK(H461),IF(ISBLANK(K461),_xlfn.DAYS(TODAY(),F461),_xlfn.DAYS(K461,F461)),_xlfn.DAYS(H461,F461))))","v":""},null,null,null,{"$f":"IF(COUNTIF(D461,\"N\"),\"ON HOLD\",IF(ISBLANK(K461),IF(ISBLANK(E461),\"\",IF(ISBLANK(F461),\"NO\",\"YES\")),\"NO\"))","v":""},{"$f":"IF(COUNTIF(D461,\"N\"),\"\",IF(ISBLANK(F461),\"\",IF(ISBLANK(K461),_xlfn.DAYS(TODAY(),F461),_xlfn.DAYS(K461,F461))))","v":""},null,null,null,{"$f":"IF(ISBLANK(P461), \"\", P461-Q461)","v":""},{"$f":"IF(ISBLANK(Q461), \"\", Q461/P461)","v":""}]
[null,null,null,null,null,null,{"$f":"IF(COUNTIF(D462,\"N\"),\"\",IF(ISBLANK(E462),\"\",IF(ISBLANK(F462),IF(ISBLANK(L462), _xlfn.DAYS(TODAY(),E462), _xlfn.DAYS(L462,E462)), _xlfn.DAYS(F462,E462))))","v":""},null,{"$f":"IF(COUNTIF(D462,\"N\"),\"\",IF(ISBLANK(F462),\"\",IF(ISBLANK(H462),IF(ISBLANK(K462),_xlfn.DAYS(TODAY(),F462),_xlfn.DAYS(K462,F462)),_xlfn.DAYS(H462,F462))))","v":""},null,null,null,{"$f":"IF(COUNTIF(D462,\"N\"),\"ON HOLD\",IF(ISBLANK(K462),IF(ISBLANK(E462),\"\",IF(ISBLANK(F462),\"NO\",\"YES\")),\"NO\"))","v":""},{"$f":"IF(COUNTIF(D462,\"N\"),\"\",IF(ISBLANK(F462),\"\",IF(ISBLANK(K462),_xlfn.DAYS(TODAY(),F462),_xlfn.DAYS(K462,F462))))","v":""},null,null,null,{"$f":"IF(ISBLANK(P462), \"\", P462-Q462)","v":""},{"$f":"IF(ISBLANK(Q462), \"\", Q462/P462)","v":""}]
[null,null,null,null,null,null,{"$f":"IF(COUNTIF(D463,\"N\"),\"\",IF(ISBLANK(E463),\"\",IF(ISBLANK(F463),IF(ISBLANK(L463), _xlfn.DAYS(TODAY(),E463), _xlfn.DAYS(L463,E463)), _xlfn.DAYS(F463,E463))))","v":""},null,{"$f":"IF(COUNTIF(D463,\"N\"),\"\",IF(ISBLANK(F463),\"\",IF(ISBLANK(H463),IF(ISBLANK(K463),_xlfn.DAYS(TODAY(),F463),_xlfn.DAYS(K463,F463)),_xlfn.DAYS(H463,F463))))","v":""},null,null,null,{"$f":"IF(COUNTIF(D463,\"N\"),\"ON HOLD\",IF(ISBLANK(K463),IF(ISBLANK(E463),\"\",IF(ISBLANK(F463),\"NO\",\"YES\")),\"NO\"))","v":""},{"$f":"IF(COUNTIF(D463,\"N\"),\"\",IF(ISBLANK(F463),\"\",IF(ISBLANK(K463),_xlfn.DAYS(TODAY(),F463),_xlfn.DAYS(K463,F463))))","v":""},null,null,null,{"$f":"IF(ISBLANK(P463), \"\", P463-Q463)","v":""},{"$f":"IF(ISBLANK(Q463), \"\", Q463/P463)","v":""}]
[null,null,null,null,null,null,{"$f":"IF(COUNTIF(D464,\"N\"),\"\",IF(ISBLANK(E464),\"\",IF(ISBLANK(F464),IF(ISBLANK(L464), _xlfn.DAYS(TODAY(),E464), _xlfn.DAYS(L464,E464)), _xlfn.DAYS(F464,E464))))","v":""},null,{"$f":"IF(COUNTIF(D464,\"N\"),\"\",IF(ISBLANK(F464),\"\",IF(ISBLANK(H464),IF(ISBLANK(K464),_xlfn.DAYS(TODAY(),F464),_xlfn.DAYS(K464,F464)),_xlfn.DAYS(H464,F464))))","v":""},null,null,null,{"$f":"IF(COUNTIF(D464,\"N\"),\"ON HOLD\",IF(ISBLANK(K464),IF(ISBLANK(E464),\"\",IF(ISBLANK(F464),\"NO\",\"YES\")),\"NO\"))","v":""},{"$f":"IF(COUNTIF(D464,\"N\"),\"\",IF(ISBLANK(F464),\"\",IF(ISBLANK(K464),_xlfn.DAYS(TODAY(),F464),_xlfn.DAYS(K464,F464))))","v":""},null,null,null,{"$f":"IF(ISBLANK(P464), \"\", P464-Q464)","v":""},{"$f":"IF(ISBLANK(Q464), \"\", Q464/P464)","v":""}]
[null,null,null,null,null,null,{"$f":"IF(COUNTIF(D465,\"N\"),\"\",IF(ISBLANK(E465),\"\",IF(ISBLANK(F465),IF(ISBLANK(L465), _xlfn.DAYS(TODAY(),E465), _xlfn.DAYS(L465,E465)), _xlfn.DAYS(F465,E465))))","v":""},null,{"$f":"IF(COUNTIF(D465,\"N\"),\"\",IF(ISBLANK(F465),\"\",IF(ISBLANK(H465),IF(ISBLANK(K465),_xlfn.DAYS(TODAY(),F465),_xlfn.DAYS(K465,F465)),_xlfn.DAYS(H465,F465))))","v":""},null,null,null,{"$f":"IF(COUNTIF(D465,\"N\"),\"ON HOLD\",IF(ISBLANK(K465),IF(ISBLANK(E465),\"\",IF(ISBLANK(F465),\"NO\",\"YES\")),\"NO\"))","v":""},{"$f":"IF(COUNTIF(D465,\"N\"),\"\",IF(ISBLANK(F465),\"\",IF(ISBLANK(K465),_xlfn.DAYS(TODAY(),F465),_xlfn.DAYS(K465,F465))))","v":""},null,null,null,{"$f":"IF(ISBLANK(P465), \"\", P465-Q465)","v":""},{"$f":"IF(ISBLANK(Q465), \"\", Q465/P465)","v":""}]
[null,null,null,null,null,null,{"$f":"IF(COUNTIF(D466,\"N\"),\"\",IF(ISBLANK(E466),\"\",IF(ISBLANK(F466),IF(ISBLANK(L466), _xlfn.DAYS(TODAY(),E466), _xlfn.DAYS(L466,E466)), _xlfn.DAYS(F466,E466))))","v":""},null,{"$f":"IF(COUNTIF(D466,\"N\"),\"\",IF(ISBLANK(F466),\"\",IF(ISBLANK(H466),IF(ISBLANK(K466),_xlfn.DAYS(TODAY(),F466),_xlfn.DAYS(K466,F466)),_xlfn.DAYS(H466,F466))))","v":""},null,null,null,{"$f":"IF(COUNTIF(D466,\"N\"),\"ON HOLD\",IF(ISBLANK(K466),IF(ISBLANK(E466),\"\",IF(ISBLANK(F466),\"NO\",\"YES\")),\"NO\"))","v":""},{"$f":"IF(COUNTIF(D466,\"N\"),\"\",IF(ISBLANK(F466),\"\",IF(ISBLANK(K466),_xlfn.DAYS(TODAY(),F466),_xlfn.DAYS(K466,F466))))","v":""},null,null,null,{"$f":"IF(ISBLANK(P466), \"\", P466-Q466)","v":""},{"$f":"IF(ISBLANK(Q466), \"\", Q466/P466)","v":""}]
[null,null,null,null,null,null,{"$f":"IF(COUNTIF(D467,\"N\"),\"\",IF(ISBLANK(E467),\"\",IF(ISBLANK(F467),IF(ISBLANK(L467), _xlfn.DAYS(TODAY(),E467), _xlfn.DAYS(L467,E467)), _xlfn.DAYS(F467,E467))))","v":""},null,{"$f":"IF(COUNTIF(D467,\"N\"),\"\",IF(ISBLANK(F467),\"\",IF(ISBLANK(H467),IF(ISBLANK(K467),_xlfn.DAYS(TODAY(),F467),_xlfn.DAYS(K467,F467)),_xlfn.DAYS(H467,F467))))","v":""},null,null,null,{"$f":"IF(COUNTIF(D467,\"N\"),\"ON HOLD\",IF(ISBLANK(K467),IF(ISBLANK(E467),\"\",IF(ISBLANK(F467),\"NO\",\"YES\")),\"NO\"))","v":""},{"$f":"IF(COUNTIF(D467,\"N\"),\"\",IF(ISBLANK(F467),\"\",IF(ISBLANK(K467),_xlfn.DAYS(TODAY(),F467),_xlfn.DAYS(K467,F467))))","v":""},null,null,null,{"$f":"IF(ISBLANK(P467), \"\", P467-Q467)","v":""},{"$f":"IF(ISBLANK(Q467), \"\", Q467/P467)","v":""}]
[null,null,null,null,null,null,{"$f":"IF(COUNTIF(D468,\"N\"),\"\",IF(ISBLANK(E468),\"\",IF(ISBLANK(F468),IF(ISBLANK(L468), _xlfn.DAYS(TODAY(),E468), _xlfn.DAYS(L468,E468)), _xlfn.DAYS(F468,E468))))","v":""},null,{"$f":"IF(COUNTIF(D468,\"N\"),\"\",IF(ISBLANK(F468),\"\",IF(ISBLANK(H468),IF(ISBLANK(K468),_xlfn.DAYS(TODAY(),F468),_xlfn.DAYS(K468,F468)),_xlfn.DAYS(H468,F468))))","v":""},null,null,null,{"$f":"IF(COUNTIF(D468,\"N\"),\"ON HOLD\",IF(ISBLANK(K468),IF(ISBLANK(E468),\"\",IF(ISBLANK(F468),\"NO\",\"YES\")),\"NO\"))","v":""},{"$f":"IF(COUNTIF(D468,\"N\"),\"\",IF(ISBLANK(F468),\"\",IF(ISBLANK(K468),_xlfn.DAYS(TODAY(),F468),_xlfn.DAYS(K468,F468))))","v":""},null,null,null,{"$f":"IF(ISBLANK(P468), \"\", P468-Q468)","v":""},{"$f":"IF(ISBLANK(Q468), \"\", Q468/P468)","v":""}]
[null,null,null,null,null,null,{"$f":"IF(COUNTIF(D469,\"N\"),\"\",IF(ISBLANK(E469),\"\",IF(ISBLANK(F469),IF(ISBLANK(L469), _xlfn.DAYS(TODAY(),E469), _xlfn.DAYS(L469,E469)), _xlfn.DAYS(F469,E469))))","v":""},null,{"$f":"IF(COUNTIF(D469,\"N\"),\"\",IF(ISBLANK(F469),\"\",IF(ISBLANK(H469),IF(ISBLANK(K469),_xlfn.DAYS(TODAY(),F469),_xlfn.DAYS(K469,F469)),_xlfn.DAYS(H469,F469))))","v":""},null,null,null,{"$f":"IF(COUNTIF(D469,\"N\"),\"ON HOLD\",IF(ISBLANK(K469),IF(ISBLANK(E469),\"\",IF(ISBLANK(F469),\"NO\",\"YES\")),\"NO\"))","v":""},{"$f":"IF(COUNTIF(D469,\"N\"),\"\",IF(ISBLANK(F469),\"\",IF(ISBLANK(K469),_xlfn.DAYS(TODAY(),F469),_xlfn.DAYS(K469,F469))))","v":""},null,null,null,{"$f":"IF(ISBLANK(P469), \"\", P469-Q469)","v":""},{"$f":"IF(ISBLANK(Q469), \"\", Q469/P469)","v":""}]
[null,null,null,null,null,null,{"$f":"IF(COUNTIF(D470,\"N\"),\"\",IF(ISBLANK(E470),\"\",IF(ISBLANK(F470),IF(ISBLANK(L470), _xlfn.DAYS(TODAY(),E470), _xlfn.DAYS(L470,E470)), _xlfn.DAYS(F470,E470))))","v":""},null,{"$f":"IF(COUNTIF(D470,\"N\"),\"\",IF(ISBLANK(F470),\"\",IF(ISBLANK(H470),IF(ISBLANK(K470),_xlfn.DAYS(TODAY(),F470),_xlfn.DAYS(K470,F470)),_xlfn.DAYS(H470,F470))))","v":""},null,null,null,{"$f":"IF(COUNTIF(D470,\"N\"),\"ON HOLD\",IF(ISBLANK(K470),IF(ISBLANK(E470),\"\",IF(ISBLANK(F470),\"NO\",\"YES\")),\"NO\"))","v":""},{"$f":"IF(COUNTIF(D470,\"N\"),\"\",IF(ISBLANK(F470),\"\",IF(ISBLANK(K470),_xlfn.DAYS(TODAY(),F470),_xlfn.DAYS(K470,F470))))","v":""},null,null,null,{"$f":"IF(ISBLANK(P470), \"\", P470-Q470)","v":""},{"$f":"IF(ISBLANK(Q470), \"\", Q470/P470)","v":""}]
[null,null,null,null,null,null,{"$f":"IF(COUNTIF(D471,\"N\"),\"\",IF(ISBLANK(E471),\"\",IF(ISBLANK(F471),IF(ISBLANK(L471), _xlfn.DAYS(TODAY(),E471), _xlfn.DAYS(L471,E471)), _xlfn.DAYS(F471,E471))))","v":""},null,{"$f":"IF(COUNTIF(D471,\"N\"),\"\",IF(ISBLANK(F471),\"\",IF(ISBLANK(H471),IF(ISBLANK(K471),_xlfn.DAYS(TODAY(),F471),_xlfn.DAYS(K471,F471)),_xlfn.DAYS(H471,F471))))","v":""},null,null,null,{"$f":"IF(COUNTIF(D471,\"N\"),\"ON HOLD\",IF(ISBLANK(K471),IF(ISBLANK(E471),\"\",IF(ISBLANK(F471),\"NO\",\"YES\")),\"NO\"))","v":""},{"$f":"IF(COUNTIF(D471,\"N\"),\"\",IF(ISBLANK(F471),\"\",IF(ISBLANK(K471),_xlfn.DAYS(TODAY(),F471),_xlfn.DAYS(K471,F471))))","v":""},null,null,null,{"$f":"IF(ISBLANK(P471), \"\", P471-Q471)","v":""},{"$f":"IF(ISBLANK(Q471), \"\", Q471/P471)","v":""}]
[null,null,null,null,null,null,{"$f":"IF(COUNTIF(D472,\"N\"),\"\",IF(ISBLANK(E472),\"\",IF(ISBLANK(F472),IF(ISBLANK(L472), _xlfn.DAYS(TODAY(),E472), _xlfn.DAYS(L472,E472)), _xlfn.DAYS(F472,E472))))","v":""},null,{"$f":"IF(COUNTIF(D472,\"N\"),\"\",IF(ISBLANK(F472),\"\",IF(ISBLANK(H472),IF(ISBLANK(K472),_xlfn.DAYS(TODAY(),F472),_xlfn.DAYS(K472,F472)),_xlfn.DAYS(H472,F472))))","v":""},null,null,null,{"$f":"IF(COUNTIF(D472,\"N\"),\"ON HOLD\",IF(ISBLANK(K472),IF(ISBLANK(E472),\"\",IF(ISBLANK(F472),\"NO\",\"YES\")),\"NO\"))","v":""},{"$f":"IF(COUNTIF(D472,\"N\"),\"\",IF(ISBLANK(F472),\"\",IF(ISBLANK(K472),_xlfn.DAYS(TODAY(),F472),_xlfn.DAYS(K472,F472))))","v":""},null,null,null,{"$f":"IF(ISBLANK(P472), \"\", P472-Q472)","v":""},{"$f":"IF(ISBLANK(Q472), \"\", Q472/P472)","v":""}]
[null,null,null,null,null,null,{"$f":"IF(COUNTIF(D473,\"N\"),\"\",IF(ISBLANK(E473),\"\",IF(ISBLANK(F473),IF(ISBLANK(L473), _xlfn.DAYS(TODAY(),E473), _xlfn.DAYS(L473,E473)), _xlfn.DAYS(F473,E473))))","v":""},null,{"$f":"IF(COUNTIF(D473,\"N\"),\"\",IF(ISBLANK(F473),\"\",IF(ISBLANK(H473),IF(ISBLANK(K473),_xlfn.DAYS(TODAY(),F473),_xlfn.DAYS(K473,F473)),_xlfn.DAYS(H473,F473))))","v":""},null,null,null,{"$f":"IF(COUNTIF(D473,\"N\"),\"ON HOLD\",IF(ISBLANK(K473),IF(ISBLANK(E473),\"\",IF(ISBLANK(F473),\"NO\",\"YES\")),\"NO\"))","v":""},{"$f":"IF(COUNTIF(D473,\"N\"),\"\",IF(ISBLANK(F473),\"\",IF(ISBLANK(K473),_xlfn.DAYS(TODAY(),F473),_xlfn.DAYS(K473,F473))))","v":""},null,null,null,{"$f":"IF(ISBLANK(P473), \"\", P473-Q473)","v":""},{"$f":"IF(ISBLANK(Q473), \"\", Q473/P473)","v":""}]
[null,null,null,null,null,null,{"$f":"IF(COUNTIF(D474,\"N\"),\"\",IF(ISBLANK(E474),\"\",IF(ISBLANK(F474),IF(ISBLANK(L474), _xlfn.DAYS(TODAY(),E474), _xlfn.DAYS(L474,E474)), _xlfn.DAYS(F474,E474))))","v":""},null,{"$f":"IF(COUNTIF(D474,\"N\"),\"\",IF(ISBLANK(F474),\"\",IF(ISBLANK(H474),IF(ISBLANK(K474),_xlfn.DAYS(TODAY(),F474),_xlfn.DAYS(K474,F474)),_xlfn.DAYS(H474,F474))))","v":""},null,null,null,{"$f":"IF(COUNTIF(D474,\"N\"),\"ON HOLD\",IF(ISBLANK(K474),IF(ISBLANK(E474),\"\",IF(ISBLANK(F474),\"NO\",\"YES\")),\"NO\"))","v":""},{"$f":"IF(COUNTIF(D474,\"N\"),\"\",IF(ISBLANK(F474),\"\",IF(ISBLANK(K474),_xlfn.DAYS(TODAY(),F474),_xlfn.DAYS(K474,F474))))","v":""},null,null,null,{"$f":"IF(ISBLANK(P474), \"\", P474-Q474)","v":""},{"$f":"IF(ISBLANK(Q474), \"\", Q474/P474)","v":""}]
[null,null,null,null,null,null,{"$f":"IF(COUNTIF(D475,\"N\"),\"\",IF(ISBLANK(E475),\"\",IF(ISBLANK(F475),IF(ISBLANK(L475), _xlfn.DAYS(TODAY(),E475), _xlfn.DAYS(L475,E475)), _xlfn.DAYS(F475,E475))))","v":""},null,{"$f":"IF(COUNTIF(D475,\"N\"),\"\",IF(ISBLANK(F475),\"\",IF(ISBLANK(H475),IF(ISBLANK(K475),_xlfn.DAYS(TODAY(),F475),_xlfn.DAYS(K475,F475)),_xlfn.DAYS(H475,F475))))","v":""},null,null,null,{"$f":"IF(COUNTIF(D475,\"N\"),\"ON HOLD\",IF(ISBLANK(K475),IF(ISBLANK(E475),\"\",IF(ISBLANK(F475),\"NO\",\"YES\")),\"NO\"))","v":""},{"$f":"IF(COUNTIF(D475,\"N\"),\"\",IF(ISBLANK(F475),\"\",IF(ISBLANK(K475),_xlfn.DAYS(TODAY(),F475),_xlfn.DAYS(K475,F475))))","v":""},null,null,null,{"$f":"IF(ISBLANK(P475), \"\", P475-Q475)","v":""},{"$f":"IF(ISBLANK(Q475), \"\", Q475/P475)","v":""}]
[null,null,null,null,null,null,{"$f":"IF(COUNTIF(D476,\"N\"),\"\",IF(ISBLANK(E476),\"\",IF(ISBLANK(F476),IF(ISBLANK(L476), _xlfn.DAYS(TODAY(),E476), _xlfn.DAYS(L476,E476)), _xlfn.DAYS(F476,E476))))","v":""},null,{"$f":"IF(COUNTIF(D476,\"N\"),\"\",IF(ISBLANK(F476),\"\",IF(ISBLANK(H476),IF(ISBLANK(K476),_xlfn.DAYS(TODAY(),F476),_xlfn.DAYS(K476,F476)),_xlfn.DAYS(H476,F476))))","v":""},null,null,null,{"$f":"IF(COUNTIF(D476,\"N\"),\"ON HOLD\",IF(ISBLANK(K476),IF(ISBLANK(E476),\"\",IF(ISBLANK(F476),\"NO\",\"YES\")),\"NO\"))","v":""},{"$f":"IF(COUNTIF(D476,\"N\"),\"\",IF(ISBLANK(F476),\"\",IF(ISBLANK(K476),_xlfn.DAYS(TODAY(),F476),_xlfn.DAYS(K476,F476))))","v":""},null,null,null,{"$f":"IF(ISBLANK(P476), \"\", P476-Q476)","v":""},{"$f":"IF(ISBLANK(Q476), \"\", Q476/P476)","v":""}]
[null,null,null,null,null,null,{"$f":"IF(COUNTIF(D477,\"N\"),\"\",IF(ISBLANK(E477),\"\",IF(ISBLANK(F477),IF(ISBLANK(L477), _xlfn.DAYS(TODAY(),E477), _xlfn.DAYS(L477,E477)), _xlfn.DAYS(F477,E477))))","v":""},null,{"$f":"IF(COUNTIF(D477,\"N\"),\"\",IF(ISBLANK(F477),\"\",IF(ISBLANK(H477),IF(ISBLANK(K477),_xlfn.DAYS(TODAY(),F477),_xlfn.DAYS(K477,F477)),_xlfn.DAYS(H477,F477))))","v":""},null,null,null,{"$f":"IF(COUNTIF(D477,\"N\"),\"ON HOLD\",IF(ISBLANK(K477),IF(ISBLANK(E477),\"\",IF(ISBLANK(F477),\"NO\",\"YES\")),\"NO\"))","v":""},{"$f":"IF(COUNTIF(D477,\"N\"),\"\",IF(ISBLANK(F477),\"\",IF(ISBLANK(K477),_xlfn.DAYS(TODAY(),F477),_xlfn.DAYS(K477,F477))))","v":""},null,null,null,{"$f":"IF(ISBLANK(P477), \"\", P477-Q477)","v":""},{"$f":"IF(ISBLANK(Q477), \"\", Q477/P477)","v":""}]
[null,null,null,null,null,null,{"$f":"IF(COUNTIF(D478,\"N\"),\"\",IF(ISBLANK(E478),\"\",IF(ISBLANK(F478),IF(ISBLANK(L478), _xlfn.DAYS(TODAY(),E478), _xlfn.DAYS(L478,E478)), _xlfn.DAYS(F478,E478))))","v":""},null,{"$f":"IF(COUNTIF(D478,\"N\"),\"\",IF(ISBLANK(F478),\"\",IF(ISBLANK(H478),IF(ISBLANK(K478),_xlfn.DAYS(TODAY(),F478),_xlfn.DAYS(K478,F478)),_xlfn.DAYS(H478,F478))))","v":""},null,null,null,{"$f":"IF(COUNTIF(D478,\"N\"),\"ON HOLD\",IF(ISBLANK(K478),IF(ISBLANK(E478),\"\",IF(ISBLANK(F478),\"NO\",\"YES\")),\"NO\"))","v":""},{"$f":"IF(COUNTIF(D478,\"N\"),\"\",IF(ISBLANK(F478),\"\",IF(ISBLANK(K478),_xlfn.DAYS(TODAY(),F478),_xlfn.DAYS(K478,F478))))","v":""},null,null,null,{"$f":"IF(ISBLANK(P478), \"\", P478-Q478)","v":""},{"$f":"IF(ISBLANK(Q478), \"\", Q478/P478)","v":""}]
[null,null,null,null,null,null,{"$f":"IF(COUNTIF(D479,\"N\"),\"\",IF(ISBLANK(E479),\"\",IF(ISBLANK(F479),IF(ISBLANK(L479), _xlfn.DAYS(TODAY(),E479), _xlfn.DAYS(L479,E479)), _xlfn.DAYS(F479,E479))))","v":""},null,{"$f":"IF(COUNTIF(D479,\"N\"),\"\",IF(ISBLANK(F479),\"\",IF(ISBLANK(H479),IF(ISBLANK(K479),_xlfn.DAYS(TODAY(),F479),_xlfn.DAYS(K479,F479)),_xlfn.DAYS(H479,F479))))","v":""},null,null,null,{"$f":"IF(COUNTIF(D479,\"N\"),\"ON HOLD\",IF(ISBLANK(K479),IF(ISBLANK(E479),\"\",IF(ISBLANK(F479),\"NO\",\"YES\")),\"NO\"))","v":""},{"$f":"IF(COUNTIF(D479,\"N\"),\"\",IF(ISBLANK(F479),\"\",IF(ISBLANK(K479),_xlfn.DAYS(TODAY(),F479),_xlfn.DAYS(K479,F479))))","v":""},null,null,null,{"$f":"IF(ISBLANK(P479), \"\", P479-Q479)","v":""},{"$f":"IF(ISBLANK(Q479), \"\", Q479/P479)","v":""}]
[null,null,null,null,null,null,{"$f":"IF(COUNTIF(D480,\"N\"),\"\",IF(ISBLANK(E480),\"\",IF(ISBLANK(F480),IF(ISBLANK(L480), _xlfn.DAYS(TODAY(),E480), _xlfn.DAYS(L480,E480)), _xlfn.DAYS(F480,E480))))","v":""},null,{"$f":"IF(COUNTIF(D480,\"N\"),\"\",IF(ISBLANK(F480),\"\",IF(ISBLANK(H480),IF(ISBLANK(K480),_xlfn.DAYS(TODAY(),F480),_xlfn.DAYS(K480,F480)),_xlfn.DAYS(H480,F480))))","v":""},null,null,null,{"$f":"IF(COUNTIF(D480,\"N\"),\"ON HOLD\",IF(ISBLANK(K480),IF(ISBLANK(E480),\"\",IF(ISBLANK(F480),\"NO\",\"YES\")),\"NO\"))","v":""},{"$f":"IF(COUNTIF(D480,\"N\"),\"\",IF(ISBLANK(F480),\"\",IF(ISBLANK(K480),_xlfn.DAYS(TODAY(),F480),_xlfn.DAYS(K480,F480))))","v":""},null,null,null,{"$f":"IF(ISBLANK(P480), \"\", P480-Q480)","v":""},{"$f":"IF(ISBLANK(Q480), \"\", Q480/P480)","v":""}]
[null,null,null,null,null,null,{"$f":"IF(COUNTIF(D481,\"N\"),\"\",IF(ISBLANK(E481),\"\",IF(ISBLANK(F481),IF(ISBLANK(L481), _xlfn.DAYS(TODAY(),E481), _xlfn.DAYS(L481,E481)), _xlfn.DAYS(F481,E481))))","v":""},null,{"$f":"IF(COUNTIF(D481,\"N\"),\"\",IF(ISBLANK(F481),\"\",IF(ISBLANK(H481),IF(ISBLANK(K481),_xlfn.DAYS(TODAY(),F481),_xlfn.DAYS(K481,F481)),_xlfn.DAYS(H481,F481))))","v":""},null,null,null,{"$f":"IF(COUNTIF(D481,\"N\"),\"ON HOLD\",IF(ISBLANK(K481),IF(ISBLANK(E481),\"\",IF(ISBLANK(F481),\"NO\",\"YES\")),\"NO\"))","v":""},{"$f":"IF(COUNTIF(D481,\"N\"),\"\",IF(ISBLANK(F481),\"\",IF(ISBLANK(K481),_xlfn.DAYS(TODAY(),F481),_xlfn.DAYS(K481,F481))))","v":""},null,null,null,{"$f":"IF(ISBLANK(P481), \"\", P481-Q481)","v":""},{"$f":"IF(ISBLANK(Q481), \"\", Q481/P481)","v":""}]
[null,null,null,null,null,null,{"$f":"IF(COUNTIF(D482,\"N\"),\"\",IF(ISBLANK(E482),\"\",IF(ISBLANK(F482),IF(ISBLANK(L482), _xlfn.DAYS(TODAY(),E482), _xlfn.DAYS(L482,E482)), _xlfn.DAYS(F482,E482))))","v":""},null,{"$f":"IF(COUNTIF(D482,\"N\"),\"\",IF(ISBLANK(F482),\"\",IF(ISBLANK(H482),IF(ISBLANK(K482),_xlfn.DAYS(TODAY(),F482),_xlfn.DAYS(K482,F482)),_xlfn.DAYS(H482,F482))))","v":""},null,null,null,{"$f":"IF(COUNTIF(D482,\"N\"),\"ON HOLD\",IF(ISBLANK(K482),IF(ISBLANK(E482),\"\",IF(ISBLANK(F482),\"NO\",\"YES\")),\"NO\"))","v":""},{"$f":"IF(COUNTIF(D482,\"N\"),\"\",IF(ISBLANK(F482),\"\",IF(ISBLANK(K482),_xlfn.DAYS(TODAY(),F482),_xlfn.DAYS(K482,F482))))","v":""},null,null,null,{"$f":"IF(ISBLANK(P482), \"\", P482-Q482)","v":""},{"$f":"IF(ISBLANK(Q482), \"\", Q482/P482)","v":""}]
[null,null,null,null,null,null,{"$f":"IF(COUNTIF(D483,\"N\"),\"\",IF(ISBLANK(E483),\"\",IF(ISBLANK(F483),IF(ISBLANK(L483), _xlfn.DAYS(TODAY(),E483), _xlfn.DAYS(L483,E483)), _xlfn.DAYS(F483,E483))))","v":""},null,{"$f":"IF(COUNTIF(D483,\"N\"),\"\",IF(ISBLANK(F483),\"\",IF(ISBLANK(H483),IF(ISBLANK(K483),_xlfn.DAYS(TODAY(),F483),_xlfn.DAYS(K483,F483)),_xlfn.DAYS(H483,F483))))","v":""},null,null,null,{"$f":"IF(COUNTIF(D483,\"N\"),\"ON HOLD\",IF(ISBLANK(K483),IF(ISBLANK(E483),\"\",IF(ISBLANK(F483),\"NO\",\"YES\")),\"NO\"))","v":""},{"$f":"IF(COUNTIF(D483,\"N\"),\"\",IF(ISBLANK(F483),\"\",IF(ISBLANK(K483),_xlfn.DAYS(TODAY(),F483),_xlfn.DAYS(K483,F483))))","v":""},null,null,null,{"$f":"IF(ISBLANK(P483), \"\", P483-Q483)","v":""},{"$f":"IF(ISBLANK(Q483), \"\", Q483/P483)","v":""}]
[null,null,null,null,null,null,{"$f":"IF(COUNTIF(D484,\"N\"),\"\",IF(ISBLANK(E484),\"\",IF(ISBLANK(F484),IF(ISBLANK(L484), _xlfn.DAYS(TODAY(),E484), _xlfn.DAYS(L484,E484)), _xlfn.DAYS(F484,E484))))","v":""},null,{"$f":"IF(COUNTIF(D484,\"N\"),\"\",IF(ISBLANK(F484),\"\",IF(ISBLANK(H484),IF(ISBLANK(K484),_xlfn.DAYS(TODAY(),F484),_xlfn.DAYS(K484,F484)),_xlfn.DAYS(H484,F484))))","v":""},null,null,null,{"$f":"IF(COUNTIF(D484,\"N\"),\"ON HOLD\",IF(ISBLANK(K484),IF(ISBLANK(E484),\"\",IF(ISBLANK(F484),\"NO\",\"YES\")),\"NO\"))","v":""},{"$f":"IF(COUNTIF(D484,\"N\"),\"\",IF(ISBLANK(F484),\"\",IF(ISBLANK(K484),_xlfn.DAYS(TODAY(),F484),_xlfn.DAYS(K484,F484))))","v":""},null,null,null,{"$f":"IF(ISBLANK(P484), \"\", P484-Q484)","v":""},{"$f":"IF(ISBLANK(Q484), \"\", Q484/P484)","v":""}]
[null,null,null,null,null,null,{"$f":"IF(COUNTIF(D485,\"N\"),\"\",IF(ISBLANK(E485),\"\",IF(ISBLANK(F485),IF(ISBLANK(L485), _xlfn.DAYS(TODAY(),E485), _xlfn.DAYS(L485,E485)), _xlfn.DAYS(F485,E485))))","v":""},null,{"$f":"IF(COUNTIF(D485,\"N\"),\"\",IF(ISBLANK(F485),\"\",IF(ISBLANK(H485),IF(ISBLANK(K485),_xlfn.DAYS(TODAY(),F485),_xlfn.DAYS(K485,F485)),_xlfn.DAYS(H485,F485))))","v":""},null,null,null,{"$f":"IF(COUNTIF(D485,\"N\"),\"ON HOLD\",IF(ISBLANK(K485),IF(ISBLANK(E485),\"\",IF(ISBLANK(F485),\"NO\",\"YES\")),\"NO\"))","v":""},{"$f":"IF(COUNTIF(D485,\"N\"),\"\",IF(ISBLANK(F485),\"\",IF(ISBLANK(K485),_xlfn.DAYS(TODAY(),F485),_xlfn.DAYS(K485,F485))))","v":""},null,null,null,{"$f":"IF(ISBLANK(P485), \"\", P485-Q485)","v":""},{"$f":"IF(ISBLANK(Q485), \"\", Q485/P485)","v":""}]
[null,null,null,null,null,null,{"$f":"IF(COUNTIF(D486,\"N\"),\"\",IF(ISBLANK(E486),\"\",IF(ISBLANK(F486),IF(ISBLANK(L486), _xlfn.DAYS(TODAY(),E486), _xlfn.DAYS(L486,E486)), _xlfn.DAYS(F486,E486))))","v":""},null,{"$f":"IF(COUNTIF(D486,\"N\"),\"\",IF(ISBLANK(F486),\"\",IF(ISBLANK(H486),IF(ISBLANK(K486),_xlfn.DAYS(TODAY(),F486),_xlfn.DAYS(K486,F486)),_xlfn.DAYS(H486,F486))))","v":""},null,null,null,{"$f":"IF(COUNTIF(D486,\"N\"),\"ON HOLD\",IF(ISBLANK(K486),IF(ISBLANK(E486),\"\",IF(ISBLANK(F486),\"NO\",\"YES\")),\"NO\"))","v":""},{"$f":"IF(COUNTIF(D486,\"N\"),\"\",IF(ISBLANK(F486),\"\",IF(ISBLANK(K486),_xlfn.DAYS(TODAY(),F486),_xlfn.DAYS(K486,F486))))","v":""},null,null,null,{"$f":"IF(ISBLANK(P486), \"\", P486-Q486)","v":""},{"$f":"IF(ISBLANK(Q486), \"\", Q486/P486)","v":""}]
[null,null,null,null,null,null,{"$f":"IF(COUNTIF(D487,\"N\"),\"\",IF(ISBLANK(E487),\"\",IF(ISBLANK(F487),IF(ISBLANK(L487), _xlfn.DAYS(TODAY(),E487), _xlfn.DAYS(L487,E487)), _xlfn.DAYS(F487,E487))))","v":""},null,{"$f":"IF(COUNTIF(D487,\"N\"),\"\",IF(ISBLANK(F487),\"\",IF(ISBLANK(H487),IF(ISBLANK(K487),_xlfn.DAYS(TODAY(),F487),_xlfn.DAYS(K487,F487)),_xlfn.DAYS(H487,F487))))","v":""},null,null,null,{"$f":"IF(COUNTIF(D487,\"N\"),\"ON HOLD\",IF(ISBLANK(K487),IF(ISBLANK(E487),\"\",IF(ISBLANK(F487),\"NO\",\"YES\")),\"NO\"))","v":""},{"$f":"IF(COUNTIF(D487,\"N\"),\"\",IF(ISBLANK(F487),\"\",IF(ISBLANK(K487),_xlfn.DAYS(TODAY(),F487),_xlfn.DAYS(K487,F487))))","v":""},null,null,null,{"$f":"IF(ISBLANK(P487), \"\", P487-Q487)","v":""},{"$f":"IF(ISBLANK(Q487), \"\", Q487/P487)","v":""}]
[null,null,null,null,null,null,{"$f":"IF(COUNTIF(D488,\"N\"),\"\",IF(ISBLANK(E488),\"\",IF(ISBLANK(F488),IF(ISBLANK(L488), _xlfn.DAYS(TODAY(),E488), _xlfn.DAYS(L488,E488)), _xlfn.DAYS(F488,E488))))","v":""},null,{"$f":"IF(COUNTIF(D488,\"N\"),\"\",IF(ISBLANK(F488),\"\",IF(ISBLANK(H488),IF(ISBLANK(K488),_xlfn.DAYS(TODAY(),F488),_xlfn.DAYS(K488,F488)),_xlfn.DAYS(H488,F488))))","v":""},null,null,null,{"$f":"IF(COUNTIF(D488,\"N\"),\"ON HOLD\",IF(ISBLANK(K488),IF(ISBLANK(E488),\"\",IF(ISBLANK(F488),\"NO\",\"YES\")),\"NO\"))","v":""},{"$f":"IF(COUNTIF(D488,\"N\"),\"\",IF(ISBLANK(F488),\"\",IF(ISBLANK(K488),_xlfn.DAYS(TODAY(),F488),_xlfn.DAYS(K488,F488))))","v":""},null,null,null,{"$f":"IF(ISBLANK(P488), \"\", P488-Q488)","v":""},{"$f":"IF(ISBLANK(Q488), \"\", Q488/P488)","v":""}]
[null,null,null,null,null,null,{"$f":"IF(COUNTIF(D489,\"N\"),\"\",IF(ISBLANK(E489),\"\",IF(ISBLANK(F489),IF(ISBLANK(L489), _xlfn.DAYS(TODAY(),E489), _xlfn.DAYS(L489,E489)), _xlfn.DAYS(F489,E489))))","v":""},null,{"$f":"IF(COUNTIF(D489,\"N\"),\"\",IF(ISBLANK(F489),\"\",IF(ISBLANK(H489),IF(ISBLANK(K489),_xlfn.DAYS(TODAY(),F489),_xlfn.DAYS(K489,F489)),_xlfn.DAYS(H489,F489))))","v":""},null,null,null,{"$f":"IF(COUNTIF(D489,\"N\"),\"ON HOLD\",IF(ISBLANK(K489),IF(ISBLANK(E489),\"\",IF(ISBLANK(F489),\"NO\",\"YES\")),\"NO\"))","v":""},{"$f":"IF(COUNTIF(D489,\"N\"),\"\",IF(ISBLANK(F489),\"\",IF(ISBLANK(K489),_xlfn.DAYS(TODAY(),F489),_xlfn.DAYS(K489,F489))))","v":""},null,null,null,{"$f":"IF(ISBLANK(P489), \"\", P489-Q489)","v":""},{"$f":"IF(ISBLANK(Q489), \"\", Q489/P489)","v":""}]
[null,null,null,null,null,null,{"$f":"IF(COUNTIF(D490,\"N\"),\"\",IF(ISBLANK(E490),\"\",IF(ISBLANK(F490),IF(ISBLANK(L490), _xlfn.DAYS(TODAY(),E490), _xlfn.DAYS(L490,E490)), _xlfn.DAYS(F490,E490))))","v":""},null,{"$f":"IF(COUNTIF(D490,\"N\"),\"\",IF(ISBLANK(F490),\"\",IF(ISBLANK(H490),IF(ISBLANK(K490),_xlfn.DAYS(TODAY(),F490),_xlfn.DAYS(K490,F490)),_xlfn.DAYS(H490,F490))))","v":""},null,null,null,{"$f":"IF(COUNTIF(D490,\"N\"),\"ON HOLD\",IF(ISBLANK(K490),IF(ISBLANK(E490),\"\",IF(ISBLANK(F490),\"NO\",\"YES\")),\"NO\"))","v":""},{"$f":"IF(COUNTIF(D490,\"N\"),\"\",IF(ISBLANK(F490),\"\",IF(ISBLANK(K490),_xlfn.DAYS(TODAY(),F490),_xlfn.DAYS(K490,F490))))","v":""},null,null,null,{"$f":"IF(ISBLANK(P490), \"\", P490-Q490)","v":""},{"$f":"IF(ISBLANK(Q490), \"\", Q490/P490)","v":""}]
[null,null,null,null,null,null,{"$f":"IF(COUNTIF(D491,\"N\"),\"\",IF(ISBLANK(E491),\"\",IF(ISBLANK(F491),IF(ISBLANK(L491), _xlfn.DAYS(TODAY(),E491), _xlfn.DAYS(L491,E491)), _xlfn.DAYS(F491,E491))))","v":""},null,{"$f":"IF(COUNTIF(D491,\"N\"),\"\",IF(ISBLANK(F491),\"\",IF(ISBLANK(H491),IF(ISBLANK(K491),_xlfn.DAYS(TODAY(),F491),_xlfn.DAYS(K491,F491)),_xlfn.DAYS(H491,F491))))","v":""},null,null,null,{"$f":"IF(COUNTIF(D491,\"N\"),\"ON HOLD\",IF(ISBLANK(K491),IF(ISBLANK(E491),\"\",IF(ISBLANK(F491),\"NO\",\"YES\")),\"NO\"))","v":""},{"$f":"IF(COUNTIF(D491,\"N\"),\"\",IF(ISBLANK(F491),\"\",IF(ISBLANK(K491),_xlfn.DAYS(TODAY(),F491),_xlfn.DAYS(K491,F491))))","v":""},null,null,null,{"$f":"IF(ISBLANK(P491), \"\", P491-Q491)","v":""},{"$f":"IF(ISBLANK(Q491), \"\", Q491/P491)","v":""}]
[null,null,null,null,null,null,{"$f":"IF(COUNTIF(D492,\"N\"),\"\",IF(ISBLANK(E492),\"\",IF(ISBLANK(F492),IF(ISBLANK(L492), _xlfn.DAYS(TODAY(),E492), _xlfn.DAYS(L492,E492)), _xlfn.DAYS(F492,E492))))","v":""},null,{"$f":"IF(COUNTIF(D492,\"N\"),\"\",IF(ISBLANK(F492),\"\",IF(ISBLANK(H492),IF(ISBLANK(K492),_xlfn.DAYS(TODAY(),F492),_xlfn.DAYS(K492,F492)),_xlfn.DAYS(H492,F492))))","v":""},null,null,null,{"$f":"IF(COUNTIF(D492,\"N\"),\"ON HOLD\",IF(ISBLANK(K492),IF(ISBLANK(E492),\"\",IF(ISBLANK(F492),\"NO\",\"YES\")),\"NO\"))","v":""},{"$f":"IF(COUNTIF(D492,\"N\"),\"\",IF(ISBLANK(F492),\"\",IF(ISBLANK(K492),_xlfn.DAYS(TODAY(),F492),_xlfn.DAYS(K492,F492))))","v":""},null,null,null,{"$f":"IF(ISBLANK(P492), \"\", P492-Q492)","v":""},{"$f":"IF(ISBLANK(Q492), \"\", Q492/P492)","v":""}]
[null,null,null,null,null,null,{"$f":"IF(COUNTIF(D493,\"N\"),\"\",IF(ISBLANK(E493),\"\",IF(ISBLANK(F493),IF(ISBLANK(L493), _xlfn.DAYS(TODAY(),E493), _xlfn.DAYS(L493,E493)), _xlfn.DAYS(F493,E493))))","v":""},null,{"$f":"IF(COUNTIF(D493,\"N\"),\"\",IF(ISBLANK(F493),\"\",IF(ISBLANK(H493),IF(ISBLANK(K493),_xlfn.DAYS(TODAY(),F493),_xlfn.DAYS(K493,F493)),_xlfn.DAYS(H493,F493))))","v":""},null,null,null,{"$f":"IF(COUNTIF(D493,\"N\"),\"ON HOLD\",IF(ISBLANK(K493),IF(ISBLANK(E493),\"\",IF(ISBLANK(F493),\"NO\",\"YES\")),\"NO\"))","v":""},{"$f":"IF(COUNTIF(D493,\"N\"),\"\",IF(ISBLANK(F493),\"\",IF(ISBLANK(K493),_xlfn.DAYS(TODAY(),F493),_xlfn.DAYS(K493,F493))))","v":""},null,null,null,{"$f":"IF(ISBLANK(P493), \"\", P493-Q493)","v":""},{"$f":"IF(ISBLANK(Q493), \"\", Q493/P493)","v":""}]
[null,null,null,null,null,null,{"$f":"IF(COUNTIF(D494,\"N\"),\"\",IF(ISBLANK(E494),\"\",IF(ISBLANK(F494),IF(ISBLANK(L494), _xlfn.DAYS(TODAY(),E494), _xlfn.DAYS(L494,E494)), _xlfn.DAYS(F494,E494))))","v":""},null,{"$f":"IF(COUNTIF(D494,\"N\"),\"\",IF(ISBLANK(F494),\"\",IF(ISBLANK(H494),IF(ISBLANK(K494),_xlfn.DAYS(TODAY(),F494),_xlfn.DAYS(K494,F494)),_xlfn.DAYS(H494,F494))))","v":""},null,null,null,{"$f":"IF(COUNTIF(D494,\"N\"),\"ON HOLD\",IF(ISBLANK(K494),IF(ISBLANK(E494),\"\",IF(ISBLANK(F494),\"NO\",\"YES\")),\"NO\"))","v":""},{"$f":"IF(COUNTIF(D494,\"N\"),\"\",IF(ISBLANK(F494),\"\",IF(ISBLANK(K494),_xlfn.DAYS(TODAY(),F494),_xlfn.DAYS(K494,F494))))","v":""},null,null,null,{"$f":"IF(ISBLANK(P494), \"\", P494-Q494)","v":""},{"$f":"IF(ISBLANK(Q494), \"\", Q494/P494)","v":""}]
[null,null,null,null,null,null,{"$f":"IF(COUNTIF(D495,\"N\"),\"\",IF(ISBLANK(E495),\"\",IF(ISBLANK(F495),IF(ISBLANK(L495), _xlfn.DAYS(TODAY(),E495), _xlfn.DAYS(L495,E495)), _xlfn.DAYS(F495,E495))))","v":""},null,{"$f":"IF(COUNTIF(D495,\"N\"),\"\",IF(ISBLANK(F495),\"\",IF(ISBLANK(H495),IF(ISBLANK(K495),_xlfn.DAYS(TODAY(),F495),_xlfn.DAYS(K495,F495)),_xlfn.DAYS(H495,F495))))","v":""},null,null,null,{"$f":"IF(COUNTIF(D495,\"N\"),\"ON HOLD\",IF(ISBLANK(K495),IF(ISBLANK(E495),\"\",IF(ISBLANK(F495),\"NO\",\"YES\")),\"NO\"))","v":""},{"$f":"IF(COUNTIF(D495,\"N\"),\"\",IF(ISBLANK(F495),\"\",IF(ISBLANK(K495),_xlfn.DAYS(TODAY(),F495),_xlfn.DAYS(K495,F495))))","v":""},null,null,null,{"$f":"IF(ISBLANK(P495), \"\", P495-Q495)","v":""},{"$f":"IF(ISBLANK(Q495), \"\", Q495/P495)","v":""}]
[null,null,null,null,null,null,{"$f":"IF(COUNTIF(D496,\"N\"),\"\",IF(ISBLANK(E496),\"\",IF(ISBLANK(F496),IF(ISBLANK(L496), _xlfn.DAYS(TODAY(),E496), _xlfn.DAYS(L496,E496)), _xlfn.DAYS(F496,E496))))","v":""},null,{"$f":"IF(COUNTIF(D496,\"N\"),\"\",IF(ISBLANK(F496),\"\",IF(ISBLANK(H496),IF(ISBLANK(K496),_xlfn.DAYS(TODAY(),F496),_xlfn.DAYS(K496,F496)),_xlfn.DAYS(H496,F496))))","v":""},null,null,null,{"$f":"IF(COUNTIF(D496,\"N\"),\"ON HOLD\",IF(ISBLANK(K496),IF(ISBLANK(E496),\"\",IF(ISBLANK(F496),\"NO\",\"YES\")),\"NO\"))","v":""},{"$f":"IF(COUNTIF(D496,\"N\"),\"\",IF(ISBLANK(F496),\"\",IF(ISBLANK(K496),_xlfn.DAYS(TODAY(),F496),_xlfn.DAYS(K496,F496))))","v":""},null,null,null,{"$f":"IF(ISBLANK(P496), \"\", P496-Q496)","v":""},{"$f":"IF(ISBLANK(Q496), \"\", Q496/P496)","v":""}]
[null,null,null,null,null,null,{"$f":"IF(COUNTIF(D497,\"N\"),\"\",IF(ISBLANK(E497),\"\",IF(ISBLANK(F497),IF(ISBLANK(L497), _xlfn.DAYS(TODAY(),E497), _xlfn.DAYS(L497,E497)), _xlfn.DAYS(F497,E497))))","v":""},null,{"$f":"IF(COUNTIF(D497,\"N\"),\"\",IF(ISBLANK(F497),\"\",IF(ISBLANK(H497),IF(ISBLANK(K497),_xlfn.DAYS(TODAY(),F497),_xlfn.DAYS(K497,F497)),_xlfn.DAYS(H497,F497))))","v":""},null,null,null,{"$f":"IF(COUNTIF(D497,\"N\"),\"ON HOLD\",IF(ISBLANK(K497),IF(ISBLANK(E497),\"\",IF(ISBLANK(F497),\"NO\",\"YES\")),\"NO\"))","v":""},{"$f":"IF(COUNTIF(D497,\"N\"),\"\",IF(ISBLANK(F497),\"\",IF(ISBLANK(K497),_xlfn.DAYS(TODAY(),F497),_xlfn.DAYS(K497,F497))))","v":""},null,null,null,{"$f":"IF(ISBLANK(P497), \"\", P497-Q497)","v":""},{"$f":"IF(ISBLANK(Q497), \"\", Q497/P497)","v":""}]
[null,null,null,null,null,null,{"$f":"IF(COUNTIF(D498,\"N\"),\"\",IF(ISBLANK(E498),\"\",IF(ISBLANK(F498),IF(ISBLANK(L498), _xlfn.DAYS(TODAY(),E498), _xlfn.DAYS(L498,E498)), _xlfn.DAYS(F498,E498))))","v":""},null,{"$f":"IF(COUNTIF(D498,\"N\"),\"\",IF(ISBLANK(F498),\"\",IF(ISBLANK(H498),IF(ISBLANK(K498),_xlfn.DAYS(TODAY(),F498),_xlfn.DAYS(K498,F498)),_xlfn.DAYS(H498,F498))))","v":""},null,null,null,{"$f":"IF(COUNTIF(D498,\"N\"),\"ON HOLD\",IF(ISBLANK(K498),IF(ISBLANK(E498),\"\",IF(ISBLANK(F498),\"NO\",\"YES\")),\"NO\"))","v":""},{"$f":"IF(COUNTIF(D498,\"N\"),\"\",IF(ISBLANK(F498),\"\",IF(ISBLANK(K498),_xlfn.DAYS(TODAY(),F498),_xlfn.DAYS(K498,F498))))","v":""},null,null,null,{"$f":"IF(ISBLANK(P498), \"\", P498-Q498)","v":""},{"$f":"IF(ISBLANK(Q498), \"\", Q498/P498)","v":""}]
[null,null,null,null,null,null,{"$f":"IF(COUNTIF(D499,\"N\"),\"\",IF(ISBLANK(E499),\"\",IF(ISBLANK(F499),IF(ISBLANK(L499), _xlfn.DAYS(TODAY(),E499), _xlfn.DAYS(L499,E499)), _xlfn.DAYS(F499,E499))))","v":""},null,{"$f":"IF(COUNTIF(D499,\"N\"),\"\",IF(ISBLANK(F499),\"\",IF(ISBLANK(H499),IF(ISBLANK(K499),_xlfn.DAYS(TODAY(),F499),_xlfn.DAYS(K499,F499)),_xlfn.DAYS(H499,F499))))","v":""},null,null,null,{"$f":"IF(COUNTIF(D499,\"N\"),\"ON HOLD\",IF(ISBLANK(K499),IF(ISBLANK(E499),\"\",IF(ISBLANK(F499),\"NO\",\"YES\")),\"NO\"))","v":""},{"$f":"IF(COUNTIF(D499,\"N\"),\"\",IF(ISBLANK(F499),\"\",IF(ISBLANK(K499),_xlfn.DAYS(TODAY(),F499),_xlfn.DAYS(K499,F499))))","v":""},null,null,null,{"$f":"IF(ISBLANK(P499), \"\", P499-Q499)","v":""},{"$f":"IF(ISBLANK(Q499), \"\", Q499/P499)","v":""}]
[null,null,null,null,null,null,{"$f":"IF(COUNTIF(D500,\"N\"),\"\",IF(ISBLANK(E500),\"\",IF(ISBLANK(F500),IF(ISBLANK(L500), _xlfn.DAYS(TODAY(),E500), _xlfn.DAYS(L500,E500)), _xlfn.DAYS(F500,E500))))","v":""},null,{"$f":"IF(COUNTIF(D500,\"N\"),\"\",IF(ISBLANK(F500),\"\",IF(ISBLANK(H500),IF(ISBLANK(K500),_xlfn.DAYS(TODAY(),F500),_xlfn.DAYS(K500,F500)),_xlfn.DAYS(H500,F500))))","v":""},null,null,null,{"$f":"IF(COUNTIF(D500,\"N\"),\"ON HOLD\",IF(ISBLANK(K500),IF(ISBLANK(E500),\"\",IF(ISBLANK(F500),\"NO\",\"YES\")),\"NO\"))","v":""},{"$f":"IF(COUNTIF(D500,\"N\"),\"\",IF(ISBLANK(F500),\"\",IF(ISBLANK(K500),_xlfn.DAYS(TODAY(),F500),_xlfn.DAYS(K500,F500))))","v":""},null,null,null,{"$f":"IF(ISBLANK(P500), \"\", P500-Q500)","v":""},{"$f":"IF(ISBLANK(Q500), \"\", Q500/P500)","v":""}]
[null,null,null,null,null,null,{"$f":"IF(COUNTIF(D501,\"N\"),\"\",IF(ISBLANK(E501),\"\",IF(ISBLANK(F501),IF(ISBLANK(L501), _xlfn.DAYS(TODAY(),E501), _xlfn.DAYS(L501,E501)), _xlfn.DAYS(F501,E501))))","v":""},null,{"$f":"IF(COUNTIF(D501,\"N\"),\"\",IF(ISBLANK(F501),\"\",IF(ISBLANK(H501),IF(ISBLANK(K501),_xlfn.DAYS(TODAY(),F501),_xlfn.DAYS(K501,F501)),_xlfn.DAYS(H501,F501))))","v":""},null,null,null,{"$f":"IF(COUNTIF(D501,\"N\"),\"ON HOLD\",IF(ISBLANK(K501),IF(ISBLANK(E501),\"\",IF(ISBLANK(F501),\"NO\",\"YES\")),\"NO\"))","v":""},{"$f":"IF(COUNTIF(D501,\"N\"),\"\",IF(ISBLANK(F501),\"\",IF(ISBLANK(K501),_xlfn.DAYS(TODAY(),F501),_xlfn.DAYS(K501,F501))))","v":""},null,null,null,{"$f":"IF(ISBLANK(P501), \"\", P501-Q501)","v":""},{"$f":"IF(ISBLANK(Q501), \"\", Q501/P501)","v":""}]
[null,null,null,null,null,null,{"$f":"IF(COUNTIF(D502,\"N\"),\"\",IF(ISBLANK(E502),\"\",IF(ISBLANK(F502),IF(ISBLANK(L502), _xlfn.DAYS(TODAY(),E502), _xlfn.DAYS(L502,E502)), _xlfn.DAYS(F502,E502))))","v":""},null,{"$f":"IF(COUNTIF(D502,\"N\"),\"\",IF(ISBLANK(F502),\"\",IF(ISBLANK(H502),IF(ISBLANK(K502),_xlfn.DAYS(TODAY(),F502),_xlfn.DAYS(K502,F502)),_xlfn.DAYS(H502,F502))))","v":""},null,null,null,{"$f":"IF(COUNTIF(D502,\"N\"),\"ON HOLD\",IF(ISBLANK(K502),IF(ISBLANK(E502),\"\",IF(ISBLANK(F502),\"NO\",\"YES\")),\"NO\"))","v":""},{"$f":"IF(COUNTIF(D502,\"N\"),\"\",IF(ISBLANK(F502),\"\",IF(ISBLANK(K502),_xlfn.DAYS(TODAY(),F502),_xlfn.DAYS(K502,F502))))","v":""},null,null,null,{"$f":"IF(ISBLANK(P502), \"\", P502-Q502)","v":""},{"$f":"IF(ISBLANK(Q502), \"\", Q502/P502)","v":""}]
[null,null,null,null,null,null,{"$f":"IF(COUNTIF(D503,\"N\"),\"\",IF(ISBLANK(E503),\"\",IF(ISBLANK(F503),IF(ISBLANK(L503), _xlfn.DAYS(TODAY(),E503), _xlfn.DAYS(L503,E503)), _xlfn.DAYS(F503,E503))))","v":""},null,{"$f":"IF(COUNTIF(D503,\"N\"),\"\",IF(ISBLANK(F503),\"\",IF(ISBLANK(H503),IF(ISBLANK(K503),_xlfn.DAYS(TODAY(),F503),_xlfn.DAYS(K503,F503)),_xlfn.DAYS(H503,F503))))","v":""},null,null,null,{"$f":"IF(COUNTIF(D503,\"N\"),\"ON HOLD\",IF(ISBLANK(K503),IF(ISBLANK(E503),\"\",IF(ISBLANK(F503),\"NO\",\"YES\")),\"NO\"))","v":""},{"$f":"IF(COUNTIF(D503,\"N\"),\"\",IF(ISBLANK(F503),\"\",IF(ISBLANK(K503),_xlfn.DAYS(TODAY(),F503),_xlfn.DAYS(K503,F503))))","v":""},null,null,null,{"$f":"IF(ISBLANK(P503), \"\", P503-Q503)","v":""},{"$f":"IF(ISBLANK(Q503), \"\", Q503/P503)","v":""}]
[null,{"$f":"COUNTA(B4:B503)","v":0},null,{"$f":"IFERROR(COUNTIF(D4:D503, \"Y\")/COUNTA(B4:B503),\"\")","v":""},"Active",null,{"$f":"IFERROR(ROUNDDOWN(AVERAGE(G4:G503)/30, 0)&\" months, \"&ROUNDDOWN(MOD(AVERAGE(G4:G503), 30),0)&\" days\", \"\")","v":""},null,{"$f":"IFERROR(ROUNDDOWN(AVERAGE(I4:I503)/30, 0)&\" months, \"&ROUNDDOWN(MOD(AVERAGE(I4:I503), 30),0)&\" days\", \"\")","v":""},"Re-referral Rate by Job Stabilization Period",null,"Graduated Service w/Job",{"$f":"IFERROR(COUNTIF(M4:M503, \"*YES*\")/COUNTIF(D4:D503, \"Y\"), \"\")","v":""},{"$f":"IFERROR(ROUNDDOWN(AVERAGE(N4:N503)/30, 0)&\" months, \"&ROUNDDOWN(MOD(AVERAGE(N4:N503), 30),0)&\" days\",\"\")","v":""}]
[null,null,null,{"$f":"IFERROR(COUNTIF(D4:D503, \"N\")/COUNTA(B4:B503),\"\")","v":""},"On hold",null,{"$f":"IFERROR(COUNTIFS(G4:G503, \">0\", G4:G503, \"<91\")/COUNTIFS(D4:D503, \"Y\", G4:G503, \">0\"),\"\")","v":""},"<3 Months",{"$f":"IFERROR(COUNTIF(I4:I503, \"<91\")/COUNTA(F4:F503),\"\")","v":""},{"$f":"IFERROR(COUNTIFS(I4:I503, \">0\", I4:I503, \"<91\", J4:J503, \">.5\")/COUNTIFS(I4:I503, \">0\", I4:I503, \"<91\"),\"\")","v":""},null,"Unemployed",{"$f":"IFERROR(COUNTIF(M4:M503, \"*NO*\")/COUNTIF(D4:D503, \"Y\"),\"\")","v":""},{"$f":"IFERROR(COUNTIF(N4:N503, \"<91\")/COUNTIFS(N4:N503, \">1\", N4:N503, \"<7000\"), \"\")","v":""},"<3 Months"]
[null,null,null,null,null,null,{"$f":"IFERROR(COUNTIFS(G4:G503, \">91\", G4:G503, \"<181\")/COUNTIFS(D4:D503, \"Y\", G4:G503, \">0\"),\"\")","v":""},"3-6 Months",{"$f":"IFERROR(COUNTIFS(I4:I503, \">91\", I4:I503, \"<181\")/COUNTA(F4:F503),\"\")","v":""},{"$f":"IFERROR(COUNTIFS(I4:I503, \">91\", I4:I503, \"<181\", J4:J503, \">.5\")/COUNTIFS(I4:I503, \">91\", I4:I503, \"<181\"),\"\")","v":""},null,null,null,{"$f":"IFERROR(COUNTIFS(N4:N503, \">91\", N4:N503,\"<181\")/COUNTIFS(N4:N503, \">1\", N4:N503, \"<7000\"),\"\")","v":""},"3-6 Months"]
[null,null,null,null,null,null,{"$f":"IFERROR(COUNTIFS(G4:G503, \">181\", G4:G503, \"<366\")/COUNTIFS(D4:D503, \"Y\", G4:G503, \">0\"),\"\")","v":""},"6-12 Months",{"$f":"IFERROR(COUNTIFS(I4:I503, \">181\", I4:I503, \"<366\")/COUNTA(F4:F503),\"\")","v":""},{"$f":"IFERROR(COUNTIFS(I4:I503, \">181\", I4:I503, \"<361\", J4:J503, \">.5\")/COUNTIFS(I4:I503, \">181\", I4:I503, \"<361\"),\"\")","v":""},null,null,null,{"$f":"IFERROR(COUNTIFS(N4:N503, \">181\", N4:N503,\"<366\")/COUNTIFS(N4:N503, \">1\", N4:N503, \"<7000\"),\"\")","v":""},"6-12 Months"]
[null,null,null,null,null,null,{"$f":"IFERROR(COUNTIFS(G4:G503, \">366\", G4:G503, \"<7000\")/COUNTIFS(D4:D503, \"Y\", G4:G503, \">0\"),\"\")","v":""},"12+ Months",{"$f":"IFERROR(COUNTIFS(I4:I503, \">366\", I4:I503, \"<7000\")/COUNTA(F4:F503),\"\")","v":""},{"$f":"IFERROR(COUNTIFS(I4:I503, \">361\", I4:I503, \"<7000\", J4:J503, \">.5\")/COUNTIFS(I4:I503, \">361\", I4:I503, \"<7000\"),\"\")","v":""},null,null,null,{"$f":"IFERROR(COUNTIFS(N4:N503, \">366\", N4:N503,\"<7000\")/COUNTIFS(N4:N503, \">1\", N4:N503, \"<7000\"),\"\")","v":""},"12+ Months"]
[null,null,null,null,null,null,{"$f":"IFERROR(AVERAGE(G4:G503),\"\")","v":""},null,{"$f":"IFERROR(AVERAGE(I4:I503),\"\")","v":""},null,null,null,null,{"$f":"IFERROR(AVERAGE(N4:N503),\"\")","v":""},null,null,null,null,null,"CASES v1.4 - 7/2024"]
[null,null,null,null,null,null,null,null,null,null,null,null,null,null,null,null,null,null," Comprehensive Assessment of Supported Employment Service (CASES) companion guide","AVAILABLE HERE"]

{"sheet":"v1.4 Update Notes","index":6,"n_rows":63,"n_cols":1,"rows_kept":63,"cut":false,"hidden":false,"merged":[]}
["Welcome to the CASES Update Notes! "]
[]
["All updates are driven by feedback from SE agencies who utilize this free tool. "]
["All feedback is considered and appreciated!"]
[]
["I have received a lot of great feedback on the CASES tool over the last few years it has been available to the public. The intention of this tool is to assist SE managers, supervisors, and director in data analysis while keeping the data entry component as simple as possible. To that end, I have used user feedback to shape what has, and what will, be included in updates for CASES."]
[]
["***The newest version of CASES is a MACRO-ENABLED EXCEL FILE. To use the following feature, you need to accept the pop up to enable macros in your Excel when you open it. Furthermore, when you save your file, make sure you are saving it as a Macro Enabled Excel file to retain the use of all the new features!*** "]
[]
["Please remember to contact me if you have any problems, concerns, feedback (positive or negative), need something tweaked, make suggestions, etc. Also, should you want to take part in our long term project, please email robert.kimmel@rutgers.edu. We would be very grateful if you could send us de-identified data (no names) so we can build a larger database of where services currently stand in the field (this is VOLUNTARY ONLY, feel free to use this tool without taking part in this endeavor). "]
[]
["Hope you enjoy the newest update: version 1.3!"]
[]
["Dr. Rob Kimmel"]
["Training and Consultation Specialist"]
["The Boggs Center on Developmental Disabilities"]
["Rutgers Robert Wood Johnson Medical School"]
["robert.kimmel@rutgers.edu"]
[]
["CASES V1.4 Update Notes (7/2024)"]
[]
["Staff Assignments & Caseload Management"]
["- A variety of providers requested the ability to \"assign staff\" to individuals receiving services and have the Staff Metrics tab automatically update caseloads. This was in the initial ideas for CASES at its inception but only recently has the ask been made to add this level of utility into CASES. With v1.4, users now have the ability to assign staff to individuals receiving service in the Service Provision tab. There is a new column labelled \"Assign Staff,\" with a drop down menu that holds the names of your staff. This drop down menu is updated by the list of staff a user puts into the Staff Metrics tab. Once staff names are placed in the Staff Metrics tab, the Service Provision tab and \"Assign Staff\" drop down menu will have the names available to select. Furthermore, as dates are added to an individuls Service Provision data indicating starting service, employment date, and moving to follow along, that case will move between the different phases for a staff member automatically. For example, if staff member \"Steve\" is assigned to \"Kate,\" Kate will show up as a \"pre-placement case\" for Steve if Kate only has a date in her \"Referral Date\" Service Provision data. Once we add a date for employment into Kate's data indicating that she got a job, the Staff Metric sheet will update automatically and move Kate's case from pre-placement to \"intensive.\" This way, as data is added into a person's case, the staff caseloads should accurately reflect how many individuals they support within each phase."]
[]
["CASES V1.3 Update Notes (7/2021)"]
[]
["Annual Data Tracking"]
["- CASES was designed to give a \"snapshot\" of the current status of a supported employment program by analyzing inputted data and producing a Program Summary on that first tab. While this aggregated and displayed data on Service Provision, Staff Metrics, Employer Relations, and Closed Cases, aside from printing out or recording the data presented month to month, there was no way to look for trends over time visually. I received a great deal of feedback asking for this feature to be introduced, so voila! You will see in this newest version of CASES (v1.3) that there is a new tab at the bottom called \"Annual Data Tracking.\" What you'll see in this tab is a large table that accounts for each metric on the Program Summary tab, with each column representing a month of the year. I also copied the Program Summary column onto this page so you wouldn't have to flip between tabs to copy over information. Now, once a month a user could copy the \"snapshot\" statistics into the appropriate month and the line graphs will auto-populate, showing you trends over the course of the year. Furthermore, while I headed the columns in calendar year order, these cells are unlocked and can be customized. This way you could start the months with your fiscal year instead of calendar year. Should you do so, the tables will adjust their headings along each axis appropriately. I unfortunately could not find a way to get excel to auto-populate this graph once a month on its own, so this feature will need to be a manual entry once a month. That said, I've tried to make it as user friendly as possible."]
["Staff Credentials"]
["- A \"credentials\" column has been added to the staff metrics section. Tracking staff credentials allows a manager or supervisor to offer professional development opportunities that could help their employee grow or maintain their certification. Furthermore, efforts can be made to get SE teams to obtain SE certifications, such as an Association of Community Rehavilitation Educators (ACRE) accreditation or as a Certified Employment Support Professional through the Association of Peoples Supporting Employment First (APSE). Having documentation of the skill and certification level of your teams is important for drawing in more talent, elevating the profession, and setting standards for employee experience and knowledge that comes with the accreditation. "]
["Error Corrections"]
["- In Closed Cases, the Retention number for days stopped when adding a date to \"Case Closed.\" At times, a consumer will graduate from service with your organization and retain their job, in which case we shouldn't be stopping the count on their retention! Retention numbers will now only stop when adding a date to the \"Employment Terminated\" column."]
[]
["- In Service Provision and Closed Cases, the Job Stabilization number was not capped when an \"Employment Terminated\" date was added to the sheet. This has been remedied, so if the individual receiving service did not move to follow-along and lost their job during that phase, the number will stop when employment termination is added."]
[]
["- In Closed Cases, the Unemployment Period number was not capped when a \"Closed Case\" date was added to the sheet. This has been remedied, so if the individual receiving services starts the pre-employment process with your organization and ends up not getting a job or gets referred out for more training, adding a date to closed cases will pause the count on the Unemployment Period tally."]
[]
["CASES V1.21 Update (7/2020)"]
[]
["Error Corrections"]
["- The employer reference drop down fields were coded to have 1-5 drop downs like the other survey option fields when they should have been YES/NO. This has been fixed"]
[]
["- Formatting issues existed for number entries areas for Closed case archives In the date column for date employed. This has been fixed."]
[]
["- Graphs In the Program Summary page were not locked In place as they should have been. This has been fixed."]
[]
["CASES V1.2 Update (7/2019)"]
[]
["Data capacity"]
["- The original version had approximately 25 available rows for entries. Many providers have asked for additional spaces to be made available since they have many individuals they support. Since the tool is a protected file and users don't have the ability to add rows as they normally would, the new version now has a default 500 available rows for individuals you work with on the service provision and closed case archive tabs. The Employer Relations and Staff Metrics tabs have been increased to 50 each."]
[]
["- Additionally, a button was macro/VBA coded and embedded into the sheet to allow users to insert new rows to allow for more data fields as needed should users max out the given fields. When rows are added, the formulas will port over to the new rows automatically and the Excel file/formulas/structure will remain protected. **FYI** - The new row will be inserted at Row 5 of the active sheet."]
[]
["Quality of Life Improvements"]
["- New Black Menu Bar housing the \"Add Row\" button on Left side of workbook sheets (not on dashboard)"]
[]
["- The header-menu bar-consumer/organization/staff names on every page are now frozen and will always be visible as you scroll down or to the right. This addition is helpful now that the fields have been heavily expanded so the keys for each row/column are always available. This feature CAN be altered by the user even while the file is protected so if you have a preference of how you'd like to freeze your panes in a different pattern than I selected, you can change it yourself in the \"View\" tab/\"Freeze/Unfreeze Panes\"."]
[]
["- A macro/VBA code was embedded into the sheets so that a user could double click the header on any column and it would sort it alphabetically/ASCENDING numerically/oldest to newest. If you then double click the same cell, it will sort that column DESCENDING/newest to oldest. Whenever sorting is done, it will also move the data in other columns around accordingly. This feature is usable while keeping the sheet and formulas protected (so all of you still scared of Excel can use these features)!"]
[]
["- Drop down fields were added to the Y/N and YES/NO fields to make sure there were NO data entry mistakes based on spelling or capitalization. This way the formulas will always count the data In the correct way when selections are made using the drop down."]
[]
["- Drop down fields were added to the Employer Survey Questions (coded for Likert scales, 1-5, as seen in the sample survey in the guide) so that the formulas worked for accurately aggregating employer responses to the survey. (If you have your own survey that you use and a different numbered scale, I can change the parameters to match your number range, just email me)."]